{"text_format":"1","workbook":"xlsx","n_sheets":7,"sheets":["Information","Tabell","Graf","Riskhistorik","Burndown chart data","Burndown chart","Formula"],"not_rendered":{"charts":3,"images":0,"macros":1,"external_links":0,"defined_names":9,"comments":2,"pivot_tables":0},"unopened":[],"bounds":{"document_bytes":16777216,"sheet_cells":100000,"rows_first":2000,"rows_last":500,"rows_between":2000,"halvings":0,"cell_chars":16384,"cell_head_chars":4096},"cells_cut":0,"cells_raw":0,"read":"whole","date_system":"1900"}

{"sheet":"Information","index":0,"n_rows":35,"n_cols":2,"rows_kept":35,"cut":false,"hidden":false,"merged":[[22,0,33,0],[4,0,4,1],[5,0,9,0],[10,0,17,0],[18,0,19,0],[21,0,21,1]]}
[{"$f":"Formula!M5","v":"Risklista, avancerad"}]
[{"$f":"CONCATENATE(\"Ange dokumentdata nedan, t.ex: \",Formula!M2,\", \",Formula!M3,\", \",Formula!M4,\", \",Formula!N3)","v":"Ange dokumentdata nedan, t.ex: Projektnamn, Ansvarig, Utgåva, Datum"}]
["Ange dokumentdata här:"]
[]
["Syfte och användningssätt"]
["Syfte","Ge en aktuell översikt över identifierade risker och föreslagna åtgärder."]
[null,"·  Ger stöd för beslut av riskåtgärder."]
[null,"·  Används för rapportering, t.ex. till styrgrupp."]
[null,"·  Förutom Risklista, tillhandahåller mallen en Riskhistorik och en Risk Burndown Chart."]
[]
["När den kan användas","För projekt:"]
[null,"·  Skapas i förberedelsearbetet och ingår i beslutsunderlag för BP3."]
[null,"·  Uppdateras löpande under genomförandet."]
[null,"·  Lämplig som bilaga till statusrapport."]
[null,"För effektstyrning."]
[null,"·  Skapas i samband med att Business Case tas fram för ett initiativ."]
[null,"·  Uppdateras löpande till effektmålet är uppnått."]
[]
["Vem som kan använda den","Projektledning när det gäller projektrisker."]
[null,"Beställare och projektägare när det gäller effektrisker."]
["Referens till mer information","Färdigheterna: Riskhantering fördjupning (AH148), Riskhantering (AH006), Behandla risker, miniprojekt (AH122), Kalkylering (AH153) och Nyttovärdering (AH164)."]
["Funktionalitet"]
["Instruktion om hur den fungerar","1. Beskriv riskerna och dess orsaker. Nya risker definieras som öppna. Ange risknummer manuellt (automatisk numrering blir fel vid eventuell omsortering)."]
[null,"2. Bedöm sannolikhet och påverkan.  Färgen skapas automatiskt när risken samtidigt är noterad som öppen."]
[null,"3. Ange prioritet – görs när hela riskbilden är klar och bör omvärderas och uppdateras löpande."]
[null,"4. Anteckna en eller flera åtgärder per risk och ansätt en ansvarig för åtgärden."]
[null,"5. Använd grafiken som visuella bilder i t.ex. statusrapporter. "]
[null,"6. När risker är stängda noteras det genom att välja ”stängd” – då försvinner de också från grafen \"Bedömning öppna risker\". Nu måste också Sannolikhet och Påverkan för den stängda risken raderas för att risken inte ska presenteras i Burndown chart."]
[null,"7. Fliken \"Riskhistorik\" uppdateras automatiskt med Riskerna och Risktyperna."]
[null,"8. För att uppdatera riskstatus i \"Riskhistorik\" fliken, markera cellen under \"Sannolikhet\" i den första tillgängliga kolumnen och klicka på \"Hämta risk status\" knappen. "]
[null,"9. Skriv in datum i \"Datum\" cellen med formatet M-D (exempelvis: \"3-8\" för 8:e mars). Datumet kommer att presenteras i formatet ÅÅÅÅ-MM-DD."]
[null,"10. För att uppdatera riskhistoriken efter nästa riskbedömning, upprepa stegen 8 och 9. (Notera: Välj nästa tomma kolumn). "]
[null,"11. När \"Riskhistorik\" tabellen är full (20 updateringar är möjliga), kan statusen flyttas ett steg till vänster genom att klicka på \"Tabell full, flytta data vänster\" knappen vilket kommer att flytta historiken ett steg till vänster och skapa en ny tom kolumn. Klicka \"Hämta risk status\" knappen för att uppdatea med senaste riskstatus. Glöm inte att skriva in aktuellt datum."]
[]
["ME118_risk_list_advanced.xlsx,  version 1.1.0"]

{"sheet":"Tabell","index":1,"n_rows":100,"n_cols":10,"rows_kept":100,"cut":false,"hidden":false,"merged":[[1,1,1,9]]}
[null,{"$f":"Formula!M5","v":"Risklista, avancerad"}]
[null,{"$f":"IF(Information!B3=\"\",CONCATENATE(Formula!N2,\" \",Formula!M2,\", \",Formula!M3,\", \",Formula!M4,\", \",Formula!N3,\", \",Formula!N4),Information!B3)","v":"Ange Projektnamn, Ansvarig, Utgåva, Datum, i informationsfliken"}]
[null,{"$f":"Formula!M6","v":"Nr"},{"$f":"Formula!M7","v":"Beskrivning"},{"$f":"Formula!M8","v":"Risktyp"},{"$f":"Formula!M9","v":"Sannolikhet"},{"$f":"Formula!M10","v":"Påverkan"},{"$f":"Formula!M11","v":"Beslutad åtgärd"},{"$f":"Formula!M12","v":"Aktuell prioritet"},{"$f":"Formula!M13","v":"Ansvarig"},{"$f":"Formula!M14","v":"Stängd"}]
[{"$f":"IF(CONCATENATE(E4,F4)=\"HH\",1,IF(CONCATENATE(E4,F4)=\"HM\",2,IF(CONCATENATE(E4,F4)=\"HL\",3,IF(CONCATENATE(E4,F4)=\"MH\",4,IF(CONCATENATE(E4,F4)=\"MM\",5,IF(CONCATENATE(E4,F4)=\"ML\",6,IF(CONCATENATE(E4,F4)=\"LH\",7,IF(CONCATENATE(E4,F4)=\"LM\",8,IF(CONCATENATE(E4,F4)=\"LL\",9,\"\")))))))))","v":""},1]
[{"$f":"IF(CONCATENATE(E8,F8)=\"HH\",1,IF(CONCATENATE(E8,F8)=\"HM\",2,IF(CONCATENATE(E8,F8)=\"HL\",3,IF(CONCATENATE(E8,F8)=\"MH\",4,IF(CONCATENATE(E8,F8)=\"MM\",5,IF(CONCATENATE(E8,F8)=\"ML\",6,IF(CONCATENATE(E8,F8)=\"LH\",7,IF(CONCATENATE(E8,F8)=\"LM\",8,IF(CONCATENATE(E8,F8)=\"LL\",9,\"\")))))))))","v":""},2]
["",3]
[{"$f":"Formula!D1","v":"Probability/Impact"},4]
[{"$f":"Formula!D2","v":"HögHög"},5]
[{"$f":"Formula!D3","v":"HögMedel"},6]
[{"$f":"Formula!D4","v":"HögLåg"},7]
[{"$f":"Formula!D5","v":"MedelHög"},8]
[{"$f":"Formula!D6","v":"MedelMedel"},9]
[{"$f":"Formula!D7","v":"MedelLåg"},10]
[{"$f":"Formula!D8","v":"LågHög"},11]
[{"$f":"Formula!D9","v":"LågMedel"},{"$f":"B14+1","v":12}]
[{"$f":"Formula!D10","v":"LågLåg"},{"$f":"B15+1","v":13}]
[null,14]
[{"$f":"Formula!K1","v":"Status"},15]
[{"$f":"Formula!K2","v":"Stängd"},16]
["",17]
["",18]
["",19]
["",20]
["",21]
["",22]
["",23]
["",24]
["",25]
["",26]
["",27]
["",28]
["",29]
["",30]
["",31]
["",32]
["",33]
["",34]
["",35]
["",36]
["",37]
["",38]
["",39]
["",40]
["",41]
["",42]
["",43]
["",44]
["",45]
["",46]
["",47]
["",48]
["",49]
["",50]
["",51]
["",52]
["",53]
["",54]
["",55]
["",56]
["",57]
["",58]
["",59]
["",60]
["",61]
["",62]
["",63]
["",64]
[{"$f":"IF(CONCATENATE(E68,F68)=\"HH\",1,IF(CONCATENATE(E68,F68)=\"HM\",2,IF(CONCATENATE(E68,F68)=\"HL\",3,IF(CONCATENATE(E68,F68)=\"MH\",4,IF(CONCATENATE(E68,F68)=\"MM\",5,IF(CONCATENATE(E68,F68)=\"ML\",6,IF(CONCATENATE(E68,F68)=\"LH\",7,IF(CONCATENATE(E68,F68)=\"LM\",8,IF(CONCATENATE(E68,F68)=\"LL\",9,\"\")))))))))","v":""},65]
["",66]
["",67]
["",68]
["",69]
["",70]
["",71]
["",72]
["",73]
["",74]
["",75]
["",76]
["",{"$f":"B79+1","v":77}]
["",78]
["",79,null," "]
["",80,null," "]
["",81,null," "]
["",82,null," "]
["",83,null," "]
["",84,null," "]
["",85,null," "]
["",86,null," "]
["",87,null," "]
["",88,null," "]
["",89,null," "]
["",90,null," "]
["",91,null," "]
["",92,null," "]
["",93,null," "]
["",94,null," "]
["",95,null," "]
["",96,null," "]
["",{"$f":"B99+1","v":97},null," "]

{"sheet":"Graf","index":2,"n_rows":12,"n_cols":14,"rows_kept":12,"cut":false,"hidden":false,"merged":[[5,11,5,13],[1,0,1,8],[1,9,1,13]]}
[{"$f":"Tabell!B1","v":"Risklista, avancerad"}]
[{"$f":"IF(Information!B3=\"\",CONCATENATE(Formula!N2,\" \",Formula!M2,\", \",Formula!M3,\", \",Formula!M4,\", \",Formula!N3,\", \",Formula!N4),Information!B3)","v":"Ange Projektnamn, Ansvarig, Utgåva, Datum, i informationsfliken"}]
[]
[]
[]
[null,null,null,null,null,null,null,null,null,null,null,"Åtgärder, prioritet och status"]
[]
[null,null,null,null,null,null,null,null,null,null,null,"Prioritet","Antal öppna","Antal stängda"]
[null,null,null,null,null,null,null,null,null,null,null,{"$f":"Formula!L2","v":1},{"$f":"COUNTIFS(Tabell!$H$4:$H$102,\"1\",Tabell!J$4:J$102,\"\")","v":0},{"$f":"COUNTIFS(Tabell!$H$4:$H$102,\"1\",Tabell!J$4:J$102,\"*\")","v":0}]
[null,null,null,null,null,null,null,null,null,null,null,{"$f":"Formula!L3","v":2},{"$f":"COUNTIFS(Tabell!$H$4:$H$102,\"2\",Tabell!J$4:J$102,\"\")","v":0},{"$f":"COUNTIFS(Tabell!$H$4:$H$102,\"2\",Tabell!J$4:J$102,\"*\")","v":0}]
[null,null,null,null,null,null,null,null,null,null,null,{"$f":"Formula!L4","v":3},{"$f":"COUNTIFS(Tabell!$H$4:$H$102,\"3\",Tabell!J$4:J$102,\"\")","v":0},{"$f":"COUNTIFS(Tabell!$H$4:$H$102,\"3\",Tabell!J$4:J$102,\"*\")","v":0}]
[null,null,null,null,null,null,null,null,null,null,null,">3",{"$f":"COUNTIFS(Tabell!$H$4:$H$102,\">3\",Tabell!J$4:J$102,\"\")","v":0},{"$f":"COUNTIFS(Tabell!$H$4:$H$102,\">3\",Tabell!J$4:J$102,\"*\")","v":0}]

{"sheet":"Riskhistorik","index":3,"n_rows":100,"n_cols":44,"rows_kept":100,"cut":false,"hidden":false,"merged":[[1,34,1,35],[1,36,1,37],[1,38,1,39],[1,40,1,41],[1,42,1,43],[1,24,1,25],[1,26,1,27],[1,28,1,29],[1,30,1,31],[1,32,1,33],[1,14,1,15],[1,16,1,17],[1,18,1,19],[1,20,1,21],[1,22,1,23],[1,4,1,5],[1,8,1,9],[1,6,1,7],[1,1,1,3],[1,12,1,13],[1,10,1,11]]}
[null,{"$f":"Formula!M5","v":"Risklista, avancerad"}]
[null,{"$f":"IF(Information!B3=\"\",CONCATENATE(Formula!N2,\" \",Formula!M2,\", \",Formula!M3,\", \",Formula!M4,\", \",Formula!N3,\", \",Formula!N4),Information!B3)","v":"Ange Projektnamn, Ansvarig, Utgåva, Datum, i informationsfliken"},null,null,"Datum",null,"Datum",null,"Datum",null,"Datum",null,"Datum",null,"Datum",null,"Datum",null,"Datum",null,"Datum",null,"Datum",null,"Datum",null,"Datum",null,"Datum",null,"Datum",null,"Datum",null,"Datum",null,"Datum",null,"Datum",null,"Datum",null,"Datum"]
[null,{"$f":"Formula!M6","v":"Nr"},{"$f":"Formula!M7","v":"Beskrivning"},{"$f":"Formula!M8","v":"Risktyp"},{"$f":"Formula!M9","v":"Sannolikhet"},{"$f":"Formula!M10","v":"Påverkan"},{"$f":"Formula!M9","v":"Sannolikhet"},{"$f":"Formula!M10","v":"Påverkan"},{"$f":"Formula!$M$9","v":"Sannolikhet"},{"$f":"Formula!$M10","v":"Påverkan"},{"$f":"Formula!$M$9","v":"Sannolikhet"},{"$f":"Formula!$M10","v":"Påverkan"},{"$f":"Formula!$M$9","v":"Sannolikhet"},{"$f":"Formula!$M10","v":"Påverkan"},{"$f":"Formula!$M$9","v":"Sannolikhet"},{"$f":"Formula!$M10","v":"Påverkan"},{"$f":"Formula!$M$9","v":"Sannolikhet"},{"$f":"Formula!$M10","v":"Påverkan"},{"$f":"Formula!$M$9","v":"Sannolikhet"},{"$f":"Formula!$M10","v":"Påverkan"},{"$f":"Formula!$M$9","v":"Sannolikhet"},{"$f":"Formula!$M10","v":"Påverkan"},{"$f":"Formula!$M$9","v":"Sannolikhet"},{"$f":"Formula!$M10","v":"Påverkan"},{"$f":"Formula!$M$9","v":"Sannolikhet"},{"$f":"Formula!$M10","v":"Påverkan"},{"$f":"Formula!$M$9","v":"Sannolikhet"},{"$f":"Formula!$M10","v":"Påverkan"},{"$f":"Formula!$M$9","v":"Sannolikhet"},{"$f":"Formula!$M10","v":"Påverkan"},{"$f":"Formula!$M$9","v":"Sannolikhet"},{"$f":"Formula!$M10","v":"Påverkan"},{"$f":"Formula!$M$9","v":"Sannolikhet"},{"$f":"Formula!$M10","v":"Påverkan"},{"$f":"Formula!$M$9","v":"Sannolikhet"},{"$f":"Formula!$M10","v":"Påverkan"},{"$f":"Formula!$M$9","v":"Sannolikhet"},{"$f":"Formula!$M10","v":"Påverkan"},{"$f":"Formula!$M$9","v":"Sannolikhet"},{"$f":"Formula!$M10","v":"Påverkan"},{"$f":"Formula!$M$9","v":"Sannolikhet"},{"$f":"Formula!$M10","v":"Påverkan"},{"$f":"Formula!$M$9","v":"Sannolikhet"},{"$f":"Formula!$M10","v":"Påverkan"}]
[{"$f":"IF(CONCATENATE(E4,F4)=\"HH\",1,IF(CONCATENATE(E4,F4)=\"HM\",2,IF(CONCATENATE(E4,F4)=\"HL\",3,IF(CONCATENATE(E4,F4)=\"MH\",4,IF(CONCATENATE(E4,F4)=\"MM\",5,IF(CONCATENATE(E4,F4)=\"ML\",6,IF(CONCATENATE(E4,F4)=\"LH\",7,IF(CONCATENATE(E4,F4)=\"LM\",8,IF(CONCATENATE(E4,F4)=\"LL\",9,\"\")))))))))","v":""},{"$f":"IF(Tabell!B4<>\"\",Tabell!B4,\"\")","v":1},{"$f":"IF(Tabell!C4<>\"\",Tabell!C4,\"\")","v":""},{"$f":"IF(Tabell!D4<>\"\",Tabell!D4,\"\")","v":""}]
["",{"$f":"IF(Tabell!B5<>\"\",Tabell!B5,\"\")","v":2},{"$f":"IF(Tabell!C5<>\"\",Tabell!C5,\"\")","v":""},{"$f":"IF(Tabell!D5<>\"\",Tabell!D5,\"\")","v":""}]
["",{"$f":"IF(Tabell!B6<>\"\",Tabell!B6,\"\")","v":3},{"$f":"IF(Tabell!C6<>\"\",Tabell!C6,\"\")","v":""},{"$f":"IF(Tabell!D6<>\"\",Tabell!D6,\"\")","v":""}]
[{"$f":"Formula!D1","v":"Probability/Impact"},{"$f":"IF(Tabell!B7<>\"\",Tabell!B7,\"\")","v":4},{"$f":"IF(Tabell!C7<>\"\",Tabell!C7,\"\")","v":""},{"$f":"IF(Tabell!D7<>\"\",Tabell!D7,\"\")","v":""}]
[{"$f":"Formula!D2","v":"HögHög"},{"$f":"IF(Tabell!B8<>\"\",Tabell!B8,\"\")","v":5},{"$f":"IF(Tabell!C8<>\"\",Tabell!C8,\"\")","v":""},{"$f":"IF(Tabell!D8<>\"\",Tabell!D8,\"\")","v":""}]
[{"$f":"Formula!D3","v":"HögMedel"},{"$f":"IF(Tabell!B9<>\"\",Tabell!B9,\"\")","v":6},{"$f":"IF(Tabell!C9<>\"\",Tabell!C9,\"\")","v":""},{"$f":"IF(Tabell!D9<>\"\",Tabell!D9,\"\")","v":""}]
[{"$f":"Formula!D4","v":"HögLåg"},{"$f":"IF(Tabell!B10<>\"\",Tabell!B10,\"\")","v":7},{"$f":"IF(Tabell!C10<>\"\",Tabell!C10,\"\")","v":""},{"$f":"IF(Tabell!D10<>\"\",Tabell!D10,\"\")","v":""}]
[{"$f":"Formula!D5","v":"MedelHög"},{"$f":"IF(Tabell!B11<>\"\",Tabell!B11,\"\")","v":8},{"$f":"IF(Tabell!C11<>\"\",Tabell!C11,\"\")","v":""},{"$f":"IF(Tabell!D11<>\"\",Tabell!D11,\"\")","v":""}]
[{"$f":"Formula!D6","v":"MedelMedel"},{"$f":"IF(Tabell!B12<>\"\",Tabell!B12,\"\")","v":9},{"$f":"IF(Tabell!C12<>\"\",Tabell!C12,\"\")","v":""},{"$f":"IF(Tabell!D12<>\"\",Tabell!D12,\"\")","v":""}]
[{"$f":"Formula!D7","v":"MedelLåg"},{"$f":"IF(Tabell!B13<>\"\",Tabell!B13,\"\")","v":10},{"$f":"IF(Tabell!C13<>\"\",Tabell!C13,\"\")","v":""},{"$f":"IF(Tabell!D13<>\"\",Tabell!D13,\"\")","v":""}]
[{"$f":"Formula!D8","v":"LågHög"},{"$f":"IF(Tabell!B14<>\"\",Tabell!B14,\"\")","v":11},{"$f":"IF(Tabell!C14<>\"\",Tabell!C14,\"\")","v":""},{"$f":"IF(Tabell!D14<>\"\",Tabell!D14,\"\")","v":""}]
[{"$f":"Formula!D9","v":"LågMedel"},{"$f":"IF(Tabell!B15<>\"\",Tabell!B15,\"\")","v":12},{"$f":"IF(Tabell!C15<>\"\",Tabell!C15,\"\")","v":""},{"$f":"IF(Tabell!D15<>\"\",Tabell!D15,\"\")","v":""}]
[{"$f":"Formula!D10","v":"LågLåg"},{"$f":"IF(Tabell!B16<>\"\",Tabell!B16,\"\")","v":13},{"$f":"IF(Tabell!C16<>\"\",Tabell!C16,\"\")","v":""},{"$f":"IF(Tabell!D16<>\"\",Tabell!D16,\"\")","v":""}]
[null,{"$f":"IF(Tabell!B17<>\"\",Tabell!B17,\"\")","v":14},{"$f":"IF(Tabell!C17<>\"\",Tabell!C17,\"\")","v":""},{"$f":"IF(Tabell!D17<>\"\",Tabell!D17,\"\")","v":""}]
[{"$f":"Formula!K1","v":"Status"},{"$f":"IF(Tabell!B18<>\"\",Tabell!B18,\"\")","v":15},{"$f":"IF(Tabell!C18<>\"\",Tabell!C18,\"\")","v":""},{"$f":"IF(Tabell!D18<>\"\",Tabell!D18,\"\")","v":""}]
[{"$f":"Formula!K2","v":"Stängd"},{"$f":"IF(Tabell!B19<>\"\",Tabell!B19,\"\")","v":16},{"$f":"IF(Tabell!C19<>\"\",Tabell!C19,\"\")","v":""},{"$f":"IF(Tabell!D19<>\"\",Tabell!D19,\"\")","v":""}]
["",{"$f":"IF(Tabell!B20<>\"\",Tabell!B20,\"\")","v":17},{"$f":"IF(Tabell!C20<>\"\",Tabell!C20,\"\")","v":""},{"$f":"IF(Tabell!D20<>\"\",Tabell!D20,\"\")","v":""}]
[{"$f":"Formula!M15","v":"Datum"},{"$f":"IF(Tabell!B21<>\"\",Tabell!B21,\"\")","v":18},{"$f":"IF(Tabell!C21<>\"\",Tabell!C21,\"\")","v":""},{"$f":"IF(Tabell!D21<>\"\",Tabell!D21,\"\")","v":""}]
["",{"$f":"IF(Tabell!B22<>\"\",Tabell!B22,\"\")","v":19},{"$f":"IF(Tabell!C22<>\"\",Tabell!C22,\"\")","v":""},{"$f":"IF(Tabell!D22<>\"\",Tabell!D22,\"\")","v":""}]
["",{"$f":"IF(Tabell!B23<>\"\",Tabell!B23,\"\")","v":20},{"$f":"IF(Tabell!C23<>\"\",Tabell!C23,\"\")","v":""},{"$f":"IF(Tabell!D23<>\"\",Tabell!D23,\"\")","v":""}]
["",{"$f":"IF(Tabell!B24<>\"\",Tabell!B24,\"\")","v":21},{"$f":"IF(Tabell!C24<>\"\",Tabell!C24,\"\")","v":""},{"$f":"IF(Tabell!D24<>\"\",Tabell!D24,\"\")","v":""}]
["",{"$f":"IF(Tabell!B25<>\"\",Tabell!B25,\"\")","v":22},{"$f":"IF(Tabell!C25<>\"\",Tabell!C25,\"\")","v":""},{"$f":"IF(Tabell!D25<>\"\",Tabell!D25,\"\")","v":""}]
["",{"$f":"IF(Tabell!B26<>\"\",Tabell!B26,\"\")","v":23},{"$f":"IF(Tabell!C26<>\"\",Tabell!C26,\"\")","v":""},{"$f":"IF(Tabell!D26<>\"\",Tabell!D26,\"\")","v":""}]
["",{"$f":"IF(Tabell!B27<>\"\",Tabell!B27,\"\")","v":24},{"$f":"IF(Tabell!C27<>\"\",Tabell!C27,\"\")","v":""},{"$f":"IF(Tabell!D27<>\"\",Tabell!D27,\"\")","v":""}]
["",{"$f":"IF(Tabell!B28<>\"\",Tabell!B28,\"\")","v":25},{"$f":"IF(Tabell!C28<>\"\",Tabell!C28,\"\")","v":""},{"$f":"IF(Tabell!D28<>\"\",Tabell!D28,\"\")","v":""}]
["",{"$f":"IF(Tabell!B29<>\"\",Tabell!B29,\"\")","v":26},{"$f":"IF(Tabell!C29<>\"\",Tabell!C29,\"\")","v":""},{"$f":"IF(Tabell!D29<>\"\",Tabell!D29,\"\")","v":""}]
["",{"$f":"IF(Tabell!B30<>\"\",Tabell!B30,\"\")","v":27},{"$f":"IF(Tabell!C30<>\"\",Tabell!C30,\"\")","v":""},{"$f":"IF(Tabell!D30<>\"\",Tabell!D30,\"\")","v":""}]
["",{"$f":"IF(Tabell!B31<>\"\",Tabell!B31,\"\")","v":28},{"$f":"IF(Tabell!C31<>\"\",Tabell!C31,\"\")","v":""},{"$f":"IF(Tabell!D31<>\"\",Tabell!D31,\"\")","v":""}]
["",{"$f":"IF(Tabell!B32<>\"\",Tabell!B32,\"\")","v":29},{"$f":"IF(Tabell!C32<>\"\",Tabell!C32,\"\")","v":""},{"$f":"IF(Tabell!D32<>\"\",Tabell!D32,\"\")","v":""}]
["",{"$f":"IF(Tabell!B33<>\"\",Tabell!B33,\"\")","v":30},{"$f":"IF(Tabell!C33<>\"\",Tabell!C33,\"\")","v":""},{"$f":"IF(Tabell!D33<>\"\",Tabell!D33,\"\")","v":""}]
["",{"$f":"IF(Tabell!B34<>\"\",Tabell!B34,\"\")","v":31},{"$f":"IF(Tabell!C34<>\"\",Tabell!C34,\"\")","v":""},{"$f":"IF(Tabell!D34<>\"\",Tabell!D34,\"\")","v":""}]
["",{"$f":"IF(Tabell!B35<>\"\",Tabell!B35,\"\")","v":32},{"$f":"IF(Tabell!C35<>\"\",Tabell!C35,\"\")","v":""},{"$f":"IF(Tabell!D35<>\"\",Tabell!D35,\"\")","v":""}]
["",{"$f":"IF(Tabell!B36<>\"\",Tabell!B36,\"\")","v":33},{"$f":"IF(Tabell!C36<>\"\",Tabell!C36,\"\")","v":""},{"$f":"IF(Tabell!D36<>\"\",Tabell!D36,\"\")","v":""}]
["",{"$f":"IF(Tabell!B37<>\"\",Tabell!B37,\"\")","v":34},{"$f":"IF(Tabell!C37<>\"\",Tabell!C37,\"\")","v":""},{"$f":"IF(Tabell!D37<>\"\",Tabell!D37,\"\")","v":""}]
["",{"$f":"IF(Tabell!B38<>\"\",Tabell!B38,\"\")","v":35},{"$f":"IF(Tabell!C38<>\"\",Tabell!C38,\"\")","v":""},{"$f":"IF(Tabell!D38<>\"\",Tabell!D38,\"\")","v":""}]
["",{"$f":"IF(Tabell!B39<>\"\",Tabell!B39,\"\")","v":36},{"$f":"IF(Tabell!C39<>\"\",Tabell!C39,\"\")","v":""},{"$f":"IF(Tabell!D39<>\"\",Tabell!D39,\"\")","v":""}]
["",{"$f":"IF(Tabell!B40<>\"\",Tabell!B40,\"\")","v":37},{"$f":"IF(Tabell!C40<>\"\",Tabell!C40,\"\")","v":""},{"$f":"IF(Tabell!D40<>\"\",Tabell!D40,\"\")","v":""}]
["",{"$f":"IF(Tabell!B41<>\"\",Tabell!B41,\"\")","v":38},{"$f":"IF(Tabell!C41<>\"\",Tabell!C41,\"\")","v":""},{"$f":"IF(Tabell!D41<>\"\",Tabell!D41,\"\")","v":""}]
["",{"$f":"IF(Tabell!B42<>\"\",Tabell!B42,\"\")","v":39},{"$f":"IF(Tabell!C42<>\"\",Tabell!C42,\"\")","v":""},{"$f":"IF(Tabell!D42<>\"\",Tabell!D42,\"\")","v":""}]
["",{"$f":"IF(Tabell!B43<>\"\",Tabell!B43,\"\")","v":40},{"$f":"IF(Tabell!C43<>\"\",Tabell!C43,\"\")","v":""},{"$f":"IF(Tabell!D43<>\"\",Tabell!D43,\"\")","v":""}]
["",{"$f":"IF(Tabell!B44<>\"\",Tabell!B44,\"\")","v":41},{"$f":"IF(Tabell!C44<>\"\",Tabell!C44,\"\")","v":""},{"$f":"IF(Tabell!D44<>\"\",Tabell!D44,\"\")","v":""}]
["",{"$f":"IF(Tabell!B45<>\"\",Tabell!B45,\"\")","v":42},{"$f":"IF(Tabell!C45<>\"\",Tabell!C45,\"\")","v":""},{"$f":"IF(Tabell!D45<>\"\",Tabell!D45,\"\")","v":""}]
["",{"$f":"IF(Tabell!B46<>\"\",Tabell!B46,\"\")","v":43},{"$f":"IF(Tabell!C46<>\"\",Tabell!C46,\"\")","v":""},{"$f":"IF(Tabell!D46<>\"\",Tabell!D46,\"\")","v":""}]
["",{"$f":"IF(Tabell!B47<>\"\",Tabell!B47,\"\")","v":44},{"$f":"IF(Tabell!C47<>\"\",Tabell!C47,\"\")","v":""},{"$f":"IF(Tabell!D47<>\"\",Tabell!D47,\"\")","v":""}]
["",{"$f":"IF(Tabell!B48<>\"\",Tabell!B48,\"\")","v":45},{"$f":"IF(Tabell!C48<>\"\",Tabell!C48,\"\")","v":""},{"$f":"IF(Tabell!D48<>\"\",Tabell!D48,\"\")","v":""}]
["",{"$f":"IF(Tabell!B49<>\"\",Tabell!B49,\"\")","v":46},{"$f":"IF(Tabell!C49<>\"\",Tabell!C49,\"\")","v":""},{"$f":"IF(Tabell!D49<>\"\",Tabell!D49,\"\")","v":""}]
["",{"$f":"IF(Tabell!B50<>\"\",Tabell!B50,\"\")","v":47},{"$f":"IF(Tabell!C50<>\"\",Tabell!C50,\"\")","v":""},{"$f":"IF(Tabell!D50<>\"\",Tabell!D50,\"\")","v":""}]
["",{"$f":"IF(Tabell!B51<>\"\",Tabell!B51,\"\")","v":48},{"$f":"IF(Tabell!C51<>\"\",Tabell!C51,\"\")","v":""},{"$f":"IF(Tabell!D51<>\"\",Tabell!D51,\"\")","v":""}]
["",{"$f":"IF(Tabell!B52<>\"\",Tabell!B52,\"\")","v":49},{"$f":"IF(Tabell!C52<>\"\",Tabell!C52,\"\")","v":""},{"$f":"IF(Tabell!D52<>\"\",Tabell!D52,\"\")","v":""}]
["",{"$f":"IF(Tabell!B53<>\"\",Tabell!B53,\"\")","v":50},{"$f":"IF(Tabell!C53<>\"\",Tabell!C53,\"\")","v":""},{"$f":"IF(Tabell!D53<>\"\",Tabell!D53,\"\")","v":""}]
["",{"$f":"IF(Tabell!B54<>\"\",Tabell!B54,\"\")","v":51},{"$f":"IF(Tabell!C54<>\"\",Tabell!C54,\"\")","v":""},{"$f":"IF(Tabell!D54<>\"\",Tabell!D54,\"\")","v":""}]
["",{"$f":"IF(Tabell!B55<>\"\",Tabell!B55,\"\")","v":52},{"$f":"IF(Tabell!C55<>\"\",Tabell!C55,\"\")","v":""},{"$f":"IF(Tabell!D55<>\"\",Tabell!D55,\"\")","v":""}]
["",{"$f":"IF(Tabell!B56<>\"\",Tabell!B56,\"\")","v":53},{"$f":"IF(Tabell!C56<>\"\",Tabell!C56,\"\")","v":""},{"$f":"IF(Tabell!D56<>\"\",Tabell!D56,\"\")","v":""}]
["",{"$f":"IF(Tabell!B57<>\"\",Tabell!B57,\"\")","v":54},{"$f":"IF(Tabell!C57<>\"\",Tabell!C57,\"\")","v":""},{"$f":"IF(Tabell!D57<>\"\",Tabell!D57,\"\")","v":""}]
["",{"$f":"IF(Tabell!B58<>\"\",Tabell!B58,\"\")","v":55},{"$f":"IF(Tabell!C58<>\"\",Tabell!C58,\"\")","v":""},{"$f":"IF(Tabell!D58<>\"\",Tabell!D58,\"\")","v":""}]
["",{"$f":"IF(Tabell!B59<>\"\",Tabell!B59,\"\")","v":56},{"$f":"IF(Tabell!C59<>\"\",Tabell!C59,\"\")","v":""},{"$f":"IF(Tabell!D59<>\"\",Tabell!D59,\"\")","v":""}]
["",{"$f":"IF(Tabell!B60<>\"\",Tabell!B60,\"\")","v":57},{"$f":"IF(Tabell!C60<>\"\",Tabell!C60,\"\")","v":""},{"$f":"IF(Tabell!D60<>\"\",Tabell!D60,\"\")","v":""}]
["",{"$f":"IF(Tabell!B61<>\"\",Tabell!B61,\"\")","v":58},{"$f":"IF(Tabell!C61<>\"\",Tabell!C61,\"\")","v":""},{"$f":"IF(Tabell!D61<>\"\",Tabell!D61,\"\")","v":""}]
["",{"$f":"IF(Tabell!B62<>\"\",Tabell!B62,\"\")","v":59},{"$f":"IF(Tabell!C62<>\"\",Tabell!C62,\"\")","v":""},{"$f":"IF(Tabell!D62<>\"\",Tabell!D62,\"\")","v":""}]
["",{"$f":"IF(Tabell!B63<>\"\",Tabell!B63,\"\")","v":60},{"$f":"IF(Tabell!C63<>\"\",Tabell!C63,\"\")","v":""},{"$f":"IF(Tabell!D63<>\"\",Tabell!D63,\"\")","v":""}]
["",{"$f":"IF(Tabell!B64<>\"\",Tabell!B64,\"\")","v":61},{"$f":"IF(Tabell!C64<>\"\",Tabell!C64,\"\")","v":""},{"$f":"IF(Tabell!D64<>\"\",Tabell!D64,\"\")","v":""}]
["",{"$f":"IF(Tabell!B65<>\"\",Tabell!B65,\"\")","v":62},{"$f":"IF(Tabell!C65<>\"\",Tabell!C65,\"\")","v":""},{"$f":"IF(Tabell!D65<>\"\",Tabell!D65,\"\")","v":""}]
["",{"$f":"IF(Tabell!B66<>\"\",Tabell!B66,\"\")","v":63},{"$f":"IF(Tabell!C66<>\"\",Tabell!C66,\"\")","v":""},{"$f":"IF(Tabell!D66<>\"\",Tabell!D66,\"\")","v":""}]
["",{"$f":"IF(Tabell!B67<>\"\",Tabell!B67,\"\")","v":64},{"$f":"IF(Tabell!C67<>\"\",Tabell!C67,\"\")","v":""},{"$f":"IF(Tabell!D67<>\"\",Tabell!D67,\"\")","v":""}]
[{"$f":"IF(CONCATENATE(E68,F68)=\"HH\",1,IF(CONCATENATE(E68,F68)=\"HM\",2,IF(CONCATENATE(E68,F68)=\"HL\",3,IF(CONCATENATE(E68,F68)=\"MH\",4,IF(CONCATENATE(E68,F68)=\"MM\",5,IF(CONCATENATE(E68,F68)=\"ML\",6,IF(CONCATENATE(E68,F68)=\"LH\",7,IF(CONCATENATE(E68,F68)=\"LM\",8,IF(CONCATENATE(E68,F68)=\"LL\",9,\"\")))))))))","v":""},{"$f":"IF(Tabell!B68<>\"\",Tabell!B68,\"\")","v":65},{"$f":"IF(Tabell!C68<>\"\",Tabell!C68,\"\")","v":""},{"$f":"IF(Tabell!D68<>\"\",Tabell!D68,\"\")","v":""}]
["",{"$f":"IF(Tabell!B69<>\"\",Tabell!B69,\"\")","v":66},{"$f":"IF(Tabell!C69<>\"\",Tabell!C69,\"\")","v":""},{"$f":"IF(Tabell!D69<>\"\",Tabell!D69,\"\")","v":""}]
["",{"$f":"IF(Tabell!B70<>\"\",Tabell!B70,\"\")","v":67},{"$f":"IF(Tabell!C70<>\"\",Tabell!C70,\"\")","v":""},{"$f":"IF(Tabell!D70<>\"\",Tabell!D70,\"\")","v":""}]
["",{"$f":"IF(Tabell!B71<>\"\",Tabell!B71,\"\")","v":68},{"$f":"IF(Tabell!C71<>\"\",Tabell!C71,\"\")","v":""},{"$f":"IF(Tabell!D71<>\"\",Tabell!D71,\"\")","v":""}]
["",{"$f":"IF(Tabell!B72<>\"\",Tabell!B72,\"\")","v":69},{"$f":"IF(Tabell!C72<>\"\",Tabell!C72,\"\")","v":""},{"$f":"IF(Tabell!D72<>\"\",Tabell!D72,\"\")","v":""}]
["",{"$f":"IF(Tabell!B73<>\"\",Tabell!B73,\"\")","v":70},{"$f":"IF(Tabell!C73<>\"\",Tabell!C73,\"\")","v":""},{"$f":"IF(Tabell!D73<>\"\",Tabell!D73,\"\")","v":""}]
["",{"$f":"IF(Tabell!B74<>\"\",Tabell!B74,\"\")","v":71},{"$f":"IF(Tabell!C74<>\"\",Tabell!C74,\"\")","v":""},{"$f":"IF(Tabell!D74<>\"\",Tabell!D74,\"\")","v":""}]
["",{"$f":"IF(Tabell!B75<>\"\",Tabell!B75,\"\")","v":72},{"$f":"IF(Tabell!C75<>\"\",Tabell!C75,\"\")","v":""},{"$f":"IF(Tabell!D75<>\"\",Tabell!D75,\"\")","v":""}]
["",{"$f":"IF(Tabell!B76<>\"\",Tabell!B76,\"\")","v":73},{"$f":"IF(Tabell!C76<>\"\",Tabell!C76,\"\")","v":""},{"$f":"IF(Tabell!D76<>\"\",Tabell!D76,\"\")","v":""}]
["",{"$f":"IF(Tabell!B77<>\"\",Tabell!B77,\"\")","v":74},{"$f":"IF(Tabell!C77<>\"\",Tabell!C77,\"\")","v":""},{"$f":"IF(Tabell!D77<>\"\",Tabell!D77,\"\")","v":""}]
["",{"$f":"IF(Tabell!B78<>\"\",Tabell!B78,\"\")","v":75},{"$f":"IF(Tabell!C78<>\"\",Tabell!C78,\"\")","v":""},{"$f":"IF(Tabell!D78<>\"\",Tabell!D78,\"\")","v":""}]
["",{"$f":"IF(Tabell!B79<>\"\",Tabell!B79,\"\")","v":76},{"$f":"IF(Tabell!C79<>\"\",Tabell!C79,\"\")","v":""},{"$f":"IF(Tabell!D79<>\"\",Tabell!D79,\"\")","v":""}]
["",{"$f":"IF(Tabell!B80<>\"\",Tabell!B80,\"\")","v":77},{"$f":"IF(Tabell!C80<>\"\",Tabell!C80,\"\")","v":""},{"$f":"IF(Tabell!D80<>\"\",Tabell!D80,\"\")","v":""}]
["",{"$f":"IF(Tabell!B81<>\"\",Tabell!B81,\"\")","v":78},{"$f":"IF(Tabell!C81<>\"\",Tabell!C81,\"\")","v":""},{"$f":"IF(Tabell!D81<>\"\",Tabell!D81,\"\")","v":""}]
["",{"$f":"IF(Tabell!B82<>\"\",Tabell!B82,\"\")","v":79},{"$f":"IF(Tabell!C82<>\"\",Tabell!C82,\"\")","v":""},{"$f":"IF(Tabell!D82<>\"\",Tabell!D82,\"\")","v":" "}]
["",{"$f":"IF(Tabell!B83<>\"\",Tabell!B83,\"\")","v":80},{"$f":"IF(Tabell!C83<>\"\",Tabell!C83,\"\")","v":""},{"$f":"IF(Tabell!D83<>\"\",Tabell!D83,\"\")","v":" "}]
["",{"$f":"IF(Tabell!B84<>\"\",Tabell!B84,\"\")","v":81},{"$f":"IF(Tabell!C84<>\"\",Tabell!C84,\"\")","v":""},{"$f":"IF(Tabell!D84<>\"\",Tabell!D84,\"\")","v":" "}]
["",{"$f":"IF(Tabell!B85<>\"\",Tabell!B85,\"\")","v":82},{"$f":"IF(Tabell!C85<>\"\",Tabell!C85,\"\")","v":""},{"$f":"IF(Tabell!D85<>\"\",Tabell!D85,\"\")","v":" "}]
["",{"$f":"IF(Tabell!B86<>\"\",Tabell!B86,\"\")","v":83},{"$f":"IF(Tabell!C86<>\"\",Tabell!C86,\"\")","v":""},{"$f":"IF(Tabell!D86<>\"\",Tabell!D86,\"\")","v":" "}]
["",{"$f":"IF(Tabell!B87<>\"\",Tabell!B87,\"\")","v":84},{"$f":"IF(Tabell!C87<>\"\",Tabell!C87,\"\")","v":""},{"$f":"IF(Tabell!D87<>\"\",Tabell!D87,\"\")","v":" "}]
["",{"$f":"IF(Tabell!B88<>\"\",Tabell!B88,\"\")","v":85},{"$f":"IF(Tabell!C88<>\"\",Tabell!C88,\"\")","v":""},{"$f":"IF(Tabell!D88<>\"\",Tabell!D88,\"\")","v":" "}]
["",{"$f":"IF(Tabell!B89<>\"\",Tabell!B89,\"\")","v":86},{"$f":"IF(Tabell!C89<>\"\",Tabell!C89,\"\")","v":""},{"$f":"IF(Tabell!D89<>\"\",Tabell!D89,\"\")","v":" "}]
["",{"$f":"IF(Tabell!B90<>\"\",Tabell!B90,\"\")","v":87},{"$f":"IF(Tabell!C90<>\"\",Tabell!C90,\"\")","v":""},{"$f":"IF(Tabell!D90<>\"\",Tabell!D90,\"\")","v":" "}]
["",{"$f":"IF(Tabell!B91<>\"\",Tabell!B91,\"\")","v":88},{"$f":"IF(Tabell!C91<>\"\",Tabell!C91,\"\")","v":""},{"$f":"IF(Tabell!D91<>\"\",Tabell!D91,\"\")","v":" "}]
["",{"$f":"IF(Tabell!B92<>\"\",Tabell!B92,\"\")","v":89},{"$f":"IF(Tabell!C92<>\"\",Tabell!C92,\"\")","v":""},{"$f":"IF(Tabell!D92<>\"\",Tabell!D92,\"\")","v":" "}]
["",{"$f":"IF(Tabell!B93<>\"\",Tabell!B93,\"\")","v":90},{"$f":"IF(Tabell!C93<>\"\",Tabell!C93,\"\")","v":""},{"$f":"IF(Tabell!D93<>\"\",Tabell!D93,\"\")","v":" "}]
["",{"$f":"IF(Tabell!B94<>\"\",Tabell!B94,\"\")","v":91},{"$f":"IF(Tabell!C94<>\"\",Tabell!C94,\"\")","v":""},{"$f":"IF(Tabell!D94<>\"\",Tabell!D94,\"\")","v":" "}]
["",{"$f":"IF(Tabell!B95<>\"\",Tabell!B95,\"\")","v":92},{"$f":"IF(Tabell!C95<>\"\",Tabell!C95,\"\")","v":""},{"$f":"IF(Tabell!D95<>\"\",Tabell!D95,\"\")","v":" "}]
["",{"$f":"IF(Tabell!B96<>\"\",Tabell!B96,\"\")","v":93},{"$f":"IF(Tabell!C96<>\"\",Tabell!C96,\"\")","v":""},{"$f":"IF(Tabell!D96<>\"\",Tabell!D96,\"\")","v":" "}]
["",{"$f":"IF(Tabell!B97<>\"\",Tabell!B97,\"\")","v":94},{"$f":"IF(Tabell!C97<>\"\",Tabell!C97,\"\")","v":""},{"$f":"IF(Tabell!D97<>\"\",Tabell!D97,\"\")","v":" "}]
["",{"$f":"IF(Tabell!B98<>\"\",Tabell!B98,\"\")","v":95},{"$f":"IF(Tabell!C98<>\"\",Tabell!C98,\"\")","v":""},{"$f":"IF(Tabell!D98<>\"\",Tabell!D98,\"\")","v":" "}]
["",{"$f":"IF(Tabell!B99<>\"\",Tabell!B99,\"\")","v":96},{"$f":"IF(Tabell!C99<>\"\",Tabell!C99,\"\")","v":""},{"$f":"IF(Tabell!D99<>\"\",Tabell!D99,\"\")","v":" "}]
["",{"$f":"IF(Tabell!B100<>\"\",Tabell!B100,\"\")","v":97},{"$f":"IF(Tabell!C100<>\"\",Tabell!C100,\"\")","v":""},{"$f":"IF(Tabell!D100<>\"\",Tabell!D100,\"\")","v":" "}]

{"sheet":"Burndown chart data","index":4,"n_rows":136,"n_cols":60,"rows_kept":136,"cut":false,"hidden":true,"merged":[]}
[null,null,null,null,null,null,null,null,null,null,null,null,null,null,null,null,null,null,null,null,null,null,null,null,null,null,null,null,null,null,null,null,null,null,null,null,null,null,null,null,{"$f":"Riskhistorik!E2","v":"Datum"},{"$f":"Riskhistorik!G2","v":"Datum"},{"$f":"Riskhistorik!I2","v":"Datum"},{"$f":"Riskhistorik!K2","v":"Datum"},{"$f":"Riskhistorik!M2","v":"Datum"},{"$f":"Riskhistorik!O2","v":"Datum"},{"$f":"Riskhistorik!Q2","v":"Datum"},{"$f":"Riskhistorik!S2","v":"Datum"},{"$f":"Riskhistorik!U2","v":"Datum"},{"$f":"Riskhistorik!W2","v":"Datum"},{"$f":"Riskhistorik!Y2","v":"Datum"},{"$f":"Riskhistorik!AA2","v":"Datum"},{"$f":"Riskhistorik!AC2","v":"Datum"},{"$f":"Riskhistorik!AE2","v":"Datum"},{"$f":"Riskhistorik!AG2","v":"Datum"},{"$f":"Riskhistorik!AI2","v":"Datum"},{"$f":"Riskhistorik!AK2","v":"Datum"},{"$f":"Riskhistorik!AM2","v":"Datum"},{"$f":"Riskhistorik!AO2","v":"Datum"},{"$f":"Riskhistorik!AQ2","v":"Datum"}]
[{"$f":"IF(Riskhistorik!E4<>\"\",IF(Riskhistorik!E4=\"Låg\",1,IF(Riskhistorik!E4=\"Medel\",2,3)),0)","v":0},{"$f":"IF(Riskhistorik!F4<>\"\",IF(Riskhistorik!F4=\"Låg\",1,IF(Riskhistorik!F4=\"Medel\",2,3)),0)","v":0},{"$f":"IF(Riskhistorik!G$2<>\"Datum\",IF(Riskhistorik!G4=\"Låg\",1,IF(Riskhistorik!G4=\"Medel\",2,IF(Riskhistorik!G4=\"Hög\",3,0))),A2)","v":0},{"$f":"IF(Riskhistorik!G$2<>\"Datum\",IF(Riskhistorik!H4=\"Låg\",1,IF(Riskhistorik!H4=\"Medel\",2,IF(Riskhistorik!H4=\"Hög\",3,0))),B2)","v":0},{"$f":"IF(Riskhistorik!I$2<>\"Datum\",IF(Riskhistorik!I4=\"Låg\",1,IF(Riskhistorik!I4=\"Medel\",2,IF(Riskhistorik!I4=\"Hög\",3,0))),C2)","v":0},{"$f":"IF(Riskhistorik!I$2<>\"Datum\",IF(Riskhistorik!J4=\"Låg\",1,IF(Riskhistorik!J4=\"Medel\",2,IF(Riskhistorik!J4=\"Hög\",3,0))),D2)","v":0},{"$f":"IF(Riskhistorik!K$2<>\"Datum\",IF(Riskhistorik!K4=\"Låg\",1,IF(Riskhistorik!K4=\"Medel\",2,IF(Riskhistorik!K4=\"Hög\",3,0))),E2)","v":0},{"$f":"IF(Riskhistorik!K$2<>\"Datum\",IF(Riskhistorik!L4=\"Låg\",1,IF(Riskhistorik!L4=\"Medel\",2,IF(Riskhistorik!L4=\"Hög\",3,0))),F2)","v":0},{"$f":"IF(Riskhistorik!M$2<>\"Datum\",IF(Riskhistorik!M4=\"Låg\",1,IF(Riskhistorik!M4=\"Medel\",2,IF(Riskhistorik!M4=\"Hög\",3,0))),G2)","v":0},{"$f":"IF(Riskhistorik!M$2<>\"Datum\",IF(Riskhistorik!N4=\"Låg\",1,IF(Riskhistorik!N4=\"Medel\",2,IF(Riskhistorik!N4=\"Hög\",3,0))),H2)","v":0},{"$f":"IF(Riskhistorik!O$2<>\"Datum\",IF(Riskhistorik!O4=\"Låg\",1,IF(Riskhistorik!O4=\"Medel\",2,IF(Riskhistorik!O4=\"Hög\",3,0))),I2)","v":0},{"$f":"IF(Riskhistorik!O$2<>\"Datum\",IF(Riskhistorik!P4=\"Låg\",1,IF(Riskhistorik!P4=\"Medel\",2,IF(Riskhistorik!P4=\"Hög\",3,0))),J2)","v":0},{"$f":"IF(Riskhistorik!Q$2<>\"Datum\",IF(Riskhistorik!Q4=\"Låg\",1,IF(Riskhistorik!Q4=\"Medel\",2,IF(Riskhistorik!Q4=\"Hög\",3,0))),K2)","v":0},{"$f":"IF(Riskhistorik!Q$2<>\"Datum\",IF(Riskhistorik!R4=\"Låg\",1,IF(Riskhistorik!R4=\"Medel\",2,IF(Riskhistorik!R4=\"Hög\",3,0))),L2)","v":0},{"$f":"IF(Riskhistorik!S$2<>\"Datum\",IF(Riskhistorik!S4=\"Låg\",1,IF(Riskhistorik!S4=\"Medel\",2,IF(Riskhistorik!S4=\"Hög\",3,0))),M2)","v":0},{"$f":"IF(Riskhistorik!S$2<>\"Datum\",IF(Riskhistorik!T4=\"Låg\",1,IF(Riskhistorik!T4=\"Medel\",2,IF(Riskhistorik!T4=\"Hög\",3,0))),N2)","v":0},{"$f":"IF(Riskhistorik!U$2<>\"Datum\",IF(Riskhistorik!U4=\"Låg\",1,IF(Riskhistorik!U4=\"Medel\",2,IF(Riskhistorik!U4=\"Hög\",3,0))),O2)","v":0},{"$f":"IF(Riskhistorik!U$2<>\"Datum\",IF(Riskhistorik!V4=\"Låg\",1,IF(Riskhistorik!V4=\"Medel\",2,IF(Riskhistorik!V4=\"Hög\",3,0))),P2)","v":0},{"$f":"IF(Riskhistorik!W$2<>\"Datum\",IF(Riskhistorik!W4=\"Låg\",1,IF(Riskhistorik!W4=\"Medel\",2,IF(Riskhistorik!W4=\"Hög\",3,0))),Q2)","v":0},{"$f":"IF(Riskhistorik!W$2<>\"Datum\",IF(Riskhistorik!X4=\"Låg\",1,IF(Riskhistorik!X4=\"Medel\",2,IF(Riskhistorik!X4=\"Hög\",3,0))),R2)","v":0},{"$f":"IF(Riskhistorik!Y$2<>\"Datum\",IF(Riskhistorik!Y4=\"Låg\",1,IF(Riskhistorik!Y4=\"Medel\",2,IF(Riskhistorik!Y4=\"Hög\",3,0))),S2)","v":0},{"$f":"IF(Riskhistorik!Y$2<>\"Datum\",IF(Riskhistorik!Z4=\"Låg\",1,IF(Riskhistorik!Z4=\"Medel\",2,IF(Riskhistorik!Z4=\"Hög\",3,0))),T2)","v":0},{"$f":"IF(Riskhistorik!AA$2<>\"Datum\",IF(Riskhistorik!AA4=\"Låg\",1,IF(Riskhistorik!AA4=\"Medel\",2,IF(Riskhistorik!AA4=\"Hög\",3,0))),U2)","v":0},{"$f":"IF(Riskhistorik!AA$2<>\"Datum\",IF(Riskhistorik!AB4=\"Låg\",1,IF(Riskhistorik!AB4=\"Medel\",2,IF(Riskhistorik!AB4=\"Hög\",3,0))),V2)","v":0},{"$f":"IF(Riskhistorik!AC$2<>\"Datum\",IF(Riskhistorik!AC4=\"Låg\",1,IF(Riskhistorik!AC4=\"Medel\",2,IF(Riskhistorik!AC4=\"Hög\",3,0))),W2)","v":0},{"$f":"IF(Riskhistorik!AC$2<>\"Datum\",IF(Riskhistorik!AD4=\"Låg\",1,IF(Riskhistorik!AD4=\"Medel\",2,IF(Riskhistorik!AD4=\"Hög\",3,0))),X2)","v":0},{"$f":"IF(Riskhistorik!AE$2<>\"Datum\",IF(Riskhistorik!AE4=\"Låg\",1,IF(Riskhistorik!AE4=\"Medel\",2,IF(Riskhistorik!AE4=\"Hög\",3,0))),Y2)","v":0},{"$f":"IF(Riskhistorik!AE$2<>\"Datum\",IF(Riskhistorik!AF4=\"Låg\",1,IF(Riskhistorik!AF4=\"Medel\",2,IF(Riskhistorik!AF4=\"Hög\",3,0))),Z2)","v":0},{"$f":"IF(Riskhistorik!AG$2<>\"Datum\",IF(Riskhistorik!AG4=\"Låg\",1,IF(Riskhistorik!AG4=\"Medel\",2,IF(Riskhistorik!AG4=\"Hög\",3,0))),AA2)","v":0},{"$f":"IF(Riskhistorik!AG$2<>\"Datum\",IF(Riskhistorik!AH4=\"Låg\",1,IF(Riskhistorik!AH4=\"Medel\",2,IF(Riskhistorik!AH4=\"Hög\",3,0))),AB2)","v":0},{"$f":"IF(Riskhistorik!AI$2<>\"Datum\",IF(Riskhistorik!AI4=\"Låg\",1,IF(Riskhistorik!AI4=\"Medel\",2,IF(Riskhistorik!AI4=\"Hög\",3,0))),AC2)","v":0},{"$f":"IF(Riskhistorik!AI$2<>\"Datum\",IF(Riskhistorik!AJ4=\"Låg\",1,IF(Riskhistorik!AJ4=\"Medel\",2,IF(Riskhistorik!AJ4=\"Hög\",3,0))),AD2)","v":0},{"$f":"IF(Riskhistorik!AK$2<>\"Datum\",IF(Riskhistorik!AK4=\"Låg\",1,IF(Riskhistorik!AK4=\"Medel\",2,IF(Riskhistorik!AK4=\"Hög\",3,0))),AE2)","v":0},{"$f":"IF(Riskhistorik!AK$2<>\"Datum\",IF(Riskhistorik!AL4=\"Låg\",1,IF(Riskhistorik!AL4=\"Medel\",2,IF(Riskhistorik!AL4=\"Hög\",3,0))),AF2)","v":0},{"$f":"IF(Riskhistorik!AM$2<>\"Datum\",IF(Riskhistorik!AM4=\"Låg\",1,IF(Riskhistorik!AM4=\"Medel\",2,IF(Riskhistorik!AM4=\"Hög\",3,0))),AG2)","v":0},{"$f":"IF(Riskhistorik!AM$2<>\"Datum\",IF(Riskhistorik!AN4=\"Låg\",1,IF(Riskhistorik!AN4=\"Medel\",2,IF(Riskhistorik!AN4=\"Hög\",3,0))),AH2)","v":0},{"$f":"IF(Riskhistorik!AO$2<>\"Datum\",IF(Riskhistorik!AO4=\"Låg\",1,IF(Riskhistorik!AO4=\"Medel\",2,IF(Riskhistorik!AO4=\"Hög\",3,0))),AI2)","v":0},{"$f":"IF(Riskhistorik!AO$2<>\"Datum\",IF(Riskhistorik!AP4=\"Låg\",1,IF(Riskhistorik!AP4=\"Medel\",2,IF(Riskhistorik!AP4=\"Hög\",3,0))),AJ2)","v":0},{"$f":"IF(Riskhistorik!AQ$2<>\"Datum\",IF(Riskhistorik!AQ4=\"Låg\",1,IF(Riskhistorik!AQ4=\"Medel\",2,IF(Riskhistorik!AQ4=\"Hög\",3,0))),AK2)","v":0},{"$f":"IF(Riskhistorik!AQ$2<>\"Datum\",IF(Riskhistorik!AR4=\"Låg\",1,IF(Riskhistorik!AR4=\"Medel\",2,IF(Riskhistorik!AR4=\"Hög\",3,0))),AL2)","v":0},{"$f":"A2*B2","v":0},{"$f":"C2*D2","v":0},{"$f":"E2*F2","v":0},{"$f":"G2*H2","v":0},{"$f":"I2*J2","v":0},{"$f":"K2*L2","v":0},{"$f":"M2*N2","v":0},{"$f":"O2*P2","v":0},{"$f":"Q2*R2","v":0},{"$f":"S2*T2","v":0},{"$f":"U2*V2","v":0},{"$f":"W2*X2","v":0},{"$f":"Y2*Z2","v":0},{"$f":"AA2*AB2","v":0},{"$f":"AC2*AD2","v":0},{"$f":"AE2*AF2","v":0},{"$f":"AG2*AH2","v":0},{"$f":"AI2*AJ2","v":0},{"$f":"AK2*AL2","v":0},{"$f":"AM2*AN2","v":0}]
[{"$f":"IF(Riskhistorik!E5<>\"\",IF(Riskhistorik!E5=\"Låg\",1,IF(Riskhistorik!E5=\"Medel\",2,3)),0)","v":0},{"$f":"IF(Riskhistorik!F5<>\"\",IF(Riskhistorik!F5=\"Låg\",1,IF(Riskhistorik!F5=\"Medel\",2,3)),0)","v":0},{"$f":"IF(Riskhistorik!G$2<>\"Datum\",IF(Riskhistorik!G5=\"Låg\",1,IF(Riskhistorik!G5=\"Medel\",2,IF(Riskhistorik!G5=\"Hög\",3,0))),A3)","v":0},{"$f":"IF(Riskhistorik!G$2<>\"Datum\",IF(Riskhistorik!H5=\"Låg\",1,IF(Riskhistorik!H5=\"Medel\",2,IF(Riskhistorik!H5=\"Hög\",3,0))),B3)","v":0},{"$f":"IF(Riskhistorik!I$2<>\"Datum\",IF(Riskhistorik!I5=\"Låg\",1,IF(Riskhistorik!I5=\"Medel\",2,IF(Riskhistorik!I5=\"Hög\",3,0))),C3)","v":0},{"$f":"IF(Riskhistorik!I$2<>\"Datum\",IF(Riskhistorik!J5=\"Låg\",1,IF(Riskhistorik!J5=\"Medel\",2,IF(Riskhistorik!J5=\"Hög\",3,0))),D3)","v":0},{"$f":"IF(Riskhistorik!K$2<>\"Datum\",IF(Riskhistorik!K5=\"Låg\",1,IF(Riskhistorik!K5=\"Medel\",2,IF(Riskhistorik!K5=\"Hög\",3,0))),E3)","v":0},{"$f":"IF(Riskhistorik!K$2<>\"Datum\",IF(Riskhistorik!L5=\"Låg\",1,IF(Riskhistorik!L5=\"Medel\",2,IF(Riskhistorik!L5=\"Hög\",3,0))),F3)","v":0},{"$f":"IF(Riskhistorik!M$2<>\"Datum\",IF(Riskhistorik!M5=\"Låg\",1,IF(Riskhistorik!M5=\"Medel\",2,IF(Riskhistorik!M5=\"Hög\",3,0))),G3)","v":0},{"$f":"IF(Riskhistorik!M$2<>\"Datum\",IF(Riskhistorik!N5=\"Låg\",1,IF(Riskhistorik!N5=\"Medel\",2,IF(Riskhistorik!N5=\"Hög\",3,0))),H3)","v":0},{"$f":"IF(Riskhistorik!O$2<>\"Datum\",IF(Riskhistorik!O5=\"Låg\",1,IF(Riskhistorik!O5=\"Medel\",2,IF(Riskhistorik!O5=\"Hög\",3,0))),I3)","v":0},{"$f":"IF(Riskhistorik!O$2<>\"Datum\",IF(Riskhistorik!P5=\"Låg\",1,IF(Riskhistorik!P5=\"Medel\",2,IF(Riskhistorik!P5=\"Hög\",3,0))),J3)","v":0},{"$f":"IF(Riskhistorik!Q$2<>\"Datum\",IF(Riskhistorik!Q5=\"Låg\",1,IF(Riskhistorik!Q5=\"Medel\",2,IF(Riskhistorik!Q5=\"Hög\",3,0))),K3)","v":0},{"$f":"IF(Riskhistorik!Q$2<>\"Datum\",IF(Riskhistorik!R5=\"Låg\",1,IF(Riskhistorik!R5=\"Medel\",2,IF(Riskhistorik!R5=\"Hög\",3,0))),L3)","v":0},{"$f":"IF(Riskhistorik!S$2<>\"Datum\",IF(Riskhistorik!S5=\"Låg\",1,IF(Riskhistorik!S5=\"Medel\",2,IF(Riskhistorik!S5=\"Hög\",3,0))),M3)","v":0},{"$f":"IF(Riskhistorik!S$2<>\"Datum\",IF(Riskhistorik!T5=\"Låg\",1,IF(Riskhistorik!T5=\"Medel\",2,IF(Riskhistorik!T5=\"Hög\",3,0))),N3)","v":0},{"$f":"IF(Riskhistorik!U$2<>\"Datum\",IF(Riskhistorik!U5=\"Låg\",1,IF(Riskhistorik!U5=\"Medel\",2,IF(Riskhistorik!U5=\"Hög\",3,0))),O3)","v":0},{"$f":"IF(Riskhistorik!U$2<>\"Datum\",IF(Riskhistorik!V5=\"Låg\",1,IF(Riskhistorik!V5=\"Medel\",2,IF(Riskhistorik!V5=\"Hög\",3,0))),P3)","v":0},{"$f":"IF(Riskhistorik!W$2<>\"Datum\",IF(Riskhistorik!W5=\"Låg\",1,IF(Riskhistorik!W5=\"Medel\",2,IF(Riskhistorik!W5=\"Hög\",3,0))),Q3)","v":0},{"$f":"IF(Riskhistorik!W$2<>\"Datum\",IF(Riskhistorik!X5=\"Låg\",1,IF(Riskhistorik!X5=\"Medel\",2,IF(Riskhistorik!X5=\"Hög\",3,0))),R3)","v":0},{"$f":"IF(Riskhistorik!Y$2<>\"Datum\",IF(Riskhistorik!Y5=\"Låg\",1,IF(Riskhistorik!Y5=\"Medel\",2,IF(Riskhistorik!Y5=\"Hög\",3,0))),S3)","v":0},{"$f":"IF(Riskhistorik!Y$2<>\"Datum\",IF(Riskhistorik!Z5=\"Låg\",1,IF(Riskhistorik!Z5=\"Medel\",2,IF(Riskhistorik!Z5=\"Hög\",3,0))),T3)","v":0},{"$f":"IF(Riskhistorik!AA$2<>\"Datum\",IF(Riskhistorik!AA5=\"Låg\",1,IF(Riskhistorik!AA5=\"Medel\",2,IF(Riskhistorik!AA5=\"Hög\",3,0))),U3)","v":0},{"$f":"IF(Riskhistorik!AA$2<>\"Datum\",IF(Riskhistorik!AB5=\"Låg\",1,IF(Riskhistorik!AB5=\"Medel\",2,IF(Riskhistorik!AB5=\"Hög\",3,0))),V3)","v":0},{"$f":"IF(Riskhistorik!AC$2<>\"Datum\",IF(Riskhistorik!AC5=\"Låg\",1,IF(Riskhistorik!AC5=\"Medel\",2,IF(Riskhistorik!AC5=\"Hög\",3,0))),W3)","v":0},{"$f":"IF(Riskhistorik!AC$2<>\"Datum\",IF(Riskhistorik!AD5=\"Låg\",1,IF(Riskhistorik!AD5=\"Medel\",2,IF(Riskhistorik!AD5=\"Hög\",3,0))),X3)","v":0},{"$f":"IF(Riskhistorik!AE$2<>\"Datum\",IF(Riskhistorik!AE5=\"Låg\",1,IF(Riskhistorik!AE5=\"Medel\",2,IF(Riskhistorik!AE5=\"Hög\",3,0))),Y3)","v":0},{"$f":"IF(Riskhistorik!AE$2<>\"Datum\",IF(Riskhistorik!AF5=\"Låg\",1,IF(Riskhistorik!AF5=\"Medel\",2,IF(Riskhistorik!AF5=\"Hög\",3,0))),Z3)","v":0},{"$f":"IF(Riskhistorik!AG$2<>\"Datum\",IF(Riskhistorik!AG5=\"Låg\",1,IF(Riskhistorik!AG5=\"Medel\",2,IF(Riskhistorik!AG5=\"Hög\",3,0))),AA3)","v":0},{"$f":"IF(Riskhistorik!AG$2<>\"Datum\",IF(Riskhistorik!AH5=\"Låg\",1,IF(Riskhistorik!AH5=\"Medel\",2,IF(Riskhistorik!AH5=\"Hög\",3,0))),AB3)","v":0},{"$f":"IF(Riskhistorik!AI$2<>\"Datum\",IF(Riskhistorik!AI5=\"Låg\",1,IF(Riskhistorik!AI5=\"Medel\",2,IF(Riskhistorik!AI5=\"Hög\",3,0))),AC3)","v":0},{"$f":"IF(Riskhistorik!AI$2<>\"Datum\",IF(Riskhistorik!AJ5=\"Låg\",1,IF(Riskhistorik!AJ5=\"Medel\",2,IF(Riskhistorik!AJ5=\"Hög\",3,0))),AD3)","v":0},{"$f":"IF(Riskhistorik!AK$2<>\"Datum\",IF(Riskhistorik!AK5=\"Låg\",1,IF(Riskhistorik!AK5=\"Medel\",2,IF(Riskhistorik!AK5=\"Hög\",3,0))),AE3)","v":0},{"$f":"IF(Riskhistorik!AK$2<>\"Datum\",IF(Riskhistorik!AL5=\"Låg\",1,IF(Riskhistorik!AL5=\"Medel\",2,IF(Riskhistorik!AL5=\"Hög\",3,0))),AF3)","v":0},{"$f":"IF(Riskhistorik!AM$2<>\"Datum\",IF(Riskhistorik!AM5=\"Låg\",1,IF(Riskhistorik!AM5=\"Medel\",2,IF(Riskhistorik!AM5=\"Hög\",3,0))),AG3)","v":0},{"$f":"IF(Riskhistorik!AM$2<>\"Datum\",IF(Riskhistorik!AN5=\"Låg\",1,IF(Riskhistorik!AN5=\"Medel\",2,IF(Riskhistorik!AN5=\"Hög\",3,0))),AH3)","v":0},{"$f":"IF(Riskhistorik!AO$2<>\"Datum\",IF(Riskhistorik!AO5=\"Låg\",1,IF(Riskhistorik!AO5=\"Medel\",2,IF(Riskhistorik!AO5=\"Hög\",3,0))),AI3)","v":0},{"$f":"IF(Riskhistorik!AO$2<>\"Datum\",IF(Riskhistorik!AP5=\"Låg\",1,IF(Riskhistorik!AP5=\"Medel\",2,IF(Riskhistorik!AP5=\"Hög\",3,0))),AJ3)","v":0},{"$f":"IF(Riskhistorik!AQ$2<>\"Datum\",IF(Riskhistorik!AQ5=\"Låg\",1,IF(Riskhistorik!AQ5=\"Medel\",2,IF(Riskhistorik!AQ5=\"Hög\",3,0))),AK3)","v":0},{"$f":"IF(Riskhistorik!AQ$2<>\"Datum\",IF(Riskhistorik!AR5=\"Låg\",1,IF(Riskhistorik!AR5=\"Medel\",2,IF(Riskhistorik!AR5=\"Hög\",3,0))),AL3)","v":0},{"$f":"A3*B3","v":0},{"$f":"C3*D3","v":0},{"$f":"E3*F3","v":0},{"$f":"G3*H3","v":0},{"$f":"I3*J3","v":0},{"$f":"K3*L3","v":0},{"$f":"M3*N3","v":0},{"$f":"O3*P3","v":0},{"$f":"Q3*R3","v":0},{"$f":"S3*T3","v":0},{"$f":"U3*V3","v":0},{"$f":"W3*X3","v":0},{"$f":"Y3*Z3","v":0},{"$f":"AA3*AB3","v":0},{"$f":"AC3*AD3","v":0},{"$f":"AE3*AF3","v":0},{"$f":"AG3*AH3","v":0},{"$f":"AI3*AJ3","v":0},{"$f":"AK3*AL3","v":0},{"$f":"AM3*AN3","v":0}]
[{"$f":"IF(Riskhistorik!E6<>\"\",IF(Riskhistorik!E6=\"Låg\",1,IF(Riskhistorik!E6=\"Medel\",2,3)),0)","v":0},{"$f":"IF(Riskhistorik!F6<>\"\",IF(Riskhistorik!F6=\"Låg\",1,IF(Riskhistorik!F6=\"Medel\",2,3)),0)","v":0},{"$f":"IF(Riskhistorik!G$2<>\"Datum\",IF(Riskhistorik!G6=\"Låg\",1,IF(Riskhistorik!G6=\"Medel\",2,IF(Riskhistorik!G6=\"Hög\",3,0))),A4)","v":0},{"$f":"IF(Riskhistorik!G$2<>\"Datum\",IF(Riskhistorik!H6=\"Låg\",1,IF(Riskhistorik!H6=\"Medel\",2,IF(Riskhistorik!H6=\"Hög\",3,0))),B4)","v":0},{"$f":"IF(Riskhistorik!I$2<>\"Datum\",IF(Riskhistorik!I6=\"Låg\",1,IF(Riskhistorik!I6=\"Medel\",2,IF(Riskhistorik!I6=\"Hög\",3,0))),C4)","v":0},{"$f":"IF(Riskhistorik!I$2<>\"Datum\",IF(Riskhistorik!J6=\"Låg\",1,IF(Riskhistorik!J6=\"Medel\",2,IF(Riskhistorik!J6=\"Hög\",3,0))),D4)","v":0},{"$f":"IF(Riskhistorik!K$2<>\"Datum\",IF(Riskhistorik!K6=\"Låg\",1,IF(Riskhistorik!K6=\"Medel\",2,IF(Riskhistorik!K6=\"Hög\",3,0))),E4)","v":0},{"$f":"IF(Riskhistorik!K$2<>\"Datum\",IF(Riskhistorik!L6=\"Låg\",1,IF(Riskhistorik!L6=\"Medel\",2,IF(Riskhistorik!L6=\"Hög\",3,0))),F4)","v":0},{"$f":"IF(Riskhistorik!M$2<>\"Datum\",IF(Riskhistorik!M6=\"Låg\",1,IF(Riskhistorik!M6=\"Medel\",2,IF(Riskhistorik!M6=\"Hög\",3,0))),G4)","v":0},{"$f":"IF(Riskhistorik!M$2<>\"Datum\",IF(Riskhistorik!N6=\"Låg\",1,IF(Riskhistorik!N6=\"Medel\",2,IF(Riskhistorik!N6=\"Hög\",3,0))),H4)","v":0},{"$f":"IF(Riskhistorik!O$2<>\"Datum\",IF(Riskhistorik!O6=\"Låg\",1,IF(Riskhistorik!O6=\"Medel\",2,IF(Riskhistorik!O6=\"Hög\",3,0))),I4)","v":0},{"$f":"IF(Riskhistorik!O$2<>\"Datum\",IF(Riskhistorik!P6=\"Låg\",1,IF(Riskhistorik!P6=\"Medel\",2,IF(Riskhistorik!P6=\"Hög\",3,0))),J4)","v":0},{"$f":"IF(Riskhistorik!Q$2<>\"Datum\",IF(Riskhistorik!Q6=\"Låg\",1,IF(Riskhistorik!Q6=\"Medel\",2,IF(Riskhistorik!Q6=\"Hög\",3,0))),K4)","v":0},{"$f":"IF(Riskhistorik!Q$2<>\"Datum\",IF(Riskhistorik!R6=\"Låg\",1,IF(Riskhistorik!R6=\"Medel\",2,IF(Riskhistorik!R6=\"Hög\",3,0))),L4)","v":0},{"$f":"IF(Riskhistorik!S$2<>\"Datum\",IF(Riskhistorik!S6=\"Låg\",1,IF(Riskhistorik!S6=\"Medel\",2,IF(Riskhistorik!S6=\"Hög\",3,0))),M4)","v":0},{"$f":"IF(Riskhistorik!S$2<>\"Datum\",IF(Riskhistorik!T6=\"Låg\",1,IF(Riskhistorik!T6=\"Medel\",2,IF(Riskhistorik!T6=\"Hög\",3,0))),N4)","v":0},{"$f":"IF(Riskhistorik!U$2<>\"Datum\",IF(Riskhistorik!U6=\"Låg\",1,IF(Riskhistorik!U6=\"Medel\",2,IF(Riskhistorik!U6=\"Hög\",3,0))),O4)","v":0},{"$f":"IF(Riskhistorik!U$2<>\"Datum\",IF(Riskhistorik!V6=\"Låg\",1,IF(Riskhistorik!V6=\"Medel\",2,IF(Riskhistorik!V6=\"Hög\",3,0))),P4)","v":0},{"$f":"IF(Riskhistorik!W$2<>\"Datum\",IF(Riskhistorik!W6=\"Låg\",1,IF(Riskhistorik!W6=\"Medel\",2,IF(Riskhistorik!W6=\"Hög\",3,0))),Q4)","v":0},{"$f":"IF(Riskhistorik!W$2<>\"Datum\",IF(Riskhistorik!X6=\"Låg\",1,IF(Riskhistorik!X6=\"Medel\",2,IF(Riskhistorik!X6=\"Hög\",3,0))),R4)","v":0},{"$f":"IF(Riskhistorik!Y$2<>\"Datum\",IF(Riskhistorik!Y6=\"Låg\",1,IF(Riskhistorik!Y6=\"Medel\",2,IF(Riskhistorik!Y6=\"Hög\",3,0))),S4)","v":0},{"$f":"IF(Riskhistorik!Y$2<>\"Datum\",IF(Riskhistorik!Z6=\"Låg\",1,IF(Riskhistorik!Z6=\"Medel\",2,IF(Riskhistorik!Z6=\"Hög\",3,0))),T4)","v":0},{"$f":"IF(Riskhistorik!AA$2<>\"Datum\",IF(Riskhistorik!AA6=\"Låg\",1,IF(Riskhistorik!AA6=\"Medel\",2,IF(Riskhistorik!AA6=\"Hög\",3,0))),U4)","v":0},{"$f":"IF(Riskhistorik!AA$2<>\"Datum\",IF(Riskhistorik!AB6=\"Låg\",1,IF(Riskhistorik!AB6=\"Medel\",2,IF(Riskhistorik!AB6=\"Hög\",3,0))),V4)","v":0},{"$f":"IF(Riskhistorik!AC$2<>\"Datum\",IF(Riskhistorik!AC6=\"Låg\",1,IF(Riskhistorik!AC6=\"Medel\",2,IF(Riskhistorik!AC6=\"Hög\",3,0))),W4)","v":0},{"$f":"IF(Riskhistorik!AC$2<>\"Datum\",IF(Riskhistorik!AD6=\"Låg\",1,IF(Riskhistorik!AD6=\"Medel\",2,IF(Riskhistorik!AD6=\"Hög\",3,0))),X4)","v":0},{"$f":"IF(Riskhistorik!AE$2<>\"Datum\",IF(Riskhistorik!AE6=\"Låg\",1,IF(Riskhistorik!AE6=\"Medel\",2,IF(Riskhistorik!AE6=\"Hög\",3,0))),Y4)","v":0},{"$f":"IF(Riskhistorik!AE$2<>\"Datum\",IF(Riskhistorik!AF6=\"Låg\",1,IF(Riskhistorik!AF6=\"Medel\",2,IF(Riskhistorik!AF6=\"Hög\",3,0))),Z4)","v":0},{"$f":"IF(Riskhistorik!AG$2<>\"Datum\",IF(Riskhistorik!AG6=\"Låg\",1,IF(Riskhistorik!AG6=\"Medel\",2,IF(Riskhistorik!AG6=\"Hög\",3,0))),AA4)","v":0},{"$f":"IF(Riskhistorik!AG$2<>\"Datum\",IF(Riskhistorik!AH6=\"Låg\",1,IF(Riskhistorik!AH6=\"Medel\",2,IF(Riskhistorik!AH6=\"Hög\",3,0))),AB4)","v":0},{"$f":"IF(Riskhistorik!AI$2<>\"Datum\",IF(Riskhistorik!AI6=\"Låg\",1,IF(Riskhistorik!AI6=\"Medel\",2,IF(Riskhistorik!AI6=\"Hög\",3,0))),AC4)","v":0},{"$f":"IF(Riskhistorik!AI$2<>\"Datum\",IF(Riskhistorik!AJ6=\"Låg\",1,IF(Riskhistorik!AJ6=\"Medel\",2,IF(Riskhistorik!AJ6=\"Hög\",3,0))),AD4)","v":0},{"$f":"IF(Riskhistorik!AK$2<>\"Datum\",IF(Riskhistorik!AK6=\"Låg\",1,IF(Riskhistorik!AK6=\"Medel\",2,IF(Riskhistorik!AK6=\"Hög\",3,0))),AE4)","v":0},{"$f":"IF(Riskhistorik!AK$2<>\"Datum\",IF(Riskhistorik!AL6=\"Låg\",1,IF(Riskhistorik!AL6=\"Medel\",2,IF(Riskhistorik!AL6=\"Hög\",3,0))),AF4)","v":0},{"$f":"IF(Riskhistorik!AM$2<>\"Datum\",IF(Riskhistorik!AM6=\"Låg\",1,IF(Riskhistorik!AM6=\"Medel\",2,IF(Riskhistorik!AM6=\"Hög\",3,0))),AG4)","v":0},{"$f":"IF(Riskhistorik!AM$2<>\"Datum\",IF(Riskhistorik!AN6=\"Låg\",1,IF(Riskhistorik!AN6=\"Medel\",2,IF(Riskhistorik!AN6=\"Hög\",3,0))),AH4)","v":0},{"$f":"IF(Riskhistorik!AO$2<>\"Datum\",IF(Riskhistorik!AO6=\"Låg\",1,IF(Riskhistorik!AO6=\"Medel\",2,IF(Riskhistorik!AO6=\"Hög\",3,0))),AI4)","v":0},{"$f":"IF(Riskhistorik!AO$2<>\"Datum\",IF(Riskhistorik!AP6=\"Låg\",1,IF(Riskhistorik!AP6=\"Medel\",2,IF(Riskhistorik!AP6=\"Hög\",3,0))),AJ4)","v":0},{"$f":"IF(Riskhistorik!AQ$2<>\"Datum\",IF(Riskhistorik!AQ6=\"Låg\",1,IF(Riskhistorik!AQ6=\"Medel\",2,IF(Riskhistorik!AQ6=\"Hög\",3,0))),AK4)","v":0},{"$f":"IF(Riskhistorik!AQ$2<>\"Datum\",IF(Riskhistorik!AR6=\"Låg\",1,IF(Riskhistorik!AR6=\"Medel\",2,IF(Riskhistorik!AR6=\"Hög\",3,0))),AL4)","v":0},0,0,0,0,0,0,0,0,0,0,0,0,0,0,0,0,0,0,0,0]
[{"$f":"IF(Riskhistorik!E7<>\"\",IF(Riskhistorik!E7=\"Låg\",1,IF(Riskhistorik!E7=\"Medel\",2,3)),0)","v":0},{"$f":"IF(Riskhistorik!F7<>\"\",IF(Riskhistorik!F7=\"Låg\",1,IF(Riskhistorik!F7=\"Medel\",2,3)),0)","v":0},{"$f":"IF(Riskhistorik!G$2<>\"Datum\",IF(Riskhistorik!G7=\"Låg\",1,IF(Riskhistorik!G7=\"Medel\",2,IF(Riskhistorik!G7=\"Hög\",3,0))),A5)","v":0},{"$f":"IF(Riskhistorik!G$2<>\"Datum\",IF(Riskhistorik!H7=\"Låg\",1,IF(Riskhistorik!H7=\"Medel\",2,IF(Riskhistorik!H7=\"Hög\",3,0))),B5)","v":0},{"$f":"IF(Riskhistorik!I$2<>\"Datum\",IF(Riskhistorik!I7=\"Låg\",1,IF(Riskhistorik!I7=\"Medel\",2,IF(Riskhistorik!I7=\"Hög\",3,0))),C5)","v":0},{"$f":"IF(Riskhistorik!I$2<>\"Datum\",IF(Riskhistorik!J7=\"Låg\",1,IF(Riskhistorik!J7=\"Medel\",2,IF(Riskhistorik!J7=\"Hög\",3,0))),D5)","v":0},{"$f":"IF(Riskhistorik!K$2<>\"Datum\",IF(Riskhistorik!K7=\"Låg\",1,IF(Riskhistorik!K7=\"Medel\",2,IF(Riskhistorik!K7=\"Hög\",3,0))),E5)","v":0},{"$f":"IF(Riskhistorik!K$2<>\"Datum\",IF(Riskhistorik!L7=\"Låg\",1,IF(Riskhistorik!L7=\"Medel\",2,IF(Riskhistorik!L7=\"Hög\",3,0))),F5)","v":0},{"$f":"IF(Riskhistorik!M$2<>\"Datum\",IF(Riskhistorik!M7=\"Låg\",1,IF(Riskhistorik!M7=\"Medel\",2,IF(Riskhistorik!M7=\"Hög\",3,0))),G5)","v":0},{"$f":"IF(Riskhistorik!M$2<>\"Datum\",IF(Riskhistorik!N7=\"Låg\",1,IF(Riskhistorik!N7=\"Medel\",2,IF(Riskhistorik!N7=\"Hög\",3,0))),H5)","v":0},{"$f":"IF(Riskhistorik!O$2<>\"Datum\",IF(Riskhistorik!O7=\"Låg\",1,IF(Riskhistorik!O7=\"Medel\",2,IF(Riskhistorik!O7=\"Hög\",3,0))),I5)","v":0},{"$f":"IF(Riskhistorik!O$2<>\"Datum\",IF(Riskhistorik!P7=\"Låg\",1,IF(Riskhistorik!P7=\"Medel\",2,IF(Riskhistorik!P7=\"Hög\",3,0))),J5)","v":0},{"$f":"IF(Riskhistorik!Q$2<>\"Datum\",IF(Riskhistorik!Q7=\"Låg\",1,IF(Riskhistorik!Q7=\"Medel\",2,IF(Riskhistorik!Q7=\"Hög\",3,0))),K5)","v":0},{"$f":"IF(Riskhistorik!Q$2<>\"Datum\",IF(Riskhistorik!R7=\"Låg\",1,IF(Riskhistorik!R7=\"Medel\",2,IF(Riskhistorik!R7=\"Hög\",3,0))),L5)","v":0},{"$f":"IF(Riskhistorik!S$2<>\"Datum\",IF(Riskhistorik!S7=\"Låg\",1,IF(Riskhistorik!S7=\"Medel\",2,IF(Riskhistorik!S7=\"Hög\",3,0))),M5)","v":0},{"$f":"IF(Riskhistorik!S$2<>\"Datum\",IF(Riskhistorik!T7=\"Låg\",1,IF(Riskhistorik!T7=\"Medel\",2,IF(Riskhistorik!T7=\"Hög\",3,0))),N5)","v":0},{"$f":"IF(Riskhistorik!U$2<>\"Datum\",IF(Riskhistorik!U7=\"Låg\",1,IF(Riskhistorik!U7=\"Medel\",2,IF(Riskhistorik!U7=\"Hög\",3,0))),O5)","v":0},{"$f":"IF(Riskhistorik!U$2<>\"Datum\",IF(Riskhistorik!V7=\"Låg\",1,IF(Riskhistorik!V7=\"Medel\",2,IF(Riskhistorik!V7=\"Hög\",3,0))),P5)","v":0},{"$f":"IF(Riskhistorik!W$2<>\"Datum\",IF(Riskhistorik!W7=\"Låg\",1,IF(Riskhistorik!W7=\"Medel\",2,IF(Riskhistorik!W7=\"Hög\",3,0))),Q5)","v":0},{"$f":"IF(Riskhistorik!W$2<>\"Datum\",IF(Riskhistorik!X7=\"Låg\",1,IF(Riskhistorik!X7=\"Medel\",2,IF(Riskhistorik!X7=\"Hög\",3,0))),R5)","v":0},{"$f":"IF(Riskhistorik!Y$2<>\"Datum\",IF(Riskhistorik!Y7=\"Låg\",1,IF(Riskhistorik!Y7=\"Medel\",2,IF(Riskhistorik!Y7=\"Hög\",3,0))),S5)","v":0},{"$f":"IF(Riskhistorik!Y$2<>\"Datum\",IF(Riskhistorik!Z7=\"Låg\",1,IF(Riskhistorik!Z7=\"Medel\",2,IF(Riskhistorik!Z7=\"Hög\",3,0))),T5)","v":0},{"$f":"IF(Riskhistorik!AA$2<>\"Datum\",IF(Riskhistorik!AA7=\"Låg\",1,IF(Riskhistorik!AA7=\"Medel\",2,IF(Riskhistorik!AA7=\"Hög\",3,0))),U5)","v":0},{"$f":"IF(Riskhistorik!AA$2<>\"Datum\",IF(Riskhistorik!AB7=\"Låg\",1,IF(Riskhistorik!AB7=\"Medel\",2,IF(Riskhistorik!AB7=\"Hög\",3,0))),V5)","v":0},{"$f":"IF(Riskhistorik!AC$2<>\"Datum\",IF(Riskhistorik!AC7=\"Låg\",1,IF(Riskhistorik!AC7=\"Medel\",2,IF(Riskhistorik!AC7=\"Hög\",3,0))),W5)","v":0},{"$f":"IF(Riskhistorik!AC$2<>\"Datum\",IF(Riskhistorik!AD7=\"Låg\",1,IF(Riskhistorik!AD7=\"Medel\",2,IF(Riskhistorik!AD7=\"Hög\",3,0))),X5)","v":0},{"$f":"IF(Riskhistorik!AE$2<>\"Datum\",IF(Riskhistorik!AE7=\"Låg\",1,IF(Riskhistorik!AE7=\"Medel\",2,IF(Riskhistorik!AE7=\"Hög\",3,0))),Y5)","v":0},{"$f":"IF(Riskhistorik!AE$2<>\"Datum\",IF(Riskhistorik!AF7=\"Låg\",1,IF(Riskhistorik!AF7=\"Medel\",2,IF(Riskhistorik!AF7=\"Hög\",3,0))),Z5)","v":0},{"$f":"IF(Riskhistorik!AG$2<>\"Datum\",IF(Riskhistorik!AG7=\"Låg\",1,IF(Riskhistorik!AG7=\"Medel\",2,IF(Riskhistorik!AG7=\"Hög\",3,0))),AA5)","v":0},{"$f":"IF(Riskhistorik!AG$2<>\"Datum\",IF(Riskhistorik!AH7=\"Låg\",1,IF(Riskhistorik!AH7=\"Medel\",2,IF(Riskhistorik!AH7=\"Hög\",3,0))),AB5)","v":0},{"$f":"IF(Riskhistorik!AI$2<>\"Datum\",IF(Riskhistorik!AI7=\"Låg\",1,IF(Riskhistorik!AI7=\"Medel\",2,IF(Riskhistorik!AI7=\"Hög\",3,0))),AC5)","v":0},{"$f":"IF(Riskhistorik!AI$2<>\"Datum\",IF(Riskhistorik!AJ7=\"Låg\",1,IF(Riskhistorik!AJ7=\"Medel\",2,IF(Riskhistorik!AJ7=\"Hög\",3,0))),AD5)","v":0},{"$f":"IF(Riskhistorik!AK$2<>\"Datum\",IF(Riskhistorik!AK7=\"Låg\",1,IF(Riskhistorik!AK7=\"Medel\",2,IF(Riskhistorik!AK7=\"Hög\",3,0))),AE5)","v":0},{"$f":"IF(Riskhistorik!AK$2<>\"Datum\",IF(Riskhistorik!AL7=\"Låg\",1,IF(Riskhistorik!AL7=\"Medel\",2,IF(Riskhistorik!AL7=\"Hög\",3,0))),AF5)","v":0},{"$f":"IF(Riskhistorik!AM$2<>\"Datum\",IF(Riskhistorik!AM7=\"Låg\",1,IF(Riskhistorik!AM7=\"Medel\",2,IF(Riskhistorik!AM7=\"Hög\",3,0))),AG5)","v":0},{"$f":"IF(Riskhistorik!AM$2<>\"Datum\",IF(Riskhistorik!AN7=\"Låg\",1,IF(Riskhistorik!AN7=\"Medel\",2,IF(Riskhistorik!AN7=\"Hög\",3,0))),AH5)","v":0},{"$f":"IF(Riskhistorik!AO$2<>\"Datum\",IF(Riskhistorik!AO7=\"Låg\",1,IF(Riskhistorik!AO7=\"Medel\",2,IF(Riskhistorik!AO7=\"Hög\",3,0))),AI5)","v":0},{"$f":"IF(Riskhistorik!AO$2<>\"Datum\",IF(Riskhistorik!AP7=\"Låg\",1,IF(Riskhistorik!AP7=\"Medel\",2,IF(Riskhistorik!AP7=\"Hög\",3,0))),AJ5)","v":0},{"$f":"IF(Riskhistorik!AQ$2<>\"Datum\",IF(Riskhistorik!AQ7=\"Låg\",1,IF(Riskhistorik!AQ7=\"Medel\",2,IF(Riskhistorik!AQ7=\"Hög\",3,0))),AK5)","v":0},{"$f":"IF(Riskhistorik!AQ$2<>\"Datum\",IF(Riskhistorik!AR7=\"Låg\",1,IF(Riskhistorik!AR7=\"Medel\",2,IF(Riskhistorik!AR7=\"Hög\",3,0))),AL5)","v":0},0,0,0,0,0,0,0,0,0,0,0,0,0,0,0,0,0,0,0,0]
[{"$f":"IF(Riskhistorik!E8<>\"\",IF(Riskhistorik!E8=\"Låg\",1,IF(Riskhistorik!E8=\"Medel\",2,3)),0)","v":0},{"$f":"IF(Riskhistorik!F8<>\"\",IF(Riskhistorik!F8=\"Låg\",1,IF(Riskhistorik!F8=\"Medel\",2,3)),0)","v":0},{"$f":"IF(Riskhistorik!G$2<>\"Datum\",IF(Riskhistorik!G8=\"Låg\",1,IF(Riskhistorik!G8=\"Medel\",2,IF(Riskhistorik!G8=\"Hög\",3,0))),A6)","v":0},{"$f":"IF(Riskhistorik!G$2<>\"Datum\",IF(Riskhistorik!H8=\"Låg\",1,IF(Riskhistorik!H8=\"Medel\",2,IF(Riskhistorik!H8=\"Hög\",3,0))),B6)","v":0},{"$f":"IF(Riskhistorik!I$2<>\"Datum\",IF(Riskhistorik!I8=\"Låg\",1,IF(Riskhistorik!I8=\"Medel\",2,IF(Riskhistorik!I8=\"Hög\",3,0))),C6)","v":0},{"$f":"IF(Riskhistorik!I$2<>\"Datum\",IF(Riskhistorik!J8=\"Låg\",1,IF(Riskhistorik!J8=\"Medel\",2,IF(Riskhistorik!J8=\"Hög\",3,0))),D6)","v":0},{"$f":"IF(Riskhistorik!K$2<>\"Datum\",IF(Riskhistorik!K8=\"Låg\",1,IF(Riskhistorik!K8=\"Medel\",2,IF(Riskhistorik!K8=\"Hög\",3,0))),E6)","v":0},{"$f":"IF(Riskhistorik!K$2<>\"Datum\",IF(Riskhistorik!L8=\"Låg\",1,IF(Riskhistorik!L8=\"Medel\",2,IF(Riskhistorik!L8=\"Hög\",3,0))),F6)","v":0},{"$f":"IF(Riskhistorik!M$2<>\"Datum\",IF(Riskhistorik!M8=\"Låg\",1,IF(Riskhistorik!M8=\"Medel\",2,IF(Riskhistorik!M8=\"Hög\",3,0))),G6)","v":0},{"$f":"IF(Riskhistorik!M$2<>\"Datum\",IF(Riskhistorik!N8=\"Låg\",1,IF(Riskhistorik!N8=\"Medel\",2,IF(Riskhistorik!N8=\"Hög\",3,0))),H6)","v":0},{"$f":"IF(Riskhistorik!O$2<>\"Datum\",IF(Riskhistorik!O8=\"Låg\",1,IF(Riskhistorik!O8=\"Medel\",2,IF(Riskhistorik!O8=\"Hög\",3,0))),I6)","v":0},{"$f":"IF(Riskhistorik!O$2<>\"Datum\",IF(Riskhistorik!P8=\"Låg\",1,IF(Riskhistorik!P8=\"Medel\",2,IF(Riskhistorik!P8=\"Hög\",3,0))),J6)","v":0},{"$f":"IF(Riskhistorik!Q$2<>\"Datum\",IF(Riskhistorik!Q8=\"Låg\",1,IF(Riskhistorik!Q8=\"Medel\",2,IF(Riskhistorik!Q8=\"Hög\",3,0))),K6)","v":0},{"$f":"IF(Riskhistorik!Q$2<>\"Datum\",IF(Riskhistorik!R8=\"Låg\",1,IF(Riskhistorik!R8=\"Medel\",2,IF(Riskhistorik!R8=\"Hög\",3,0))),L6)","v":0},{"$f":"IF(Riskhistorik!S$2<>\"Datum\",IF(Riskhistorik!S8=\"Låg\",1,IF(Riskhistorik!S8=\"Medel\",2,IF(Riskhistorik!S8=\"Hög\",3,0))),M6)","v":0},{"$f":"IF(Riskhistorik!S$2<>\"Datum\",IF(Riskhistorik!T8=\"Låg\",1,IF(Riskhistorik!T8=\"Medel\",2,IF(Riskhistorik!T8=\"Hög\",3,0))),N6)","v":0},{"$f":"IF(Riskhistorik!U$2<>\"Datum\",IF(Riskhistorik!U8=\"Låg\",1,IF(Riskhistorik!U8=\"Medel\",2,IF(Riskhistorik!U8=\"Hög\",3,0))),O6)","v":0},{"$f":"IF(Riskhistorik!U$2<>\"Datum\",IF(Riskhistorik!V8=\"Låg\",1,IF(Riskhistorik!V8=\"Medel\",2,IF(Riskhistorik!V8=\"Hög\",3,0))),P6)","v":0},{"$f":"IF(Riskhistorik!W$2<>\"Datum\",IF(Riskhistorik!W8=\"Låg\",1,IF(Riskhistorik!W8=\"Medel\",2,IF(Riskhistorik!W8=\"Hög\",3,0))),Q6)","v":0},{"$f":"IF(Riskhistorik!W$2<>\"Datum\",IF(Riskhistorik!X8=\"Låg\",1,IF(Riskhistorik!X8=\"Medel\",2,IF(Riskhistorik!X8=\"Hög\",3,0))),R6)","v":0},{"$f":"IF(Riskhistorik!Y$2<>\"Datum\",IF(Riskhistorik!Y8=\"Låg\",1,IF(Riskhistorik!Y8=\"Medel\",2,IF(Riskhistorik!Y8=\"Hög\",3,0))),S6)","v":0},{"$f":"IF(Riskhistorik!Y$2<>\"Datum\",IF(Riskhistorik!Z8=\"Låg\",1,IF(Riskhistorik!Z8=\"Medel\",2,IF(Riskhistorik!Z8=\"Hög\",3,0))),T6)","v":0},{"$f":"IF(Riskhistorik!AA$2<>\"Datum\",IF(Riskhistorik!AA8=\"Låg\",1,IF(Riskhistorik!AA8=\"Medel\",2,IF(Riskhistorik!AA8=\"Hög\",3,0))),U6)","v":0},{"$f":"IF(Riskhistorik!AA$2<>\"Datum\",IF(Riskhistorik!AB8=\"Låg\",1,IF(Riskhistorik!AB8=\"Medel\",2,IF(Riskhistorik!AB8=\"Hög\",3,0))),V6)","v":0},{"$f":"IF(Riskhistorik!AC$2<>\"Datum\",IF(Riskhistorik!AC8=\"Låg\",1,IF(Riskhistorik!AC8=\"Medel\",2,IF(Riskhistorik!AC8=\"Hög\",3,0))),W6)","v":0},{"$f":"IF(Riskhistorik!AC$2<>\"Datum\",IF(Riskhistorik!AD8=\"Låg\",1,IF(Riskhistorik!AD8=\"Medel\",2,IF(Riskhistorik!AD8=\"Hög\",3,0))),X6)","v":0},{"$f":"IF(Riskhistorik!AE$2<>\"Datum\",IF(Riskhistorik!AE8=\"Låg\",1,IF(Riskhistorik!AE8=\"Medel\",2,IF(Riskhistorik!AE8=\"Hög\",3,0))),Y6)","v":0},{"$f":"IF(Riskhistorik!AE$2<>\"Datum\",IF(Riskhistorik!AF8=\"Låg\",1,IF(Riskhistorik!AF8=\"Medel\",2,IF(Riskhistorik!AF8=\"Hög\",3,0))),Z6)","v":0},{"$f":"IF(Riskhistorik!AG$2<>\"Datum\",IF(Riskhistorik!AG8=\"Låg\",1,IF(Riskhistorik!AG8=\"Medel\",2,IF(Riskhistorik!AG8=\"Hög\",3,0))),AA6)","v":0},{"$f":"IF(Riskhistorik!AG$2<>\"Datum\",IF(Riskhistorik!AH8=\"Låg\",1,IF(Riskhistorik!AH8=\"Medel\",2,IF(Riskhistorik!AH8=\"Hög\",3,0))),AB6)","v":0},{"$f":"IF(Riskhistorik!AI$2<>\"Datum\",IF(Riskhistorik!AI8=\"Låg\",1,IF(Riskhistorik!AI8=\"Medel\",2,IF(Riskhistorik!AI8=\"Hög\",3,0))),AC6)","v":0},{"$f":"IF(Riskhistorik!AI$2<>\"Datum\",IF(Riskhistorik!AJ8=\"Låg\",1,IF(Riskhistorik!AJ8=\"Medel\",2,IF(Riskhistorik!AJ8=\"Hög\",3,0))),AD6)","v":0},{"$f":"IF(Riskhistorik!AK$2<>\"Datum\",IF(Riskhistorik!AK8=\"Låg\",1,IF(Riskhistorik!AK8=\"Medel\",2,IF(Riskhistorik!AK8=\"Hög\",3,0))),AE6)","v":0},{"$f":"IF(Riskhistorik!AK$2<>\"Datum\",IF(Riskhistorik!AL8=\"Låg\",1,IF(Riskhistorik!AL8=\"Medel\",2,IF(Riskhistorik!AL8=\"Hög\",3,0))),AF6)","v":0},{"$f":"IF(Riskhistorik!AM$2<>\"Datum\",IF(Riskhistorik!AM8=\"Låg\",1,IF(Riskhistorik!AM8=\"Medel\",2,IF(Riskhistorik!AM8=\"Hög\",3,0))),AG6)","v":0},{"$f":"IF(Riskhistorik!AM$2<>\"Datum\",IF(Riskhistorik!AN8=\"Låg\",1,IF(Riskhistorik!AN8=\"Medel\",2,IF(Riskhistorik!AN8=\"Hög\",3,0))),AH6)","v":0},{"$f":"IF(Riskhistorik!AO$2<>\"Datum\",IF(Riskhistorik!AO8=\"Låg\",1,IF(Riskhistorik!AO8=\"Medel\",2,IF(Riskhistorik!AO8=\"Hög\",3,0))),AI6)","v":0},{"$f":"IF(Riskhistorik!AO$2<>\"Datum\",IF(Riskhistorik!AP8=\"Låg\",1,IF(Riskhistorik!AP8=\"Medel\",2,IF(Riskhistorik!AP8=\"Hög\",3,0))),AJ6)","v":0},{"$f":"IF(Riskhistorik!AQ$2<>\"Datum\",IF(Riskhistorik!AQ8=\"Låg\",1,IF(Riskhistorik!AQ8=\"Medel\",2,IF(Riskhistorik!AQ8=\"Hög\",3,0))),AK6)","v":0},{"$f":"IF(Riskhistorik!AQ$2<>\"Datum\",IF(Riskhistorik!AR8=\"Låg\",1,IF(Riskhistorik!AR8=\"Medel\",2,IF(Riskhistorik!AR8=\"Hög\",3,0))),AL6)","v":0},0,0,0,0,0,0,0,0,0,0,0,0,0,0,0,0,0,0,0,0]
[{"$f":"IF(Riskhistorik!E9<>\"\",IF(Riskhistorik!E9=\"Låg\",1,IF(Riskhistorik!E9=\"Medel\",2,3)),0)","v":0},{"$f":"IF(Riskhistorik!F9<>\"\",IF(Riskhistorik!F9=\"Låg\",1,IF(Riskhistorik!F9=\"Medel\",2,3)),0)","v":0},{"$f":"IF(Riskhistorik!G$2<>\"Datum\",IF(Riskhistorik!G9=\"Låg\",1,IF(Riskhistorik!G9=\"Medel\",2,IF(Riskhistorik!G9=\"Hög\",3,0))),A7)","v":0},{"$f":"IF(Riskhistorik!G$2<>\"Datum\",IF(Riskhistorik!H9=\"Låg\",1,IF(Riskhistorik!H9=\"Medel\",2,IF(Riskhistorik!H9=\"Hög\",3,0))),B7)","v":0},{"$f":"IF(Riskhistorik!I$2<>\"Datum\",IF(Riskhistorik!I9=\"Låg\",1,IF(Riskhistorik!I9=\"Medel\",2,IF(Riskhistorik!I9=\"Hög\",3,0))),C7)","v":0},{"$f":"IF(Riskhistorik!I$2<>\"Datum\",IF(Riskhistorik!J9=\"Låg\",1,IF(Riskhistorik!J9=\"Medel\",2,IF(Riskhistorik!J9=\"Hög\",3,0))),D7)","v":0},{"$f":"IF(Riskhistorik!K$2<>\"Datum\",IF(Riskhistorik!K9=\"Låg\",1,IF(Riskhistorik!K9=\"Medel\",2,IF(Riskhistorik!K9=\"Hög\",3,0))),E7)","v":0},{"$f":"IF(Riskhistorik!K$2<>\"Datum\",IF(Riskhistorik!L9=\"Låg\",1,IF(Riskhistorik!L9=\"Medel\",2,IF(Riskhistorik!L9=\"Hög\",3,0))),F7)","v":0},{"$f":"IF(Riskhistorik!M$2<>\"Datum\",IF(Riskhistorik!M9=\"Låg\",1,IF(Riskhistorik!M9=\"Medel\",2,IF(Riskhistorik!M9=\"Hög\",3,0))),G7)","v":0},{"$f":"IF(Riskhistorik!M$2<>\"Datum\",IF(Riskhistorik!N9=\"Låg\",1,IF(Riskhistorik!N9=\"Medel\",2,IF(Riskhistorik!N9=\"Hög\",3,0))),H7)","v":0},{"$f":"IF(Riskhistorik!O$2<>\"Datum\",IF(Riskhistorik!O9=\"Låg\",1,IF(Riskhistorik!O9=\"Medel\",2,IF(Riskhistorik!O9=\"Hög\",3,0))),I7)","v":0},{"$f":"IF(Riskhistorik!O$2<>\"Datum\",IF(Riskhistorik!P9=\"Låg\",1,IF(Riskhistorik!P9=\"Medel\",2,IF(Riskhistorik!P9=\"Hög\",3,0))),J7)","v":0},{"$f":"IF(Riskhistorik!Q$2<>\"Datum\",IF(Riskhistorik!Q9=\"Låg\",1,IF(Riskhistorik!Q9=\"Medel\",2,IF(Riskhistorik!Q9=\"Hög\",3,0))),K7)","v":0},{"$f":"IF(Riskhistorik!Q$2<>\"Datum\",IF(Riskhistorik!R9=\"Låg\",1,IF(Riskhistorik!R9=\"Medel\",2,IF(Riskhistorik!R9=\"Hög\",3,0))),L7)","v":0},{"$f":"IF(Riskhistorik!S$2<>\"Datum\",IF(Riskhistorik!S9=\"Låg\",1,IF(Riskhistorik!S9=\"Medel\",2,IF(Riskhistorik!S9=\"Hög\",3,0))),M7)","v":0},{"$f":"IF(Riskhistorik!S$2<>\"Datum\",IF(Riskhistorik!T9=\"Låg\",1,IF(Riskhistorik!T9=\"Medel\",2,IF(Riskhistorik!T9=\"Hög\",3,0))),N7)","v":0},{"$f":"IF(Riskhistorik!U$2<>\"Datum\",IF(Riskhistorik!U9=\"Låg\",1,IF(Riskhistorik!U9=\"Medel\",2,IF(Riskhistorik!U9=\"Hög\",3,0))),O7)","v":0},{"$f":"IF(Riskhistorik!U$2<>\"Datum\",IF(Riskhistorik!V9=\"Låg\",1,IF(Riskhistorik!V9=\"Medel\",2,IF(Riskhistorik!V9=\"Hög\",3,0))),P7)","v":0},{"$f":"IF(Riskhistorik!W$2<>\"Datum\",IF(Riskhistorik!W9=\"Låg\",1,IF(Riskhistorik!W9=\"Medel\",2,IF(Riskhistorik!W9=\"Hög\",3,0))),Q7)","v":0},{"$f":"IF(Riskhistorik!W$2<>\"Datum\",IF(Riskhistorik!X9=\"Låg\",1,IF(Riskhistorik!X9=\"Medel\",2,IF(Riskhistorik!X9=\"Hög\",3,0))),R7)","v":0},{"$f":"IF(Riskhistorik!Y$2<>\"Datum\",IF(Riskhistorik!Y9=\"Låg\",1,IF(Riskhistorik!Y9=\"Medel\",2,IF(Riskhistorik!Y9=\"Hög\",3,0))),S7)","v":0},{"$f":"IF(Riskhistorik!Y$2<>\"Datum\",IF(Riskhistorik!Z9=\"Låg\",1,IF(Riskhistorik!Z9=\"Medel\",2,IF(Riskhistorik!Z9=\"Hög\",3,0))),T7)","v":0},{"$f":"IF(Riskhistorik!AA$2<>\"Datum\",IF(Riskhistorik!AA9=\"Låg\",1,IF(Riskhistorik!AA9=\"Medel\",2,IF(Riskhistorik!AA9=\"Hög\",3,0))),U7)","v":0},{"$f":"IF(Riskhistorik!AA$2<>\"Datum\",IF(Riskhistorik!AB9=\"Låg\",1,IF(Riskhistorik!AB9=\"Medel\",2,IF(Riskhistorik!AB9=\"Hög\",3,0))),V7)","v":0},{"$f":"IF(Riskhistorik!AC$2<>\"Datum\",IF(Riskhistorik!AC9=\"Låg\",1,IF(Riskhistorik!AC9=\"Medel\",2,IF(Riskhistorik!AC9=\"Hög\",3,0))),W7)","v":0},{"$f":"IF(Riskhistorik!AC$2<>\"Datum\",IF(Riskhistorik!AD9=\"Låg\",1,IF(Riskhistorik!AD9=\"Medel\",2,IF(Riskhistorik!AD9=\"Hög\",3,0))),X7)","v":0},{"$f":"IF(Riskhistorik!AE$2<>\"Datum\",IF(Riskhistorik!AE9=\"Låg\",1,IF(Riskhistorik!AE9=\"Medel\",2,IF(Riskhistorik!AE9=\"Hög\",3,0))),Y7)","v":0},{"$f":"IF(Riskhistorik!AE$2<>\"Datum\",IF(Riskhistorik!AF9=\"Låg\",1,IF(Riskhistorik!AF9=\"Medel\",2,IF(Riskhistorik!AF9=\"Hög\",3,0))),Z7)","v":0},{"$f":"IF(Riskhistorik!AG$2<>\"Datum\",IF(Riskhistorik!AG9=\"Låg\",1,IF(Riskhistorik!AG9=\"Medel\",2,IF(Riskhistorik!AG9=\"Hög\",3,0))),AA7)","v":0},{"$f":"IF(Riskhistorik!AG$2<>\"Datum\",IF(Riskhistorik!AH9=\"Låg\",1,IF(Riskhistorik!AH9=\"Medel\",2,IF(Riskhistorik!AH9=\"Hög\",3,0))),AB7)","v":0},{"$f":"IF(Riskhistorik!AI$2<>\"Datum\",IF(Riskhistorik!AI9=\"Låg\",1,IF(Riskhistorik!AI9=\"Medel\",2,IF(Riskhistorik!AI9=\"Hög\",3,0))),AC7)","v":0},{"$f":"IF(Riskhistorik!AI$2<>\"Datum\",IF(Riskhistorik!AJ9=\"Låg\",1,IF(Riskhistorik!AJ9=\"Medel\",2,IF(Riskhistorik!AJ9=\"Hög\",3,0))),AD7)","v":0},{"$f":"IF(Riskhistorik!AK$2<>\"Datum\",IF(Riskhistorik!AK9=\"Låg\",1,IF(Riskhistorik!AK9=\"Medel\",2,IF(Riskhistorik!AK9=\"Hög\",3,0))),AE7)","v":0},{"$f":"IF(Riskhistorik!AK$2<>\"Datum\",IF(Riskhistorik!AL9=\"Låg\",1,IF(Riskhistorik!AL9=\"Medel\",2,IF(Riskhistorik!AL9=\"Hög\",3,0))),AF7)","v":0},{"$f":"IF(Riskhistorik!AM$2<>\"Datum\",IF(Riskhistorik!AM9=\"Låg\",1,IF(Riskhistorik!AM9=\"Medel\",2,IF(Riskhistorik!AM9=\"Hög\",3,0))),AG7)","v":0},{"$f":"IF(Riskhistorik!AM$2<>\"Datum\",IF(Riskhistorik!AN9=\"Låg\",1,IF(Riskhistorik!AN9=\"Medel\",2,IF(Riskhistorik!AN9=\"Hög\",3,0))),AH7)","v":0},{"$f":"IF(Riskhistorik!AO$2<>\"Datum\",IF(Riskhistorik!AO9=\"Låg\",1,IF(Riskhistorik!AO9=\"Medel\",2,IF(Riskhistorik!AO9=\"Hög\",3,0))),AI7)","v":0},{"$f":"IF(Riskhistorik!AO$2<>\"Datum\",IF(Riskhistorik!AP9=\"Låg\",1,IF(Riskhistorik!AP9=\"Medel\",2,IF(Riskhistorik!AP9=\"Hög\",3,0))),AJ7)","v":0},{"$f":"IF(Riskhistorik!AQ$2<>\"Datum\",IF(Riskhistorik!AQ9=\"Låg\",1,IF(Riskhistorik!AQ9=\"Medel\",2,IF(Riskhistorik!AQ9=\"Hög\",3,0))),AK7)","v":0},{"$f":"IF(Riskhistorik!AQ$2<>\"Datum\",IF(Riskhistorik!AR9=\"Låg\",1,IF(Riskhistorik!AR9=\"Medel\",2,IF(Riskhistorik!AR9=\"Hög\",3,0))),AL7)","v":0},0,0,0,0,0,0,0,0,0,0,0,0,0,0,0,0,0,0,0,0]
[{"$f":"IF(Riskhistorik!E10<>\"\",IF(Riskhistorik!E10=\"Låg\",1,IF(Riskhistorik!E10=\"Medel\",2,3)),0)","v":0},{"$f":"IF(Riskhistorik!F10<>\"\",IF(Riskhistorik!F10=\"Låg\",1,IF(Riskhistorik!F10=\"Medel\",2,3)),0)","v":0},{"$f":"IF(Riskhistorik!G$2<>\"Datum\",IF(Riskhistorik!G10=\"Låg\",1,IF(Riskhistorik!G10=\"Medel\",2,IF(Riskhistorik!G10=\"Hög\",3,0))),A8)","v":0},{"$f":"IF(Riskhistorik!G$2<>\"Datum\",IF(Riskhistorik!H10=\"Låg\",1,IF(Riskhistorik!H10=\"Medel\",2,IF(Riskhistorik!H10=\"Hög\",3,0))),B8)","v":0},{"$f":"IF(Riskhistorik!I$2<>\"Datum\",IF(Riskhistorik!I10=\"Låg\",1,IF(Riskhistorik!I10=\"Medel\",2,IF(Riskhistorik!I10=\"Hög\",3,0))),C8)","v":0},{"$f":"IF(Riskhistorik!I$2<>\"Datum\",IF(Riskhistorik!J10=\"Låg\",1,IF(Riskhistorik!J10=\"Medel\",2,IF(Riskhistorik!J10=\"Hög\",3,0))),D8)","v":0},{"$f":"IF(Riskhistorik!K$2<>\"Datum\",IF(Riskhistorik!K10=\"Låg\",1,IF(Riskhistorik!K10=\"Medel\",2,IF(Riskhistorik!K10=\"Hög\",3,0))),E8)","v":0},{"$f":"IF(Riskhistorik!K$2<>\"Datum\",IF(Riskhistorik!L10=\"Låg\",1,IF(Riskhistorik!L10=\"Medel\",2,IF(Riskhistorik!L10=\"Hög\",3,0))),F8)","v":0},{"$f":"IF(Riskhistorik!M$2<>\"Datum\",IF(Riskhistorik!M10=\"Låg\",1,IF(Riskhistorik!M10=\"Medel\",2,IF(Riskhistorik!M10=\"Hög\",3,0))),G8)","v":0},{"$f":"IF(Riskhistorik!M$2<>\"Datum\",IF(Riskhistorik!N10=\"Låg\",1,IF(Riskhistorik!N10=\"Medel\",2,IF(Riskhistorik!N10=\"Hög\",3,0))),H8)","v":0},{"$f":"IF(Riskhistorik!O$2<>\"Datum\",IF(Riskhistorik!O10=\"Låg\",1,IF(Riskhistorik!O10=\"Medel\",2,IF(Riskhistorik!O10=\"Hög\",3,0))),I8)","v":0},{"$f":"IF(Riskhistorik!O$2<>\"Datum\",IF(Riskhistorik!P10=\"Låg\",1,IF(Riskhistorik!P10=\"Medel\",2,IF(Riskhistorik!P10=\"Hög\",3,0))),J8)","v":0},{"$f":"IF(Riskhistorik!Q$2<>\"Datum\",IF(Riskhistorik!Q10=\"Låg\",1,IF(Riskhistorik!Q10=\"Medel\",2,IF(Riskhistorik!Q10=\"Hög\",3,0))),K8)","v":0},{"$f":"IF(Riskhistorik!Q$2<>\"Datum\",IF(Riskhistorik!R10=\"Låg\",1,IF(Riskhistorik!R10=\"Medel\",2,IF(Riskhistorik!R10=\"Hög\",3,0))),L8)","v":0},{"$f":"IF(Riskhistorik!S$2<>\"Datum\",IF(Riskhistorik!S10=\"Låg\",1,IF(Riskhistorik!S10=\"Medel\",2,IF(Riskhistorik!S10=\"Hög\",3,0))),M8)","v":0},{"$f":"IF(Riskhistorik!S$2<>\"Datum\",IF(Riskhistorik!T10=\"Låg\",1,IF(Riskhistorik!T10=\"Medel\",2,IF(Riskhistorik!T10=\"Hög\",3,0))),N8)","v":0},{"$f":"IF(Riskhistorik!U$2<>\"Datum\",IF(Riskhistorik!U10=\"Låg\",1,IF(Riskhistorik!U10=\"Medel\",2,IF(Riskhistorik!U10=\"Hög\",3,0))),O8)","v":0},{"$f":"IF(Riskhistorik!U$2<>\"Datum\",IF(Riskhistorik!V10=\"Låg\",1,IF(Riskhistorik!V10=\"Medel\",2,IF(Riskhistorik!V10=\"Hög\",3,0))),P8)","v":0},{"$f":"IF(Riskhistorik!W$2<>\"Datum\",IF(Riskhistorik!W10=\"Låg\",1,IF(Riskhistorik!W10=\"Medel\",2,IF(Riskhistorik!W10=\"Hög\",3,0))),Q8)","v":0},{"$f":"IF(Riskhistorik!W$2<>\"Datum\",IF(Riskhistorik!X10=\"Låg\",1,IF(Riskhistorik!X10=\"Medel\",2,IF(Riskhistorik!X10=\"Hög\",3,0))),R8)","v":0},{"$f":"IF(Riskhistorik!Y$2<>\"Datum\",IF(Riskhistorik!Y10=\"Låg\",1,IF(Riskhistorik!Y10=\"Medel\",2,IF(Riskhistorik!Y10=\"Hög\",3,0))),S8)","v":0},{"$f":"IF(Riskhistorik!Y$2<>\"Datum\",IF(Riskhistorik!Z10=\"Låg\",1,IF(Riskhistorik!Z10=\"Medel\",2,IF(Riskhistorik!Z10=\"Hög\",3,0))),T8)","v":0},{"$f":"IF(Riskhistorik!AA$2<>\"Datum\",IF(Riskhistorik!AA10=\"Låg\",1,IF(Riskhistorik!AA10=\"Medel\",2,IF(Riskhistorik!AA10=\"Hög\",3,0))),U8)","v":0},{"$f":"IF(Riskhistorik!AA$2<>\"Datum\",IF(Riskhistorik!AB10=\"Låg\",1,IF(Riskhistorik!AB10=\"Medel\",2,IF(Riskhistorik!AB10=\"Hög\",3,0))),V8)","v":0},{"$f":"IF(Riskhistorik!AC$2<>\"Datum\",IF(Riskhistorik!AC10=\"Låg\",1,IF(Riskhistorik!AC10=\"Medel\",2,IF(Riskhistorik!AC10=\"Hög\",3,0))),W8)","v":0},{"$f":"IF(Riskhistorik!AC$2<>\"Datum\",IF(Riskhistorik!AD10=\"Låg\",1,IF(Riskhistorik!AD10=\"Medel\",2,IF(Riskhistorik!AD10=\"Hög\",3,0))),X8)","v":0},{"$f":"IF(Riskhistorik!AE$2<>\"Datum\",IF(Riskhistorik!AE10=\"Låg\",1,IF(Riskhistorik!AE10=\"Medel\",2,IF(Riskhistorik!AE10=\"Hög\",3,0))),Y8)","v":0},{"$f":"IF(Riskhistorik!AE$2<>\"Datum\",IF(Riskhistorik!AF10=\"Låg\",1,IF(Riskhistorik!AF10=\"Medel\",2,IF(Riskhistorik!AF10=\"Hög\",3,0))),Z8)","v":0},{"$f":"IF(Riskhistorik!AG$2<>\"Datum\",IF(Riskhistorik!AG10=\"Låg\",1,IF(Riskhistorik!AG10=\"Medel\",2,IF(Riskhistorik!AG10=\"Hög\",3,0))),AA8)","v":0},{"$f":"IF(Riskhistorik!AG$2<>\"Datum\",IF(Riskhistorik!AH10=\"Låg\",1,IF(Riskhistorik!AH10=\"Medel\",2,IF(Riskhistorik!AH10=\"Hög\",3,0))),AB8)","v":0},{"$f":"IF(Riskhistorik!AI$2<>\"Datum\",IF(Riskhistorik!AI10=\"Låg\",1,IF(Riskhistorik!AI10=\"Medel\",2,IF(Riskhistorik!AI10=\"Hög\",3,0))),AC8)","v":0},{"$f":"IF(Riskhistorik!AI$2<>\"Datum\",IF(Riskhistorik!AJ10=\"Låg\",1,IF(Riskhistorik!AJ10=\"Medel\",2,IF(Riskhistorik!AJ10=\"Hög\",3,0))),AD8)","v":0},{"$f":"IF(Riskhistorik!AK$2<>\"Datum\",IF(Riskhistorik!AK10=\"Låg\",1,IF(Riskhistorik!AK10=\"Medel\",2,IF(Riskhistorik!AK10=\"Hög\",3,0))),AE8)","v":0},{"$f":"IF(Riskhistorik!AK$2<>\"Datum\",IF(Riskhistorik!AL10=\"Låg\",1,IF(Riskhistorik!AL10=\"Medel\",2,IF(Riskhistorik!AL10=\"Hög\",3,0))),AF8)","v":0},{"$f":"IF(Riskhistorik!AM$2<>\"Datum\",IF(Riskhistorik!AM10=\"Låg\",1,IF(Riskhistorik!AM10=\"Medel\",2,IF(Riskhistorik!AM10=\"Hög\",3,0))),AG8)","v":0},{"$f":"IF(Riskhistorik!AM$2<>\"Datum\",IF(Riskhistorik!AN10=\"Låg\",1,IF(Riskhistorik!AN10=\"Medel\",2,IF(Riskhistorik!AN10=\"Hög\",3,0))),AH8)","v":0},{"$f":"IF(Riskhistorik!AO$2<>\"Datum\",IF(Riskhistorik!AO10=\"Låg\",1,IF(Riskhistorik!AO10=\"Medel\",2,IF(Riskhistorik!AO10=\"Hög\",3,0))),AI8)","v":0},{"$f":"IF(Riskhistorik!AO$2<>\"Datum\",IF(Riskhistorik!AP10=\"Låg\",1,IF(Riskhistorik!AP10=\"Medel\",2,IF(Riskhistorik!AP10=\"Hög\",3,0))),AJ8)","v":0},{"$f":"IF(Riskhistorik!AQ$2<>\"Datum\",IF(Riskhistorik!AQ10=\"Låg\",1,IF(Riskhistorik!AQ10=\"Medel\",2,IF(Riskhistorik!AQ10=\"Hög\",3,0))),AK8)","v":0},{"$f":"IF(Riskhistorik!AQ$2<>\"Datum\",IF(Riskhistorik!AR10=\"Låg\",1,IF(Riskhistorik!AR10=\"Medel\",2,IF(Riskhistorik!AR10=\"Hög\",3,0))),AL8)","v":0},0,0,0,0,0,0,0,0,0,0,0,0,0,0,0,0,0,0,0,0]
[{"$f":"IF(Riskhistorik!E11<>\"\",IF(Riskhistorik!E11=\"Låg\",1,IF(Riskhistorik!E11=\"Medel\",2,3)),0)","v":0},{"$f":"IF(Riskhistorik!F11<>\"\",IF(Riskhistorik!F11=\"Låg\",1,IF(Riskhistorik!F11=\"Medel\",2,3)),0)","v":0},{"$f":"IF(Riskhistorik!G$2<>\"Datum\",IF(Riskhistorik!G11=\"Låg\",1,IF(Riskhistorik!G11=\"Medel\",2,IF(Riskhistorik!G11=\"Hög\",3,0))),A9)","v":0},{"$f":"IF(Riskhistorik!G$2<>\"Datum\",IF(Riskhistorik!H11=\"Låg\",1,IF(Riskhistorik!H11=\"Medel\",2,IF(Riskhistorik!H11=\"Hög\",3,0))),B9)","v":0},{"$f":"IF(Riskhistorik!I$2<>\"Datum\",IF(Riskhistorik!I11=\"Låg\",1,IF(Riskhistorik!I11=\"Medel\",2,IF(Riskhistorik!I11=\"Hög\",3,0))),C9)","v":0},{"$f":"IF(Riskhistorik!I$2<>\"Datum\",IF(Riskhistorik!J11=\"Låg\",1,IF(Riskhistorik!J11=\"Medel\",2,IF(Riskhistorik!J11=\"Hög\",3,0))),D9)","v":0},{"$f":"IF(Riskhistorik!K$2<>\"Datum\",IF(Riskhistorik!K11=\"Låg\",1,IF(Riskhistorik!K11=\"Medel\",2,IF(Riskhistorik!K11=\"Hög\",3,0))),E9)","v":0},{"$f":"IF(Riskhistorik!K$2<>\"Datum\",IF(Riskhistorik!L11=\"Låg\",1,IF(Riskhistorik!L11=\"Medel\",2,IF(Riskhistorik!L11=\"Hög\",3,0))),F9)","v":0},{"$f":"IF(Riskhistorik!M$2<>\"Datum\",IF(Riskhistorik!M11=\"Låg\",1,IF(Riskhistorik!M11=\"Medel\",2,IF(Riskhistorik!M11=\"Hög\",3,0))),G9)","v":0},{"$f":"IF(Riskhistorik!M$2<>\"Datum\",IF(Riskhistorik!N11=\"Låg\",1,IF(Riskhistorik!N11=\"Medel\",2,IF(Riskhistorik!N11=\"Hög\",3,0))),H9)","v":0},{"$f":"IF(Riskhistorik!O$2<>\"Datum\",IF(Riskhistorik!O11=\"Låg\",1,IF(Riskhistorik!O11=\"Medel\",2,IF(Riskhistorik!O11=\"Hög\",3,0))),I9)","v":0},{"$f":"IF(Riskhistorik!O$2<>\"Datum\",IF(Riskhistorik!P11=\"Låg\",1,IF(Riskhistorik!P11=\"Medel\",2,IF(Riskhistorik!P11=\"Hög\",3,0))),J9)","v":0},{"$f":"IF(Riskhistorik!Q$2<>\"Datum\",IF(Riskhistorik!Q11=\"Låg\",1,IF(Riskhistorik!Q11=\"Medel\",2,IF(Riskhistorik!Q11=\"Hög\",3,0))),K9)","v":0},{"$f":"IF(Riskhistorik!Q$2<>\"Datum\",IF(Riskhistorik!R11=\"Låg\",1,IF(Riskhistorik!R11=\"Medel\",2,IF(Riskhistorik!R11=\"Hög\",3,0))),L9)","v":0},{"$f":"IF(Riskhistorik!S$2<>\"Datum\",IF(Riskhistorik!S11=\"Låg\",1,IF(Riskhistorik!S11=\"Medel\",2,IF(Riskhistorik!S11=\"Hög\",3,0))),M9)","v":0},{"$f":"IF(Riskhistorik!S$2<>\"Datum\",IF(Riskhistorik!T11=\"Låg\",1,IF(Riskhistorik!T11=\"Medel\",2,IF(Riskhistorik!T11=\"Hög\",3,0))),N9)","v":0},{"$f":"IF(Riskhistorik!U$2<>\"Datum\",IF(Riskhistorik!U11=\"Låg\",1,IF(Riskhistorik!U11=\"Medel\",2,IF(Riskhistorik!U11=\"Hög\",3,0))),O9)","v":0},{"$f":"IF(Riskhistorik!U$2<>\"Datum\",IF(Riskhistorik!V11=\"Låg\",1,IF(Riskhistorik!V11=\"Medel\",2,IF(Riskhistorik!V11=\"Hög\",3,0))),P9)","v":0},{"$f":"IF(Riskhistorik!W$2<>\"Datum\",IF(Riskhistorik!W11=\"Låg\",1,IF(Riskhistorik!W11=\"Medel\",2,IF(Riskhistorik!W11=\"Hög\",3,0))),Q9)","v":0},{"$f":"IF(Riskhistorik!W$2<>\"Datum\",IF(Riskhistorik!X11=\"Låg\",1,IF(Riskhistorik!X11=\"Medel\",2,IF(Riskhistorik!X11=\"Hög\",3,0))),R9)","v":0},{"$f":"IF(Riskhistorik!Y$2<>\"Datum\",IF(Riskhistorik!Y11=\"Låg\",1,IF(Riskhistorik!Y11=\"Medel\",2,IF(Riskhistorik!Y11=\"Hög\",3,0))),S9)","v":0},{"$f":"IF(Riskhistorik!Y$2<>\"Datum\",IF(Riskhistorik!Z11=\"Låg\",1,IF(Riskhistorik!Z11=\"Medel\",2,IF(Riskhistorik!Z11=\"Hög\",3,0))),T9)","v":0},{"$f":"IF(Riskhistorik!AA$2<>\"Datum\",IF(Riskhistorik!AA11=\"Låg\",1,IF(Riskhistorik!AA11=\"Medel\",2,IF(Riskhistorik!AA11=\"Hög\",3,0))),U9)","v":0},{"$f":"IF(Riskhistorik!AA$2<>\"Datum\",IF(Riskhistorik!AB11=\"Låg\",1,IF(Riskhistorik!AB11=\"Medel\",2,IF(Riskhistorik!AB11=\"Hög\",3,0))),V9)","v":0},{"$f":"IF(Riskhistorik!AC$2<>\"Datum\",IF(Riskhistorik!AC11=\"Låg\",1,IF(Riskhistorik!AC11=\"Medel\",2,IF(Riskhistorik!AC11=\"Hög\",3,0))),W9)","v":0},{"$f":"IF(Riskhistorik!AC$2<>\"Datum\",IF(Riskhistorik!AD11=\"Låg\",1,IF(Riskhistorik!AD11=\"Medel\",2,IF(Riskhistorik!AD11=\"Hög\",3,0))),X9)","v":0},{"$f":"IF(Riskhistorik!AE$2<>\"Datum\",IF(Riskhistorik!AE11=\"Låg\",1,IF(Riskhistorik!AE11=\"Medel\",2,IF(Riskhistorik!AE11=\"Hög\",3,0))),Y9)","v":0},{"$f":"IF(Riskhistorik!AE$2<>\"Datum\",IF(Riskhistorik!AF11=\"Låg\",1,IF(Riskhistorik!AF11=\"Medel\",2,IF(Riskhistorik!AF11=\"Hög\",3,0))),Z9)","v":0},{"$f":"IF(Riskhistorik!AG$2<>\"Datum\",IF(Riskhistorik!AG11=\"Låg\",1,IF(Riskhistorik!AG11=\"Medel\",2,IF(Riskhistorik!AG11=\"Hög\",3,0))),AA9)","v":0},{"$f":"IF(Riskhistorik!AG$2<>\"Datum\",IF(Riskhistorik!AH11=\"Låg\",1,IF(Riskhistorik!AH11=\"Medel\",2,IF(Riskhistorik!AH11=\"Hög\",3,0))),AB9)","v":0},{"$f":"IF(Riskhistorik!AI$2<>\"Datum\",IF(Riskhistorik!AI11=\"Låg\",1,IF(Riskhistorik!AI11=\"Medel\",2,IF(Riskhistorik!AI11=\"Hög\",3,0))),AC9)","v":0},{"$f":"IF(Riskhistorik!AI$2<>\"Datum\",IF(Riskhistorik!AJ11=\"Låg\",1,IF(Riskhistorik!AJ11=\"Medel\",2,IF(Riskhistorik!AJ11=\"Hög\",3,0))),AD9)","v":0},{"$f":"IF(Riskhistorik!AK$2<>\"Datum\",IF(Riskhistorik!AK11=\"Låg\",1,IF(Riskhistorik!AK11=\"Medel\",2,IF(Riskhistorik!AK11=\"Hög\",3,0))),AE9)","v":0},{"$f":"IF(Riskhistorik!AK$2<>\"Datum\",IF(Riskhistorik!AL11=\"Låg\",1,IF(Riskhistorik!AL11=\"Medel\",2,IF(Riskhistorik!AL11=\"Hög\",3,0))),AF9)","v":0},{"$f":"IF(Riskhistorik!AM$2<>\"Datum\",IF(Riskhistorik!AM11=\"Låg\",1,IF(Riskhistorik!AM11=\"Medel\",2,IF(Riskhistorik!AM11=\"Hög\",3,0))),AG9)","v":0},{"$f":"IF(Riskhistorik!AM$2<>\"Datum\",IF(Riskhistorik!AN11=\"Låg\",1,IF(Riskhistorik!AN11=\"Medel\",2,IF(Riskhistorik!AN11=\"Hög\",3,0))),AH9)","v":0},{"$f":"IF(Riskhistorik!AO$2<>\"Datum\",IF(Riskhistorik!AO11=\"Låg\",1,IF(Riskhistorik!AO11=\"Medel\",2,IF(Riskhistorik!AO11=\"Hög\",3,0))),AI9)","v":0},{"$f":"IF(Riskhistorik!AO$2<>\"Datum\",IF(Riskhistorik!AP11=\"Låg\",1,IF(Riskhistorik!AP11=\"Medel\",2,IF(Riskhistorik!AP11=\"Hög\",3,0))),AJ9)","v":0},{"$f":"IF(Riskhistorik!AQ$2<>\"Datum\",IF(Riskhistorik!AQ11=\"Låg\",1,IF(Riskhistorik!AQ11=\"Medel\",2,IF(Riskhistorik!AQ11=\"Hög\",3,0))),AK9)","v":0},{"$f":"IF(Riskhistorik!AQ$2<>\"Datum\",IF(Riskhistorik!AR11=\"Låg\",1,IF(Riskhistorik!AR11=\"Medel\",2,IF(Riskhistorik!AR11=\"Hög\",3,0))),AL9)","v":0},0,0,0,0,0,0,0,0,0,0,0,0,0,0,0,0,0,0,0,0]
[{"$f":"IF(Riskhistorik!E12<>\"\",IF(Riskhistorik!E12=\"Låg\",1,IF(Riskhistorik!E12=\"Medel\",2,3)),0)","v":0},{"$f":"IF(Riskhistorik!F12<>\"\",IF(Riskhistorik!F12=\"Låg\",1,IF(Riskhistorik!F12=\"Medel\",2,3)),0)","v":0},{"$f":"IF(Riskhistorik!G$2<>\"Datum\",IF(Riskhistorik!G12=\"Låg\",1,IF(Riskhistorik!G12=\"Medel\",2,IF(Riskhistorik!G12=\"Hög\",3,0))),A10)","v":0},{"$f":"IF(Riskhistorik!G$2<>\"Datum\",IF(Riskhistorik!H12=\"Låg\",1,IF(Riskhistorik!H12=\"Medel\",2,IF(Riskhistorik!H12=\"Hög\",3,0))),B10)","v":0},{"$f":"IF(Riskhistorik!I$2<>\"Datum\",IF(Riskhistorik!I12=\"Låg\",1,IF(Riskhistorik!I12=\"Medel\",2,IF(Riskhistorik!I12=\"Hög\",3,0))),C10)","v":0},{"$f":"IF(Riskhistorik!I$2<>\"Datum\",IF(Riskhistorik!J12=\"Låg\",1,IF(Riskhistorik!J12=\"Medel\",2,IF(Riskhistorik!J12=\"Hög\",3,0))),D10)","v":0},{"$f":"IF(Riskhistorik!K$2<>\"Datum\",IF(Riskhistorik!K12=\"Låg\",1,IF(Riskhistorik!K12=\"Medel\",2,IF(Riskhistorik!K12=\"Hög\",3,0))),E10)","v":0},{"$f":"IF(Riskhistorik!K$2<>\"Datum\",IF(Riskhistorik!L12=\"Låg\",1,IF(Riskhistorik!L12=\"Medel\",2,IF(Riskhistorik!L12=\"Hög\",3,0))),F10)","v":0},{"$f":"IF(Riskhistorik!M$2<>\"Datum\",IF(Riskhistorik!M12=\"Låg\",1,IF(Riskhistorik!M12=\"Medel\",2,IF(Riskhistorik!M12=\"Hög\",3,0))),G10)","v":0},{"$f":"IF(Riskhistorik!M$2<>\"Datum\",IF(Riskhistorik!N12=\"Låg\",1,IF(Riskhistorik!N12=\"Medel\",2,IF(Riskhistorik!N12=\"Hög\",3,0))),H10)","v":0},{"$f":"IF(Riskhistorik!O$2<>\"Datum\",IF(Riskhistorik!O12=\"Låg\",1,IF(Riskhistorik!O12=\"Medel\",2,IF(Riskhistorik!O12=\"Hög\",3,0))),I10)","v":0},{"$f":"IF(Riskhistorik!O$2<>\"Datum\",IF(Riskhistorik!P12=\"Låg\",1,IF(Riskhistorik!P12=\"Medel\",2,IF(Riskhistorik!P12=\"Hög\",3,0))),J10)","v":0},{"$f":"IF(Riskhistorik!Q$2<>\"Datum\",IF(Riskhistorik!Q12=\"Låg\",1,IF(Riskhistorik!Q12=\"Medel\",2,IF(Riskhistorik!Q12=\"Hög\",3,0))),K10)","v":0},{"$f":"IF(Riskhistorik!Q$2<>\"Datum\",IF(Riskhistorik!R12=\"Låg\",1,IF(Riskhistorik!R12=\"Medel\",2,IF(Riskhistorik!R12=\"Hög\",3,0))),L10)","v":0},{"$f":"IF(Riskhistorik!S$2<>\"Datum\",IF(Riskhistorik!S12=\"Låg\",1,IF(Riskhistorik!S12=\"Medel\",2,IF(Riskhistorik!S12=\"Hög\",3,0))),M10)","v":0},{"$f":"IF(Riskhistorik!S$2<>\"Datum\",IF(Riskhistorik!T12=\"Låg\",1,IF(Riskhistorik!T12=\"Medel\",2,IF(Riskhistorik!T12=\"Hög\",3,0))),N10)","v":0},{"$f":"IF(Riskhistorik!U$2<>\"Datum\",IF(Riskhistorik!U12=\"Låg\",1,IF(Riskhistorik!U12=\"Medel\",2,IF(Riskhistorik!U12=\"Hög\",3,0))),O10)","v":0},{"$f":"IF(Riskhistorik!U$2<>\"Datum\",IF(Riskhistorik!V12=\"Låg\",1,IF(Riskhistorik!V12=\"Medel\",2,IF(Riskhistorik!V12=\"Hög\",3,0))),P10)","v":0},{"$f":"IF(Riskhistorik!W$2<>\"Datum\",IF(Riskhistorik!W12=\"Låg\",1,IF(Riskhistorik!W12=\"Medel\",2,IF(Riskhistorik!W12=\"Hög\",3,0))),Q10)","v":0},{"$f":"IF(Riskhistorik!W$2<>\"Datum\",IF(Riskhistorik!X12=\"Låg\",1,IF(Riskhistorik!X12=\"Medel\",2,IF(Riskhistorik!X12=\"Hög\",3,0))),R10)","v":0},{"$f":"IF(Riskhistorik!Y$2<>\"Datum\",IF(Riskhistorik!Y12=\"Låg\",1,IF(Riskhistorik!Y12=\"Medel\",2,IF(Riskhistorik!Y12=\"Hög\",3,0))),S10)","v":0},{"$f":"IF(Riskhistorik!Y$2<>\"Datum\",IF(Riskhistorik!Z12=\"Låg\",1,IF(Riskhistorik!Z12=\"Medel\",2,IF(Riskhistorik!Z12=\"Hög\",3,0))),T10)","v":0},{"$f":"IF(Riskhistorik!AA$2<>\"Datum\",IF(Riskhistorik!AA12=\"Låg\",1,IF(Riskhistorik!AA12=\"Medel\",2,IF(Riskhistorik!AA12=\"Hög\",3,0))),U10)","v":0},{"$f":"IF(Riskhistorik!AA$2<>\"Datum\",IF(Riskhistorik!AB12=\"Låg\",1,IF(Riskhistorik!AB12=\"Medel\",2,IF(Riskhistorik!AB12=\"Hög\",3,0))),V10)","v":0},{"$f":"IF(Riskhistorik!AC$2<>\"Datum\",IF(Riskhistorik!AC12=\"Låg\",1,IF(Riskhistorik!AC12=\"Medel\",2,IF(Riskhistorik!AC12=\"Hög\",3,0))),W10)","v":0},{"$f":"IF(Riskhistorik!AC$2<>\"Datum\",IF(Riskhistorik!AD12=\"Låg\",1,IF(Riskhistorik!AD12=\"Medel\",2,IF(Riskhistorik!AD12=\"Hög\",3,0))),X10)","v":0},{"$f":"IF(Riskhistorik!AE$2<>\"Datum\",IF(Riskhistorik!AE12=\"Låg\",1,IF(Riskhistorik!AE12=\"Medel\",2,IF(Riskhistorik!AE12=\"Hög\",3,0))),Y10)","v":0},{"$f":"IF(Riskhistorik!AE$2<>\"Datum\",IF(Riskhistorik!AF12=\"Låg\",1,IF(Riskhistorik!AF12=\"Medel\",2,IF(Riskhistorik!AF12=\"Hög\",3,0))),Z10)","v":0},{"$f":"IF(Riskhistorik!AG$2<>\"Datum\",IF(Riskhistorik!AG12=\"Låg\",1,IF(Riskhistorik!AG12=\"Medel\",2,IF(Riskhistorik!AG12=\"Hög\",3,0))),AA10)","v":0},{"$f":"IF(Riskhistorik!AG$2<>\"Datum\",IF(Riskhistorik!AH12=\"Låg\",1,IF(Riskhistorik!AH12=\"Medel\",2,IF(Riskhistorik!AH12=\"Hög\",3,0))),AB10)","v":0},{"$f":"IF(Riskhistorik!AI$2<>\"Datum\",IF(Riskhistorik!AI12=\"Låg\",1,IF(Riskhistorik!AI12=\"Medel\",2,IF(Riskhistorik!AI12=\"Hög\",3,0))),AC10)","v":0},{"$f":"IF(Riskhistorik!AI$2<>\"Datum\",IF(Riskhistorik!AJ12=\"Låg\",1,IF(Riskhistorik!AJ12=\"Medel\",2,IF(Riskhistorik!AJ12=\"Hög\",3,0))),AD10)","v":0},{"$f":"IF(Riskhistorik!AK$2<>\"Datum\",IF(Riskhistorik!AK12=\"Låg\",1,IF(Riskhistorik!AK12=\"Medel\",2,IF(Riskhistorik!AK12=\"Hög\",3,0))),AE10)","v":0},{"$f":"IF(Riskhistorik!AK$2<>\"Datum\",IF(Riskhistorik!AL12=\"Låg\",1,IF(Riskhistorik!AL12=\"Medel\",2,IF(Riskhistorik!AL12=\"Hög\",3,0))),AF10)","v":0},{"$f":"IF(Riskhistorik!AM$2<>\"Datum\",IF(Riskhistorik!AM12=\"Låg\",1,IF(Riskhistorik!AM12=\"Medel\",2,IF(Riskhistorik!AM12=\"Hög\",3,0))),AG10)","v":0},{"$f":"IF(Riskhistorik!AM$2<>\"Datum\",IF(Riskhistorik!AN12=\"Låg\",1,IF(Riskhistorik!AN12=\"Medel\",2,IF(Riskhistorik!AN12=\"Hög\",3,0))),AH10)","v":0},{"$f":"IF(Riskhistorik!AO$2<>\"Datum\",IF(Riskhistorik!AO12=\"Låg\",1,IF(Riskhistorik!AO12=\"Medel\",2,IF(Riskhistorik!AO12=\"Hög\",3,0))),AI10)","v":0},{"$f":"IF(Riskhistorik!AO$2<>\"Datum\",IF(Riskhistorik!AP12=\"Låg\",1,IF(Riskhistorik!AP12=\"Medel\",2,IF(Riskhistorik!AP12=\"Hög\",3,0))),AJ10)","v":0},{"$f":"IF(Riskhistorik!AQ$2<>\"Datum\",IF(Riskhistorik!AQ12=\"Låg\",1,IF(Riskhistorik!AQ12=\"Medel\",2,IF(Riskhistorik!AQ12=\"Hög\",3,0))),AK10)","v":0},{"$f":"IF(Riskhistorik!AQ$2<>\"Datum\",IF(Riskhistorik!AR12=\"Låg\",1,IF(Riskhistorik!AR12=\"Medel\",2,IF(Riskhistorik!AR12=\"Hög\",3,0))),AL10)","v":0},0,0,0,0,0,0,0,0,0,0,0,0,0,0,0,0,0,0,0,0]
[{"$f":"IF(Riskhistorik!E13<>\"\",IF(Riskhistorik!E13=\"Låg\",1,IF(Riskhistorik!E13=\"Medel\",2,3)),0)","v":0},{"$f":"IF(Riskhistorik!F13<>\"\",IF(Riskhistorik!F13=\"Låg\",1,IF(Riskhistorik!F13=\"Medel\",2,3)),0)","v":0},{"$f":"IF(Riskhistorik!G$2<>\"Datum\",IF(Riskhistorik!G13=\"Låg\",1,IF(Riskhistorik!G13=\"Medel\",2,IF(Riskhistorik!G13=\"Hög\",3,0))),A11)","v":0},{"$f":"IF(Riskhistorik!G$2<>\"Datum\",IF(Riskhistorik!H13=\"Låg\",1,IF(Riskhistorik!H13=\"Medel\",2,IF(Riskhistorik!H13=\"Hög\",3,0))),B11)","v":0},{"$f":"IF(Riskhistorik!I$2<>\"Datum\",IF(Riskhistorik!I13=\"Låg\",1,IF(Riskhistorik!I13=\"Medel\",2,IF(Riskhistorik!I13=\"Hög\",3,0))),C11)","v":0},{"$f":"IF(Riskhistorik!I$2<>\"Datum\",IF(Riskhistorik!J13=\"Låg\",1,IF(Riskhistorik!J13=\"Medel\",2,IF(Riskhistorik!J13=\"Hög\",3,0))),D11)","v":0},{"$f":"IF(Riskhistorik!K$2<>\"Datum\",IF(Riskhistorik!K13=\"Låg\",1,IF(Riskhistorik!K13=\"Medel\",2,IF(Riskhistorik!K13=\"Hög\",3,0))),E11)","v":0},{"$f":"IF(Riskhistorik!K$2<>\"Datum\",IF(Riskhistorik!L13=\"Låg\",1,IF(Riskhistorik!L13=\"Medel\",2,IF(Riskhistorik!L13=\"Hög\",3,0))),F11)","v":0},{"$f":"IF(Riskhistorik!M$2<>\"Datum\",IF(Riskhistorik!M13=\"Låg\",1,IF(Riskhistorik!M13=\"Medel\",2,IF(Riskhistorik!M13=\"Hög\",3,0))),G11)","v":0},{"$f":"IF(Riskhistorik!M$2<>\"Datum\",IF(Riskhistorik!N13=\"Låg\",1,IF(Riskhistorik!N13=\"Medel\",2,IF(Riskhistorik!N13=\"Hög\",3,0))),H11)","v":0},{"$f":"IF(Riskhistorik!O$2<>\"Datum\",IF(Riskhistorik!O13=\"Låg\",1,IF(Riskhistorik!O13=\"Medel\",2,IF(Riskhistorik!O13=\"Hög\",3,0))),I11)","v":0},{"$f":"IF(Riskhistorik!O$2<>\"Datum\",IF(Riskhistorik!P13=\"Låg\",1,IF(Riskhistorik!P13=\"Medel\",2,IF(Riskhistorik!P13=\"Hög\",3,0))),J11)","v":0},{"$f":"IF(Riskhistorik!Q$2<>\"Datum\",IF(Riskhistorik!Q13=\"Låg\",1,IF(Riskhistorik!Q13=\"Medel\",2,IF(Riskhistorik!Q13=\"Hög\",3,0))),K11)","v":0},{"$f":"IF(Riskhistorik!Q$2<>\"Datum\",IF(Riskhistorik!R13=\"Låg\",1,IF(Riskhistorik!R13=\"Medel\",2,IF(Riskhistorik!R13=\"Hög\",3,0))),L11)","v":0},{"$f":"IF(Riskhistorik!S$2<>\"Datum\",IF(Riskhistorik!S13=\"Låg\",1,IF(Riskhistorik!S13=\"Medel\",2,IF(Riskhistorik!S13=\"Hög\",3,0))),M11)","v":0},{"$f":"IF(Riskhistorik!S$2<>\"Datum\",IF(Riskhistorik!T13=\"Låg\",1,IF(Riskhistorik!T13=\"Medel\",2,IF(Riskhistorik!T13=\"Hög\",3,0))),N11)","v":0},{"$f":"IF(Riskhistorik!U$2<>\"Datum\",IF(Riskhistorik!U13=\"Låg\",1,IF(Riskhistorik!U13=\"Medel\",2,IF(Riskhistorik!U13=\"Hög\",3,0))),O11)","v":0},{"$f":"IF(Riskhistorik!U$2<>\"Datum\",IF(Riskhistorik!V13=\"Låg\",1,IF(Riskhistorik!V13=\"Medel\",2,IF(Riskhistorik!V13=\"Hög\",3,0))),P11)","v":0},{"$f":"IF(Riskhistorik!W$2<>\"Datum\",IF(Riskhistorik!W13=\"Låg\",1,IF(Riskhistorik!W13=\"Medel\",2,IF(Riskhistorik!W13=\"Hög\",3,0))),Q11)","v":0},{"$f":"IF(Riskhistorik!W$2<>\"Datum\",IF(Riskhistorik!X13=\"Låg\",1,IF(Riskhistorik!X13=\"Medel\",2,IF(Riskhistorik!X13=\"Hög\",3,0))),R11)","v":0},{"$f":"IF(Riskhistorik!Y$2<>\"Datum\",IF(Riskhistorik!Y13=\"Låg\",1,IF(Riskhistorik!Y13=\"Medel\",2,IF(Riskhistorik!Y13=\"Hög\",3,0))),S11)","v":0},{"$f":"IF(Riskhistorik!Y$2<>\"Datum\",IF(Riskhistorik!Z13=\"Låg\",1,IF(Riskhistorik!Z13=\"Medel\",2,IF(Riskhistorik!Z13=\"Hög\",3,0))),T11)","v":0},{"$f":"IF(Riskhistorik!AA$2<>\"Datum\",IF(Riskhistorik!AA13=\"Låg\",1,IF(Riskhistorik!AA13=\"Medel\",2,IF(Riskhistorik!AA13=\"Hög\",3,0))),U11)","v":0},{"$f":"IF(Riskhistorik!AA$2<>\"Datum\",IF(Riskhistorik!AB13=\"Låg\",1,IF(Riskhistorik!AB13=\"Medel\",2,IF(Riskhistorik!AB13=\"Hög\",3,0))),V11)","v":0},{"$f":"IF(Riskhistorik!AC$2<>\"Datum\",IF(Riskhistorik!AC13=\"Låg\",1,IF(Riskhistorik!AC13=\"Medel\",2,IF(Riskhistorik!AC13=\"Hög\",3,0))),W11)","v":0},{"$f":"IF(Riskhistorik!AC$2<>\"Datum\",IF(Riskhistorik!AD13=\"Låg\",1,IF(Riskhistorik!AD13=\"Medel\",2,IF(Riskhistorik!AD13=\"Hög\",3,0))),X11)","v":0},{"$f":"IF(Riskhistorik!AE$2<>\"Datum\",IF(Riskhistorik!AE13=\"Låg\",1,IF(Riskhistorik!AE13=\"Medel\",2,IF(Riskhistorik!AE13=\"Hög\",3,0))),Y11)","v":0},{"$f":"IF(Riskhistorik!AE$2<>\"Datum\",IF(Riskhistorik!AF13=\"Låg\",1,IF(Riskhistorik!AF13=\"Medel\",2,IF(Riskhistorik!AF13=\"Hög\",3,0))),Z11)","v":0},{"$f":"IF(Riskhistorik!AG$2<>\"Datum\",IF(Riskhistorik!AG13=\"Låg\",1,IF(Riskhistorik!AG13=\"Medel\",2,IF(Riskhistorik!AG13=\"Hög\",3,0))),AA11)","v":0},{"$f":"IF(Riskhistorik!AG$2<>\"Datum\",IF(Riskhistorik!AH13=\"Låg\",1,IF(Riskhistorik!AH13=\"Medel\",2,IF(Riskhistorik!AH13=\"Hög\",3,0))),AB11)","v":0},{"$f":"IF(Riskhistorik!AI$2<>\"Datum\",IF(Riskhistorik!AI13=\"Låg\",1,IF(Riskhistorik!AI13=\"Medel\",2,IF(Riskhistorik!AI13=\"Hög\",3,0))),AC11)","v":0},{"$f":"IF(Riskhistorik!AI$2<>\"Datum\",IF(Riskhistorik!AJ13=\"Låg\",1,IF(Riskhistorik!AJ13=\"Medel\",2,IF(Riskhistorik!AJ13=\"Hög\",3,0))),AD11)","v":0},{"$f":"IF(Riskhistorik!AK$2<>\"Datum\",IF(Riskhistorik!AK13=\"Låg\",1,IF(Riskhistorik!AK13=\"Medel\",2,IF(Riskhistorik!AK13=\"Hög\",3,0))),AE11)","v":0},{"$f":"IF(Riskhistorik!AK$2<>\"Datum\",IF(Riskhistorik!AL13=\"Låg\",1,IF(Riskhistorik!AL13=\"Medel\",2,IF(Riskhistorik!AL13=\"Hög\",3,0))),AF11)","v":0},{"$f":"IF(Riskhistorik!AM$2<>\"Datum\",IF(Riskhistorik!AM13=\"Låg\",1,IF(Riskhistorik!AM13=\"Medel\",2,IF(Riskhistorik!AM13=\"Hög\",3,0))),AG11)","v":0},{"$f":"IF(Riskhistorik!AM$2<>\"Datum\",IF(Riskhistorik!AN13=\"Låg\",1,IF(Riskhistorik!AN13=\"Medel\",2,IF(Riskhistorik!AN13=\"Hög\",3,0))),AH11)","v":0},{"$f":"IF(Riskhistorik!AO$2<>\"Datum\",IF(Riskhistorik!AO13=\"Låg\",1,IF(Riskhistorik!AO13=\"Medel\",2,IF(Riskhistorik!AO13=\"Hög\",3,0))),AI11)","v":0},{"$f":"IF(Riskhistorik!AO$2<>\"Datum\",IF(Riskhistorik!AP13=\"Låg\",1,IF(Riskhistorik!AP13=\"Medel\",2,IF(Riskhistorik!AP13=\"Hög\",3,0))),AJ11)","v":0},{"$f":"IF(Riskhistorik!AQ$2<>\"Datum\",IF(Riskhistorik!AQ13=\"Låg\",1,IF(Riskhistorik!AQ13=\"Medel\",2,IF(Riskhistorik!AQ13=\"Hög\",3,0))),AK11)","v":0},{"$f":"IF(Riskhistorik!AQ$2<>\"Datum\",IF(Riskhistorik!AR13=\"Låg\",1,IF(Riskhistorik!AR13=\"Medel\",2,IF(Riskhistorik!AR13=\"Hög\",3,0))),AL11)","v":0},0,0,0,0,0,0,0,0,0,0,0,0,0,0,0,0,0,0,0,0]
[{"$f":"IF(Riskhistorik!E14<>\"\",IF(Riskhistorik!E14=\"Låg\",1,IF(Riskhistorik!E14=\"Medel\",2,3)),0)","v":0},{"$f":"IF(Riskhistorik!F14<>\"\",IF(Riskhistorik!F14=\"Låg\",1,IF(Riskhistorik!F14=\"Medel\",2,3)),0)","v":0},{"$f":"IF(Riskhistorik!G$2<>\"Datum\",IF(Riskhistorik!G14=\"Låg\",1,IF(Riskhistorik!G14=\"Medel\",2,IF(Riskhistorik!G14=\"Hög\",3,0))),A12)","v":0},{"$f":"IF(Riskhistorik!G$2<>\"Datum\",IF(Riskhistorik!H14=\"Låg\",1,IF(Riskhistorik!H14=\"Medel\",2,IF(Riskhistorik!H14=\"Hög\",3,0))),B12)","v":0},{"$f":"IF(Riskhistorik!I$2<>\"Datum\",IF(Riskhistorik!I14=\"Låg\",1,IF(Riskhistorik!I14=\"Medel\",2,IF(Riskhistorik!I14=\"Hög\",3,0))),C12)","v":0},{"$f":"IF(Riskhistorik!I$2<>\"Datum\",IF(Riskhistorik!J14=\"Låg\",1,IF(Riskhistorik!J14=\"Medel\",2,IF(Riskhistorik!J14=\"Hög\",3,0))),D12)","v":0},{"$f":"IF(Riskhistorik!K$2<>\"Datum\",IF(Riskhistorik!K14=\"Låg\",1,IF(Riskhistorik!K14=\"Medel\",2,IF(Riskhistorik!K14=\"Hög\",3,0))),E12)","v":0},{"$f":"IF(Riskhistorik!K$2<>\"Datum\",IF(Riskhistorik!L14=\"Låg\",1,IF(Riskhistorik!L14=\"Medel\",2,IF(Riskhistorik!L14=\"Hög\",3,0))),F12)","v":0},{"$f":"IF(Riskhistorik!M$2<>\"Datum\",IF(Riskhistorik!M14=\"Låg\",1,IF(Riskhistorik!M14=\"Medel\",2,IF(Riskhistorik!M14=\"Hög\",3,0))),G12)","v":0},{"$f":"IF(Riskhistorik!M$2<>\"Datum\",IF(Riskhistorik!N14=\"Låg\",1,IF(Riskhistorik!N14=\"Medel\",2,IF(Riskhistorik!N14=\"Hög\",3,0))),H12)","v":0},{"$f":"IF(Riskhistorik!O$2<>\"Datum\",IF(Riskhistorik!O14=\"Låg\",1,IF(Riskhistorik!O14=\"Medel\",2,IF(Riskhistorik!O14=\"Hög\",3,0))),I12)","v":0},{"$f":"IF(Riskhistorik!O$2<>\"Datum\",IF(Riskhistorik!P14=\"Låg\",1,IF(Riskhistorik!P14=\"Medel\",2,IF(Riskhistorik!P14=\"Hög\",3,0))),J12)","v":0},{"$f":"IF(Riskhistorik!Q$2<>\"Datum\",IF(Riskhistorik!Q14=\"Låg\",1,IF(Riskhistorik!Q14=\"Medel\",2,IF(Riskhistorik!Q14=\"Hög\",3,0))),K12)","v":0},{"$f":"IF(Riskhistorik!Q$2<>\"Datum\",IF(Riskhistorik!R14=\"Låg\",1,IF(Riskhistorik!R14=\"Medel\",2,IF(Riskhistorik!R14=\"Hög\",3,0))),L12)","v":0},{"$f":"IF(Riskhistorik!S$2<>\"Datum\",IF(Riskhistorik!S14=\"Låg\",1,IF(Riskhistorik!S14=\"Medel\",2,IF(Riskhistorik!S14=\"Hög\",3,0))),M12)","v":0},{"$f":"IF(Riskhistorik!S$2<>\"Datum\",IF(Riskhistorik!T14=\"Låg\",1,IF(Riskhistorik!T14=\"Medel\",2,IF(Riskhistorik!T14=\"Hög\",3,0))),N12)","v":0},{"$f":"IF(Riskhistorik!U$2<>\"Datum\",IF(Riskhistorik!U14=\"Låg\",1,IF(Riskhistorik!U14=\"Medel\",2,IF(Riskhistorik!U14=\"Hög\",3,0))),O12)","v":0},{"$f":"IF(Riskhistorik!U$2<>\"Datum\",IF(Riskhistorik!V14=\"Låg\",1,IF(Riskhistorik!V14=\"Medel\",2,IF(Riskhistorik!V14=\"Hög\",3,0))),P12)","v":0},{"$f":"IF(Riskhistorik!W$2<>\"Datum\",IF(Riskhistorik!W14=\"Låg\",1,IF(Riskhistorik!W14=\"Medel\",2,IF(Riskhistorik!W14=\"Hög\",3,0))),Q12)","v":0},{"$f":"IF(Riskhistorik!W$2<>\"Datum\",IF(Riskhistorik!X14=\"Låg\",1,IF(Riskhistorik!X14=\"Medel\",2,IF(Riskhistorik!X14=\"Hög\",3,0))),R12)","v":0},{"$f":"IF(Riskhistorik!Y$2<>\"Datum\",IF(Riskhistorik!Y14=\"Låg\",1,IF(Riskhistorik!Y14=\"Medel\",2,IF(Riskhistorik!Y14=\"Hög\",3,0))),S12)","v":0},{"$f":"IF(Riskhistorik!Y$2<>\"Datum\",IF(Riskhistorik!Z14=\"Låg\",1,IF(Riskhistorik!Z14=\"Medel\",2,IF(Riskhistorik!Z14=\"Hög\",3,0))),T12)","v":0},{"$f":"IF(Riskhistorik!AA$2<>\"Datum\",IF(Riskhistorik!AA14=\"Låg\",1,IF(Riskhistorik!AA14=\"Medel\",2,IF(Riskhistorik!AA14=\"Hög\",3,0))),U12)","v":0},{"$f":"IF(Riskhistorik!AA$2<>\"Datum\",IF(Riskhistorik!AB14=\"Låg\",1,IF(Riskhistorik!AB14=\"Medel\",2,IF(Riskhistorik!AB14=\"Hög\",3,0))),V12)","v":0},{"$f":"IF(Riskhistorik!AC$2<>\"Datum\",IF(Riskhistorik!AC14=\"Låg\",1,IF(Riskhistorik!AC14=\"Medel\",2,IF(Riskhistorik!AC14=\"Hög\",3,0))),W12)","v":0},{"$f":"IF(Riskhistorik!AC$2<>\"Datum\",IF(Riskhistorik!AD14=\"Låg\",1,IF(Riskhistorik!AD14=\"Medel\",2,IF(Riskhistorik!AD14=\"Hög\",3,0))),X12)","v":0},{"$f":"IF(Riskhistorik!AE$2<>\"Datum\",IF(Riskhistorik!AE14=\"Låg\",1,IF(Riskhistorik!AE14=\"Medel\",2,IF(Riskhistorik!AE14=\"Hög\",3,0))),Y12)","v":0},{"$f":"IF(Riskhistorik!AE$2<>\"Datum\",IF(Riskhistorik!AF14=\"Låg\",1,IF(Riskhistorik!AF14=\"Medel\",2,IF(Riskhistorik!AF14=\"Hög\",3,0))),Z12)","v":0},{"$f":"IF(Riskhistorik!AG$2<>\"Datum\",IF(Riskhistorik!AG14=\"Låg\",1,IF(Riskhistorik!AG14=\"Medel\",2,IF(Riskhistorik!AG14=\"Hög\",3,0))),AA12)","v":0},{"$f":"IF(Riskhistorik!AG$2<>\"Datum\",IF(Riskhistorik!AH14=\"Låg\",1,IF(Riskhistorik!AH14=\"Medel\",2,IF(Riskhistorik!AH14=\"Hög\",3,0))),AB12)","v":0},{"$f":"IF(Riskhistorik!AI$2<>\"Datum\",IF(Riskhistorik!AI14=\"Låg\",1,IF(Riskhistorik!AI14=\"Medel\",2,IF(Riskhistorik!AI14=\"Hög\",3,0))),AC12)","v":0},{"$f":"IF(Riskhistorik!AI$2<>\"Datum\",IF(Riskhistorik!AJ14=\"Låg\",1,IF(Riskhistorik!AJ14=\"Medel\",2,IF(Riskhistorik!AJ14=\"Hög\",3,0))),AD12)","v":0},{"$f":"IF(Riskhistorik!AK$2<>\"Datum\",IF(Riskhistorik!AK14=\"Låg\",1,IF(Riskhistorik!AK14=\"Medel\",2,IF(Riskhistorik!AK14=\"Hög\",3,0))),AE12)","v":0},{"$f":"IF(Riskhistorik!AK$2<>\"Datum\",IF(Riskhistorik!AL14=\"Låg\",1,IF(Riskhistorik!AL14=\"Medel\",2,IF(Riskhistorik!AL14=\"Hög\",3,0))),AF12)","v":0},{"$f":"IF(Riskhistorik!AM$2<>\"Datum\",IF(Riskhistorik!AM14=\"Låg\",1,IF(Riskhistorik!AM14=\"Medel\",2,IF(Riskhistorik!AM14=\"Hög\",3,0))),AG12)","v":0},{"$f":"IF(Riskhistorik!AM$2<>\"Datum\",IF(Riskhistorik!AN14=\"Låg\",1,IF(Riskhistorik!AN14=\"Medel\",2,IF(Riskhistorik!AN14=\"Hög\",3,0))),AH12)","v":0},{"$f":"IF(Riskhistorik!AO$2<>\"Datum\",IF(Riskhistorik!AO14=\"Låg\",1,IF(Riskhistorik!AO14=\"Medel\",2,IF(Riskhistorik!AO14=\"Hög\",3,0))),AI12)","v":0},{"$f":"IF(Riskhistorik!AO$2<>\"Datum\",IF(Riskhistorik!AP14=\"Låg\",1,IF(Riskhistorik!AP14=\"Medel\",2,IF(Riskhistorik!AP14=\"Hög\",3,0))),AJ12)","v":0},{"$f":"IF(Riskhistorik!AQ$2<>\"Datum\",IF(Riskhistorik!AQ14=\"Låg\",1,IF(Riskhistorik!AQ14=\"Medel\",2,IF(Riskhistorik!AQ14=\"Hög\",3,0))),AK12)","v":0},{"$f":"IF(Riskhistorik!AQ$2<>\"Datum\",IF(Riskhistorik!AR14=\"Låg\",1,IF(Riskhistorik!AR14=\"Medel\",2,IF(Riskhistorik!AR14=\"Hög\",3,0))),AL12)","v":0},0,0,0,0,0,0,0,0,0,0,0,0,0,0,0,0,0,0,0,0]
[{"$f":"IF(Riskhistorik!E15<>\"\",IF(Riskhistorik!E15=\"Låg\",1,IF(Riskhistorik!E15=\"Medel\",2,3)),0)","v":0},{"$f":"IF(Riskhistorik!F15<>\"\",IF(Riskhistorik!F15=\"Låg\",1,IF(Riskhistorik!F15=\"Medel\",2,3)),0)","v":0},{"$f":"IF(Riskhistorik!G$2<>\"Datum\",IF(Riskhistorik!G15=\"Låg\",1,IF(Riskhistorik!G15=\"Medel\",2,IF(Riskhistorik!G15=\"Hög\",3,0))),A13)","v":0},{"$f":"IF(Riskhistorik!G$2<>\"Datum\",IF(Riskhistorik!H15=\"Låg\",1,IF(Riskhistorik!H15=\"Medel\",2,IF(Riskhistorik!H15=\"Hög\",3,0))),B13)","v":0},{"$f":"IF(Riskhistorik!I$2<>\"Datum\",IF(Riskhistorik!I15=\"Låg\",1,IF(Riskhistorik!I15=\"Medel\",2,IF(Riskhistorik!I15=\"Hög\",3,0))),C13)","v":0},{"$f":"IF(Riskhistorik!I$2<>\"Datum\",IF(Riskhistorik!J15=\"Låg\",1,IF(Riskhistorik!J15=\"Medel\",2,IF(Riskhistorik!J15=\"Hög\",3,0))),D13)","v":0},{"$f":"IF(Riskhistorik!K$2<>\"Datum\",IF(Riskhistorik!K15=\"Låg\",1,IF(Riskhistorik!K15=\"Medel\",2,IF(Riskhistorik!K15=\"Hög\",3,0))),E13)","v":0},{"$f":"IF(Riskhistorik!K$2<>\"Datum\",IF(Riskhistorik!L15=\"Låg\",1,IF(Riskhistorik!L15=\"Medel\",2,IF(Riskhistorik!L15=\"Hög\",3,0))),F13)","v":0},{"$f":"IF(Riskhistorik!M$2<>\"Datum\",IF(Riskhistorik!M15=\"Låg\",1,IF(Riskhistorik!M15=\"Medel\",2,IF(Riskhistorik!M15=\"Hög\",3,0))),G13)","v":0},{"$f":"IF(Riskhistorik!M$2<>\"Datum\",IF(Riskhistorik!N15=\"Låg\",1,IF(Riskhistorik!N15=\"Medel\",2,IF(Riskhistorik!N15=\"Hög\",3,0))),H13)","v":0},{"$f":"IF(Riskhistorik!O$2<>\"Datum\",IF(Riskhistorik!O15=\"Låg\",1,IF(Riskhistorik!O15=\"Medel\",2,IF(Riskhistorik!O15=\"Hög\",3,0))),I13)","v":0},{"$f":"IF(Riskhistorik!O$2<>\"Datum\",IF(Riskhistorik!P15=\"Låg\",1,IF(Riskhistorik!P15=\"Medel\",2,IF(Riskhistorik!P15=\"Hög\",3,0))),J13)","v":0},{"$f":"IF(Riskhistorik!Q$2<>\"Datum\",IF(Riskhistorik!Q15=\"Låg\",1,IF(Riskhistorik!Q15=\"Medel\",2,IF(Riskhistorik!Q15=\"Hög\",3,0))),K13)","v":0},{"$f":"IF(Riskhistorik!Q$2<>\"Datum\",IF(Riskhistorik!R15=\"Låg\",1,IF(Riskhistorik!R15=\"Medel\",2,IF(Riskhistorik!R15=\"Hög\",3,0))),L13)","v":0},{"$f":"IF(Riskhistorik!S$2<>\"Datum\",IF(Riskhistorik!S15=\"Låg\",1,IF(Riskhistorik!S15=\"Medel\",2,IF(Riskhistorik!S15=\"Hög\",3,0))),M13)","v":0},{"$f":"IF(Riskhistorik!S$2<>\"Datum\",IF(Riskhistorik!T15=\"Låg\",1,IF(Riskhistorik!T15=\"Medel\",2,IF(Riskhistorik!T15=\"Hög\",3,0))),N13)","v":0},{"$f":"IF(Riskhistorik!U$2<>\"Datum\",IF(Riskhistorik!U15=\"Låg\",1,IF(Riskhistorik!U15=\"Medel\",2,IF(Riskhistorik!U15=\"Hög\",3,0))),O13)","v":0},{"$f":"IF(Riskhistorik!U$2<>\"Datum\",IF(Riskhistorik!V15=\"Låg\",1,IF(Riskhistorik!V15=\"Medel\",2,IF(Riskhistorik!V15=\"Hög\",3,0))),P13)","v":0},{"$f":"IF(Riskhistorik!W$2<>\"Datum\",IF(Riskhistorik!W15=\"Låg\",1,IF(Riskhistorik!W15=\"Medel\",2,IF(Riskhistorik!W15=\"Hög\",3,0))),Q13)","v":0},{"$f":"IF(Riskhistorik!W$2<>\"Datum\",IF(Riskhistorik!X15=\"Låg\",1,IF(Riskhistorik!X15=\"Medel\",2,IF(Riskhistorik!X15=\"Hög\",3,0))),R13)","v":0},{"$f":"IF(Riskhistorik!Y$2<>\"Datum\",IF(Riskhistorik!Y15=\"Låg\",1,IF(Riskhistorik!Y15=\"Medel\",2,IF(Riskhistorik!Y15=\"Hög\",3,0))),S13)","v":0},{"$f":"IF(Riskhistorik!Y$2<>\"Datum\",IF(Riskhistorik!Z15=\"Låg\",1,IF(Riskhistorik!Z15=\"Medel\",2,IF(Riskhistorik!Z15=\"Hög\",3,0))),T13)","v":0},{"$f":"IF(Riskhistorik!AA$2<>\"Datum\",IF(Riskhistorik!AA15=\"Låg\",1,IF(Riskhistorik!AA15=\"Medel\",2,IF(Riskhistorik!AA15=\"Hög\",3,0))),U13)","v":0},{"$f":"IF(Riskhistorik!AA$2<>\"Datum\",IF(Riskhistorik!AB15=\"Låg\",1,IF(Riskhistorik!AB15=\"Medel\",2,IF(Riskhistorik!AB15=\"Hög\",3,0))),V13)","v":0},{"$f":"IF(Riskhistorik!AC$2<>\"Datum\",IF(Riskhistorik!AC15=\"Låg\",1,IF(Riskhistorik!AC15=\"Medel\",2,IF(Riskhistorik!AC15=\"Hög\",3,0))),W13)","v":0},{"$f":"IF(Riskhistorik!AC$2<>\"Datum\",IF(Riskhistorik!AD15=\"Låg\",1,IF(Riskhistorik!AD15=\"Medel\",2,IF(Riskhistorik!AD15=\"Hög\",3,0))),X13)","v":0},{"$f":"IF(Riskhistorik!AE$2<>\"Datum\",IF(Riskhistorik!AE15=\"Låg\",1,IF(Riskhistorik!AE15=\"Medel\",2,IF(Riskhistorik!AE15=\"Hög\",3,0))),Y13)","v":0},{"$f":"IF(Riskhistorik!AE$2<>\"Datum\",IF(Riskhistorik!AF15=\"Låg\",1,IF(Riskhistorik!AF15=\"Medel\",2,IF(Riskhistorik!AF15=\"Hög\",3,0))),Z13)","v":0},{"$f":"IF(Riskhistorik!AG$2<>\"Datum\",IF(Riskhistorik!AG15=\"Låg\",1,IF(Riskhistorik!AG15=\"Medel\",2,IF(Riskhistorik!AG15=\"Hög\",3,0))),AA13)","v":0},{"$f":"IF(Riskhistorik!AG$2<>\"Datum\",IF(Riskhistorik!AH15=\"Låg\",1,IF(Riskhistorik!AH15=\"Medel\",2,IF(Riskhistorik!AH15=\"Hög\",3,0))),AB13)","v":0},{"$f":"IF(Riskhistorik!AI$2<>\"Datum\",IF(Riskhistorik!AI15=\"Låg\",1,IF(Riskhistorik!AI15=\"Medel\",2,IF(Riskhistorik!AI15=\"Hög\",3,0))),AC13)","v":0},{"$f":"IF(Riskhistorik!AI$2<>\"Datum\",IF(Riskhistorik!AJ15=\"Låg\",1,IF(Riskhistorik!AJ15=\"Medel\",2,IF(Riskhistorik!AJ15=\"Hög\",3,0))),AD13)","v":0},{"$f":"IF(Riskhistorik!AK$2<>\"Datum\",IF(Riskhistorik!AK15=\"Låg\",1,IF(Riskhistorik!AK15=\"Medel\",2,IF(Riskhistorik!AK15=\"Hög\",3,0))),AE13)","v":0},{"$f":"IF(Riskhistorik!AK$2<>\"Datum\",IF(Riskhistorik!AL15=\"Låg\",1,IF(Riskhistorik!AL15=\"Medel\",2,IF(Riskhistorik!AL15=\"Hög\",3,0))),AF13)","v":0},{"$f":"IF(Riskhistorik!AM$2<>\"Datum\",IF(Riskhistorik!AM15=\"Låg\",1,IF(Riskhistorik!AM15=\"Medel\",2,IF(Riskhistorik!AM15=\"Hög\",3,0))),AG13)","v":0},{"$f":"IF(Riskhistorik!AM$2<>\"Datum\",IF(Riskhistorik!AN15=\"Låg\",1,IF(Riskhistorik!AN15=\"Medel\",2,IF(Riskhistorik!AN15=\"Hög\",3,0))),AH13)","v":0},{"$f":"IF(Riskhistorik!AO$2<>\"Datum\",IF(Riskhistorik!AO15=\"Låg\",1,IF(Riskhistorik!AO15=\"Medel\",2,IF(Riskhistorik!AO15=\"Hög\",3,0))),AI13)","v":0},{"$f":"IF(Riskhistorik!AO$2<>\"Datum\",IF(Riskhistorik!AP15=\"Låg\",1,IF(Riskhistorik!AP15=\"Medel\",2,IF(Riskhistorik!AP15=\"Hög\",3,0))),AJ13)","v":0},{"$f":"IF(Riskhistorik!AQ$2<>\"Datum\",IF(Riskhistorik!AQ15=\"Låg\",1,IF(Riskhistorik!AQ15=\"Medel\",2,IF(Riskhistorik!AQ15=\"Hög\",3,0))),AK13)","v":0},{"$f":"IF(Riskhistorik!AQ$2<>\"Datum\",IF(Riskhistorik!AR15=\"Låg\",1,IF(Riskhistorik!AR15=\"Medel\",2,IF(Riskhistorik!AR15=\"Hög\",3,0))),AL13)","v":0},0,0,0,0,0,0,0,0,0,0,0,0,0,0,0,0,0,0,0,0]
[{"$f":"IF(Riskhistorik!E16<>\"\",IF(Riskhistorik!E16=\"Låg\",1,IF(Riskhistorik!E16=\"Medel\",2,3)),0)","v":0},{"$f":"IF(Riskhistorik!F16<>\"\",IF(Riskhistorik!F16=\"Låg\",1,IF(Riskhistorik!F16=\"Medel\",2,3)),0)","v":0},{"$f":"IF(Riskhistorik!G$2<>\"Datum\",IF(Riskhistorik!G16=\"Låg\",1,IF(Riskhistorik!G16=\"Medel\",2,IF(Riskhistorik!G16=\"Hög\",3,0))),A14)","v":0},{"$f":"IF(Riskhistorik!G$2<>\"Datum\",IF(Riskhistorik!H16=\"Låg\",1,IF(Riskhistorik!H16=\"Medel\",2,IF(Riskhistorik!H16=\"Hög\",3,0))),B14)","v":0},{"$f":"IF(Riskhistorik!I$2<>\"Datum\",IF(Riskhistorik!I16=\"Låg\",1,IF(Riskhistorik!I16=\"Medel\",2,IF(Riskhistorik!I16=\"Hög\",3,0))),C14)","v":0},{"$f":"IF(Riskhistorik!I$2<>\"Datum\",IF(Riskhistorik!J16=\"Låg\",1,IF(Riskhistorik!J16=\"Medel\",2,IF(Riskhistorik!J16=\"Hög\",3,0))),D14)","v":0},{"$f":"IF(Riskhistorik!K$2<>\"Datum\",IF(Riskhistorik!K16=\"Låg\",1,IF(Riskhistorik!K16=\"Medel\",2,IF(Riskhistorik!K16=\"Hög\",3,0))),E14)","v":0},{"$f":"IF(Riskhistorik!K$2<>\"Datum\",IF(Riskhistorik!L16=\"Låg\",1,IF(Riskhistorik!L16=\"Medel\",2,IF(Riskhistorik!L16=\"Hög\",3,0))),F14)","v":0},{"$f":"IF(Riskhistorik!M$2<>\"Datum\",IF(Riskhistorik!M16=\"Låg\",1,IF(Riskhistorik!M16=\"Medel\",2,IF(Riskhistorik!M16=\"Hög\",3,0))),G14)","v":0},{"$f":"IF(Riskhistorik!M$2<>\"Datum\",IF(Riskhistorik!N16=\"Låg\",1,IF(Riskhistorik!N16=\"Medel\",2,IF(Riskhistorik!N16=\"Hög\",3,0))),H14)","v":0},{"$f":"IF(Riskhistorik!O$2<>\"Datum\",IF(Riskhistorik!O16=\"Låg\",1,IF(Riskhistorik!O16=\"Medel\",2,IF(Riskhistorik!O16=\"Hög\",3,0))),I14)","v":0},{"$f":"IF(Riskhistorik!O$2<>\"Datum\",IF(Riskhistorik!P16=\"Låg\",1,IF(Riskhistorik!P16=\"Medel\",2,IF(Riskhistorik!P16=\"Hög\",3,0))),J14)","v":0},{"$f":"IF(Riskhistorik!Q$2<>\"Datum\",IF(Riskhistorik!Q16=\"Låg\",1,IF(Riskhistorik!Q16=\"Medel\",2,IF(Riskhistorik!Q16=\"Hög\",3,0))),K14)","v":0},{"$f":"IF(Riskhistorik!Q$2<>\"Datum\",IF(Riskhistorik!R16=\"Låg\",1,IF(Riskhistorik!R16=\"Medel\",2,IF(Riskhistorik!R16=\"Hög\",3,0))),L14)","v":0},{"$f":"IF(Riskhistorik!S$2<>\"Datum\",IF(Riskhistorik!S16=\"Låg\",1,IF(Riskhistorik!S16=\"Medel\",2,IF(Riskhistorik!S16=\"Hög\",3,0))),M14)","v":0},{"$f":"IF(Riskhistorik!S$2<>\"Datum\",IF(Riskhistorik!T16=\"Låg\",1,IF(Riskhistorik!T16=\"Medel\",2,IF(Riskhistorik!T16=\"Hög\",3,0))),N14)","v":0},{"$f":"IF(Riskhistorik!U$2<>\"Datum\",IF(Riskhistorik!U16=\"Låg\",1,IF(Riskhistorik!U16=\"Medel\",2,IF(Riskhistorik!U16=\"Hög\",3,0))),O14)","v":0},{"$f":"IF(Riskhistorik!U$2<>\"Datum\",IF(Riskhistorik!V16=\"Låg\",1,IF(Riskhistorik!V16=\"Medel\",2,IF(Riskhistorik!V16=\"Hög\",3,0))),P14)","v":0},{"$f":"IF(Riskhistorik!W$2<>\"Datum\",IF(Riskhistorik!W16=\"Låg\",1,IF(Riskhistorik!W16=\"Medel\",2,IF(Riskhistorik!W16=\"Hög\",3,0))),Q14)","v":0},{"$f":"IF(Riskhistorik!W$2<>\"Datum\",IF(Riskhistorik!X16=\"Låg\",1,IF(Riskhistorik!X16=\"Medel\",2,IF(Riskhistorik!X16=\"Hög\",3,0))),R14)","v":0},{"$f":"IF(Riskhistorik!Y$2<>\"Datum\",IF(Riskhistorik!Y16=\"Låg\",1,IF(Riskhistorik!Y16=\"Medel\",2,IF(Riskhistorik!Y16=\"Hög\",3,0))),S14)","v":0},{"$f":"IF(Riskhistorik!Y$2<>\"Datum\",IF(Riskhistorik!Z16=\"Låg\",1,IF(Riskhistorik!Z16=\"Medel\",2,IF(Riskhistorik!Z16=\"Hög\",3,0))),T14)","v":0},{"$f":"IF(Riskhistorik!AA$2<>\"Datum\",IF(Riskhistorik!AA16=\"Låg\",1,IF(Riskhistorik!AA16=\"Medel\",2,IF(Riskhistorik!AA16=\"Hög\",3,0))),U14)","v":0},{"$f":"IF(Riskhistorik!AA$2<>\"Datum\",IF(Riskhistorik!AB16=\"Låg\",1,IF(Riskhistorik!AB16=\"Medel\",2,IF(Riskhistorik!AB16=\"Hög\",3,0))),V14)","v":0},{"$f":"IF(Riskhistorik!AC$2<>\"Datum\",IF(Riskhistorik!AC16=\"Låg\",1,IF(Riskhistorik!AC16=\"Medel\",2,IF(Riskhistorik!AC16=\"Hög\",3,0))),W14)","v":0},{"$f":"IF(Riskhistorik!AC$2<>\"Datum\",IF(Riskhistorik!AD16=\"Låg\",1,IF(Riskhistorik!AD16=\"Medel\",2,IF(Riskhistorik!AD16=\"Hög\",3,0))),X14)","v":0},{"$f":"IF(Riskhistorik!AE$2<>\"Datum\",IF(Riskhistorik!AE16=\"Låg\",1,IF(Riskhistorik!AE16=\"Medel\",2,IF(Riskhistorik!AE16=\"Hög\",3,0))),Y14)","v":0},{"$f":"IF(Riskhistorik!AE$2<>\"Datum\",IF(Riskhistorik!AF16=\"Låg\",1,IF(Riskhistorik!AF16=\"Medel\",2,IF(Riskhistorik!AF16=\"Hög\",3,0))),Z14)","v":0},{"$f":"IF(Riskhistorik!AG$2<>\"Datum\",IF(Riskhistorik!AG16=\"Låg\",1,IF(Riskhistorik!AG16=\"Medel\",2,IF(Riskhistorik!AG16=\"Hög\",3,0))),AA14)","v":0},{"$f":"IF(Riskhistorik!AG$2<>\"Datum\",IF(Riskhistorik!AH16=\"Låg\",1,IF(Riskhistorik!AH16=\"Medel\",2,IF(Riskhistorik!AH16=\"Hög\",3,0))),AB14)","v":0},{"$f":"IF(Riskhistorik!AI$2<>\"Datum\",IF(Riskhistorik!AI16=\"Låg\",1,IF(Riskhistorik!AI16=\"Medel\",2,IF(Riskhistorik!AI16=\"Hög\",3,0))),AC14)","v":0},{"$f":"IF(Riskhistorik!AI$2<>\"Datum\",IF(Riskhistorik!AJ16=\"Låg\",1,IF(Riskhistorik!AJ16=\"Medel\",2,IF(Riskhistorik!AJ16=\"Hög\",3,0))),AD14)","v":0},{"$f":"IF(Riskhistorik!AK$2<>\"Datum\",IF(Riskhistorik!AK16=\"Låg\",1,IF(Riskhistorik!AK16=\"Medel\",2,IF(Riskhistorik!AK16=\"Hög\",3,0))),AE14)","v":0},{"$f":"IF(Riskhistorik!AK$2<>\"Datum\",IF(Riskhistorik!AL16=\"Låg\",1,IF(Riskhistorik!AL16=\"Medel\",2,IF(Riskhistorik!AL16=\"Hög\",3,0))),AF14)","v":0},{"$f":"IF(Riskhistorik!AM$2<>\"Datum\",IF(Riskhistorik!AM16=\"Låg\",1,IF(Riskhistorik!AM16=\"Medel\",2,IF(Riskhistorik!AM16=\"Hög\",3,0))),AG14)","v":0},{"$f":"IF(Riskhistorik!AM$2<>\"Datum\",IF(Riskhistorik!AN16=\"Låg\",1,IF(Riskhistorik!AN16=\"Medel\",2,IF(Riskhistorik!AN16=\"Hög\",3,0))),AH14)","v":0},{"$f":"IF(Riskhistorik!AO$2<>\"Datum\",IF(Riskhistorik!AO16=\"Låg\",1,IF(Riskhistorik!AO16=\"Medel\",2,IF(Riskhistorik!AO16=\"Hög\",3,0))),AI14)","v":0},{"$f":"IF(Riskhistorik!AO$2<>\"Datum\",IF(Riskhistorik!AP16=\"Låg\",1,IF(Riskhistorik!AP16=\"Medel\",2,IF(Riskhistorik!AP16=\"Hög\",3,0))),AJ14)","v":0},{"$f":"IF(Riskhistorik!AQ$2<>\"Datum\",IF(Riskhistorik!AQ16=\"Låg\",1,IF(Riskhistorik!AQ16=\"Medel\",2,IF(Riskhistorik!AQ16=\"Hög\",3,0))),AK14)","v":0},{"$f":"IF(Riskhistorik!AQ$2<>\"Datum\",IF(Riskhistorik!AR16=\"Låg\",1,IF(Riskhistorik!AR16=\"Medel\",2,IF(Riskhistorik!AR16=\"Hög\",3,0))),AL14)","v":0},0,0,0,0,0,0,0,0,0,0,0,0,0,0,0,0,0,0,0,0]
[{"$f":"IF(Riskhistorik!E17<>\"\",IF(Riskhistorik!E17=\"Låg\",1,IF(Riskhistorik!E17=\"Medel\",2,3)),0)","v":0},{"$f":"IF(Riskhistorik!F17<>\"\",IF(Riskhistorik!F17=\"Låg\",1,IF(Riskhistorik!F17=\"Medel\",2,3)),0)","v":0},{"$f":"IF(Riskhistorik!G$2<>\"Datum\",IF(Riskhistorik!G17=\"Låg\",1,IF(Riskhistorik!G17=\"Medel\",2,IF(Riskhistorik!G17=\"Hög\",3,0))),A15)","v":0},{"$f":"IF(Riskhistorik!G$2<>\"Datum\",IF(Riskhistorik!H17=\"Låg\",1,IF(Riskhistorik!H17=\"Medel\",2,IF(Riskhistorik!H17=\"Hög\",3,0))),B15)","v":0},{"$f":"IF(Riskhistorik!I$2<>\"Datum\",IF(Riskhistorik!I17=\"Låg\",1,IF(Riskhistorik!I17=\"Medel\",2,IF(Riskhistorik!I17=\"Hög\",3,0))),C15)","v":0},{"$f":"IF(Riskhistorik!I$2<>\"Datum\",IF(Riskhistorik!J17=\"Låg\",1,IF(Riskhistorik!J17=\"Medel\",2,IF(Riskhistorik!J17=\"Hög\",3,0))),D15)","v":0},{"$f":"IF(Riskhistorik!K$2<>\"Datum\",IF(Riskhistorik!K17=\"Låg\",1,IF(Riskhistorik!K17=\"Medel\",2,IF(Riskhistorik!K17=\"Hög\",3,0))),E15)","v":0},{"$f":"IF(Riskhistorik!K$2<>\"Datum\",IF(Riskhistorik!L17=\"Låg\",1,IF(Riskhistorik!L17=\"Medel\",2,IF(Riskhistorik!L17=\"Hög\",3,0))),F15)","v":0},{"$f":"IF(Riskhistorik!M$2<>\"Datum\",IF(Riskhistorik!M17=\"Låg\",1,IF(Riskhistorik!M17=\"Medel\",2,IF(Riskhistorik!M17=\"Hög\",3,0))),G15)","v":0},{"$f":"IF(Riskhistorik!M$2<>\"Datum\",IF(Riskhistorik!N17=\"Låg\",1,IF(Riskhistorik!N17=\"Medel\",2,IF(Riskhistorik!N17=\"Hög\",3,0))),H15)","v":0},{"$f":"IF(Riskhistorik!O$2<>\"Datum\",IF(Riskhistorik!O17=\"Låg\",1,IF(Riskhistorik!O17=\"Medel\",2,IF(Riskhistorik!O17=\"Hög\",3,0))),I15)","v":0},{"$f":"IF(Riskhistorik!O$2<>\"Datum\",IF(Riskhistorik!P17=\"Låg\",1,IF(Riskhistorik!P17=\"Medel\",2,IF(Riskhistorik!P17=\"Hög\",3,0))),J15)","v":0},{"$f":"IF(Riskhistorik!Q$2<>\"Datum\",IF(Riskhistorik!Q17=\"Låg\",1,IF(Riskhistorik!Q17=\"Medel\",2,IF(Riskhistorik!Q17=\"Hög\",3,0))),K15)","v":0},{"$f":"IF(Riskhistorik!Q$2<>\"Datum\",IF(Riskhistorik!R17=\"Låg\",1,IF(Riskhistorik!R17=\"Medel\",2,IF(Riskhistorik!R17=\"Hög\",3,0))),L15)","v":0},{"$f":"IF(Riskhistorik!S$2<>\"Datum\",IF(Riskhistorik!S17=\"Låg\",1,IF(Riskhistorik!S17=\"Medel\",2,IF(Riskhistorik!S17=\"Hög\",3,0))),M15)","v":0},{"$f":"IF(Riskhistorik!S$2<>\"Datum\",IF(Riskhistorik!T17=\"Låg\",1,IF(Riskhistorik!T17=\"Medel\",2,IF(Riskhistorik!T17=\"Hög\",3,0))),N15)","v":0},{"$f":"IF(Riskhistorik!U$2<>\"Datum\",IF(Riskhistorik!U17=\"Låg\",1,IF(Riskhistorik!U17=\"Medel\",2,IF(Riskhistorik!U17=\"Hög\",3,0))),O15)","v":0},{"$f":"IF(Riskhistorik!U$2<>\"Datum\",IF(Riskhistorik!V17=\"Låg\",1,IF(Riskhistorik!V17=\"Medel\",2,IF(Riskhistorik!V17=\"Hög\",3,0))),P15)","v":0},{"$f":"IF(Riskhistorik!W$2<>\"Datum\",IF(Riskhistorik!W17=\"Låg\",1,IF(Riskhistorik!W17=\"Medel\",2,IF(Riskhistorik!W17=\"Hög\",3,0))),Q15)","v":0},{"$f":"IF(Riskhistorik!W$2<>\"Datum\",IF(Riskhistorik!X17=\"Låg\",1,IF(Riskhistorik!X17=\"Medel\",2,IF(Riskhistorik!X17=\"Hög\",3,0))),R15)","v":0},{"$f":"IF(Riskhistorik!Y$2<>\"Datum\",IF(Riskhistorik!Y17=\"Låg\",1,IF(Riskhistorik!Y17=\"Medel\",2,IF(Riskhistorik!Y17=\"Hög\",3,0))),S15)","v":0},{"$f":"IF(Riskhistorik!Y$2<>\"Datum\",IF(Riskhistorik!Z17=\"Låg\",1,IF(Riskhistorik!Z17=\"Medel\",2,IF(Riskhistorik!Z17=\"Hög\",3,0))),T15)","v":0},{"$f":"IF(Riskhistorik!AA$2<>\"Datum\",IF(Riskhistorik!AA17=\"Låg\",1,IF(Riskhistorik!AA17=\"Medel\",2,IF(Riskhistorik!AA17=\"Hög\",3,0))),U15)","v":0},{"$f":"IF(Riskhistorik!AA$2<>\"Datum\",IF(Riskhistorik!AB17=\"Låg\",1,IF(Riskhistorik!AB17=\"Medel\",2,IF(Riskhistorik!AB17=\"Hög\",3,0))),V15)","v":0},{"$f":"IF(Riskhistorik!AC$2<>\"Datum\",IF(Riskhistorik!AC17=\"Låg\",1,IF(Riskhistorik!AC17=\"Medel\",2,IF(Riskhistorik!AC17=\"Hög\",3,0))),W15)","v":0},{"$f":"IF(Riskhistorik!AC$2<>\"Datum\",IF(Riskhistorik!AD17=\"Låg\",1,IF(Riskhistorik!AD17=\"Medel\",2,IF(Riskhistorik!AD17=\"Hög\",3,0))),X15)","v":0},{"$f":"IF(Riskhistorik!AE$2<>\"Datum\",IF(Riskhistorik!AE17=\"Låg\",1,IF(Riskhistorik!AE17=\"Medel\",2,IF(Riskhistorik!AE17=\"Hög\",3,0))),Y15)","v":0},{"$f":"IF(Riskhistorik!AE$2<>\"Datum\",IF(Riskhistorik!AF17=\"Låg\",1,IF(Riskhistorik!AF17=\"Medel\",2,IF(Riskhistorik!AF17=\"Hög\",3,0))),Z15)","v":0},{"$f":"IF(Riskhistorik!AG$2<>\"Datum\",IF(Riskhistorik!AG17=\"Låg\",1,IF(Riskhistorik!AG17=\"Medel\",2,IF(Riskhistorik!AG17=\"Hög\",3,0))),AA15)","v":0},{"$f":"IF(Riskhistorik!AG$2<>\"Datum\",IF(Riskhistorik!AH17=\"Låg\",1,IF(Riskhistorik!AH17=\"Medel\",2,IF(Riskhistorik!AH17=\"Hög\",3,0))),AB15)","v":0},{"$f":"IF(Riskhistorik!AI$2<>\"Datum\",IF(Riskhistorik!AI17=\"Låg\",1,IF(Riskhistorik!AI17=\"Medel\",2,IF(Riskhistorik!AI17=\"Hög\",3,0))),AC15)","v":0},{"$f":"IF(Riskhistorik!AI$2<>\"Datum\",IF(Riskhistorik!AJ17=\"Låg\",1,IF(Riskhistorik!AJ17=\"Medel\",2,IF(Riskhistorik!AJ17=\"Hög\",3,0))),AD15)","v":0},{"$f":"IF(Riskhistorik!AK$2<>\"Datum\",IF(Riskhistorik!AK17=\"Låg\",1,IF(Riskhistorik!AK17=\"Medel\",2,IF(Riskhistorik!AK17=\"Hög\",3,0))),AE15)","v":0},{"$f":"IF(Riskhistorik!AK$2<>\"Datum\",IF(Riskhistorik!AL17=\"Låg\",1,IF(Riskhistorik!AL17=\"Medel\",2,IF(Riskhistorik!AL17=\"Hög\",3,0))),AF15)","v":0},{"$f":"IF(Riskhistorik!AM$2<>\"Datum\",IF(Riskhistorik!AM17=\"Låg\",1,IF(Riskhistorik!AM17=\"Medel\",2,IF(Riskhistorik!AM17=\"Hög\",3,0))),AG15)","v":0},{"$f":"IF(Riskhistorik!AM$2<>\"Datum\",IF(Riskhistorik!AN17=\"Låg\",1,IF(Riskhistorik!AN17=\"Medel\",2,IF(Riskhistorik!AN17=\"Hög\",3,0))),AH15)","v":0},{"$f":"IF(Riskhistorik!AO$2<>\"Datum\",IF(Riskhistorik!AO17=\"Låg\",1,IF(Riskhistorik!AO17=\"Medel\",2,IF(Riskhistorik!AO17=\"Hög\",3,0))),AI15)","v":0},{"$f":"IF(Riskhistorik!AO$2<>\"Datum\",IF(Riskhistorik!AP17=\"Låg\",1,IF(Riskhistorik!AP17=\"Medel\",2,IF(Riskhistorik!AP17=\"Hög\",3,0))),AJ15)","v":0},{"$f":"IF(Riskhistorik!AQ$2<>\"Datum\",IF(Riskhistorik!AQ17=\"Låg\",1,IF(Riskhistorik!AQ17=\"Medel\",2,IF(Riskhistorik!AQ17=\"Hög\",3,0))),AK15)","v":0},{"$f":"IF(Riskhistorik!AQ$2<>\"Datum\",IF(Riskhistorik!AR17=\"Låg\",1,IF(Riskhistorik!AR17=\"Medel\",2,IF(Riskhistorik!AR17=\"Hög\",3,0))),AL15)","v":0},0,0,0,0,0,0,0,0,0,0,0,0,0,0,0,0,0,0,0,0]
[{"$f":"IF(Riskhistorik!E18<>\"\",IF(Riskhistorik!E18=\"Låg\",1,IF(Riskhistorik!E18=\"Medel\",2,3)),0)","v":0},{"$f":"IF(Riskhistorik!F18<>\"\",IF(Riskhistorik!F18=\"Låg\",1,IF(Riskhistorik!F18=\"Medel\",2,3)),0)","v":0},{"$f":"IF(Riskhistorik!G$2<>\"Datum\",IF(Riskhistorik!G18=\"Låg\",1,IF(Riskhistorik!G18=\"Medel\",2,IF(Riskhistorik!G18=\"Hög\",3,0))),A16)","v":0},{"$f":"IF(Riskhistorik!G$2<>\"Datum\",IF(Riskhistorik!H18=\"Låg\",1,IF(Riskhistorik!H18=\"Medel\",2,IF(Riskhistorik!H18=\"Hög\",3,0))),B16)","v":0},{"$f":"IF(Riskhistorik!I$2<>\"Datum\",IF(Riskhistorik!I18=\"Låg\",1,IF(Riskhistorik!I18=\"Medel\",2,IF(Riskhistorik!I18=\"Hög\",3,0))),C16)","v":0},{"$f":"IF(Riskhistorik!I$2<>\"Datum\",IF(Riskhistorik!J18=\"Låg\",1,IF(Riskhistorik!J18=\"Medel\",2,IF(Riskhistorik!J18=\"Hög\",3,0))),D16)","v":0},{"$f":"IF(Riskhistorik!K$2<>\"Datum\",IF(Riskhistorik!K18=\"Låg\",1,IF(Riskhistorik!K18=\"Medel\",2,IF(Riskhistorik!K18=\"Hög\",3,0))),E16)","v":0},{"$f":"IF(Riskhistorik!K$2<>\"Datum\",IF(Riskhistorik!L18=\"Låg\",1,IF(Riskhistorik!L18=\"Medel\",2,IF(Riskhistorik!L18=\"Hög\",3,0))),F16)","v":0},{"$f":"IF(Riskhistorik!M$2<>\"Datum\",IF(Riskhistorik!M18=\"Låg\",1,IF(Riskhistorik!M18=\"Medel\",2,IF(Riskhistorik!M18=\"Hög\",3,0))),G16)","v":0},{"$f":"IF(Riskhistorik!M$2<>\"Datum\",IF(Riskhistorik!N18=\"Låg\",1,IF(Riskhistorik!N18=\"Medel\",2,IF(Riskhistorik!N18=\"Hög\",3,0))),H16)","v":0},{"$f":"IF(Riskhistorik!O$2<>\"Datum\",IF(Riskhistorik!O18=\"Låg\",1,IF(Riskhistorik!O18=\"Medel\",2,IF(Riskhistorik!O18=\"Hög\",3,0))),I16)","v":0},{"$f":"IF(Riskhistorik!O$2<>\"Datum\",IF(Riskhistorik!P18=\"Låg\",1,IF(Riskhistorik!P18=\"Medel\",2,IF(Riskhistorik!P18=\"Hög\",3,0))),J16)","v":0},{"$f":"IF(Riskhistorik!Q$2<>\"Datum\",IF(Riskhistorik!Q18=\"Låg\",1,IF(Riskhistorik!Q18=\"Medel\",2,IF(Riskhistorik!Q18=\"Hög\",3,0))),K16)","v":0},{"$f":"IF(Riskhistorik!Q$2<>\"Datum\",IF(Riskhistorik!R18=\"Låg\",1,IF(Riskhistorik!R18=\"Medel\",2,IF(Riskhistorik!R18=\"Hög\",3,0))),L16)","v":0},{"$f":"IF(Riskhistorik!S$2<>\"Datum\",IF(Riskhistorik!S18=\"Låg\",1,IF(Riskhistorik!S18=\"Medel\",2,IF(Riskhistorik!S18=\"Hög\",3,0))),M16)","v":0},{"$f":"IF(Riskhistorik!S$2<>\"Datum\",IF(Riskhistorik!T18=\"Låg\",1,IF(Riskhistorik!T18=\"Medel\",2,IF(Riskhistorik!T18=\"Hög\",3,0))),N16)","v":0},{"$f":"IF(Riskhistorik!U$2<>\"Datum\",IF(Riskhistorik!U18=\"Låg\",1,IF(Riskhistorik!U18=\"Medel\",2,IF(Riskhistorik!U18=\"Hög\",3,0))),O16)","v":0},{"$f":"IF(Riskhistorik!U$2<>\"Datum\",IF(Riskhistorik!V18=\"Låg\",1,IF(Riskhistorik!V18=\"Medel\",2,IF(Riskhistorik!V18=\"Hög\",3,0))),P16)","v":0},{"$f":"IF(Riskhistorik!W$2<>\"Datum\",IF(Riskhistorik!W18=\"Låg\",1,IF(Riskhistorik!W18=\"Medel\",2,IF(Riskhistorik!W18=\"Hög\",3,0))),Q16)","v":0},{"$f":"IF(Riskhistorik!W$2<>\"Datum\",IF(Riskhistorik!X18=\"Låg\",1,IF(Riskhistorik!X18=\"Medel\",2,IF(Riskhistorik!X18=\"Hög\",3,0))),R16)","v":0},{"$f":"IF(Riskhistorik!Y$2<>\"Datum\",IF(Riskhistorik!Y18=\"Låg\",1,IF(Riskhistorik!Y18=\"Medel\",2,IF(Riskhistorik!Y18=\"Hög\",3,0))),S16)","v":0},{"$f":"IF(Riskhistorik!Y$2<>\"Datum\",IF(Riskhistorik!Z18=\"Låg\",1,IF(Riskhistorik!Z18=\"Medel\",2,IF(Riskhistorik!Z18=\"Hög\",3,0))),T16)","v":0},{"$f":"IF(Riskhistorik!AA$2<>\"Datum\",IF(Riskhistorik!AA18=\"Låg\",1,IF(Riskhistorik!AA18=\"Medel\",2,IF(Riskhistorik!AA18=\"Hög\",3,0))),U16)","v":0},{"$f":"IF(Riskhistorik!AA$2<>\"Datum\",IF(Riskhistorik!AB18=\"Låg\",1,IF(Riskhistorik!AB18=\"Medel\",2,IF(Riskhistorik!AB18=\"Hög\",3,0))),V16)","v":0},{"$f":"IF(Riskhistorik!AC$2<>\"Datum\",IF(Riskhistorik!AC18=\"Låg\",1,IF(Riskhistorik!AC18=\"Medel\",2,IF(Riskhistorik!AC18=\"Hög\",3,0))),W16)","v":0},{"$f":"IF(Riskhistorik!AC$2<>\"Datum\",IF(Riskhistorik!AD18=\"Låg\",1,IF(Riskhistorik!AD18=\"Medel\",2,IF(Riskhistorik!AD18=\"Hög\",3,0))),X16)","v":0},{"$f":"IF(Riskhistorik!AE$2<>\"Datum\",IF(Riskhistorik!AE18=\"Låg\",1,IF(Riskhistorik!AE18=\"Medel\",2,IF(Riskhistorik!AE18=\"Hög\",3,0))),Y16)","v":0},{"$f":"IF(Riskhistorik!AE$2<>\"Datum\",IF(Riskhistorik!AF18=\"Låg\",1,IF(Riskhistorik!AF18=\"Medel\",2,IF(Riskhistorik!AF18=\"Hög\",3,0))),Z16)","v":0},{"$f":"IF(Riskhistorik!AG$2<>\"Datum\",IF(Riskhistorik!AG18=\"Låg\",1,IF(Riskhistorik!AG18=\"Medel\",2,IF(Riskhistorik!AG18=\"Hög\",3,0))),AA16)","v":0},{"$f":"IF(Riskhistorik!AG$2<>\"Datum\",IF(Riskhistorik!AH18=\"Låg\",1,IF(Riskhistorik!AH18=\"Medel\",2,IF(Riskhistorik!AH18=\"Hög\",3,0))),AB16)","v":0},{"$f":"IF(Riskhistorik!AI$2<>\"Datum\",IF(Riskhistorik!AI18=\"Låg\",1,IF(Riskhistorik!AI18=\"Medel\",2,IF(Riskhistorik!AI18=\"Hög\",3,0))),AC16)","v":0},{"$f":"IF(Riskhistorik!AI$2<>\"Datum\",IF(Riskhistorik!AJ18=\"Låg\",1,IF(Riskhistorik!AJ18=\"Medel\",2,IF(Riskhistorik!AJ18=\"Hög\",3,0))),AD16)","v":0},{"$f":"IF(Riskhistorik!AK$2<>\"Datum\",IF(Riskhistorik!AK18=\"Låg\",1,IF(Riskhistorik!AK18=\"Medel\",2,IF(Riskhistorik!AK18=\"Hög\",3,0))),AE16)","v":0},{"$f":"IF(Riskhistorik!AK$2<>\"Datum\",IF(Riskhistorik!AL18=\"Låg\",1,IF(Riskhistorik!AL18=\"Medel\",2,IF(Riskhistorik!AL18=\"Hög\",3,0))),AF16)","v":0},{"$f":"IF(Riskhistorik!AM$2<>\"Datum\",IF(Riskhistorik!AM18=\"Låg\",1,IF(Riskhistorik!AM18=\"Medel\",2,IF(Riskhistorik!AM18=\"Hög\",3,0))),AG16)","v":0},{"$f":"IF(Riskhistorik!AM$2<>\"Datum\",IF(Riskhistorik!AN18=\"Låg\",1,IF(Riskhistorik!AN18=\"Medel\",2,IF(Riskhistorik!AN18=\"Hög\",3,0))),AH16)","v":0},{"$f":"IF(Riskhistorik!AO$2<>\"Datum\",IF(Riskhistorik!AO18=\"Låg\",1,IF(Riskhistorik!AO18=\"Medel\",2,IF(Riskhistorik!AO18=\"Hög\",3,0))),AI16)","v":0},{"$f":"IF(Riskhistorik!AO$2<>\"Datum\",IF(Riskhistorik!AP18=\"Låg\",1,IF(Riskhistorik!AP18=\"Medel\",2,IF(Riskhistorik!AP18=\"Hög\",3,0))),AJ16)","v":0},{"$f":"IF(Riskhistorik!AQ$2<>\"Datum\",IF(Riskhistorik!AQ18=\"Låg\",1,IF(Riskhistorik!AQ18=\"Medel\",2,IF(Riskhistorik!AQ18=\"Hög\",3,0))),AK16)","v":0},{"$f":"IF(Riskhistorik!AQ$2<>\"Datum\",IF(Riskhistorik!AR18=\"Låg\",1,IF(Riskhistorik!AR18=\"Medel\",2,IF(Riskhistorik!AR18=\"Hög\",3,0))),AL16)","v":0},0,0,0,0,0,0,0,0,0,0,0,0,0,0,0,0,0,0,0,0]
[{"$f":"IF(Riskhistorik!E19<>\"\",IF(Riskhistorik!E19=\"Låg\",1,IF(Riskhistorik!E19=\"Medel\",2,3)),0)","v":0},{"$f":"IF(Riskhistorik!F19<>\"\",IF(Riskhistorik!F19=\"Låg\",1,IF(Riskhistorik!F19=\"Medel\",2,3)),0)","v":0},{"$f":"IF(Riskhistorik!G$2<>\"Datum\",IF(Riskhistorik!G19=\"Låg\",1,IF(Riskhistorik!G19=\"Medel\",2,IF(Riskhistorik!G19=\"Hög\",3,0))),A17)","v":0},{"$f":"IF(Riskhistorik!G$2<>\"Datum\",IF(Riskhistorik!H19=\"Låg\",1,IF(Riskhistorik!H19=\"Medel\",2,IF(Riskhistorik!H19=\"Hög\",3,0))),B17)","v":0},{"$f":"IF(Riskhistorik!I$2<>\"Datum\",IF(Riskhistorik!I19=\"Låg\",1,IF(Riskhistorik!I19=\"Medel\",2,IF(Riskhistorik!I19=\"Hög\",3,0))),C17)","v":0},{"$f":"IF(Riskhistorik!I$2<>\"Datum\",IF(Riskhistorik!J19=\"Låg\",1,IF(Riskhistorik!J19=\"Medel\",2,IF(Riskhistorik!J19=\"Hög\",3,0))),D17)","v":0},{"$f":"IF(Riskhistorik!K$2<>\"Datum\",IF(Riskhistorik!K19=\"Låg\",1,IF(Riskhistorik!K19=\"Medel\",2,IF(Riskhistorik!K19=\"Hög\",3,0))),E17)","v":0},{"$f":"IF(Riskhistorik!K$2<>\"Datum\",IF(Riskhistorik!L19=\"Låg\",1,IF(Riskhistorik!L19=\"Medel\",2,IF(Riskhistorik!L19=\"Hög\",3,0))),F17)","v":0},{"$f":"IF(Riskhistorik!M$2<>\"Datum\",IF(Riskhistorik!M19=\"Låg\",1,IF(Riskhistorik!M19=\"Medel\",2,IF(Riskhistorik!M19=\"Hög\",3,0))),G17)","v":0},{"$f":"IF(Riskhistorik!M$2<>\"Datum\",IF(Riskhistorik!N19=\"Låg\",1,IF(Riskhistorik!N19=\"Medel\",2,IF(Riskhistorik!N19=\"Hög\",3,0))),H17)","v":0},{"$f":"IF(Riskhistorik!O$2<>\"Datum\",IF(Riskhistorik!O19=\"Låg\",1,IF(Riskhistorik!O19=\"Medel\",2,IF(Riskhistorik!O19=\"Hög\",3,0))),I17)","v":0},{"$f":"IF(Riskhistorik!O$2<>\"Datum\",IF(Riskhistorik!P19=\"Låg\",1,IF(Riskhistorik!P19=\"Medel\",2,IF(Riskhistorik!P19=\"Hög\",3,0))),J17)","v":0},{"$f":"IF(Riskhistorik!Q$2<>\"Datum\",IF(Riskhistorik!Q19=\"Låg\",1,IF(Riskhistorik!Q19=\"Medel\",2,IF(Riskhistorik!Q19=\"Hög\",3,0))),K17)","v":0},{"$f":"IF(Riskhistorik!Q$2<>\"Datum\",IF(Riskhistorik!R19=\"Låg\",1,IF(Riskhistorik!R19=\"Medel\",2,IF(Riskhistorik!R19=\"Hög\",3,0))),L17)","v":0},{"$f":"IF(Riskhistorik!S$2<>\"Datum\",IF(Riskhistorik!S19=\"Låg\",1,IF(Riskhistorik!S19=\"Medel\",2,IF(Riskhistorik!S19=\"Hög\",3,0))),M17)","v":0},{"$f":"IF(Riskhistorik!S$2<>\"Datum\",IF(Riskhistorik!T19=\"Låg\",1,IF(Riskhistorik!T19=\"Medel\",2,IF(Riskhistorik!T19=\"Hög\",3,0))),N17)","v":0},{"$f":"IF(Riskhistorik!U$2<>\"Datum\",IF(Riskhistorik!U19=\"Låg\",1,IF(Riskhistorik!U19=\"Medel\",2,IF(Riskhistorik!U19=\"Hög\",3,0))),O17)","v":0},{"$f":"IF(Riskhistorik!U$2<>\"Datum\",IF(Riskhistorik!V19=\"Låg\",1,IF(Riskhistorik!V19=\"Medel\",2,IF(Riskhistorik!V19=\"Hög\",3,0))),P17)","v":0},{"$f":"IF(Riskhistorik!W$2<>\"Datum\",IF(Riskhistorik!W19=\"Låg\",1,IF(Riskhistorik!W19=\"Medel\",2,IF(Riskhistorik!W19=\"Hög\",3,0))),Q17)","v":0},{"$f":"IF(Riskhistorik!W$2<>\"Datum\",IF(Riskhistorik!X19=\"Låg\",1,IF(Riskhistorik!X19=\"Medel\",2,IF(Riskhistorik!X19=\"Hög\",3,0))),R17)","v":0},{"$f":"IF(Riskhistorik!Y$2<>\"Datum\",IF(Riskhistorik!Y19=\"Låg\",1,IF(Riskhistorik!Y19=\"Medel\",2,IF(Riskhistorik!Y19=\"Hög\",3,0))),S17)","v":0},{"$f":"IF(Riskhistorik!Y$2<>\"Datum\",IF(Riskhistorik!Z19=\"Låg\",1,IF(Riskhistorik!Z19=\"Medel\",2,IF(Riskhistorik!Z19=\"Hög\",3,0))),T17)","v":0},{"$f":"IF(Riskhistorik!AA$2<>\"Datum\",IF(Riskhistorik!AA19=\"Låg\",1,IF(Riskhistorik!AA19=\"Medel\",2,IF(Riskhistorik!AA19=\"Hög\",3,0))),U17)","v":0},{"$f":"IF(Riskhistorik!AA$2<>\"Datum\",IF(Riskhistorik!AB19=\"Låg\",1,IF(Riskhistorik!AB19=\"Medel\",2,IF(Riskhistorik!AB19=\"Hög\",3,0))),V17)","v":0},{"$f":"IF(Riskhistorik!AC$2<>\"Datum\",IF(Riskhistorik!AC19=\"Låg\",1,IF(Riskhistorik!AC19=\"Medel\",2,IF(Riskhistorik!AC19=\"Hög\",3,0))),W17)","v":0},{"$f":"IF(Riskhistorik!AC$2<>\"Datum\",IF(Riskhistorik!AD19=\"Låg\",1,IF(Riskhistorik!AD19=\"Medel\",2,IF(Riskhistorik!AD19=\"Hög\",3,0))),X17)","v":0},{"$f":"IF(Riskhistorik!AE$2<>\"Datum\",IF(Riskhistorik!AE19=\"Låg\",1,IF(Riskhistorik!AE19=\"Medel\",2,IF(Riskhistorik!AE19=\"Hög\",3,0))),Y17)","v":0},{"$f":"IF(Riskhistorik!AE$2<>\"Datum\",IF(Riskhistorik!AF19=\"Låg\",1,IF(Riskhistorik!AF19=\"Medel\",2,IF(Riskhistorik!AF19=\"Hög\",3,0))),Z17)","v":0},{"$f":"IF(Riskhistorik!AG$2<>\"Datum\",IF(Riskhistorik!AG19=\"Låg\",1,IF(Riskhistorik!AG19=\"Medel\",2,IF(Riskhistorik!AG19=\"Hög\",3,0))),AA17)","v":0},{"$f":"IF(Riskhistorik!AG$2<>\"Datum\",IF(Riskhistorik!AH19=\"Låg\",1,IF(Riskhistorik!AH19=\"Medel\",2,IF(Riskhistorik!AH19=\"Hög\",3,0))),AB17)","v":0},{"$f":"IF(Riskhistorik!AI$2<>\"Datum\",IF(Riskhistorik!AI19=\"Låg\",1,IF(Riskhistorik!AI19=\"Medel\",2,IF(Riskhistorik!AI19=\"Hög\",3,0))),AC17)","v":0},{"$f":"IF(Riskhistorik!AI$2<>\"Datum\",IF(Riskhistorik!AJ19=\"Låg\",1,IF(Riskhistorik!AJ19=\"Medel\",2,IF(Riskhistorik!AJ19=\"Hög\",3,0))),AD17)","v":0},{"$f":"IF(Riskhistorik!AK$2<>\"Datum\",IF(Riskhistorik!AK19=\"Låg\",1,IF(Riskhistorik!AK19=\"Medel\",2,IF(Riskhistorik!AK19=\"Hög\",3,0))),AE17)","v":0},{"$f":"IF(Riskhistorik!AK$2<>\"Datum\",IF(Riskhistorik!AL19=\"Låg\",1,IF(Riskhistorik!AL19=\"Medel\",2,IF(Riskhistorik!AL19=\"Hög\",3,0))),AF17)","v":0},{"$f":"IF(Riskhistorik!AM$2<>\"Datum\",IF(Riskhistorik!AM19=\"Låg\",1,IF(Riskhistorik!AM19=\"Medel\",2,IF(Riskhistorik!AM19=\"Hög\",3,0))),AG17)","v":0},{"$f":"IF(Riskhistorik!AM$2<>\"Datum\",IF(Riskhistorik!AN19=\"Låg\",1,IF(Riskhistorik!AN19=\"Medel\",2,IF(Riskhistorik!AN19=\"Hög\",3,0))),AH17)","v":0},{"$f":"IF(Riskhistorik!AO$2<>\"Datum\",IF(Riskhistorik!AO19=\"Låg\",1,IF(Riskhistorik!AO19=\"Medel\",2,IF(Riskhistorik!AO19=\"Hög\",3,0))),AI17)","v":0},{"$f":"IF(Riskhistorik!AO$2<>\"Datum\",IF(Riskhistorik!AP19=\"Låg\",1,IF(Riskhistorik!AP19=\"Medel\",2,IF(Riskhistorik!AP19=\"Hög\",3,0))),AJ17)","v":0},{"$f":"IF(Riskhistorik!AQ$2<>\"Datum\",IF(Riskhistorik!AQ19=\"Låg\",1,IF(Riskhistorik!AQ19=\"Medel\",2,IF(Riskhistorik!AQ19=\"Hög\",3,0))),AK17)","v":0},{"$f":"IF(Riskhistorik!AQ$2<>\"Datum\",IF(Riskhistorik!AR19=\"Låg\",1,IF(Riskhistorik!AR19=\"Medel\",2,IF(Riskhistorik!AR19=\"Hög\",3,0))),AL17)","v":0},0,0,0,0,0,0,0,0,0,0,0,0,0,0,0,0,0,0,0,0]
[{"$f":"IF(Riskhistorik!E20<>\"\",IF(Riskhistorik!E20=\"Låg\",1,IF(Riskhistorik!E20=\"Medel\",2,3)),0)","v":0},{"$f":"IF(Riskhistorik!F20<>\"\",IF(Riskhistorik!F20=\"Låg\",1,IF(Riskhistorik!F20=\"Medel\",2,3)),0)","v":0},{"$f":"IF(Riskhistorik!G$2<>\"Datum\",IF(Riskhistorik!G20=\"Låg\",1,IF(Riskhistorik!G20=\"Medel\",2,IF(Riskhistorik!G20=\"Hög\",3,0))),A18)","v":0},{"$f":"IF(Riskhistorik!G$2<>\"Datum\",IF(Riskhistorik!H20=\"Låg\",1,IF(Riskhistorik!H20=\"Medel\",2,IF(Riskhistorik!H20=\"Hög\",3,0))),B18)","v":0},{"$f":"IF(Riskhistorik!I$2<>\"Datum\",IF(Riskhistorik!I20=\"Låg\",1,IF(Riskhistorik!I20=\"Medel\",2,IF(Riskhistorik!I20=\"Hög\",3,0))),C18)","v":0},{"$f":"IF(Riskhistorik!I$2<>\"Datum\",IF(Riskhistorik!J20=\"Låg\",1,IF(Riskhistorik!J20=\"Medel\",2,IF(Riskhistorik!J20=\"Hög\",3,0))),D18)","v":0},{"$f":"IF(Riskhistorik!K$2<>\"Datum\",IF(Riskhistorik!K20=\"Låg\",1,IF(Riskhistorik!K20=\"Medel\",2,IF(Riskhistorik!K20=\"Hög\",3,0))),E18)","v":0},{"$f":"IF(Riskhistorik!K$2<>\"Datum\",IF(Riskhistorik!L20=\"Låg\",1,IF(Riskhistorik!L20=\"Medel\",2,IF(Riskhistorik!L20=\"Hög\",3,0))),F18)","v":0},{"$f":"IF(Riskhistorik!M$2<>\"Datum\",IF(Riskhistorik!M20=\"Låg\",1,IF(Riskhistorik!M20=\"Medel\",2,IF(Riskhistorik!M20=\"Hög\",3,0))),G18)","v":0},{"$f":"IF(Riskhistorik!M$2<>\"Datum\",IF(Riskhistorik!N20=\"Låg\",1,IF(Riskhistorik!N20=\"Medel\",2,IF(Riskhistorik!N20=\"Hög\",3,0))),H18)","v":0},{"$f":"IF(Riskhistorik!O$2<>\"Datum\",IF(Riskhistorik!O20=\"Låg\",1,IF(Riskhistorik!O20=\"Medel\",2,IF(Riskhistorik!O20=\"Hög\",3,0))),I18)","v":0},{"$f":"IF(Riskhistorik!O$2<>\"Datum\",IF(Riskhistorik!P20=\"Låg\",1,IF(Riskhistorik!P20=\"Medel\",2,IF(Riskhistorik!P20=\"Hög\",3,0))),J18)","v":0},{"$f":"IF(Riskhistorik!Q$2<>\"Datum\",IF(Riskhistorik!Q20=\"Låg\",1,IF(Riskhistorik!Q20=\"Medel\",2,IF(Riskhistorik!Q20=\"Hög\",3,0))),K18)","v":0},{"$f":"IF(Riskhistorik!Q$2<>\"Datum\",IF(Riskhistorik!R20=\"Låg\",1,IF(Riskhistorik!R20=\"Medel\",2,IF(Riskhistorik!R20=\"Hög\",3,0))),L18)","v":0},{"$f":"IF(Riskhistorik!S$2<>\"Datum\",IF(Riskhistorik!S20=\"Låg\",1,IF(Riskhistorik!S20=\"Medel\",2,IF(Riskhistorik!S20=\"Hög\",3,0))),M18)","v":0},{"$f":"IF(Riskhistorik!S$2<>\"Datum\",IF(Riskhistorik!T20=\"Låg\",1,IF(Riskhistorik!T20=\"Medel\",2,IF(Riskhistorik!T20=\"Hög\",3,0))),N18)","v":0},{"$f":"IF(Riskhistorik!U$2<>\"Datum\",IF(Riskhistorik!U20=\"Låg\",1,IF(Riskhistorik!U20=\"Medel\",2,IF(Riskhistorik!U20=\"Hög\",3,0))),O18)","v":0},{"$f":"IF(Riskhistorik!U$2<>\"Datum\",IF(Riskhistorik!V20=\"Låg\",1,IF(Riskhistorik!V20=\"Medel\",2,IF(Riskhistorik!V20=\"Hög\",3,0))),P18)","v":0},{"$f":"IF(Riskhistorik!W$2<>\"Datum\",IF(Riskhistorik!W20=\"Låg\",1,IF(Riskhistorik!W20=\"Medel\",2,IF(Riskhistorik!W20=\"Hög\",3,0))),Q18)","v":0},{"$f":"IF(Riskhistorik!W$2<>\"Datum\",IF(Riskhistorik!X20=\"Låg\",1,IF(Riskhistorik!X20=\"Medel\",2,IF(Riskhistorik!X20=\"Hög\",3,0))),R18)","v":0},{"$f":"IF(Riskhistorik!Y$2<>\"Datum\",IF(Riskhistorik!Y20=\"Låg\",1,IF(Riskhistorik!Y20=\"Medel\",2,IF(Riskhistorik!Y20=\"Hög\",3,0))),S18)","v":0},{"$f":"IF(Riskhistorik!Y$2<>\"Datum\",IF(Riskhistorik!Z20=\"Låg\",1,IF(Riskhistorik!Z20=\"Medel\",2,IF(Riskhistorik!Z20=\"Hög\",3,0))),T18)","v":0},{"$f":"IF(Riskhistorik!AA$2<>\"Datum\",IF(Riskhistorik!AA20=\"Låg\",1,IF(Riskhistorik!AA20=\"Medel\",2,IF(Riskhistorik!AA20=\"Hög\",3,0))),U18)","v":0},{"$f":"IF(Riskhistorik!AA$2<>\"Datum\",IF(Riskhistorik!AB20=\"Låg\",1,IF(Riskhistorik!AB20=\"Medel\",2,IF(Riskhistorik!AB20=\"Hög\",3,0))),V18)","v":0},{"$f":"IF(Riskhistorik!AC$2<>\"Datum\",IF(Riskhistorik!AC20=\"Låg\",1,IF(Riskhistorik!AC20=\"Medel\",2,IF(Riskhistorik!AC20=\"Hög\",3,0))),W18)","v":0},{"$f":"IF(Riskhistorik!AC$2<>\"Datum\",IF(Riskhistorik!AD20=\"Låg\",1,IF(Riskhistorik!AD20=\"Medel\",2,IF(Riskhistorik!AD20=\"Hög\",3,0))),X18)","v":0},{"$f":"IF(Riskhistorik!AE$2<>\"Datum\",IF(Riskhistorik!AE20=\"Låg\",1,IF(Riskhistorik!AE20=\"Medel\",2,IF(Riskhistorik!AE20=\"Hög\",3,0))),Y18)","v":0},{"$f":"IF(Riskhistorik!AE$2<>\"Datum\",IF(Riskhistorik!AF20=\"Låg\",1,IF(Riskhistorik!AF20=\"Medel\",2,IF(Riskhistorik!AF20=\"Hög\",3,0))),Z18)","v":0},{"$f":"IF(Riskhistorik!AG$2<>\"Datum\",IF(Riskhistorik!AG20=\"Låg\",1,IF(Riskhistorik!AG20=\"Medel\",2,IF(Riskhistorik!AG20=\"Hög\",3,0))),AA18)","v":0},{"$f":"IF(Riskhistorik!AG$2<>\"Datum\",IF(Riskhistorik!AH20=\"Låg\",1,IF(Riskhistorik!AH20=\"Medel\",2,IF(Riskhistorik!AH20=\"Hög\",3,0))),AB18)","v":0},{"$f":"IF(Riskhistorik!AI$2<>\"Datum\",IF(Riskhistorik!AI20=\"Låg\",1,IF(Riskhistorik!AI20=\"Medel\",2,IF(Riskhistorik!AI20=\"Hög\",3,0))),AC18)","v":0},{"$f":"IF(Riskhistorik!AI$2<>\"Datum\",IF(Riskhistorik!AJ20=\"Låg\",1,IF(Riskhistorik!AJ20=\"Medel\",2,IF(Riskhistorik!AJ20=\"Hög\",3,0))),AD18)","v":0},{"$f":"IF(Riskhistorik!AK$2<>\"Datum\",IF(Riskhistorik!AK20=\"Låg\",1,IF(Riskhistorik!AK20=\"Medel\",2,IF(Riskhistorik!AK20=\"Hög\",3,0))),AE18)","v":0},{"$f":"IF(Riskhistorik!AK$2<>\"Datum\",IF(Riskhistorik!AL20=\"Låg\",1,IF(Riskhistorik!AL20=\"Medel\",2,IF(Riskhistorik!AL20=\"Hög\",3,0))),AF18)","v":0},{"$f":"IF(Riskhistorik!AM$2<>\"Datum\",IF(Riskhistorik!AM20=\"Låg\",1,IF(Riskhistorik!AM20=\"Medel\",2,IF(Riskhistorik!AM20=\"Hög\",3,0))),AG18)","v":0},{"$f":"IF(Riskhistorik!AM$2<>\"Datum\",IF(Riskhistorik!AN20=\"Låg\",1,IF(Riskhistorik!AN20=\"Medel\",2,IF(Riskhistorik!AN20=\"Hög\",3,0))),AH18)","v":0},{"$f":"IF(Riskhistorik!AO$2<>\"Datum\",IF(Riskhistorik!AO20=\"Låg\",1,IF(Riskhistorik!AO20=\"Medel\",2,IF(Riskhistorik!AO20=\"Hög\",3,0))),AI18)","v":0},{"$f":"IF(Riskhistorik!AO$2<>\"Datum\",IF(Riskhistorik!AP20=\"Låg\",1,IF(Riskhistorik!AP20=\"Medel\",2,IF(Riskhistorik!AP20=\"Hög\",3,0))),AJ18)","v":0},{"$f":"IF(Riskhistorik!AQ$2<>\"Datum\",IF(Riskhistorik!AQ20=\"Låg\",1,IF(Riskhistorik!AQ20=\"Medel\",2,IF(Riskhistorik!AQ20=\"Hög\",3,0))),AK18)","v":0},{"$f":"IF(Riskhistorik!AQ$2<>\"Datum\",IF(Riskhistorik!AR20=\"Låg\",1,IF(Riskhistorik!AR20=\"Medel\",2,IF(Riskhistorik!AR20=\"Hög\",3,0))),AL18)","v":0},0,0,0,0,0,0,0,0,0,0,0,0,0,0,0,0,0,0,0,0]
[{"$f":"IF(Riskhistorik!E21<>\"\",IF(Riskhistorik!E21=\"Låg\",1,IF(Riskhistorik!E21=\"Medel\",2,3)),0)","v":0},{"$f":"IF(Riskhistorik!F21<>\"\",IF(Riskhistorik!F21=\"Låg\",1,IF(Riskhistorik!F21=\"Medel\",2,3)),0)","v":0},{"$f":"IF(Riskhistorik!G$2<>\"Datum\",IF(Riskhistorik!G21=\"Låg\",1,IF(Riskhistorik!G21=\"Medel\",2,IF(Riskhistorik!G21=\"Hög\",3,0))),A19)","v":0},{"$f":"IF(Riskhistorik!G$2<>\"Datum\",IF(Riskhistorik!H21=\"Låg\",1,IF(Riskhistorik!H21=\"Medel\",2,IF(Riskhistorik!H21=\"Hög\",3,0))),B19)","v":0},{"$f":"IF(Riskhistorik!I$2<>\"Datum\",IF(Riskhistorik!I21=\"Låg\",1,IF(Riskhistorik!I21=\"Medel\",2,IF(Riskhistorik!I21=\"Hög\",3,0))),C19)","v":0},{"$f":"IF(Riskhistorik!I$2<>\"Datum\",IF(Riskhistorik!J21=\"Låg\",1,IF(Riskhistorik!J21=\"Medel\",2,IF(Riskhistorik!J21=\"Hög\",3,0))),D19)","v":0},{"$f":"IF(Riskhistorik!K$2<>\"Datum\",IF(Riskhistorik!K21=\"Låg\",1,IF(Riskhistorik!K21=\"Medel\",2,IF(Riskhistorik!K21=\"Hög\",3,0))),E19)","v":0},{"$f":"IF(Riskhistorik!K$2<>\"Datum\",IF(Riskhistorik!L21=\"Låg\",1,IF(Riskhistorik!L21=\"Medel\",2,IF(Riskhistorik!L21=\"Hög\",3,0))),F19)","v":0},{"$f":"IF(Riskhistorik!M$2<>\"Datum\",IF(Riskhistorik!M21=\"Låg\",1,IF(Riskhistorik!M21=\"Medel\",2,IF(Riskhistorik!M21=\"Hög\",3,0))),G19)","v":0},{"$f":"IF(Riskhistorik!M$2<>\"Datum\",IF(Riskhistorik!N21=\"Låg\",1,IF(Riskhistorik!N21=\"Medel\",2,IF(Riskhistorik!N21=\"Hög\",3,0))),H19)","v":0},{"$f":"IF(Riskhistorik!O$2<>\"Datum\",IF(Riskhistorik!O21=\"Låg\",1,IF(Riskhistorik!O21=\"Medel\",2,IF(Riskhistorik!O21=\"Hög\",3,0))),I19)","v":0},{"$f":"IF(Riskhistorik!O$2<>\"Datum\",IF(Riskhistorik!P21=\"Låg\",1,IF(Riskhistorik!P21=\"Medel\",2,IF(Riskhistorik!P21=\"Hög\",3,0))),J19)","v":0},{"$f":"IF(Riskhistorik!Q$2<>\"Datum\",IF(Riskhistorik!Q21=\"Låg\",1,IF(Riskhistorik!Q21=\"Medel\",2,IF(Riskhistorik!Q21=\"Hög\",3,0))),K19)","v":0},{"$f":"IF(Riskhistorik!Q$2<>\"Datum\",IF(Riskhistorik!R21=\"Låg\",1,IF(Riskhistorik!R21=\"Medel\",2,IF(Riskhistorik!R21=\"Hög\",3,0))),L19)","v":0},{"$f":"IF(Riskhistorik!S$2<>\"Datum\",IF(Riskhistorik!S21=\"Låg\",1,IF(Riskhistorik!S21=\"Medel\",2,IF(Riskhistorik!S21=\"Hög\",3,0))),M19)","v":0},{"$f":"IF(Riskhistorik!S$2<>\"Datum\",IF(Riskhistorik!T21=\"Låg\",1,IF(Riskhistorik!T21=\"Medel\",2,IF(Riskhistorik!T21=\"Hög\",3,0))),N19)","v":0},{"$f":"IF(Riskhistorik!U$2<>\"Datum\",IF(Riskhistorik!U21=\"Låg\",1,IF(Riskhistorik!U21=\"Medel\",2,IF(Riskhistorik!U21=\"Hög\",3,0))),O19)","v":0},{"$f":"IF(Riskhistorik!U$2<>\"Datum\",IF(Riskhistorik!V21=\"Låg\",1,IF(Riskhistorik!V21=\"Medel\",2,IF(Riskhistorik!V21=\"Hög\",3,0))),P19)","v":0},{"$f":"IF(Riskhistorik!W$2<>\"Datum\",IF(Riskhistorik!W21=\"Låg\",1,IF(Riskhistorik!W21=\"Medel\",2,IF(Riskhistorik!W21=\"Hög\",3,0))),Q19)","v":0},{"$f":"IF(Riskhistorik!W$2<>\"Datum\",IF(Riskhistorik!X21=\"Låg\",1,IF(Riskhistorik!X21=\"Medel\",2,IF(Riskhistorik!X21=\"Hög\",3,0))),R19)","v":0},{"$f":"IF(Riskhistorik!Y$2<>\"Datum\",IF(Riskhistorik!Y21=\"Låg\",1,IF(Riskhistorik!Y21=\"Medel\",2,IF(Riskhistorik!Y21=\"Hög\",3,0))),S19)","v":0},{"$f":"IF(Riskhistorik!Y$2<>\"Datum\",IF(Riskhistorik!Z21=\"Låg\",1,IF(Riskhistorik!Z21=\"Medel\",2,IF(Riskhistorik!Z21=\"Hög\",3,0))),T19)","v":0},{"$f":"IF(Riskhistorik!AA$2<>\"Datum\",IF(Riskhistorik!AA21=\"Låg\",1,IF(Riskhistorik!AA21=\"Medel\",2,IF(Riskhistorik!AA21=\"Hög\",3,0))),U19)","v":0},{"$f":"IF(Riskhistorik!AA$2<>\"Datum\",IF(Riskhistorik!AB21=\"Låg\",1,IF(Riskhistorik!AB21=\"Medel\",2,IF(Riskhistorik!AB21=\"Hög\",3,0))),V19)","v":0},{"$f":"IF(Riskhistorik!AC$2<>\"Datum\",IF(Riskhistorik!AC21=\"Låg\",1,IF(Riskhistorik!AC21=\"Medel\",2,IF(Riskhistorik!AC21=\"Hög\",3,0))),W19)","v":0},{"$f":"IF(Riskhistorik!AC$2<>\"Datum\",IF(Riskhistorik!AD21=\"Låg\",1,IF(Riskhistorik!AD21=\"Medel\",2,IF(Riskhistorik!AD21=\"Hög\",3,0))),X19)","v":0},{"$f":"IF(Riskhistorik!AE$2<>\"Datum\",IF(Riskhistorik!AE21=\"Låg\",1,IF(Riskhistorik!AE21=\"Medel\",2,IF(Riskhistorik!AE21=\"Hög\",3,0))),Y19)","v":0},{"$f":"IF(Riskhistorik!AE$2<>\"Datum\",IF(Riskhistorik!AF21=\"Låg\",1,IF(Riskhistorik!AF21=\"Medel\",2,IF(Riskhistorik!AF21=\"Hög\",3,0))),Z19)","v":0},{"$f":"IF(Riskhistorik!AG$2<>\"Datum\",IF(Riskhistorik!AG21=\"Låg\",1,IF(Riskhistorik!AG21=\"Medel\",2,IF(Riskhistorik!AG21=\"Hög\",3,0))),AA19)","v":0},{"$f":"IF(Riskhistorik!AG$2<>\"Datum\",IF(Riskhistorik!AH21=\"Låg\",1,IF(Riskhistorik!AH21=\"Medel\",2,IF(Riskhistorik!AH21=\"Hög\",3,0))),AB19)","v":0},{"$f":"IF(Riskhistorik!AI$2<>\"Datum\",IF(Riskhistorik!AI21=\"Låg\",1,IF(Riskhistorik!AI21=\"Medel\",2,IF(Riskhistorik!AI21=\"Hög\",3,0))),AC19)","v":0},{"$f":"IF(Riskhistorik!AI$2<>\"Datum\",IF(Riskhistorik!AJ21=\"Låg\",1,IF(Riskhistorik!AJ21=\"Medel\",2,IF(Riskhistorik!AJ21=\"Hög\",3,0))),AD19)","v":0},{"$f":"IF(Riskhistorik!AK$2<>\"Datum\",IF(Riskhistorik!AK21=\"Låg\",1,IF(Riskhistorik!AK21=\"Medel\",2,IF(Riskhistorik!AK21=\"Hög\",3,0))),AE19)","v":0},{"$f":"IF(Riskhistorik!AK$2<>\"Datum\",IF(Riskhistorik!AL21=\"Låg\",1,IF(Riskhistorik!AL21=\"Medel\",2,IF(Riskhistorik!AL21=\"Hög\",3,0))),AF19)","v":0},{"$f":"IF(Riskhistorik!AM$2<>\"Datum\",IF(Riskhistorik!AM21=\"Låg\",1,IF(Riskhistorik!AM21=\"Medel\",2,IF(Riskhistorik!AM21=\"Hög\",3,0))),AG19)","v":0},{"$f":"IF(Riskhistorik!AM$2<>\"Datum\",IF(Riskhistorik!AN21=\"Låg\",1,IF(Riskhistorik!AN21=\"Medel\",2,IF(Riskhistorik!AN21=\"Hög\",3,0))),AH19)","v":0},{"$f":"IF(Riskhistorik!AO$2<>\"Datum\",IF(Riskhistorik!AO21=\"Låg\",1,IF(Riskhistorik!AO21=\"Medel\",2,IF(Riskhistorik!AO21=\"Hög\",3,0))),AI19)","v":0},{"$f":"IF(Riskhistorik!AO$2<>\"Datum\",IF(Riskhistorik!AP21=\"Låg\",1,IF(Riskhistorik!AP21=\"Medel\",2,IF(Riskhistorik!AP21=\"Hög\",3,0))),AJ19)","v":0},{"$f":"IF(Riskhistorik!AQ$2<>\"Datum\",IF(Riskhistorik!AQ21=\"Låg\",1,IF(Riskhistorik!AQ21=\"Medel\",2,IF(Riskhistorik!AQ21=\"Hög\",3,0))),AK19)","v":0},{"$f":"IF(Riskhistorik!AQ$2<>\"Datum\",IF(Riskhistorik!AR21=\"Låg\",1,IF(Riskhistorik!AR21=\"Medel\",2,IF(Riskhistorik!AR21=\"Hög\",3,0))),AL19)","v":0},0,0,0,0,0,0,0,0,0,0,0,0,0,0,0,0,0,0,0,0]
[{"$f":"IF(Riskhistorik!E22<>\"\",IF(Riskhistorik!E22=\"Låg\",1,IF(Riskhistorik!E22=\"Medel\",2,3)),0)","v":0},{"$f":"IF(Riskhistorik!F22<>\"\",IF(Riskhistorik!F22=\"Låg\",1,IF(Riskhistorik!F22=\"Medel\",2,3)),0)","v":0},{"$f":"IF(Riskhistorik!G$2<>\"Datum\",IF(Riskhistorik!G22=\"Låg\",1,IF(Riskhistorik!G22=\"Medel\",2,IF(Riskhistorik!G22=\"Hög\",3,0))),A20)","v":0},{"$f":"IF(Riskhistorik!G$2<>\"Datum\",IF(Riskhistorik!H22=\"Låg\",1,IF(Riskhistorik!H22=\"Medel\",2,IF(Riskhistorik!H22=\"Hög\",3,0))),B20)","v":0},{"$f":"IF(Riskhistorik!I$2<>\"Datum\",IF(Riskhistorik!I22=\"Låg\",1,IF(Riskhistorik!I22=\"Medel\",2,IF(Riskhistorik!I22=\"Hög\",3,0))),C20)","v":0},{"$f":"IF(Riskhistorik!I$2<>\"Datum\",IF(Riskhistorik!J22=\"Låg\",1,IF(Riskhistorik!J22=\"Medel\",2,IF(Riskhistorik!J22=\"Hög\",3,0))),D20)","v":0},{"$f":"IF(Riskhistorik!K$2<>\"Datum\",IF(Riskhistorik!K22=\"Låg\",1,IF(Riskhistorik!K22=\"Medel\",2,IF(Riskhistorik!K22=\"Hög\",3,0))),E20)","v":0},{"$f":"IF(Riskhistorik!K$2<>\"Datum\",IF(Riskhistorik!L22=\"Låg\",1,IF(Riskhistorik!L22=\"Medel\",2,IF(Riskhistorik!L22=\"Hög\",3,0))),F20)","v":0},{"$f":"IF(Riskhistorik!M$2<>\"Datum\",IF(Riskhistorik!M22=\"Låg\",1,IF(Riskhistorik!M22=\"Medel\",2,IF(Riskhistorik!M22=\"Hög\",3,0))),G20)","v":0},{"$f":"IF(Riskhistorik!M$2<>\"Datum\",IF(Riskhistorik!N22=\"Låg\",1,IF(Riskhistorik!N22=\"Medel\",2,IF(Riskhistorik!N22=\"Hög\",3,0))),H20)","v":0},{"$f":"IF(Riskhistorik!O$2<>\"Datum\",IF(Riskhistorik!O22=\"Låg\",1,IF(Riskhistorik!O22=\"Medel\",2,IF(Riskhistorik!O22=\"Hög\",3,0))),I20)","v":0},{"$f":"IF(Riskhistorik!O$2<>\"Datum\",IF(Riskhistorik!P22=\"Låg\",1,IF(Riskhistorik!P22=\"Medel\",2,IF(Riskhistorik!P22=\"Hög\",3,0))),J20)","v":0},{"$f":"IF(Riskhistorik!Q$2<>\"Datum\",IF(Riskhistorik!Q22=\"Låg\",1,IF(Riskhistorik!Q22=\"Medel\",2,IF(Riskhistorik!Q22=\"Hög\",3,0))),K20)","v":0},{"$f":"IF(Riskhistorik!Q$2<>\"Datum\",IF(Riskhistorik!R22=\"Låg\",1,IF(Riskhistorik!R22=\"Medel\",2,IF(Riskhistorik!R22=\"Hög\",3,0))),L20)","v":0},{"$f":"IF(Riskhistorik!S$2<>\"Datum\",IF(Riskhistorik!S22=\"Låg\",1,IF(Riskhistorik!S22=\"Medel\",2,IF(Riskhistorik!S22=\"Hög\",3,0))),M20)","v":0},{"$f":"IF(Riskhistorik!S$2<>\"Datum\",IF(Riskhistorik!T22=\"Låg\",1,IF(Riskhistorik!T22=\"Medel\",2,IF(Riskhistorik!T22=\"Hög\",3,0))),N20)","v":0},{"$f":"IF(Riskhistorik!U$2<>\"Datum\",IF(Riskhistorik!U22=\"Låg\",1,IF(Riskhistorik!U22=\"Medel\",2,IF(Riskhistorik!U22=\"Hög\",3,0))),O20)","v":0},{"$f":"IF(Riskhistorik!U$2<>\"Datum\",IF(Riskhistorik!V22=\"Låg\",1,IF(Riskhistorik!V22=\"Medel\",2,IF(Riskhistorik!V22=\"Hög\",3,0))),P20)","v":0},{"$f":"IF(Riskhistorik!W$2<>\"Datum\",IF(Riskhistorik!W22=\"Låg\",1,IF(Riskhistorik!W22=\"Medel\",2,IF(Riskhistorik!W22=\"Hög\",3,0))),Q20)","v":0},{"$f":"IF(Riskhistorik!W$2<>\"Datum\",IF(Riskhistorik!X22=\"Låg\",1,IF(Riskhistorik!X22=\"Medel\",2,IF(Riskhistorik!X22=\"Hög\",3,0))),R20)","v":0},{"$f":"IF(Riskhistorik!Y$2<>\"Datum\",IF(Riskhistorik!Y22=\"Låg\",1,IF(Riskhistorik!Y22=\"Medel\",2,IF(Riskhistorik!Y22=\"Hög\",3,0))),S20)","v":0},{"$f":"IF(Riskhistorik!Y$2<>\"Datum\",IF(Riskhistorik!Z22=\"Låg\",1,IF(Riskhistorik!Z22=\"Medel\",2,IF(Riskhistorik!Z22=\"Hög\",3,0))),T20)","v":0},{"$f":"IF(Riskhistorik!AA$2<>\"Datum\",IF(Riskhistorik!AA22=\"Låg\",1,IF(Riskhistorik!AA22=\"Medel\",2,IF(Riskhistorik!AA22=\"Hög\",3,0))),U20)","v":0},{"$f":"IF(Riskhistorik!AA$2<>\"Datum\",IF(Riskhistorik!AB22=\"Låg\",1,IF(Riskhistorik!AB22=\"Medel\",2,IF(Riskhistorik!AB22=\"Hög\",3,0))),V20)","v":0},{"$f":"IF(Riskhistorik!AC$2<>\"Datum\",IF(Riskhistorik!AC22=\"Låg\",1,IF(Riskhistorik!AC22=\"Medel\",2,IF(Riskhistorik!AC22=\"Hög\",3,0))),W20)","v":0},{"$f":"IF(Riskhistorik!AC$2<>\"Datum\",IF(Riskhistorik!AD22=\"Låg\",1,IF(Riskhistorik!AD22=\"Medel\",2,IF(Riskhistorik!AD22=\"Hög\",3,0))),X20)","v":0},{"$f":"IF(Riskhistorik!AE$2<>\"Datum\",IF(Riskhistorik!AE22=\"Låg\",1,IF(Riskhistorik!AE22=\"Medel\",2,IF(Riskhistorik!AE22=\"Hög\",3,0))),Y20)","v":0},{"$f":"IF(Riskhistorik!AE$2<>\"Datum\",IF(Riskhistorik!AF22=\"Låg\",1,IF(Riskhistorik!AF22=\"Medel\",2,IF(Riskhistorik!AF22=\"Hög\",3,0))),Z20)","v":0},{"$f":"IF(Riskhistorik!AG$2<>\"Datum\",IF(Riskhistorik!AG22=\"Låg\",1,IF(Riskhistorik!AG22=\"Medel\",2,IF(Riskhistorik!AG22=\"Hög\",3,0))),AA20)","v":0},{"$f":"IF(Riskhistorik!AG$2<>\"Datum\",IF(Riskhistorik!AH22=\"Låg\",1,IF(Riskhistorik!AH22=\"Medel\",2,IF(Riskhistorik!AH22=\"Hög\",3,0))),AB20)","v":0},{"$f":"IF(Riskhistorik!AI$2<>\"Datum\",IF(Riskhistorik!AI22=\"Låg\",1,IF(Riskhistorik!AI22=\"Medel\",2,IF(Riskhistorik!AI22=\"Hög\",3,0))),AC20)","v":0},{"$f":"IF(Riskhistorik!AI$2<>\"Datum\",IF(Riskhistorik!AJ22=\"Låg\",1,IF(Riskhistorik!AJ22=\"Medel\",2,IF(Riskhistorik!AJ22=\"Hög\",3,0))),AD20)","v":0},{"$f":"IF(Riskhistorik!AK$2<>\"Datum\",IF(Riskhistorik!AK22=\"Låg\",1,IF(Riskhistorik!AK22=\"Medel\",2,IF(Riskhistorik!AK22=\"Hög\",3,0))),AE20)","v":0},{"$f":"IF(Riskhistorik!AK$2<>\"Datum\",IF(Riskhistorik!AL22=\"Låg\",1,IF(Riskhistorik!AL22=\"Medel\",2,IF(Riskhistorik!AL22=\"Hög\",3,0))),AF20)","v":0},{"$f":"IF(Riskhistorik!AM$2<>\"Datum\",IF(Riskhistorik!AM22=\"Låg\",1,IF(Riskhistorik!AM22=\"Medel\",2,IF(Riskhistorik!AM22=\"Hög\",3,0))),AG20)","v":0},{"$f":"IF(Riskhistorik!AM$2<>\"Datum\",IF(Riskhistorik!AN22=\"Låg\",1,IF(Riskhistorik!AN22=\"Medel\",2,IF(Riskhistorik!AN22=\"Hög\",3,0))),AH20)","v":0},{"$f":"IF(Riskhistorik!AO$2<>\"Datum\",IF(Riskhistorik!AO22=\"Låg\",1,IF(Riskhistorik!AO22=\"Medel\",2,IF(Riskhistorik!AO22=\"Hög\",3,0))),AI20)","v":0},{"$f":"IF(Riskhistorik!AO$2<>\"Datum\",IF(Riskhistorik!AP22=\"Låg\",1,IF(Riskhistorik!AP22=\"Medel\",2,IF(Riskhistorik!AP22=\"Hög\",3,0))),AJ20)","v":0},{"$f":"IF(Riskhistorik!AQ$2<>\"Datum\",IF(Riskhistorik!AQ22=\"Låg\",1,IF(Riskhistorik!AQ22=\"Medel\",2,IF(Riskhistorik!AQ22=\"Hög\",3,0))),AK20)","v":0},{"$f":"IF(Riskhistorik!AQ$2<>\"Datum\",IF(Riskhistorik!AR22=\"Låg\",1,IF(Riskhistorik!AR22=\"Medel\",2,IF(Riskhistorik!AR22=\"Hög\",3,0))),AL20)","v":0},0,0,0,0,0,0,0,0,0,0,0,0,0,0,0,0,0,0,0,0]
[{"$f":"IF(Riskhistorik!E23<>\"\",IF(Riskhistorik!E23=\"Låg\",1,IF(Riskhistorik!E23=\"Medel\",2,3)),0)","v":0},{"$f":"IF(Riskhistorik!F23<>\"\",IF(Riskhistorik!F23=\"Låg\",1,IF(Riskhistorik!F23=\"Medel\",2,3)),0)","v":0},{"$f":"IF(Riskhistorik!G$2<>\"Datum\",IF(Riskhistorik!G23=\"Låg\",1,IF(Riskhistorik!G23=\"Medel\",2,IF(Riskhistorik!G23=\"Hög\",3,0))),A21)","v":0},{"$f":"IF(Riskhistorik!G$2<>\"Datum\",IF(Riskhistorik!H23=\"Låg\",1,IF(Riskhistorik!H23=\"Medel\",2,IF(Riskhistorik!H23=\"Hög\",3,0))),B21)","v":0},{"$f":"IF(Riskhistorik!I$2<>\"Datum\",IF(Riskhistorik!I23=\"Låg\",1,IF(Riskhistorik!I23=\"Medel\",2,IF(Riskhistorik!I23=\"Hög\",3,0))),C21)","v":0},{"$f":"IF(Riskhistorik!I$2<>\"Datum\",IF(Riskhistorik!J23=\"Låg\",1,IF(Riskhistorik!J23=\"Medel\",2,IF(Riskhistorik!J23=\"Hög\",3,0))),D21)","v":0},{"$f":"IF(Riskhistorik!K$2<>\"Datum\",IF(Riskhistorik!K23=\"Låg\",1,IF(Riskhistorik!K23=\"Medel\",2,IF(Riskhistorik!K23=\"Hög\",3,0))),E21)","v":0},{"$f":"IF(Riskhistorik!K$2<>\"Datum\",IF(Riskhistorik!L23=\"Låg\",1,IF(Riskhistorik!L23=\"Medel\",2,IF(Riskhistorik!L23=\"Hög\",3,0))),F21)","v":0},{"$f":"IF(Riskhistorik!M$2<>\"Datum\",IF(Riskhistorik!M23=\"Låg\",1,IF(Riskhistorik!M23=\"Medel\",2,IF(Riskhistorik!M23=\"Hög\",3,0))),G21)","v":0},{"$f":"IF(Riskhistorik!M$2<>\"Datum\",IF(Riskhistorik!N23=\"Låg\",1,IF(Riskhistorik!N23=\"Medel\",2,IF(Riskhistorik!N23=\"Hög\",3,0))),H21)","v":0},{"$f":"IF(Riskhistorik!O$2<>\"Datum\",IF(Riskhistorik!O23=\"Låg\",1,IF(Riskhistorik!O23=\"Medel\",2,IF(Riskhistorik!O23=\"Hög\",3,0))),I21)","v":0},{"$f":"IF(Riskhistorik!O$2<>\"Datum\",IF(Riskhistorik!P23=\"Låg\",1,IF(Riskhistorik!P23=\"Medel\",2,IF(Riskhistorik!P23=\"Hög\",3,0))),J21)","v":0},{"$f":"IF(Riskhistorik!Q$2<>\"Datum\",IF(Riskhistorik!Q23=\"Låg\",1,IF(Riskhistorik!Q23=\"Medel\",2,IF(Riskhistorik!Q23=\"Hög\",3,0))),K21)","v":0},{"$f":"IF(Riskhistorik!Q$2<>\"Datum\",IF(Riskhistorik!R23=\"Låg\",1,IF(Riskhistorik!R23=\"Medel\",2,IF(Riskhistorik!R23=\"Hög\",3,0))),L21)","v":0},{"$f":"IF(Riskhistorik!S$2<>\"Datum\",IF(Riskhistorik!S23=\"Låg\",1,IF(Riskhistorik!S23=\"Medel\",2,IF(Riskhistorik!S23=\"Hög\",3,0))),M21)","v":0},{"$f":"IF(Riskhistorik!S$2<>\"Datum\",IF(Riskhistorik!T23=\"Låg\",1,IF(Riskhistorik!T23=\"Medel\",2,IF(Riskhistorik!T23=\"Hög\",3,0))),N21)","v":0},{"$f":"IF(Riskhistorik!U$2<>\"Datum\",IF(Riskhistorik!U23=\"Låg\",1,IF(Riskhistorik!U23=\"Medel\",2,IF(Riskhistorik!U23=\"Hög\",3,0))),O21)","v":0},{"$f":"IF(Riskhistorik!U$2<>\"Datum\",IF(Riskhistorik!V23=\"Låg\",1,IF(Riskhistorik!V23=\"Medel\",2,IF(Riskhistorik!V23=\"Hög\",3,0))),P21)","v":0},{"$f":"IF(Riskhistorik!W$2<>\"Datum\",IF(Riskhistorik!W23=\"Låg\",1,IF(Riskhistorik!W23=\"Medel\",2,IF(Riskhistorik!W23=\"Hög\",3,0))),Q21)","v":0},{"$f":"IF(Riskhistorik!W$2<>\"Datum\",IF(Riskhistorik!X23=\"Låg\",1,IF(Riskhistorik!X23=\"Medel\",2,IF(Riskhistorik!X23=\"Hög\",3,0))),R21)","v":0},{"$f":"IF(Riskhistorik!Y$2<>\"Datum\",IF(Riskhistorik!Y23=\"Låg\",1,IF(Riskhistorik!Y23=\"Medel\",2,IF(Riskhistorik!Y23=\"Hög\",3,0))),S21)","v":0},{"$f":"IF(Riskhistorik!Y$2<>\"Datum\",IF(Riskhistorik!Z23=\"Låg\",1,IF(Riskhistorik!Z23=\"Medel\",2,IF(Riskhistorik!Z23=\"Hög\",3,0))),T21)","v":0},{"$f":"IF(Riskhistorik!AA$2<>\"Datum\",IF(Riskhistorik!AA23=\"Låg\",1,IF(Riskhistorik!AA23=\"Medel\",2,IF(Riskhistorik!AA23=\"Hög\",3,0))),U21)","v":0},{"$f":"IF(Riskhistorik!AA$2<>\"Datum\",IF(Riskhistorik!AB23=\"Låg\",1,IF(Riskhistorik!AB23=\"Medel\",2,IF(Riskhistorik!AB23=\"Hög\",3,0))),V21)","v":0},{"$f":"IF(Riskhistorik!AC$2<>\"Datum\",IF(Riskhistorik!AC23=\"Låg\",1,IF(Riskhistorik!AC23=\"Medel\",2,IF(Riskhistorik!AC23=\"Hög\",3,0))),W21)","v":0},{"$f":"IF(Riskhistorik!AC$2<>\"Datum\",IF(Riskhistorik!AD23=\"Låg\",1,IF(Riskhistorik!AD23=\"Medel\",2,IF(Riskhistorik!AD23=\"Hög\",3,0))),X21)","v":0},{"$f":"IF(Riskhistorik!AE$2<>\"Datum\",IF(Riskhistorik!AE23=\"Låg\",1,IF(Riskhistorik!AE23=\"Medel\",2,IF(Riskhistorik!AE23=\"Hög\",3,0))),Y21)","v":0},{"$f":"IF(Riskhistorik!AE$2<>\"Datum\",IF(Riskhistorik!AF23=\"Låg\",1,IF(Riskhistorik!AF23=\"Medel\",2,IF(Riskhistorik!AF23=\"Hög\",3,0))),Z21)","v":0},{"$f":"IF(Riskhistorik!AG$2<>\"Datum\",IF(Riskhistorik!AG23=\"Låg\",1,IF(Riskhistorik!AG23=\"Medel\",2,IF(Riskhistorik!AG23=\"Hög\",3,0))),AA21)","v":0},{"$f":"IF(Riskhistorik!AG$2<>\"Datum\",IF(Riskhistorik!AH23=\"Låg\",1,IF(Riskhistorik!AH23=\"Medel\",2,IF(Riskhistorik!AH23=\"Hög\",3,0))),AB21)","v":0},{"$f":"IF(Riskhistorik!AI$2<>\"Datum\",IF(Riskhistorik!AI23=\"Låg\",1,IF(Riskhistorik!AI23=\"Medel\",2,IF(Riskhistorik!AI23=\"Hög\",3,0))),AC21)","v":0},{"$f":"IF(Riskhistorik!AI$2<>\"Datum\",IF(Riskhistorik!AJ23=\"Låg\",1,IF(Riskhistorik!AJ23=\"Medel\",2,IF(Riskhistorik!AJ23=\"Hög\",3,0))),AD21)","v":0},{"$f":"IF(Riskhistorik!AK$2<>\"Datum\",IF(Riskhistorik!AK23=\"Låg\",1,IF(Riskhistorik!AK23=\"Medel\",2,IF(Riskhistorik!AK23=\"Hög\",3,0))),AE21)","v":0},{"$f":"IF(Riskhistorik!AK$2<>\"Datum\",IF(Riskhistorik!AL23=\"Låg\",1,IF(Riskhistorik!AL23=\"Medel\",2,IF(Riskhistorik!AL23=\"Hög\",3,0))),AF21)","v":0},{"$f":"IF(Riskhistorik!AM$2<>\"Datum\",IF(Riskhistorik!AM23=\"Låg\",1,IF(Riskhistorik!AM23=\"Medel\",2,IF(Riskhistorik!AM23=\"Hög\",3,0))),AG21)","v":0},{"$f":"IF(Riskhistorik!AM$2<>\"Datum\",IF(Riskhistorik!AN23=\"Låg\",1,IF(Riskhistorik!AN23=\"Medel\",2,IF(Riskhistorik!AN23=\"Hög\",3,0))),AH21)","v":0},{"$f":"IF(Riskhistorik!AO$2<>\"Datum\",IF(Riskhistorik!AO23=\"Låg\",1,IF(Riskhistorik!AO23=\"Medel\",2,IF(Riskhistorik!AO23=\"Hög\",3,0))),AI21)","v":0},{"$f":"IF(Riskhistorik!AO$2<>\"Datum\",IF(Riskhistorik!AP23=\"Låg\",1,IF(Riskhistorik!AP23=\"Medel\",2,IF(Riskhistorik!AP23=\"Hög\",3,0))),AJ21)","v":0},{"$f":"IF(Riskhistorik!AQ$2<>\"Datum\",IF(Riskhistorik!AQ23=\"Låg\",1,IF(Riskhistorik!AQ23=\"Medel\",2,IF(Riskhistorik!AQ23=\"Hög\",3,0))),AK21)","v":0},{"$f":"IF(Riskhistorik!AQ$2<>\"Datum\",IF(Riskhistorik!AR23=\"Låg\",1,IF(Riskhistorik!AR23=\"Medel\",2,IF(Riskhistorik!AR23=\"Hög\",3,0))),AL21)","v":0},0,0,0,0,0,0,0,0,0,0,0,0,0,0,0,0,0,0,0,0]
[{"$f":"IF(Riskhistorik!E24<>\"\",IF(Riskhistorik!E24=\"Låg\",1,IF(Riskhistorik!E24=\"Medel\",2,3)),0)","v":0},{"$f":"IF(Riskhistorik!F24<>\"\",IF(Riskhistorik!F24=\"Låg\",1,IF(Riskhistorik!F24=\"Medel\",2,3)),0)","v":0},{"$f":"IF(Riskhistorik!G$2<>\"Datum\",IF(Riskhistorik!G24=\"Låg\",1,IF(Riskhistorik!G24=\"Medel\",2,IF(Riskhistorik!G24=\"Hög\",3,0))),A22)","v":0},{"$f":"IF(Riskhistorik!G$2<>\"Datum\",IF(Riskhistorik!H24=\"Låg\",1,IF(Riskhistorik!H24=\"Medel\",2,IF(Riskhistorik!H24=\"Hög\",3,0))),B22)","v":0},{"$f":"IF(Riskhistorik!I$2<>\"Datum\",IF(Riskhistorik!I24=\"Låg\",1,IF(Riskhistorik!I24=\"Medel\",2,IF(Riskhistorik!I24=\"Hög\",3,0))),C22)","v":0},{"$f":"IF(Riskhistorik!I$2<>\"Datum\",IF(Riskhistorik!J24=\"Låg\",1,IF(Riskhistorik!J24=\"Medel\",2,IF(Riskhistorik!J24=\"Hög\",3,0))),D22)","v":0},{"$f":"IF(Riskhistorik!K$2<>\"Datum\",IF(Riskhistorik!K24=\"Låg\",1,IF(Riskhistorik!K24=\"Medel\",2,IF(Riskhistorik!K24=\"Hög\",3,0))),E22)","v":0},{"$f":"IF(Riskhistorik!K$2<>\"Datum\",IF(Riskhistorik!L24=\"Låg\",1,IF(Riskhistorik!L24=\"Medel\",2,IF(Riskhistorik!L24=\"Hög\",3,0))),F22)","v":0},{"$f":"IF(Riskhistorik!M$2<>\"Datum\",IF(Riskhistorik!M24=\"Låg\",1,IF(Riskhistorik!M24=\"Medel\",2,IF(Riskhistorik!M24=\"Hög\",3,0))),G22)","v":0},{"$f":"IF(Riskhistorik!M$2<>\"Datum\",IF(Riskhistorik!N24=\"Låg\",1,IF(Riskhistorik!N24=\"Medel\",2,IF(Riskhistorik!N24=\"Hög\",3,0))),H22)","v":0},{"$f":"IF(Riskhistorik!O$2<>\"Datum\",IF(Riskhistorik!O24=\"Låg\",1,IF(Riskhistorik!O24=\"Medel\",2,IF(Riskhistorik!O24=\"Hög\",3,0))),I22)","v":0},{"$f":"IF(Riskhistorik!O$2<>\"Datum\",IF(Riskhistorik!P24=\"Låg\",1,IF(Riskhistorik!P24=\"Medel\",2,IF(Riskhistorik!P24=\"Hög\",3,0))),J22)","v":0},{"$f":"IF(Riskhistorik!Q$2<>\"Datum\",IF(Riskhistorik!Q24=\"Låg\",1,IF(Riskhistorik!Q24=\"Medel\",2,IF(Riskhistorik!Q24=\"Hög\",3,0))),K22)","v":0},{"$f":"IF(Riskhistorik!Q$2<>\"Datum\",IF(Riskhistorik!R24=\"Låg\",1,IF(Riskhistorik!R24=\"Medel\",2,IF(Riskhistorik!R24=\"Hög\",3,0))),L22)","v":0},{"$f":"IF(Riskhistorik!S$2<>\"Datum\",IF(Riskhistorik!S24=\"Låg\",1,IF(Riskhistorik!S24=\"Medel\",2,IF(Riskhistorik!S24=\"Hög\",3,0))),M22)","v":0},{"$f":"IF(Riskhistorik!S$2<>\"Datum\",IF(Riskhistorik!T24=\"Låg\",1,IF(Riskhistorik!T24=\"Medel\",2,IF(Riskhistorik!T24=\"Hög\",3,0))),N22)","v":0},{"$f":"IF(Riskhistorik!U$2<>\"Datum\",IF(Riskhistorik!U24=\"Låg\",1,IF(Riskhistorik!U24=\"Medel\",2,IF(Riskhistorik!U24=\"Hög\",3,0))),O22)","v":0},{"$f":"IF(Riskhistorik!U$2<>\"Datum\",IF(Riskhistorik!V24=\"Låg\",1,IF(Riskhistorik!V24=\"Medel\",2,IF(Riskhistorik!V24=\"Hög\",3,0))),P22)","v":0},{"$f":"IF(Riskhistorik!W$2<>\"Datum\",IF(Riskhistorik!W24=\"Låg\",1,IF(Riskhistorik!W24=\"Medel\",2,IF(Riskhistorik!W24=\"Hög\",3,0))),Q22)","v":0},{"$f":"IF(Riskhistorik!W$2<>\"Datum\",IF(Riskhistorik!X24=\"Låg\",1,IF(Riskhistorik!X24=\"Medel\",2,IF(Riskhistorik!X24=\"Hög\",3,0))),R22)","v":0},{"$f":"IF(Riskhistorik!Y$2<>\"Datum\",IF(Riskhistorik!Y24=\"Låg\",1,IF(Riskhistorik!Y24=\"Medel\",2,IF(Riskhistorik!Y24=\"Hög\",3,0))),S22)","v":0},{"$f":"IF(Riskhistorik!Y$2<>\"Datum\",IF(Riskhistorik!Z24=\"Låg\",1,IF(Riskhistorik!Z24=\"Medel\",2,IF(Riskhistorik!Z24=\"Hög\",3,0))),T22)","v":0},{"$f":"IF(Riskhistorik!AA$2<>\"Datum\",IF(Riskhistorik!AA24=\"Låg\",1,IF(Riskhistorik!AA24=\"Medel\",2,IF(Riskhistorik!AA24=\"Hög\",3,0))),U22)","v":0},{"$f":"IF(Riskhistorik!AA$2<>\"Datum\",IF(Riskhistorik!AB24=\"Låg\",1,IF(Riskhistorik!AB24=\"Medel\",2,IF(Riskhistorik!AB24=\"Hög\",3,0))),V22)","v":0},{"$f":"IF(Riskhistorik!AC$2<>\"Datum\",IF(Riskhistorik!AC24=\"Låg\",1,IF(Riskhistorik!AC24=\"Medel\",2,IF(Riskhistorik!AC24=\"Hög\",3,0))),W22)","v":0},{"$f":"IF(Riskhistorik!AC$2<>\"Datum\",IF(Riskhistorik!AD24=\"Låg\",1,IF(Riskhistorik!AD24=\"Medel\",2,IF(Riskhistorik!AD24=\"Hög\",3,0))),X22)","v":0},{"$f":"IF(Riskhistorik!AE$2<>\"Datum\",IF(Riskhistorik!AE24=\"Låg\",1,IF(Riskhistorik!AE24=\"Medel\",2,IF(Riskhistorik!AE24=\"Hög\",3,0))),Y22)","v":0},{"$f":"IF(Riskhistorik!AE$2<>\"Datum\",IF(Riskhistorik!AF24=\"Låg\",1,IF(Riskhistorik!AF24=\"Medel\",2,IF(Riskhistorik!AF24=\"Hög\",3,0))),Z22)","v":0},{"$f":"IF(Riskhistorik!AG$2<>\"Datum\",IF(Riskhistorik!AG24=\"Låg\",1,IF(Riskhistorik!AG24=\"Medel\",2,IF(Riskhistorik!AG24=\"Hög\",3,0))),AA22)","v":0},{"$f":"IF(Riskhistorik!AG$2<>\"Datum\",IF(Riskhistorik!AH24=\"Låg\",1,IF(Riskhistorik!AH24=\"Medel\",2,IF(Riskhistorik!AH24=\"Hög\",3,0))),AB22)","v":0},{"$f":"IF(Riskhistorik!AI$2<>\"Datum\",IF(Riskhistorik!AI24=\"Låg\",1,IF(Riskhistorik!AI24=\"Medel\",2,IF(Riskhistorik!AI24=\"Hög\",3,0))),AC22)","v":0},{"$f":"IF(Riskhistorik!AI$2<>\"Datum\",IF(Riskhistorik!AJ24=\"Låg\",1,IF(Riskhistorik!AJ24=\"Medel\",2,IF(Riskhistorik!AJ24=\"Hög\",3,0))),AD22)","v":0},{"$f":"IF(Riskhistorik!AK$2<>\"Datum\",IF(Riskhistorik!AK24=\"Låg\",1,IF(Riskhistorik!AK24=\"Medel\",2,IF(Riskhistorik!AK24=\"Hög\",3,0))),AE22)","v":0},{"$f":"IF(Riskhistorik!AK$2<>\"Datum\",IF(Riskhistorik!AL24=\"Låg\",1,IF(Riskhistorik!AL24=\"Medel\",2,IF(Riskhistorik!AL24=\"Hög\",3,0))),AF22)","v":0},{"$f":"IF(Riskhistorik!AM$2<>\"Datum\",IF(Riskhistorik!AM24=\"Låg\",1,IF(Riskhistorik!AM24=\"Medel\",2,IF(Riskhistorik!AM24=\"Hög\",3,0))),AG22)","v":0},{"$f":"IF(Riskhistorik!AM$2<>\"Datum\",IF(Riskhistorik!AN24=\"Låg\",1,IF(Riskhistorik!AN24=\"Medel\",2,IF(Riskhistorik!AN24=\"Hög\",3,0))),AH22)","v":0},{"$f":"IF(Riskhistorik!AO$2<>\"Datum\",IF(Riskhistorik!AO24=\"Låg\",1,IF(Riskhistorik!AO24=\"Medel\",2,IF(Riskhistorik!AO24=\"Hög\",3,0))),AI22)","v":0},{"$f":"IF(Riskhistorik!AO$2<>\"Datum\",IF(Riskhistorik!AP24=\"Låg\",1,IF(Riskhistorik!AP24=\"Medel\",2,IF(Riskhistorik!AP24=\"Hög\",3,0))),AJ22)","v":0},{"$f":"IF(Riskhistorik!AQ$2<>\"Datum\",IF(Riskhistorik!AQ24=\"Låg\",1,IF(Riskhistorik!AQ24=\"Medel\",2,IF(Riskhistorik!AQ24=\"Hög\",3,0))),AK22)","v":0},{"$f":"IF(Riskhistorik!AQ$2<>\"Datum\",IF(Riskhistorik!AR24=\"Låg\",1,IF(Riskhistorik!AR24=\"Medel\",2,IF(Riskhistorik!AR24=\"Hög\",3,0))),AL22)","v":0},0,0,0,0,0,0,0,0,0,0,0,0,0,0,0,0,0,0,0,0]
[{"$f":"IF(Riskhistorik!E25<>\"\",IF(Riskhistorik!E25=\"Låg\",1,IF(Riskhistorik!E25=\"Medel\",2,3)),0)","v":0},{"$f":"IF(Riskhistorik!F25<>\"\",IF(Riskhistorik!F25=\"Låg\",1,IF(Riskhistorik!F25=\"Medel\",2,3)),0)","v":0},{"$f":"IF(Riskhistorik!G$2<>\"Datum\",IF(Riskhistorik!G25=\"Låg\",1,IF(Riskhistorik!G25=\"Medel\",2,IF(Riskhistorik!G25=\"Hög\",3,0))),A23)","v":0},{"$f":"IF(Riskhistorik!G$2<>\"Datum\",IF(Riskhistorik!H25=\"Låg\",1,IF(Riskhistorik!H25=\"Medel\",2,IF(Riskhistorik!H25=\"Hög\",3,0))),B23)","v":0},{"$f":"IF(Riskhistorik!I$2<>\"Datum\",IF(Riskhistorik!I25=\"Låg\",1,IF(Riskhistorik!I25=\"Medel\",2,IF(Riskhistorik!I25=\"Hög\",3,0))),C23)","v":0},{"$f":"IF(Riskhistorik!I$2<>\"Datum\",IF(Riskhistorik!J25=\"Låg\",1,IF(Riskhistorik!J25=\"Medel\",2,IF(Riskhistorik!J25=\"Hög\",3,0))),D23)","v":0},{"$f":"IF(Riskhistorik!K$2<>\"Datum\",IF(Riskhistorik!K25=\"Låg\",1,IF(Riskhistorik!K25=\"Medel\",2,IF(Riskhistorik!K25=\"Hög\",3,0))),E23)","v":0},{"$f":"IF(Riskhistorik!K$2<>\"Datum\",IF(Riskhistorik!L25=\"Låg\",1,IF(Riskhistorik!L25=\"Medel\",2,IF(Riskhistorik!L25=\"Hög\",3,0))),F23)","v":0},{"$f":"IF(Riskhistorik!M$2<>\"Datum\",IF(Riskhistorik!M25=\"Låg\",1,IF(Riskhistorik!M25=\"Medel\",2,IF(Riskhistorik!M25=\"Hög\",3,0))),G23)","v":0},{"$f":"IF(Riskhistorik!M$2<>\"Datum\",IF(Riskhistorik!N25=\"Låg\",1,IF(Riskhistorik!N25=\"Medel\",2,IF(Riskhistorik!N25=\"Hög\",3,0))),H23)","v":0},{"$f":"IF(Riskhistorik!O$2<>\"Datum\",IF(Riskhistorik!O25=\"Låg\",1,IF(Riskhistorik!O25=\"Medel\",2,IF(Riskhistorik!O25=\"Hög\",3,0))),I23)","v":0},{"$f":"IF(Riskhistorik!O$2<>\"Datum\",IF(Riskhistorik!P25=\"Låg\",1,IF(Riskhistorik!P25=\"Medel\",2,IF(Riskhistorik!P25=\"Hög\",3,0))),J23)","v":0},{"$f":"IF(Riskhistorik!Q$2<>\"Datum\",IF(Riskhistorik!Q25=\"Låg\",1,IF(Riskhistorik!Q25=\"Medel\",2,IF(Riskhistorik!Q25=\"Hög\",3,0))),K23)","v":0},{"$f":"IF(Riskhistorik!Q$2<>\"Datum\",IF(Riskhistorik!R25=\"Låg\",1,IF(Riskhistorik!R25=\"Medel\",2,IF(Riskhistorik!R25=\"Hög\",3,0))),L23)","v":0},{"$f":"IF(Riskhistorik!S$2<>\"Datum\",IF(Riskhistorik!S25=\"Låg\",1,IF(Riskhistorik!S25=\"Medel\",2,IF(Riskhistorik!S25=\"Hög\",3,0))),M23)","v":0},{"$f":"IF(Riskhistorik!S$2<>\"Datum\",IF(Riskhistorik!T25=\"Låg\",1,IF(Riskhistorik!T25=\"Medel\",2,IF(Riskhistorik!T25=\"Hög\",3,0))),N23)","v":0},{"$f":"IF(Riskhistorik!U$2<>\"Datum\",IF(Riskhistorik!U25=\"Låg\",1,IF(Riskhistorik!U25=\"Medel\",2,IF(Riskhistorik!U25=\"Hög\",3,0))),O23)","v":0},{"$f":"IF(Riskhistorik!U$2<>\"Datum\",IF(Riskhistorik!V25=\"Låg\",1,IF(Riskhistorik!V25=\"Medel\",2,IF(Riskhistorik!V25=\"Hög\",3,0))),P23)","v":0},{"$f":"IF(Riskhistorik!W$2<>\"Datum\",IF(Riskhistorik!W25=\"Låg\",1,IF(Riskhistorik!W25=\"Medel\",2,IF(Riskhistorik!W25=\"Hög\",3,0))),Q23)","v":0},{"$f":"IF(Riskhistorik!W$2<>\"Datum\",IF(Riskhistorik!X25=\"Låg\",1,IF(Riskhistorik!X25=\"Medel\",2,IF(Riskhistorik!X25=\"Hög\",3,0))),R23)","v":0},{"$f":"IF(Riskhistorik!Y$2<>\"Datum\",IF(Riskhistorik!Y25=\"Låg\",1,IF(Riskhistorik!Y25=\"Medel\",2,IF(Riskhistorik!Y25=\"Hög\",3,0))),S23)","v":0},{"$f":"IF(Riskhistorik!Y$2<>\"Datum\",IF(Riskhistorik!Z25=\"Låg\",1,IF(Riskhistorik!Z25=\"Medel\",2,IF(Riskhistorik!Z25=\"Hög\",3,0))),T23)","v":0},{"$f":"IF(Riskhistorik!AA$2<>\"Datum\",IF(Riskhistorik!AA25=\"Låg\",1,IF(Riskhistorik!AA25=\"Medel\",2,IF(Riskhistorik!AA25=\"Hög\",3,0))),U23)","v":0},{"$f":"IF(Riskhistorik!AA$2<>\"Datum\",IF(Riskhistorik!AB25=\"Låg\",1,IF(Riskhistorik!AB25=\"Medel\",2,IF(Riskhistorik!AB25=\"Hög\",3,0))),V23)","v":0},{"$f":"IF(Riskhistorik!AC$2<>\"Datum\",IF(Riskhistorik!AC25=\"Låg\",1,IF(Riskhistorik!AC25=\"Medel\",2,IF(Riskhistorik!AC25=\"Hög\",3,0))),W23)","v":0},{"$f":"IF(Riskhistorik!AC$2<>\"Datum\",IF(Riskhistorik!AD25=\"Låg\",1,IF(Riskhistorik!AD25=\"Medel\",2,IF(Riskhistorik!AD25=\"Hög\",3,0))),X23)","v":0},{"$f":"IF(Riskhistorik!AE$2<>\"Datum\",IF(Riskhistorik!AE25=\"Låg\",1,IF(Riskhistorik!AE25=\"Medel\",2,IF(Riskhistorik!AE25=\"Hög\",3,0))),Y23)","v":0},{"$f":"IF(Riskhistorik!AE$2<>\"Datum\",IF(Riskhistorik!AF25=\"Låg\",1,IF(Riskhistorik!AF25=\"Medel\",2,IF(Riskhistorik!AF25=\"Hög\",3,0))),Z23)","v":0},{"$f":"IF(Riskhistorik!AG$2<>\"Datum\",IF(Riskhistorik!AG25=\"Låg\",1,IF(Riskhistorik!AG25=\"Medel\",2,IF(Riskhistorik!AG25=\"Hög\",3,0))),AA23)","v":0},{"$f":"IF(Riskhistorik!AG$2<>\"Datum\",IF(Riskhistorik!AH25=\"Låg\",1,IF(Riskhistorik!AH25=\"Medel\",2,IF(Riskhistorik!AH25=\"Hög\",3,0))),AB23)","v":0},{"$f":"IF(Riskhistorik!AI$2<>\"Datum\",IF(Riskhistorik!AI25=\"Låg\",1,IF(Riskhistorik!AI25=\"Medel\",2,IF(Riskhistorik!AI25=\"Hög\",3,0))),AC23)","v":0},{"$f":"IF(Riskhistorik!AI$2<>\"Datum\",IF(Riskhistorik!AJ25=\"Låg\",1,IF(Riskhistorik!AJ25=\"Medel\",2,IF(Riskhistorik!AJ25=\"Hög\",3,0))),AD23)","v":0},{"$f":"IF(Riskhistorik!AK$2<>\"Datum\",IF(Riskhistorik!AK25=\"Låg\",1,IF(Riskhistorik!AK25=\"Medel\",2,IF(Riskhistorik!AK25=\"Hög\",3,0))),AE23)","v":0},{"$f":"IF(Riskhistorik!AK$2<>\"Datum\",IF(Riskhistorik!AL25=\"Låg\",1,IF(Riskhistorik!AL25=\"Medel\",2,IF(Riskhistorik!AL25=\"Hög\",3,0))),AF23)","v":0},{"$f":"IF(Riskhistorik!AM$2<>\"Datum\",IF(Riskhistorik!AM25=\"Låg\",1,IF(Riskhistorik!AM25=\"Medel\",2,IF(Riskhistorik!AM25=\"Hög\",3,0))),AG23)","v":0},{"$f":"IF(Riskhistorik!AM$2<>\"Datum\",IF(Riskhistorik!AN25=\"Låg\",1,IF(Riskhistorik!AN25=\"Medel\",2,IF(Riskhistorik!AN25=\"Hög\",3,0))),AH23)","v":0},{"$f":"IF(Riskhistorik!AO$2<>\"Datum\",IF(Riskhistorik!AO25=\"Låg\",1,IF(Riskhistorik!AO25=\"Medel\",2,IF(Riskhistorik!AO25=\"Hög\",3,0))),AI23)","v":0},{"$f":"IF(Riskhistorik!AO$2<>\"Datum\",IF(Riskhistorik!AP25=\"Låg\",1,IF(Riskhistorik!AP25=\"Medel\",2,IF(Riskhistorik!AP25=\"Hög\",3,0))),AJ23)","v":0},{"$f":"IF(Riskhistorik!AQ$2<>\"Datum\",IF(Riskhistorik!AQ25=\"Låg\",1,IF(Riskhistorik!AQ25=\"Medel\",2,IF(Riskhistorik!AQ25=\"Hög\",3,0))),AK23)","v":0},{"$f":"IF(Riskhistorik!AQ$2<>\"Datum\",IF(Riskhistorik!AR25=\"Låg\",1,IF(Riskhistorik!AR25=\"Medel\",2,IF(Riskhistorik!AR25=\"Hög\",3,0))),AL23)","v":0},0,0,0,0,0,0,0,0,0,0,0,0,0,0,0,0,0,0,0,0]
[{"$f":"IF(Riskhistorik!E26<>\"\",IF(Riskhistorik!E26=\"Låg\",1,IF(Riskhistorik!E26=\"Medel\",2,3)),0)","v":0},{"$f":"IF(Riskhistorik!F26<>\"\",IF(Riskhistorik!F26=\"Låg\",1,IF(Riskhistorik!F26=\"Medel\",2,3)),0)","v":0},{"$f":"IF(Riskhistorik!G$2<>\"Datum\",IF(Riskhistorik!G26=\"Låg\",1,IF(Riskhistorik!G26=\"Medel\",2,IF(Riskhistorik!G26=\"Hög\",3,0))),A24)","v":0},{"$f":"IF(Riskhistorik!G$2<>\"Datum\",IF(Riskhistorik!H26=\"Låg\",1,IF(Riskhistorik!H26=\"Medel\",2,IF(Riskhistorik!H26=\"Hög\",3,0))),B24)","v":0},{"$f":"IF(Riskhistorik!I$2<>\"Datum\",IF(Riskhistorik!I26=\"Låg\",1,IF(Riskhistorik!I26=\"Medel\",2,IF(Riskhistorik!I26=\"Hög\",3,0))),C24)","v":0},{"$f":"IF(Riskhistorik!I$2<>\"Datum\",IF(Riskhistorik!J26=\"Låg\",1,IF(Riskhistorik!J26=\"Medel\",2,IF(Riskhistorik!J26=\"Hög\",3,0))),D24)","v":0},{"$f":"IF(Riskhistorik!K$2<>\"Datum\",IF(Riskhistorik!K26=\"Låg\",1,IF(Riskhistorik!K26=\"Medel\",2,IF(Riskhistorik!K26=\"Hög\",3,0))),E24)","v":0},{"$f":"IF(Riskhistorik!K$2<>\"Datum\",IF(Riskhistorik!L26=\"Låg\",1,IF(Riskhistorik!L26=\"Medel\",2,IF(Riskhistorik!L26=\"Hög\",3,0))),F24)","v":0},{"$f":"IF(Riskhistorik!M$2<>\"Datum\",IF(Riskhistorik!M26=\"Låg\",1,IF(Riskhistorik!M26=\"Medel\",2,IF(Riskhistorik!M26=\"Hög\",3,0))),G24)","v":0},{"$f":"IF(Riskhistorik!M$2<>\"Datum\",IF(Riskhistorik!N26=\"Låg\",1,IF(Riskhistorik!N26=\"Medel\",2,IF(Riskhistorik!N26=\"Hög\",3,0))),H24)","v":0},{"$f":"IF(Riskhistorik!O$2<>\"Datum\",IF(Riskhistorik!O26=\"Låg\",1,IF(Riskhistorik!O26=\"Medel\",2,IF(Riskhistorik!O26=\"Hög\",3,0))),I24)","v":0},{"$f":"IF(Riskhistorik!O$2<>\"Datum\",IF(Riskhistorik!P26=\"Låg\",1,IF(Riskhistorik!P26=\"Medel\",2,IF(Riskhistorik!P26=\"Hög\",3,0))),J24)","v":0},{"$f":"IF(Riskhistorik!Q$2<>\"Datum\",IF(Riskhistorik!Q26=\"Låg\",1,IF(Riskhistorik!Q26=\"Medel\",2,IF(Riskhistorik!Q26=\"Hög\",3,0))),K24)","v":0},{"$f":"IF(Riskhistorik!Q$2<>\"Datum\",IF(Riskhistorik!R26=\"Låg\",1,IF(Riskhistorik!R26=\"Medel\",2,IF(Riskhistorik!R26=\"Hög\",3,0))),L24)","v":0},{"$f":"IF(Riskhistorik!S$2<>\"Datum\",IF(Riskhistorik!S26=\"Låg\",1,IF(Riskhistorik!S26=\"Medel\",2,IF(Riskhistorik!S26=\"Hög\",3,0))),M24)","v":0},{"$f":"IF(Riskhistorik!S$2<>\"Datum\",IF(Riskhistorik!T26=\"Låg\",1,IF(Riskhistorik!T26=\"Medel\",2,IF(Riskhistorik!T26=\"Hög\",3,0))),N24)","v":0},{"$f":"IF(Riskhistorik!U$2<>\"Datum\",IF(Riskhistorik!U26=\"Låg\",1,IF(Riskhistorik!U26=\"Medel\",2,IF(Riskhistorik!U26=\"Hög\",3,0))),O24)","v":0},{"$f":"IF(Riskhistorik!U$2<>\"Datum\",IF(Riskhistorik!V26=\"Låg\",1,IF(Riskhistorik!V26=\"Medel\",2,IF(Riskhistorik!V26=\"Hög\",3,0))),P24)","v":0},{"$f":"IF(Riskhistorik!W$2<>\"Datum\",IF(Riskhistorik!W26=\"Låg\",1,IF(Riskhistorik!W26=\"Medel\",2,IF(Riskhistorik!W26=\"Hög\",3,0))),Q24)","v":0},{"$f":"IF(Riskhistorik!W$2<>\"Datum\",IF(Riskhistorik!X26=\"Låg\",1,IF(Riskhistorik!X26=\"Medel\",2,IF(Riskhistorik!X26=\"Hög\",3,0))),R24)","v":0},{"$f":"IF(Riskhistorik!Y$2<>\"Datum\",IF(Riskhistorik!Y26=\"Låg\",1,IF(Riskhistorik!Y26=\"Medel\",2,IF(Riskhistorik!Y26=\"Hög\",3,0))),S24)","v":0},{"$f":"IF(Riskhistorik!Y$2<>\"Datum\",IF(Riskhistorik!Z26=\"Låg\",1,IF(Riskhistorik!Z26=\"Medel\",2,IF(Riskhistorik!Z26=\"Hög\",3,0))),T24)","v":0},{"$f":"IF(Riskhistorik!AA$2<>\"Datum\",IF(Riskhistorik!AA26=\"Låg\",1,IF(Riskhistorik!AA26=\"Medel\",2,IF(Riskhistorik!AA26=\"Hög\",3,0))),U24)","v":0},{"$f":"IF(Riskhistorik!AA$2<>\"Datum\",IF(Riskhistorik!AB26=\"Låg\",1,IF(Riskhistorik!AB26=\"Medel\",2,IF(Riskhistorik!AB26=\"Hög\",3,0))),V24)","v":0},{"$f":"IF(Riskhistorik!AC$2<>\"Datum\",IF(Riskhistorik!AC26=\"Låg\",1,IF(Riskhistorik!AC26=\"Medel\",2,IF(Riskhistorik!AC26=\"Hög\",3,0))),W24)","v":0},{"$f":"IF(Riskhistorik!AC$2<>\"Datum\",IF(Riskhistorik!AD26=\"Låg\",1,IF(Riskhistorik!AD26=\"Medel\",2,IF(Riskhistorik!AD26=\"Hög\",3,0))),X24)","v":0},{"$f":"IF(Riskhistorik!AE$2<>\"Datum\",IF(Riskhistorik!AE26=\"Låg\",1,IF(Riskhistorik!AE26=\"Medel\",2,IF(Riskhistorik!AE26=\"Hög\",3,0))),Y24)","v":0},{"$f":"IF(Riskhistorik!AE$2<>\"Datum\",IF(Riskhistorik!AF26=\"Låg\",1,IF(Riskhistorik!AF26=\"Medel\",2,IF(Riskhistorik!AF26=\"Hög\",3,0))),Z24)","v":0},{"$f":"IF(Riskhistorik!AG$2<>\"Datum\",IF(Riskhistorik!AG26=\"Låg\",1,IF(Riskhistorik!AG26=\"Medel\",2,IF(Riskhistorik!AG26=\"Hög\",3,0))),AA24)","v":0},{"$f":"IF(Riskhistorik!AG$2<>\"Datum\",IF(Riskhistorik!AH26=\"Låg\",1,IF(Riskhistorik!AH26=\"Medel\",2,IF(Riskhistorik!AH26=\"Hög\",3,0))),AB24)","v":0},{"$f":"IF(Riskhistorik!AI$2<>\"Datum\",IF(Riskhistorik!AI26=\"Låg\",1,IF(Riskhistorik!AI26=\"Medel\",2,IF(Riskhistorik!AI26=\"Hög\",3,0))),AC24)","v":0},{"$f":"IF(Riskhistorik!AI$2<>\"Datum\",IF(Riskhistorik!AJ26=\"Låg\",1,IF(Riskhistorik!AJ26=\"Medel\",2,IF(Riskhistorik!AJ26=\"Hög\",3,0))),AD24)","v":0},{"$f":"IF(Riskhistorik!AK$2<>\"Datum\",IF(Riskhistorik!AK26=\"Låg\",1,IF(Riskhistorik!AK26=\"Medel\",2,IF(Riskhistorik!AK26=\"Hög\",3,0))),AE24)","v":0},{"$f":"IF(Riskhistorik!AK$2<>\"Datum\",IF(Riskhistorik!AL26=\"Låg\",1,IF(Riskhistorik!AL26=\"Medel\",2,IF(Riskhistorik!AL26=\"Hög\",3,0))),AF24)","v":0},{"$f":"IF(Riskhistorik!AM$2<>\"Datum\",IF(Riskhistorik!AM26=\"Låg\",1,IF(Riskhistorik!AM26=\"Medel\",2,IF(Riskhistorik!AM26=\"Hög\",3,0))),AG24)","v":0},{"$f":"IF(Riskhistorik!AM$2<>\"Datum\",IF(Riskhistorik!AN26=\"Låg\",1,IF(Riskhistorik!AN26=\"Medel\",2,IF(Riskhistorik!AN26=\"Hög\",3,0))),AH24)","v":0},{"$f":"IF(Riskhistorik!AO$2<>\"Datum\",IF(Riskhistorik!AO26=\"Låg\",1,IF(Riskhistorik!AO26=\"Medel\",2,IF(Riskhistorik!AO26=\"Hög\",3,0))),AI24)","v":0},{"$f":"IF(Riskhistorik!AO$2<>\"Datum\",IF(Riskhistorik!AP26=\"Låg\",1,IF(Riskhistorik!AP26=\"Medel\",2,IF(Riskhistorik!AP26=\"Hög\",3,0))),AJ24)","v":0},{"$f":"IF(Riskhistorik!AQ$2<>\"Datum\",IF(Riskhistorik!AQ26=\"Låg\",1,IF(Riskhistorik!AQ26=\"Medel\",2,IF(Riskhistorik!AQ26=\"Hög\",3,0))),AK24)","v":0},{"$f":"IF(Riskhistorik!AQ$2<>\"Datum\",IF(Riskhistorik!AR26=\"Låg\",1,IF(Riskhistorik!AR26=\"Medel\",2,IF(Riskhistorik!AR26=\"Hög\",3,0))),AL24)","v":0},0,0,0,0,0,0,0,0,0,0,0,0,0,0,0,0,0,0,0,0]
[{"$f":"IF(Riskhistorik!E27<>\"\",IF(Riskhistorik!E27=\"Låg\",1,IF(Riskhistorik!E27=\"Medel\",2,3)),0)","v":0},{"$f":"IF(Riskhistorik!F27<>\"\",IF(Riskhistorik!F27=\"Låg\",1,IF(Riskhistorik!F27=\"Medel\",2,3)),0)","v":0},{"$f":"IF(Riskhistorik!G$2<>\"Datum\",IF(Riskhistorik!G27=\"Låg\",1,IF(Riskhistorik!G27=\"Medel\",2,IF(Riskhistorik!G27=\"Hög\",3,0))),A25)","v":0},{"$f":"IF(Riskhistorik!G$2<>\"Datum\",IF(Riskhistorik!H27=\"Låg\",1,IF(Riskhistorik!H27=\"Medel\",2,IF(Riskhistorik!H27=\"Hög\",3,0))),B25)","v":0},{"$f":"IF(Riskhistorik!I$2<>\"Datum\",IF(Riskhistorik!I27=\"Låg\",1,IF(Riskhistorik!I27=\"Medel\",2,IF(Riskhistorik!I27=\"Hög\",3,0))),C25)","v":0},{"$f":"IF(Riskhistorik!I$2<>\"Datum\",IF(Riskhistorik!J27=\"Låg\",1,IF(Riskhistorik!J27=\"Medel\",2,IF(Riskhistorik!J27=\"Hög\",3,0))),D25)","v":0},{"$f":"IF(Riskhistorik!K$2<>\"Datum\",IF(Riskhistorik!K27=\"Låg\",1,IF(Riskhistorik!K27=\"Medel\",2,IF(Riskhistorik!K27=\"Hög\",3,0))),E25)","v":0},{"$f":"IF(Riskhistorik!K$2<>\"Datum\",IF(Riskhistorik!L27=\"Låg\",1,IF(Riskhistorik!L27=\"Medel\",2,IF(Riskhistorik!L27=\"Hög\",3,0))),F25)","v":0},{"$f":"IF(Riskhistorik!M$2<>\"Datum\",IF(Riskhistorik!M27=\"Låg\",1,IF(Riskhistorik!M27=\"Medel\",2,IF(Riskhistorik!M27=\"Hög\",3,0))),G25)","v":0},{"$f":"IF(Riskhistorik!M$2<>\"Datum\",IF(Riskhistorik!N27=\"Låg\",1,IF(Riskhistorik!N27=\"Medel\",2,IF(Riskhistorik!N27=\"Hög\",3,0))),H25)","v":0},{"$f":"IF(Riskhistorik!O$2<>\"Datum\",IF(Riskhistorik!O27=\"Låg\",1,IF(Riskhistorik!O27=\"Medel\",2,IF(Riskhistorik!O27=\"Hög\",3,0))),I25)","v":0},{"$f":"IF(Riskhistorik!O$2<>\"Datum\",IF(Riskhistorik!P27=\"Låg\",1,IF(Riskhistorik!P27=\"Medel\",2,IF(Riskhistorik!P27=\"Hög\",3,0))),J25)","v":0},{"$f":"IF(Riskhistorik!Q$2<>\"Datum\",IF(Riskhistorik!Q27=\"Låg\",1,IF(Riskhistorik!Q27=\"Medel\",2,IF(Riskhistorik!Q27=\"Hög\",3,0))),K25)","v":0},{"$f":"IF(Riskhistorik!Q$2<>\"Datum\",IF(Riskhistorik!R27=\"Låg\",1,IF(Riskhistorik!R27=\"Medel\",2,IF(Riskhistorik!R27=\"Hög\",3,0))),L25)","v":0},{"$f":"IF(Riskhistorik!S$2<>\"Datum\",IF(Riskhistorik!S27=\"Låg\",1,IF(Riskhistorik!S27=\"Medel\",2,IF(Riskhistorik!S27=\"Hög\",3,0))),M25)","v":0},{"$f":"IF(Riskhistorik!S$2<>\"Datum\",IF(Riskhistorik!T27=\"Låg\",1,IF(Riskhistorik!T27=\"Medel\",2,IF(Riskhistorik!T27=\"Hög\",3,0))),N25)","v":0},{"$f":"IF(Riskhistorik!U$2<>\"Datum\",IF(Riskhistorik!U27=\"Låg\",1,IF(Riskhistorik!U27=\"Medel\",2,IF(Riskhistorik!U27=\"Hög\",3,0))),O25)","v":0},{"$f":"IF(Riskhistorik!U$2<>\"Datum\",IF(Riskhistorik!V27=\"Låg\",1,IF(Riskhistorik!V27=\"Medel\",2,IF(Riskhistorik!V27=\"Hög\",3,0))),P25)","v":0},{"$f":"IF(Riskhistorik!W$2<>\"Datum\",IF(Riskhistorik!W27=\"Låg\",1,IF(Riskhistorik!W27=\"Medel\",2,IF(Riskhistorik!W27=\"Hög\",3,0))),Q25)","v":0},{"$f":"IF(Riskhistorik!W$2<>\"Datum\",IF(Riskhistorik!X27=\"Låg\",1,IF(Riskhistorik!X27=\"Medel\",2,IF(Riskhistorik!X27=\"Hög\",3,0))),R25)","v":0},{"$f":"IF(Riskhistorik!Y$2<>\"Datum\",IF(Riskhistorik!Y27=\"Låg\",1,IF(Riskhistorik!Y27=\"Medel\",2,IF(Riskhistorik!Y27=\"Hög\",3,0))),S25)","v":0},{"$f":"IF(Riskhistorik!Y$2<>\"Datum\",IF(Riskhistorik!Z27=\"Låg\",1,IF(Riskhistorik!Z27=\"Medel\",2,IF(Riskhistorik!Z27=\"Hög\",3,0))),T25)","v":0},{"$f":"IF(Riskhistorik!AA$2<>\"Datum\",IF(Riskhistorik!AA27=\"Låg\",1,IF(Riskhistorik!AA27=\"Medel\",2,IF(Riskhistorik!AA27=\"Hög\",3,0))),U25)","v":0},{"$f":"IF(Riskhistorik!AA$2<>\"Datum\",IF(Riskhistorik!AB27=\"Låg\",1,IF(Riskhistorik!AB27=\"Medel\",2,IF(Riskhistorik!AB27=\"Hög\",3,0))),V25)","v":0},{"$f":"IF(Riskhistorik!AC$2<>\"Datum\",IF(Riskhistorik!AC27=\"Låg\",1,IF(Riskhistorik!AC27=\"Medel\",2,IF(Riskhistorik!AC27=\"Hög\",3,0))),W25)","v":0},{"$f":"IF(Riskhistorik!AC$2<>\"Datum\",IF(Riskhistorik!AD27=\"Låg\",1,IF(Riskhistorik!AD27=\"Medel\",2,IF(Riskhistorik!AD27=\"Hög\",3,0))),X25)","v":0},{"$f":"IF(Riskhistorik!AE$2<>\"Datum\",IF(Riskhistorik!AE27=\"Låg\",1,IF(Riskhistorik!AE27=\"Medel\",2,IF(Riskhistorik!AE27=\"Hög\",3,0))),Y25)","v":0},{"$f":"IF(Riskhistorik!AE$2<>\"Datum\",IF(Riskhistorik!AF27=\"Låg\",1,IF(Riskhistorik!AF27=\"Medel\",2,IF(Riskhistorik!AF27=\"Hög\",3,0))),Z25)","v":0},{"$f":"IF(Riskhistorik!AG$2<>\"Datum\",IF(Riskhistorik!AG27=\"Låg\",1,IF(Riskhistorik!AG27=\"Medel\",2,IF(Riskhistorik!AG27=\"Hög\",3,0))),AA25)","v":0},{"$f":"IF(Riskhistorik!AG$2<>\"Datum\",IF(Riskhistorik!AH27=\"Låg\",1,IF(Riskhistorik!AH27=\"Medel\",2,IF(Riskhistorik!AH27=\"Hög\",3,0))),AB25)","v":0},{"$f":"IF(Riskhistorik!AI$2<>\"Datum\",IF(Riskhistorik!AI27=\"Låg\",1,IF(Riskhistorik!AI27=\"Medel\",2,IF(Riskhistorik!AI27=\"Hög\",3,0))),AC25)","v":0},{"$f":"IF(Riskhistorik!AI$2<>\"Datum\",IF(Riskhistorik!AJ27=\"Låg\",1,IF(Riskhistorik!AJ27=\"Medel\",2,IF(Riskhistorik!AJ27=\"Hög\",3,0))),AD25)","v":0},{"$f":"IF(Riskhistorik!AK$2<>\"Datum\",IF(Riskhistorik!AK27=\"Låg\",1,IF(Riskhistorik!AK27=\"Medel\",2,IF(Riskhistorik!AK27=\"Hög\",3,0))),AE25)","v":0},{"$f":"IF(Riskhistorik!AK$2<>\"Datum\",IF(Riskhistorik!AL27=\"Låg\",1,IF(Riskhistorik!AL27=\"Medel\",2,IF(Riskhistorik!AL27=\"Hög\",3,0))),AF25)","v":0},{"$f":"IF(Riskhistorik!AM$2<>\"Datum\",IF(Riskhistorik!AM27=\"Låg\",1,IF(Riskhistorik!AM27=\"Medel\",2,IF(Riskhistorik!AM27=\"Hög\",3,0))),AG25)","v":0},{"$f":"IF(Riskhistorik!AM$2<>\"Datum\",IF(Riskhistorik!AN27=\"Låg\",1,IF(Riskhistorik!AN27=\"Medel\",2,IF(Riskhistorik!AN27=\"Hög\",3,0))),AH25)","v":0},{"$f":"IF(Riskhistorik!AO$2<>\"Datum\",IF(Riskhistorik!AO27=\"Låg\",1,IF(Riskhistorik!AO27=\"Medel\",2,IF(Riskhistorik!AO27=\"Hög\",3,0))),AI25)","v":0},{"$f":"IF(Riskhistorik!AO$2<>\"Datum\",IF(Riskhistorik!AP27=\"Låg\",1,IF(Riskhistorik!AP27=\"Medel\",2,IF(Riskhistorik!AP27=\"Hög\",3,0))),AJ25)","v":0},{"$f":"IF(Riskhistorik!AQ$2<>\"Datum\",IF(Riskhistorik!AQ27=\"Låg\",1,IF(Riskhistorik!AQ27=\"Medel\",2,IF(Riskhistorik!AQ27=\"Hög\",3,0))),AK25)","v":0},{"$f":"IF(Riskhistorik!AQ$2<>\"Datum\",IF(Riskhistorik!AR27=\"Låg\",1,IF(Riskhistorik!AR27=\"Medel\",2,IF(Riskhistorik!AR27=\"Hög\",3,0))),AL25)","v":0},0,0,0,0,0,0,0,0,0,0,0,0,0,0,0,0,0,0,0,0]
[{"$f":"IF(Riskhistorik!E28<>\"\",IF(Riskhistorik!E28=\"Låg\",1,IF(Riskhistorik!E28=\"Medel\",2,3)),0)","v":0},{"$f":"IF(Riskhistorik!F28<>\"\",IF(Riskhistorik!F28=\"Låg\",1,IF(Riskhistorik!F28=\"Medel\",2,3)),0)","v":0},{"$f":"IF(Riskhistorik!G$2<>\"Datum\",IF(Riskhistorik!G28=\"Låg\",1,IF(Riskhistorik!G28=\"Medel\",2,IF(Riskhistorik!G28=\"Hög\",3,0))),A26)","v":0},{"$f":"IF(Riskhistorik!G$2<>\"Datum\",IF(Riskhistorik!H28=\"Låg\",1,IF(Riskhistorik!H28=\"Medel\",2,IF(Riskhistorik!H28=\"Hög\",3,0))),B26)","v":0},{"$f":"IF(Riskhistorik!I$2<>\"Datum\",IF(Riskhistorik!I28=\"Låg\",1,IF(Riskhistorik!I28=\"Medel\",2,IF(Riskhistorik!I28=\"Hög\",3,0))),C26)","v":0},{"$f":"IF(Riskhistorik!I$2<>\"Datum\",IF(Riskhistorik!J28=\"Låg\",1,IF(Riskhistorik!J28=\"Medel\",2,IF(Riskhistorik!J28=\"Hög\",3,0))),D26)","v":0},{"$f":"IF(Riskhistorik!K$2<>\"Datum\",IF(Riskhistorik!K28=\"Låg\",1,IF(Riskhistorik!K28=\"Medel\",2,IF(Riskhistorik!K28=\"Hög\",3,0))),E26)","v":0},{"$f":"IF(Riskhistorik!K$2<>\"Datum\",IF(Riskhistorik!L28=\"Låg\",1,IF(Riskhistorik!L28=\"Medel\",2,IF(Riskhistorik!L28=\"Hög\",3,0))),F26)","v":0},{"$f":"IF(Riskhistorik!M$2<>\"Datum\",IF(Riskhistorik!M28=\"Låg\",1,IF(Riskhistorik!M28=\"Medel\",2,IF(Riskhistorik!M28=\"Hög\",3,0))),G26)","v":0},{"$f":"IF(Riskhistorik!M$2<>\"Datum\",IF(Riskhistorik!N28=\"Låg\",1,IF(Riskhistorik!N28=\"Medel\",2,IF(Riskhistorik!N28=\"Hög\",3,0))),H26)","v":0},{"$f":"IF(Riskhistorik!O$2<>\"Datum\",IF(Riskhistorik!O28=\"Låg\",1,IF(Riskhistorik!O28=\"Medel\",2,IF(Riskhistorik!O28=\"Hög\",3,0))),I26)","v":0},{"$f":"IF(Riskhistorik!O$2<>\"Datum\",IF(Riskhistorik!P28=\"Låg\",1,IF(Riskhistorik!P28=\"Medel\",2,IF(Riskhistorik!P28=\"Hög\",3,0))),J26)","v":0},{"$f":"IF(Riskhistorik!Q$2<>\"Datum\",IF(Riskhistorik!Q28=\"Låg\",1,IF(Riskhistorik!Q28=\"Medel\",2,IF(Riskhistorik!Q28=\"Hög\",3,0))),K26)","v":0},{"$f":"IF(Riskhistorik!Q$2<>\"Datum\",IF(Riskhistorik!R28=\"Låg\",1,IF(Riskhistorik!R28=\"Medel\",2,IF(Riskhistorik!R28=\"Hög\",3,0))),L26)","v":0},{"$f":"IF(Riskhistorik!S$2<>\"Datum\",IF(Riskhistorik!S28=\"Låg\",1,IF(Riskhistorik!S28=\"Medel\",2,IF(Riskhistorik!S28=\"Hög\",3,0))),M26)","v":0},{"$f":"IF(Riskhistorik!S$2<>\"Datum\",IF(Riskhistorik!T28=\"Låg\",1,IF(Riskhistorik!T28=\"Medel\",2,IF(Riskhistorik!T28=\"Hög\",3,0))),N26)","v":0},{"$f":"IF(Riskhistorik!U$2<>\"Datum\",IF(Riskhistorik!U28=\"Låg\",1,IF(Riskhistorik!U28=\"Medel\",2,IF(Riskhistorik!U28=\"Hög\",3,0))),O26)","v":0},{"$f":"IF(Riskhistorik!U$2<>\"Datum\",IF(Riskhistorik!V28=\"Låg\",1,IF(Riskhistorik!V28=\"Medel\",2,IF(Riskhistorik!V28=\"Hög\",3,0))),P26)","v":0},{"$f":"IF(Riskhistorik!W$2<>\"Datum\",IF(Riskhistorik!W28=\"Låg\",1,IF(Riskhistorik!W28=\"Medel\",2,IF(Riskhistorik!W28=\"Hög\",3,0))),Q26)","v":0},{"$f":"IF(Riskhistorik!W$2<>\"Datum\",IF(Riskhistorik!X28=\"Låg\",1,IF(Riskhistorik!X28=\"Medel\",2,IF(Riskhistorik!X28=\"Hög\",3,0))),R26)","v":0},{"$f":"IF(Riskhistorik!Y$2<>\"Datum\",IF(Riskhistorik!Y28=\"Låg\",1,IF(Riskhistorik!Y28=\"Medel\",2,IF(Riskhistorik!Y28=\"Hög\",3,0))),S26)","v":0},{"$f":"IF(Riskhistorik!Y$2<>\"Datum\",IF(Riskhistorik!Z28=\"Låg\",1,IF(Riskhistorik!Z28=\"Medel\",2,IF(Riskhistorik!Z28=\"Hög\",3,0))),T26)","v":0},{"$f":"IF(Riskhistorik!AA$2<>\"Datum\",IF(Riskhistorik!AA28=\"Låg\",1,IF(Riskhistorik!AA28=\"Medel\",2,IF(Riskhistorik!AA28=\"Hög\",3,0))),U26)","v":0},{"$f":"IF(Riskhistorik!AA$2<>\"Datum\",IF(Riskhistorik!AB28=\"Låg\",1,IF(Riskhistorik!AB28=\"Medel\",2,IF(Riskhistorik!AB28=\"Hög\",3,0))),V26)","v":0},{"$f":"IF(Riskhistorik!AC$2<>\"Datum\",IF(Riskhistorik!AC28=\"Låg\",1,IF(Riskhistorik!AC28=\"Medel\",2,IF(Riskhistorik!AC28=\"Hög\",3,0))),W26)","v":0},{"$f":"IF(Riskhistorik!AC$2<>\"Datum\",IF(Riskhistorik!AD28=\"Låg\",1,IF(Riskhistorik!AD28=\"Medel\",2,IF(Riskhistorik!AD28=\"Hög\",3,0))),X26)","v":0},{"$f":"IF(Riskhistorik!AE$2<>\"Datum\",IF(Riskhistorik!AE28=\"Låg\",1,IF(Riskhistorik!AE28=\"Medel\",2,IF(Riskhistorik!AE28=\"Hög\",3,0))),Y26)","v":0},{"$f":"IF(Riskhistorik!AE$2<>\"Datum\",IF(Riskhistorik!AF28=\"Låg\",1,IF(Riskhistorik!AF28=\"Medel\",2,IF(Riskhistorik!AF28=\"Hög\",3,0))),Z26)","v":0},{"$f":"IF(Riskhistorik!AG$2<>\"Datum\",IF(Riskhistorik!AG28=\"Låg\",1,IF(Riskhistorik!AG28=\"Medel\",2,IF(Riskhistorik!AG28=\"Hög\",3,0))),AA26)","v":0},{"$f":"IF(Riskhistorik!AG$2<>\"Datum\",IF(Riskhistorik!AH28=\"Låg\",1,IF(Riskhistorik!AH28=\"Medel\",2,IF(Riskhistorik!AH28=\"Hög\",3,0))),AB26)","v":0},{"$f":"IF(Riskhistorik!AI$2<>\"Datum\",IF(Riskhistorik!AI28=\"Låg\",1,IF(Riskhistorik!AI28=\"Medel\",2,IF(Riskhistorik!AI28=\"Hög\",3,0))),AC26)","v":0},{"$f":"IF(Riskhistorik!AI$2<>\"Datum\",IF(Riskhistorik!AJ28=\"Låg\",1,IF(Riskhistorik!AJ28=\"Medel\",2,IF(Riskhistorik!AJ28=\"Hög\",3,0))),AD26)","v":0},{"$f":"IF(Riskhistorik!AK$2<>\"Datum\",IF(Riskhistorik!AK28=\"Låg\",1,IF(Riskhistorik!AK28=\"Medel\",2,IF(Riskhistorik!AK28=\"Hög\",3,0))),AE26)","v":0},{"$f":"IF(Riskhistorik!AK$2<>\"Datum\",IF(Riskhistorik!AL28=\"Låg\",1,IF(Riskhistorik!AL28=\"Medel\",2,IF(Riskhistorik!AL28=\"Hög\",3,0))),AF26)","v":0},{"$f":"IF(Riskhistorik!AM$2<>\"Datum\",IF(Riskhistorik!AM28=\"Låg\",1,IF(Riskhistorik!AM28=\"Medel\",2,IF(Riskhistorik!AM28=\"Hög\",3,0))),AG26)","v":0},{"$f":"IF(Riskhistorik!AM$2<>\"Datum\",IF(Riskhistorik!AN28=\"Låg\",1,IF(Riskhistorik!AN28=\"Medel\",2,IF(Riskhistorik!AN28=\"Hög\",3,0))),AH26)","v":0},{"$f":"IF(Riskhistorik!AO$2<>\"Datum\",IF(Riskhistorik!AO28=\"Låg\",1,IF(Riskhistorik!AO28=\"Medel\",2,IF(Riskhistorik!AO28=\"Hög\",3,0))),AI26)","v":0},{"$f":"IF(Riskhistorik!AO$2<>\"Datum\",IF(Riskhistorik!AP28=\"Låg\",1,IF(Riskhistorik!AP28=\"Medel\",2,IF(Riskhistorik!AP28=\"Hög\",3,0))),AJ26)","v":0},{"$f":"IF(Riskhistorik!AQ$2<>\"Datum\",IF(Riskhistorik!AQ28=\"Låg\",1,IF(Riskhistorik!AQ28=\"Medel\",2,IF(Riskhistorik!AQ28=\"Hög\",3,0))),AK26)","v":0},{"$f":"IF(Riskhistorik!AQ$2<>\"Datum\",IF(Riskhistorik!AR28=\"Låg\",1,IF(Riskhistorik!AR28=\"Medel\",2,IF(Riskhistorik!AR28=\"Hög\",3,0))),AL26)","v":0},0,0,0,0,0,0,0,0,0,0,0,0,0,0,0,0,0,0,0,0]
[{"$f":"IF(Riskhistorik!E29<>\"\",IF(Riskhistorik!E29=\"Låg\",1,IF(Riskhistorik!E29=\"Medel\",2,3)),0)","v":0},{"$f":"IF(Riskhistorik!F29<>\"\",IF(Riskhistorik!F29=\"Låg\",1,IF(Riskhistorik!F29=\"Medel\",2,3)),0)","v":0},{"$f":"IF(Riskhistorik!G$2<>\"Datum\",IF(Riskhistorik!G29=\"Låg\",1,IF(Riskhistorik!G29=\"Medel\",2,IF(Riskhistorik!G29=\"Hög\",3,0))),A27)","v":0},{"$f":"IF(Riskhistorik!G$2<>\"Datum\",IF(Riskhistorik!H29=\"Låg\",1,IF(Riskhistorik!H29=\"Medel\",2,IF(Riskhistorik!H29=\"Hög\",3,0))),B27)","v":0},{"$f":"IF(Riskhistorik!I$2<>\"Datum\",IF(Riskhistorik!I29=\"Låg\",1,IF(Riskhistorik!I29=\"Medel\",2,IF(Riskhistorik!I29=\"Hög\",3,0))),C27)","v":0},{"$f":"IF(Riskhistorik!I$2<>\"Datum\",IF(Riskhistorik!J29=\"Låg\",1,IF(Riskhistorik!J29=\"Medel\",2,IF(Riskhistorik!J29=\"Hög\",3,0))),D27)","v":0},{"$f":"IF(Riskhistorik!K$2<>\"Datum\",IF(Riskhistorik!K29=\"Låg\",1,IF(Riskhistorik!K29=\"Medel\",2,IF(Riskhistorik!K29=\"Hög\",3,0))),E27)","v":0},{"$f":"IF(Riskhistorik!K$2<>\"Datum\",IF(Riskhistorik!L29=\"Låg\",1,IF(Riskhistorik!L29=\"Medel\",2,IF(Riskhistorik!L29=\"Hög\",3,0))),F27)","v":0},{"$f":"IF(Riskhistorik!M$2<>\"Datum\",IF(Riskhistorik!M29=\"Låg\",1,IF(Riskhistorik!M29=\"Medel\",2,IF(Riskhistorik!M29=\"Hög\",3,0))),G27)","v":0},{"$f":"IF(Riskhistorik!M$2<>\"Datum\",IF(Riskhistorik!N29=\"Låg\",1,IF(Riskhistorik!N29=\"Medel\",2,IF(Riskhistorik!N29=\"Hög\",3,0))),H27)","v":0},{"$f":"IF(Riskhistorik!O$2<>\"Datum\",IF(Riskhistorik!O29=\"Låg\",1,IF(Riskhistorik!O29=\"Medel\",2,IF(Riskhistorik!O29=\"Hög\",3,0))),I27)","v":0},{"$f":"IF(Riskhistorik!O$2<>\"Datum\",IF(Riskhistorik!P29=\"Låg\",1,IF(Riskhistorik!P29=\"Medel\",2,IF(Riskhistorik!P29=\"Hög\",3,0))),J27)","v":0},{"$f":"IF(Riskhistorik!Q$2<>\"Datum\",IF(Riskhistorik!Q29=\"Låg\",1,IF(Riskhistorik!Q29=\"Medel\",2,IF(Riskhistorik!Q29=\"Hög\",3,0))),K27)","v":0},{"$f":"IF(Riskhistorik!Q$2<>\"Datum\",IF(Riskhistorik!R29=\"Låg\",1,IF(Riskhistorik!R29=\"Medel\",2,IF(Riskhistorik!R29=\"Hög\",3,0))),L27)","v":0},{"$f":"IF(Riskhistorik!S$2<>\"Datum\",IF(Riskhistorik!S29=\"Låg\",1,IF(Riskhistorik!S29=\"Medel\",2,IF(Riskhistorik!S29=\"Hög\",3,0))),M27)","v":0},{"$f":"IF(Riskhistorik!S$2<>\"Datum\",IF(Riskhistorik!T29=\"Låg\",1,IF(Riskhistorik!T29=\"Medel\",2,IF(Riskhistorik!T29=\"Hög\",3,0))),N27)","v":0},{"$f":"IF(Riskhistorik!U$2<>\"Datum\",IF(Riskhistorik!U29=\"Låg\",1,IF(Riskhistorik!U29=\"Medel\",2,IF(Riskhistorik!U29=\"Hög\",3,0))),O27)","v":0},{"$f":"IF(Riskhistorik!U$2<>\"Datum\",IF(Riskhistorik!V29=\"Låg\",1,IF(Riskhistorik!V29=\"Medel\",2,IF(Riskhistorik!V29=\"Hög\",3,0))),P27)","v":0},{"$f":"IF(Riskhistorik!W$2<>\"Datum\",IF(Riskhistorik!W29=\"Låg\",1,IF(Riskhistorik!W29=\"Medel\",2,IF(Riskhistorik!W29=\"Hög\",3,0))),Q27)","v":0},{"$f":"IF(Riskhistorik!W$2<>\"Datum\",IF(Riskhistorik!X29=\"Låg\",1,IF(Riskhistorik!X29=\"Medel\",2,IF(Riskhistorik!X29=\"Hög\",3,0))),R27)","v":0},{"$f":"IF(Riskhistorik!Y$2<>\"Datum\",IF(Riskhistorik!Y29=\"Låg\",1,IF(Riskhistorik!Y29=\"Medel\",2,IF(Riskhistorik!Y29=\"Hög\",3,0))),S27)","v":0},{"$f":"IF(Riskhistorik!Y$2<>\"Datum\",IF(Riskhistorik!Z29=\"Låg\",1,IF(Riskhistorik!Z29=\"Medel\",2,IF(Riskhistorik!Z29=\"Hög\",3,0))),T27)","v":0},{"$f":"IF(Riskhistorik!AA$2<>\"Datum\",IF(Riskhistorik!AA29=\"Låg\",1,IF(Riskhistorik!AA29=\"Medel\",2,IF(Riskhistorik!AA29=\"Hög\",3,0))),U27)","v":0},{"$f":"IF(Riskhistorik!AA$2<>\"Datum\",IF(Riskhistorik!AB29=\"Låg\",1,IF(Riskhistorik!AB29=\"Medel\",2,IF(Riskhistorik!AB29=\"Hög\",3,0))),V27)","v":0},{"$f":"IF(Riskhistorik!AC$2<>\"Datum\",IF(Riskhistorik!AC29=\"Låg\",1,IF(Riskhistorik!AC29=\"Medel\",2,IF(Riskhistorik!AC29=\"Hög\",3,0))),W27)","v":0},{"$f":"IF(Riskhistorik!AC$2<>\"Datum\",IF(Riskhistorik!AD29=\"Låg\",1,IF(Riskhistorik!AD29=\"Medel\",2,IF(Riskhistorik!AD29=\"Hög\",3,0))),X27)","v":0},{"$f":"IF(Riskhistorik!AE$2<>\"Datum\",IF(Riskhistorik!AE29=\"Låg\",1,IF(Riskhistorik!AE29=\"Medel\",2,IF(Riskhistorik!AE29=\"Hög\",3,0))),Y27)","v":0},{"$f":"IF(Riskhistorik!AE$2<>\"Datum\",IF(Riskhistorik!AF29=\"Låg\",1,IF(Riskhistorik!AF29=\"Medel\",2,IF(Riskhistorik!AF29=\"Hög\",3,0))),Z27)","v":0},{"$f":"IF(Riskhistorik!AG$2<>\"Datum\",IF(Riskhistorik!AG29=\"Låg\",1,IF(Riskhistorik!AG29=\"Medel\",2,IF(Riskhistorik!AG29=\"Hög\",3,0))),AA27)","v":0},{"$f":"IF(Riskhistorik!AG$2<>\"Datum\",IF(Riskhistorik!AH29=\"Låg\",1,IF(Riskhistorik!AH29=\"Medel\",2,IF(Riskhistorik!AH29=\"Hög\",3,0))),AB27)","v":0},{"$f":"IF(Riskhistorik!AI$2<>\"Datum\",IF(Riskhistorik!AI29=\"Låg\",1,IF(Riskhistorik!AI29=\"Medel\",2,IF(Riskhistorik!AI29=\"Hög\",3,0))),AC27)","v":0},{"$f":"IF(Riskhistorik!AI$2<>\"Datum\",IF(Riskhistorik!AJ29=\"Låg\",1,IF(Riskhistorik!AJ29=\"Medel\",2,IF(Riskhistorik!AJ29=\"Hög\",3,0))),AD27)","v":0},{"$f":"IF(Riskhistorik!AK$2<>\"Datum\",IF(Riskhistorik!AK29=\"Låg\",1,IF(Riskhistorik!AK29=\"Medel\",2,IF(Riskhistorik!AK29=\"Hög\",3,0))),AE27)","v":0},{"$f":"IF(Riskhistorik!AK$2<>\"Datum\",IF(Riskhistorik!AL29=\"Låg\",1,IF(Riskhistorik!AL29=\"Medel\",2,IF(Riskhistorik!AL29=\"Hög\",3,0))),AF27)","v":0},{"$f":"IF(Riskhistorik!AM$2<>\"Datum\",IF(Riskhistorik!AM29=\"Låg\",1,IF(Riskhistorik!AM29=\"Medel\",2,IF(Riskhistorik!AM29=\"Hög\",3,0))),AG27)","v":0},{"$f":"IF(Riskhistorik!AM$2<>\"Datum\",IF(Riskhistorik!AN29=\"Låg\",1,IF(Riskhistorik!AN29=\"Medel\",2,IF(Riskhistorik!AN29=\"Hög\",3,0))),AH27)","v":0},{"$f":"IF(Riskhistorik!AO$2<>\"Datum\",IF(Riskhistorik!AO29=\"Låg\",1,IF(Riskhistorik!AO29=\"Medel\",2,IF(Riskhistorik!AO29=\"Hög\",3,0))),AI27)","v":0},{"$f":"IF(Riskhistorik!AO$2<>\"Datum\",IF(Riskhistorik!AP29=\"Låg\",1,IF(Riskhistorik!AP29=\"Medel\",2,IF(Riskhistorik!AP29=\"Hög\",3,0))),AJ27)","v":0},{"$f":"IF(Riskhistorik!AQ$2<>\"Datum\",IF(Riskhistorik!AQ29=\"Låg\",1,IF(Riskhistorik!AQ29=\"Medel\",2,IF(Riskhistorik!AQ29=\"Hög\",3,0))),AK27)","v":0},{"$f":"IF(Riskhistorik!AQ$2<>\"Datum\",IF(Riskhistorik!AR29=\"Låg\",1,IF(Riskhistorik!AR29=\"Medel\",2,IF(Riskhistorik!AR29=\"Hög\",3,0))),AL27)","v":0},0,0,0,0,0,0,0,0,0,0,0,0,0,0,0,0,0,0,0,0]
[{"$f":"IF(Riskhistorik!E30<>\"\",IF(Riskhistorik!E30=\"Låg\",1,IF(Riskhistorik!E30=\"Medel\",2,3)),0)","v":0},{"$f":"IF(Riskhistorik!F30<>\"\",IF(Riskhistorik!F30=\"Låg\",1,IF(Riskhistorik!F30=\"Medel\",2,3)),0)","v":0},{"$f":"IF(Riskhistorik!G$2<>\"Datum\",IF(Riskhistorik!G30=\"Låg\",1,IF(Riskhistorik!G30=\"Medel\",2,IF(Riskhistorik!G30=\"Hög\",3,0))),A28)","v":0},{"$f":"IF(Riskhistorik!G$2<>\"Datum\",IF(Riskhistorik!H30=\"Låg\",1,IF(Riskhistorik!H30=\"Medel\",2,IF(Riskhistorik!H30=\"Hög\",3,0))),B28)","v":0},{"$f":"IF(Riskhistorik!I$2<>\"Datum\",IF(Riskhistorik!I30=\"Låg\",1,IF(Riskhistorik!I30=\"Medel\",2,IF(Riskhistorik!I30=\"Hög\",3,0))),C28)","v":0},{"$f":"IF(Riskhistorik!I$2<>\"Datum\",IF(Riskhistorik!J30=\"Låg\",1,IF(Riskhistorik!J30=\"Medel\",2,IF(Riskhistorik!J30=\"Hög\",3,0))),D28)","v":0},{"$f":"IF(Riskhistorik!K$2<>\"Datum\",IF(Riskhistorik!K30=\"Låg\",1,IF(Riskhistorik!K30=\"Medel\",2,IF(Riskhistorik!K30=\"Hög\",3,0))),E28)","v":0},{"$f":"IF(Riskhistorik!K$2<>\"Datum\",IF(Riskhistorik!L30=\"Låg\",1,IF(Riskhistorik!L30=\"Medel\",2,IF(Riskhistorik!L30=\"Hög\",3,0))),F28)","v":0},{"$f":"IF(Riskhistorik!M$2<>\"Datum\",IF(Riskhistorik!M30=\"Låg\",1,IF(Riskhistorik!M30=\"Medel\",2,IF(Riskhistorik!M30=\"Hög\",3,0))),G28)","v":0},{"$f":"IF(Riskhistorik!M$2<>\"Datum\",IF(Riskhistorik!N30=\"Låg\",1,IF(Riskhistorik!N30=\"Medel\",2,IF(Riskhistorik!N30=\"Hög\",3,0))),H28)","v":0},{"$f":"IF(Riskhistorik!O$2<>\"Datum\",IF(Riskhistorik!O30=\"Låg\",1,IF(Riskhistorik!O30=\"Medel\",2,IF(Riskhistorik!O30=\"Hög\",3,0))),I28)","v":0},{"$f":"IF(Riskhistorik!O$2<>\"Datum\",IF(Riskhistorik!P30=\"Låg\",1,IF(Riskhistorik!P30=\"Medel\",2,IF(Riskhistorik!P30=\"Hög\",3,0))),J28)","v":0},{"$f":"IF(Riskhistorik!Q$2<>\"Datum\",IF(Riskhistorik!Q30=\"Låg\",1,IF(Riskhistorik!Q30=\"Medel\",2,IF(Riskhistorik!Q30=\"Hög\",3,0))),K28)","v":0},{"$f":"IF(Riskhistorik!Q$2<>\"Datum\",IF(Riskhistorik!R30=\"Låg\",1,IF(Riskhistorik!R30=\"Medel\",2,IF(Riskhistorik!R30=\"Hög\",3,0))),L28)","v":0},{"$f":"IF(Riskhistorik!S$2<>\"Datum\",IF(Riskhistorik!S30=\"Låg\",1,IF(Riskhistorik!S30=\"Medel\",2,IF(Riskhistorik!S30=\"Hög\",3,0))),M28)","v":0},{"$f":"IF(Riskhistorik!S$2<>\"Datum\",IF(Riskhistorik!T30=\"Låg\",1,IF(Riskhistorik!T30=\"Medel\",2,IF(Riskhistorik!T30=\"Hög\",3,0))),N28)","v":0},{"$f":"IF(Riskhistorik!U$2<>\"Datum\",IF(Riskhistorik!U30=\"Låg\",1,IF(Riskhistorik!U30=\"Medel\",2,IF(Riskhistorik!U30=\"Hög\",3,0))),O28)","v":0},{"$f":"IF(Riskhistorik!U$2<>\"Datum\",IF(Riskhistorik!V30=\"Låg\",1,IF(Riskhistorik!V30=\"Medel\",2,IF(Riskhistorik!V30=\"Hög\",3,0))),P28)","v":0},{"$f":"IF(Riskhistorik!W$2<>\"Datum\",IF(Riskhistorik!W30=\"Låg\",1,IF(Riskhistorik!W30=\"Medel\",2,IF(Riskhistorik!W30=\"Hög\",3,0))),Q28)","v":0},{"$f":"IF(Riskhistorik!W$2<>\"Datum\",IF(Riskhistorik!X30=\"Låg\",1,IF(Riskhistorik!X30=\"Medel\",2,IF(Riskhistorik!X30=\"Hög\",3,0))),R28)","v":0},{"$f":"IF(Riskhistorik!Y$2<>\"Datum\",IF(Riskhistorik!Y30=\"Låg\",1,IF(Riskhistorik!Y30=\"Medel\",2,IF(Riskhistorik!Y30=\"Hög\",3,0))),S28)","v":0},{"$f":"IF(Riskhistorik!Y$2<>\"Datum\",IF(Riskhistorik!Z30=\"Låg\",1,IF(Riskhistorik!Z30=\"Medel\",2,IF(Riskhistorik!Z30=\"Hög\",3,0))),T28)","v":0},{"$f":"IF(Riskhistorik!AA$2<>\"Datum\",IF(Riskhistorik!AA30=\"Låg\",1,IF(Riskhistorik!AA30=\"Medel\",2,IF(Riskhistorik!AA30=\"Hög\",3,0))),U28)","v":0},{"$f":"IF(Riskhistorik!AA$2<>\"Datum\",IF(Riskhistorik!AB30=\"Låg\",1,IF(Riskhistorik!AB30=\"Medel\",2,IF(Riskhistorik!AB30=\"Hög\",3,0))),V28)","v":0},{"$f":"IF(Riskhistorik!AC$2<>\"Datum\",IF(Riskhistorik!AC30=\"Låg\",1,IF(Riskhistorik!AC30=\"Medel\",2,IF(Riskhistorik!AC30=\"Hög\",3,0))),W28)","v":0},{"$f":"IF(Riskhistorik!AC$2<>\"Datum\",IF(Riskhistorik!AD30=\"Låg\",1,IF(Riskhistorik!AD30=\"Medel\",2,IF(Riskhistorik!AD30=\"Hög\",3,0))),X28)","v":0},{"$f":"IF(Riskhistorik!AE$2<>\"Datum\",IF(Riskhistorik!AE30=\"Låg\",1,IF(Riskhistorik!AE30=\"Medel\",2,IF(Riskhistorik!AE30=\"Hög\",3,0))),Y28)","v":0},{"$f":"IF(Riskhistorik!AE$2<>\"Datum\",IF(Riskhistorik!AF30=\"Låg\",1,IF(Riskhistorik!AF30=\"Medel\",2,IF(Riskhistorik!AF30=\"Hög\",3,0))),Z28)","v":0},{"$f":"IF(Riskhistorik!AG$2<>\"Datum\",IF(Riskhistorik!AG30=\"Låg\",1,IF(Riskhistorik!AG30=\"Medel\",2,IF(Riskhistorik!AG30=\"Hög\",3,0))),AA28)","v":0},{"$f":"IF(Riskhistorik!AG$2<>\"Datum\",IF(Riskhistorik!AH30=\"Låg\",1,IF(Riskhistorik!AH30=\"Medel\",2,IF(Riskhistorik!AH30=\"Hög\",3,0))),AB28)","v":0},{"$f":"IF(Riskhistorik!AI$2<>\"Datum\",IF(Riskhistorik!AI30=\"Låg\",1,IF(Riskhistorik!AI30=\"Medel\",2,IF(Riskhistorik!AI30=\"Hög\",3,0))),AC28)","v":0},{"$f":"IF(Riskhistorik!AI$2<>\"Datum\",IF(Riskhistorik!AJ30=\"Låg\",1,IF(Riskhistorik!AJ30=\"Medel\",2,IF(Riskhistorik!AJ30=\"Hög\",3,0))),AD28)","v":0},{"$f":"IF(Riskhistorik!AK$2<>\"Datum\",IF(Riskhistorik!AK30=\"Låg\",1,IF(Riskhistorik!AK30=\"Medel\",2,IF(Riskhistorik!AK30=\"Hög\",3,0))),AE28)","v":0},{"$f":"IF(Riskhistorik!AK$2<>\"Datum\",IF(Riskhistorik!AL30=\"Låg\",1,IF(Riskhistorik!AL30=\"Medel\",2,IF(Riskhistorik!AL30=\"Hög\",3,0))),AF28)","v":0},{"$f":"IF(Riskhistorik!AM$2<>\"Datum\",IF(Riskhistorik!AM30=\"Låg\",1,IF(Riskhistorik!AM30=\"Medel\",2,IF(Riskhistorik!AM30=\"Hög\",3,0))),AG28)","v":0},{"$f":"IF(Riskhistorik!AM$2<>\"Datum\",IF(Riskhistorik!AN30=\"Låg\",1,IF(Riskhistorik!AN30=\"Medel\",2,IF(Riskhistorik!AN30=\"Hög\",3,0))),AH28)","v":0},{"$f":"IF(Riskhistorik!AO$2<>\"Datum\",IF(Riskhistorik!AO30=\"Låg\",1,IF(Riskhistorik!AO30=\"Medel\",2,IF(Riskhistorik!AO30=\"Hög\",3,0))),AI28)","v":0},{"$f":"IF(Riskhistorik!AO$2<>\"Datum\",IF(Riskhistorik!AP30=\"Låg\",1,IF(Riskhistorik!AP30=\"Medel\",2,IF(Riskhistorik!AP30=\"Hög\",3,0))),AJ28)","v":0},{"$f":"IF(Riskhistorik!AQ$2<>\"Datum\",IF(Riskhistorik!AQ30=\"Låg\",1,IF(Riskhistorik!AQ30=\"Medel\",2,IF(Riskhistorik!AQ30=\"Hög\",3,0))),AK28)","v":0},{"$f":"IF(Riskhistorik!AQ$2<>\"Datum\",IF(Riskhistorik!AR30=\"Låg\",1,IF(Riskhistorik!AR30=\"Medel\",2,IF(Riskhistorik!AR30=\"Hög\",3,0))),AL28)","v":0},0,0,0,0,0,0,0,0,0,0,0,0,0,0,0,0,0,0,0,0]
[{"$f":"IF(Riskhistorik!E31<>\"\",IF(Riskhistorik!E31=\"Låg\",1,IF(Riskhistorik!E31=\"Medel\",2,3)),0)","v":0},{"$f":"IF(Riskhistorik!F31<>\"\",IF(Riskhistorik!F31=\"Låg\",1,IF(Riskhistorik!F31=\"Medel\",2,3)),0)","v":0},{"$f":"IF(Riskhistorik!G$2<>\"Datum\",IF(Riskhistorik!G31=\"Låg\",1,IF(Riskhistorik!G31=\"Medel\",2,IF(Riskhistorik!G31=\"Hög\",3,0))),A29)","v":0},{"$f":"IF(Riskhistorik!G$2<>\"Datum\",IF(Riskhistorik!H31=\"Låg\",1,IF(Riskhistorik!H31=\"Medel\",2,IF(Riskhistorik!H31=\"Hög\",3,0))),B29)","v":0},{"$f":"IF(Riskhistorik!I$2<>\"Datum\",IF(Riskhistorik!I31=\"Låg\",1,IF(Riskhistorik!I31=\"Medel\",2,IF(Riskhistorik!I31=\"Hög\",3,0))),C29)","v":0},{"$f":"IF(Riskhistorik!I$2<>\"Datum\",IF(Riskhistorik!J31=\"Låg\",1,IF(Riskhistorik!J31=\"Medel\",2,IF(Riskhistorik!J31=\"Hög\",3,0))),D29)","v":0},{"$f":"IF(Riskhistorik!K$2<>\"Datum\",IF(Riskhistorik!K31=\"Låg\",1,IF(Riskhistorik!K31=\"Medel\",2,IF(Riskhistorik!K31=\"Hög\",3,0))),E29)","v":0},{"$f":"IF(Riskhistorik!K$2<>\"Datum\",IF(Riskhistorik!L31=\"Låg\",1,IF(Riskhistorik!L31=\"Medel\",2,IF(Riskhistorik!L31=\"Hög\",3,0))),F29)","v":0},{"$f":"IF(Riskhistorik!M$2<>\"Datum\",IF(Riskhistorik!M31=\"Låg\",1,IF(Riskhistorik!M31=\"Medel\",2,IF(Riskhistorik!M31=\"Hög\",3,0))),G29)","v":0},{"$f":"IF(Riskhistorik!M$2<>\"Datum\",IF(Riskhistorik!N31=\"Låg\",1,IF(Riskhistorik!N31=\"Medel\",2,IF(Riskhistorik!N31=\"Hög\",3,0))),H29)","v":0},{"$f":"IF(Riskhistorik!O$2<>\"Datum\",IF(Riskhistorik!O31=\"Låg\",1,IF(Riskhistorik!O31=\"Medel\",2,IF(Riskhistorik!O31=\"Hög\",3,0))),I29)","v":0},{"$f":"IF(Riskhistorik!O$2<>\"Datum\",IF(Riskhistorik!P31=\"Låg\",1,IF(Riskhistorik!P31=\"Medel\",2,IF(Riskhistorik!P31=\"Hög\",3,0))),J29)","v":0},{"$f":"IF(Riskhistorik!Q$2<>\"Datum\",IF(Riskhistorik!Q31=\"Låg\",1,IF(Riskhistorik!Q31=\"Medel\",2,IF(Riskhistorik!Q31=\"Hög\",3,0))),K29)","v":0},{"$f":"IF(Riskhistorik!Q$2<>\"Datum\",IF(Riskhistorik!R31=\"Låg\",1,IF(Riskhistorik!R31=\"Medel\",2,IF(Riskhistorik!R31=\"Hög\",3,0))),L29)","v":0},{"$f":"IF(Riskhistorik!S$2<>\"Datum\",IF(Riskhistorik!S31=\"Låg\",1,IF(Riskhistorik!S31=\"Medel\",2,IF(Riskhistorik!S31=\"Hög\",3,0))),M29)","v":0},{"$f":"IF(Riskhistorik!S$2<>\"Datum\",IF(Riskhistorik!T31=\"Låg\",1,IF(Riskhistorik!T31=\"Medel\",2,IF(Riskhistorik!T31=\"Hög\",3,0))),N29)","v":0},{"$f":"IF(Riskhistorik!U$2<>\"Datum\",IF(Riskhistorik!U31=\"Låg\",1,IF(Riskhistorik!U31=\"Medel\",2,IF(Riskhistorik!U31=\"Hög\",3,0))),O29)","v":0},{"$f":"IF(Riskhistorik!U$2<>\"Datum\",IF(Riskhistorik!V31=\"Låg\",1,IF(Riskhistorik!V31=\"Medel\",2,IF(Riskhistorik!V31=\"Hög\",3,0))),P29)","v":0},{"$f":"IF(Riskhistorik!W$2<>\"Datum\",IF(Riskhistorik!W31=\"Låg\",1,IF(Riskhistorik!W31=\"Medel\",2,IF(Riskhistorik!W31=\"Hög\",3,0))),Q29)","v":0},{"$f":"IF(Riskhistorik!W$2<>\"Datum\",IF(Riskhistorik!X31=\"Låg\",1,IF(Riskhistorik!X31=\"Medel\",2,IF(Riskhistorik!X31=\"Hög\",3,0))),R29)","v":0},{"$f":"IF(Riskhistorik!Y$2<>\"Datum\",IF(Riskhistorik!Y31=\"Låg\",1,IF(Riskhistorik!Y31=\"Medel\",2,IF(Riskhistorik!Y31=\"Hög\",3,0))),S29)","v":0},{"$f":"IF(Riskhistorik!Y$2<>\"Datum\",IF(Riskhistorik!Z31=\"Låg\",1,IF(Riskhistorik!Z31=\"Medel\",2,IF(Riskhistorik!Z31=\"Hög\",3,0))),T29)","v":0},{"$f":"IF(Riskhistorik!AA$2<>\"Datum\",IF(Riskhistorik!AA31=\"Låg\",1,IF(Riskhistorik!AA31=\"Medel\",2,IF(Riskhistorik!AA31=\"Hög\",3,0))),U29)","v":0},{"$f":"IF(Riskhistorik!AA$2<>\"Datum\",IF(Riskhistorik!AB31=\"Låg\",1,IF(Riskhistorik!AB31=\"Medel\",2,IF(Riskhistorik!AB31=\"Hög\",3,0))),V29)","v":0},{"$f":"IF(Riskhistorik!AC$2<>\"Datum\",IF(Riskhistorik!AC31=\"Låg\",1,IF(Riskhistorik!AC31=\"Medel\",2,IF(Riskhistorik!AC31=\"Hög\",3,0))),W29)","v":0},{"$f":"IF(Riskhistorik!AC$2<>\"Datum\",IF(Riskhistorik!AD31=\"Låg\",1,IF(Riskhistorik!AD31=\"Medel\",2,IF(Riskhistorik!AD31=\"Hög\",3,0))),X29)","v":0},{"$f":"IF(Riskhistorik!AE$2<>\"Datum\",IF(Riskhistorik!AE31=\"Låg\",1,IF(Riskhistorik!AE31=\"Medel\",2,IF(Riskhistorik!AE31=\"Hög\",3,0))),Y29)","v":0},{"$f":"IF(Riskhistorik!AE$2<>\"Datum\",IF(Riskhistorik!AF31=\"Låg\",1,IF(Riskhistorik!AF31=\"Medel\",2,IF(Riskhistorik!AF31=\"Hög\",3,0))),Z29)","v":0},{"$f":"IF(Riskhistorik!AG$2<>\"Datum\",IF(Riskhistorik!AG31=\"Låg\",1,IF(Riskhistorik!AG31=\"Medel\",2,IF(Riskhistorik!AG31=\"Hög\",3,0))),AA29)","v":0},{"$f":"IF(Riskhistorik!AG$2<>\"Datum\",IF(Riskhistorik!AH31=\"Låg\",1,IF(Riskhistorik!AH31=\"Medel\",2,IF(Riskhistorik!AH31=\"Hög\",3,0))),AB29)","v":0},{"$f":"IF(Riskhistorik!AI$2<>\"Datum\",IF(Riskhistorik!AI31=\"Låg\",1,IF(Riskhistorik!AI31=\"Medel\",2,IF(Riskhistorik!AI31=\"Hög\",3,0))),AC29)","v":0},{"$f":"IF(Riskhistorik!AI$2<>\"Datum\",IF(Riskhistorik!AJ31=\"Låg\",1,IF(Riskhistorik!AJ31=\"Medel\",2,IF(Riskhistorik!AJ31=\"Hög\",3,0))),AD29)","v":0},{"$f":"IF(Riskhistorik!AK$2<>\"Datum\",IF(Riskhistorik!AK31=\"Låg\",1,IF(Riskhistorik!AK31=\"Medel\",2,IF(Riskhistorik!AK31=\"Hög\",3,0))),AE29)","v":0},{"$f":"IF(Riskhistorik!AK$2<>\"Datum\",IF(Riskhistorik!AL31=\"Låg\",1,IF(Riskhistorik!AL31=\"Medel\",2,IF(Riskhistorik!AL31=\"Hög\",3,0))),AF29)","v":0},{"$f":"IF(Riskhistorik!AM$2<>\"Datum\",IF(Riskhistorik!AM31=\"Låg\",1,IF(Riskhistorik!AM31=\"Medel\",2,IF(Riskhistorik!AM31=\"Hög\",3,0))),AG29)","v":0},{"$f":"IF(Riskhistorik!AM$2<>\"Datum\",IF(Riskhistorik!AN31=\"Låg\",1,IF(Riskhistorik!AN31=\"Medel\",2,IF(Riskhistorik!AN31=\"Hög\",3,0))),AH29)","v":0},{"$f":"IF(Riskhistorik!AO$2<>\"Datum\",IF(Riskhistorik!AO31=\"Låg\",1,IF(Riskhistorik!AO31=\"Medel\",2,IF(Riskhistorik!AO31=\"Hög\",3,0))),AI29)","v":0},{"$f":"IF(Riskhistorik!AO$2<>\"Datum\",IF(Riskhistorik!AP31=\"Låg\",1,IF(Riskhistorik!AP31=\"Medel\",2,IF(Riskhistorik!AP31=\"Hög\",3,0))),AJ29)","v":0},{"$f":"IF(Riskhistorik!AQ$2<>\"Datum\",IF(Riskhistorik!AQ31=\"Låg\",1,IF(Riskhistorik!AQ31=\"Medel\",2,IF(Riskhistorik!AQ31=\"Hög\",3,0))),AK29)","v":0},{"$f":"IF(Riskhistorik!AQ$2<>\"Datum\",IF(Riskhistorik!AR31=\"Låg\",1,IF(Riskhistorik!AR31=\"Medel\",2,IF(Riskhistorik!AR31=\"Hög\",3,0))),AL29)","v":0},0,0,0,0,0,0,0,0,0,0,0,0,0,0,0,0,0,0,0,0]
[{"$f":"IF(Riskhistorik!E32<>\"\",IF(Riskhistorik!E32=\"Låg\",1,IF(Riskhistorik!E32=\"Medel\",2,3)),0)","v":0},{"$f":"IF(Riskhistorik!F32<>\"\",IF(Riskhistorik!F32=\"Låg\",1,IF(Riskhistorik!F32=\"Medel\",2,3)),0)","v":0},{"$f":"IF(Riskhistorik!G$2<>\"Datum\",IF(Riskhistorik!G32=\"Låg\",1,IF(Riskhistorik!G32=\"Medel\",2,IF(Riskhistorik!G32=\"Hög\",3,0))),A30)","v":0},{"$f":"IF(Riskhistorik!G$2<>\"Datum\",IF(Riskhistorik!H32=\"Låg\",1,IF(Riskhistorik!H32=\"Medel\",2,IF(Riskhistorik!H32=\"Hög\",3,0))),B30)","v":0},{"$f":"IF(Riskhistorik!I$2<>\"Datum\",IF(Riskhistorik!I32=\"Låg\",1,IF(Riskhistorik!I32=\"Medel\",2,IF(Riskhistorik!I32=\"Hög\",3,0))),C30)","v":0},{"$f":"IF(Riskhistorik!I$2<>\"Datum\",IF(Riskhistorik!J32=\"Låg\",1,IF(Riskhistorik!J32=\"Medel\",2,IF(Riskhistorik!J32=\"Hög\",3,0))),D30)","v":0},{"$f":"IF(Riskhistorik!K$2<>\"Datum\",IF(Riskhistorik!K32=\"Låg\",1,IF(Riskhistorik!K32=\"Medel\",2,IF(Riskhistorik!K32=\"Hög\",3,0))),E30)","v":0},{"$f":"IF(Riskhistorik!K$2<>\"Datum\",IF(Riskhistorik!L32=\"Låg\",1,IF(Riskhistorik!L32=\"Medel\",2,IF(Riskhistorik!L32=\"Hög\",3,0))),F30)","v":0},{"$f":"IF(Riskhistorik!M$2<>\"Datum\",IF(Riskhistorik!M32=\"Låg\",1,IF(Riskhistorik!M32=\"Medel\",2,IF(Riskhistorik!M32=\"Hög\",3,0))),G30)","v":0},{"$f":"IF(Riskhistorik!M$2<>\"Datum\",IF(Riskhistorik!N32=\"Låg\",1,IF(Riskhistorik!N32=\"Medel\",2,IF(Riskhistorik!N32=\"Hög\",3,0))),H30)","v":0},{"$f":"IF(Riskhistorik!O$2<>\"Datum\",IF(Riskhistorik!O32=\"Låg\",1,IF(Riskhistorik!O32=\"Medel\",2,IF(Riskhistorik!O32=\"Hög\",3,0))),I30)","v":0},{"$f":"IF(Riskhistorik!O$2<>\"Datum\",IF(Riskhistorik!P32=\"Låg\",1,IF(Riskhistorik!P32=\"Medel\",2,IF(Riskhistorik!P32=\"Hög\",3,0))),J30)","v":0},{"$f":"IF(Riskhistorik!Q$2<>\"Datum\",IF(Riskhistorik!Q32=\"Låg\",1,IF(Riskhistorik!Q32=\"Medel\",2,IF(Riskhistorik!Q32=\"Hög\",3,0))),K30)","v":0},{"$f":"IF(Riskhistorik!Q$2<>\"Datum\",IF(Riskhistorik!R32=\"Låg\",1,IF(Riskhistorik!R32=\"Medel\",2,IF(Riskhistorik!R32=\"Hög\",3,0))),L30)","v":0},{"$f":"IF(Riskhistorik!S$2<>\"Datum\",IF(Riskhistorik!S32=\"Låg\",1,IF(Riskhistorik!S32=\"Medel\",2,IF(Riskhistorik!S32=\"Hög\",3,0))),M30)","v":0},{"$f":"IF(Riskhistorik!S$2<>\"Datum\",IF(Riskhistorik!T32=\"Låg\",1,IF(Riskhistorik!T32=\"Medel\",2,IF(Riskhistorik!T32=\"Hög\",3,0))),N30)","v":0},{"$f":"IF(Riskhistorik!U$2<>\"Datum\",IF(Riskhistorik!U32=\"Låg\",1,IF(Riskhistorik!U32=\"Medel\",2,IF(Riskhistorik!U32=\"Hög\",3,0))),O30)","v":0},{"$f":"IF(Riskhistorik!U$2<>\"Datum\",IF(Riskhistorik!V32=\"Låg\",1,IF(Riskhistorik!V32=\"Medel\",2,IF(Riskhistorik!V32=\"Hög\",3,0))),P30)","v":0},{"$f":"IF(Riskhistorik!W$2<>\"Datum\",IF(Riskhistorik!W32=\"Låg\",1,IF(Riskhistorik!W32=\"Medel\",2,IF(Riskhistorik!W32=\"Hög\",3,0))),Q30)","v":0},{"$f":"IF(Riskhistorik!W$2<>\"Datum\",IF(Riskhistorik!X32=\"Låg\",1,IF(Riskhistorik!X32=\"Medel\",2,IF(Riskhistorik!X32=\"Hög\",3,0))),R30)","v":0},{"$f":"IF(Riskhistorik!Y$2<>\"Datum\",IF(Riskhistorik!Y32=\"Låg\",1,IF(Riskhistorik!Y32=\"Medel\",2,IF(Riskhistorik!Y32=\"Hög\",3,0))),S30)","v":0},{"$f":"IF(Riskhistorik!Y$2<>\"Datum\",IF(Riskhistorik!Z32=\"Låg\",1,IF(Riskhistorik!Z32=\"Medel\",2,IF(Riskhistorik!Z32=\"Hög\",3,0))),T30)","v":0},{"$f":"IF(Riskhistorik!AA$2<>\"Datum\",IF(Riskhistorik!AA32=\"Låg\",1,IF(Riskhistorik!AA32=\"Medel\",2,IF(Riskhistorik!AA32=\"Hög\",3,0))),U30)","v":0},{"$f":"IF(Riskhistorik!AA$2<>\"Datum\",IF(Riskhistorik!AB32=\"Låg\",1,IF(Riskhistorik!AB32=\"Medel\",2,IF(Riskhistorik!AB32=\"Hög\",3,0))),V30)","v":0},{"$f":"IF(Riskhistorik!AC$2<>\"Datum\",IF(Riskhistorik!AC32=\"Låg\",1,IF(Riskhistorik!AC32=\"Medel\",2,IF(Riskhistorik!AC32=\"Hög\",3,0))),W30)","v":0},{"$f":"IF(Riskhistorik!AC$2<>\"Datum\",IF(Riskhistorik!AD32=\"Låg\",1,IF(Riskhistorik!AD32=\"Medel\",2,IF(Riskhistorik!AD32=\"Hög\",3,0))),X30)","v":0},{"$f":"IF(Riskhistorik!AE$2<>\"Datum\",IF(Riskhistorik!AE32=\"Låg\",1,IF(Riskhistorik!AE32=\"Medel\",2,IF(Riskhistorik!AE32=\"Hög\",3,0))),Y30)","v":0},{"$f":"IF(Riskhistorik!AE$2<>\"Datum\",IF(Riskhistorik!AF32=\"Låg\",1,IF(Riskhistorik!AF32=\"Medel\",2,IF(Riskhistorik!AF32=\"Hög\",3,0))),Z30)","v":0},{"$f":"IF(Riskhistorik!AG$2<>\"Datum\",IF(Riskhistorik!AG32=\"Låg\",1,IF(Riskhistorik!AG32=\"Medel\",2,IF(Riskhistorik!AG32=\"Hög\",3,0))),AA30)","v":0},{"$f":"IF(Riskhistorik!AG$2<>\"Datum\",IF(Riskhistorik!AH32=\"Låg\",1,IF(Riskhistorik!AH32=\"Medel\",2,IF(Riskhistorik!AH32=\"Hög\",3,0))),AB30)","v":0},{"$f":"IF(Riskhistorik!AI$2<>\"Datum\",IF(Riskhistorik!AI32=\"Låg\",1,IF(Riskhistorik!AI32=\"Medel\",2,IF(Riskhistorik!AI32=\"Hög\",3,0))),AC30)","v":0},{"$f":"IF(Riskhistorik!AI$2<>\"Datum\",IF(Riskhistorik!AJ32=\"Låg\",1,IF(Riskhistorik!AJ32=\"Medel\",2,IF(Riskhistorik!AJ32=\"Hög\",3,0))),AD30)","v":0},{"$f":"IF(Riskhistorik!AK$2<>\"Datum\",IF(Riskhistorik!AK32=\"Låg\",1,IF(Riskhistorik!AK32=\"Medel\",2,IF(Riskhistorik!AK32=\"Hög\",3,0))),AE30)","v":0},{"$f":"IF(Riskhistorik!AK$2<>\"Datum\",IF(Riskhistorik!AL32=\"Låg\",1,IF(Riskhistorik!AL32=\"Medel\",2,IF(Riskhistorik!AL32=\"Hög\",3,0))),AF30)","v":0},{"$f":"IF(Riskhistorik!AM$2<>\"Datum\",IF(Riskhistorik!AM32=\"Låg\",1,IF(Riskhistorik!AM32=\"Medel\",2,IF(Riskhistorik!AM32=\"Hög\",3,0))),AG30)","v":0},{"$f":"IF(Riskhistorik!AM$2<>\"Datum\",IF(Riskhistorik!AN32=\"Låg\",1,IF(Riskhistorik!AN32=\"Medel\",2,IF(Riskhistorik!AN32=\"Hög\",3,0))),AH30)","v":0},{"$f":"IF(Riskhistorik!AO$2<>\"Datum\",IF(Riskhistorik!AO32=\"Låg\",1,IF(Riskhistorik!AO32=\"Medel\",2,IF(Riskhistorik!AO32=\"Hög\",3,0))),AI30)","v":0},{"$f":"IF(Riskhistorik!AO$2<>\"Datum\",IF(Riskhistorik!AP32=\"Låg\",1,IF(Riskhistorik!AP32=\"Medel\",2,IF(Riskhistorik!AP32=\"Hög\",3,0))),AJ30)","v":0},{"$f":"IF(Riskhistorik!AQ$2<>\"Datum\",IF(Riskhistorik!AQ32=\"Låg\",1,IF(Riskhistorik!AQ32=\"Medel\",2,IF(Riskhistorik!AQ32=\"Hög\",3,0))),AK30)","v":0},{"$f":"IF(Riskhistorik!AQ$2<>\"Datum\",IF(Riskhistorik!AR32=\"Låg\",1,IF(Riskhistorik!AR32=\"Medel\",2,IF(Riskhistorik!AR32=\"Hög\",3,0))),AL30)","v":0},{"$f":"A30*B30","v":0},{"$f":"C30*D30","v":0},{"$f":"E30*F30","v":0},{"$f":"G30*H30","v":0},{"$f":"I30*J30","v":0},{"$f":"K30*L30","v":0},{"$f":"M30*N30","v":0},{"$f":"O30*P30","v":0},{"$f":"Q30*R30","v":0},{"$f":"S30*T30","v":0},{"$f":"U30*V30","v":0},{"$f":"W30*X30","v":0},{"$f":"Y30*Z30","v":0},{"$f":"AA30*AB30","v":0},{"$f":"AC30*AD30","v":0},{"$f":"AE30*AF30","v":0},{"$f":"AG30*AH30","v":0},{"$f":"AI30*AJ30","v":0},{"$f":"AK30*AL30","v":0},{"$f":"AM30*AN30","v":0}]
[{"$f":"IF(Riskhistorik!E33<>\"\",IF(Riskhistorik!E33=\"Låg\",1,IF(Riskhistorik!E33=\"Medel\",2,3)),0)","v":0},{"$f":"IF(Riskhistorik!F33<>\"\",IF(Riskhistorik!F33=\"Låg\",1,IF(Riskhistorik!F33=\"Medel\",2,3)),0)","v":0},{"$f":"IF(Riskhistorik!G$2<>\"Datum\",IF(Riskhistorik!G33=\"Låg\",1,IF(Riskhistorik!G33=\"Medel\",2,IF(Riskhistorik!G33=\"Hög\",3,0))),A31)","v":0},{"$f":"IF(Riskhistorik!G$2<>\"Datum\",IF(Riskhistorik!H33=\"Låg\",1,IF(Riskhistorik!H33=\"Medel\",2,IF(Riskhistorik!H33=\"Hög\",3,0))),B31)","v":0},{"$f":"IF(Riskhistorik!I$2<>\"Datum\",IF(Riskhistorik!I33=\"Låg\",1,IF(Riskhistorik!I33=\"Medel\",2,IF(Riskhistorik!I33=\"Hög\",3,0))),C31)","v":0},{"$f":"IF(Riskhistorik!I$2<>\"Datum\",IF(Riskhistorik!J33=\"Låg\",1,IF(Riskhistorik!J33=\"Medel\",2,IF(Riskhistorik!J33=\"Hög\",3,0))),D31)","v":0},{"$f":"IF(Riskhistorik!K$2<>\"Datum\",IF(Riskhistorik!K33=\"Låg\",1,IF(Riskhistorik!K33=\"Medel\",2,IF(Riskhistorik!K33=\"Hög\",3,0))),E31)","v":0},{"$f":"IF(Riskhistorik!K$2<>\"Datum\",IF(Riskhistorik!L33=\"Låg\",1,IF(Riskhistorik!L33=\"Medel\",2,IF(Riskhistorik!L33=\"Hög\",3,0))),F31)","v":0},{"$f":"IF(Riskhistorik!M$2<>\"Datum\",IF(Riskhistorik!M33=\"Låg\",1,IF(Riskhistorik!M33=\"Medel\",2,IF(Riskhistorik!M33=\"Hög\",3,0))),G31)","v":0},{"$f":"IF(Riskhistorik!M$2<>\"Datum\",IF(Riskhistorik!N33=\"Låg\",1,IF(Riskhistorik!N33=\"Medel\",2,IF(Riskhistorik!N33=\"Hög\",3,0))),H31)","v":0},{"$f":"IF(Riskhistorik!O$2<>\"Datum\",IF(Riskhistorik!O33=\"Låg\",1,IF(Riskhistorik!O33=\"Medel\",2,IF(Riskhistorik!O33=\"Hög\",3,0))),I31)","v":0},{"$f":"IF(Riskhistorik!O$2<>\"Datum\",IF(Riskhistorik!P33=\"Låg\",1,IF(Riskhistorik!P33=\"Medel\",2,IF(Riskhistorik!P33=\"Hög\",3,0))),J31)","v":0},{"$f":"IF(Riskhistorik!Q$2<>\"Datum\",IF(Riskhistorik!Q33=\"Låg\",1,IF(Riskhistorik!Q33=\"Medel\",2,IF(Riskhistorik!Q33=\"Hög\",3,0))),K31)","v":0},{"$f":"IF(Riskhistorik!Q$2<>\"Datum\",IF(Riskhistorik!R33=\"Låg\",1,IF(Riskhistorik!R33=\"Medel\",2,IF(Riskhistorik!R33=\"Hög\",3,0))),L31)","v":0},{"$f":"IF(Riskhistorik!S$2<>\"Datum\",IF(Riskhistorik!S33=\"Låg\",1,IF(Riskhistorik!S33=\"Medel\",2,IF(Riskhistorik!S33=\"Hög\",3,0))),M31)","v":0},{"$f":"IF(Riskhistorik!S$2<>\"Datum\",IF(Riskhistorik!T33=\"Låg\",1,IF(Riskhistorik!T33=\"Medel\",2,IF(Riskhistorik!T33=\"Hög\",3,0))),N31)","v":0},{"$f":"IF(Riskhistorik!U$2<>\"Datum\",IF(Riskhistorik!U33=\"Låg\",1,IF(Riskhistorik!U33=\"Medel\",2,IF(Riskhistorik!U33=\"Hög\",3,0))),O31)","v":0},{"$f":"IF(Riskhistorik!U$2<>\"Datum\",IF(Riskhistorik!V33=\"Låg\",1,IF(Riskhistorik!V33=\"Medel\",2,IF(Riskhistorik!V33=\"Hög\",3,0))),P31)","v":0},{"$f":"IF(Riskhistorik!W$2<>\"Datum\",IF(Riskhistorik!W33=\"Låg\",1,IF(Riskhistorik!W33=\"Medel\",2,IF(Riskhistorik!W33=\"Hög\",3,0))),Q31)","v":0},{"$f":"IF(Riskhistorik!W$2<>\"Datum\",IF(Riskhistorik!X33=\"Låg\",1,IF(Riskhistorik!X33=\"Medel\",2,IF(Riskhistorik!X33=\"Hög\",3,0))),R31)","v":0},{"$f":"IF(Riskhistorik!Y$2<>\"Datum\",IF(Riskhistorik!Y33=\"Låg\",1,IF(Riskhistorik!Y33=\"Medel\",2,IF(Riskhistorik!Y33=\"Hög\",3,0))),S31)","v":0},{"$f":"IF(Riskhistorik!Y$2<>\"Datum\",IF(Riskhistorik!Z33=\"Låg\",1,IF(Riskhistorik!Z33=\"Medel\",2,IF(Riskhistorik!Z33=\"Hög\",3,0))),T31)","v":0},{"$f":"IF(Riskhistorik!AA$2<>\"Datum\",IF(Riskhistorik!AA33=\"Låg\",1,IF(Riskhistorik!AA33=\"Medel\",2,IF(Riskhistorik!AA33=\"Hög\",3,0))),U31)","v":0},{"$f":"IF(Riskhistorik!AA$2<>\"Datum\",IF(Riskhistorik!AB33=\"Låg\",1,IF(Riskhistorik!AB33=\"Medel\",2,IF(Riskhistorik!AB33=\"Hög\",3,0))),V31)","v":0},{"$f":"IF(Riskhistorik!AC$2<>\"Datum\",IF(Riskhistorik!AC33=\"Låg\",1,IF(Riskhistorik!AC33=\"Medel\",2,IF(Riskhistorik!AC33=\"Hög\",3,0))),W31)","v":0},{"$f":"IF(Riskhistorik!AC$2<>\"Datum\",IF(Riskhistorik!AD33=\"Låg\",1,IF(Riskhistorik!AD33=\"Medel\",2,IF(Riskhistorik!AD33=\"Hög\",3,0))),X31)","v":0},{"$f":"IF(Riskhistorik!AE$2<>\"Datum\",IF(Riskhistorik!AE33=\"Låg\",1,IF(Riskhistorik!AE33=\"Medel\",2,IF(Riskhistorik!AE33=\"Hög\",3,0))),Y31)","v":0},{"$f":"IF(Riskhistorik!AE$2<>\"Datum\",IF(Riskhistorik!AF33=\"Låg\",1,IF(Riskhistorik!AF33=\"Medel\",2,IF(Riskhistorik!AF33=\"Hög\",3,0))),Z31)","v":0},{"$f":"IF(Riskhistorik!AG$2<>\"Datum\",IF(Riskhistorik!AG33=\"Låg\",1,IF(Riskhistorik!AG33=\"Medel\",2,IF(Riskhistorik!AG33=\"Hög\",3,0))),AA31)","v":0},{"$f":"IF(Riskhistorik!AG$2<>\"Datum\",IF(Riskhistorik!AH33=\"Låg\",1,IF(Riskhistorik!AH33=\"Medel\",2,IF(Riskhistorik!AH33=\"Hög\",3,0))),AB31)","v":0},{"$f":"IF(Riskhistorik!AI$2<>\"Datum\",IF(Riskhistorik!AI33=\"Låg\",1,IF(Riskhistorik!AI33=\"Medel\",2,IF(Riskhistorik!AI33=\"Hög\",3,0))),AC31)","v":0},{"$f":"IF(Riskhistorik!AI$2<>\"Datum\",IF(Riskhistorik!AJ33=\"Låg\",1,IF(Riskhistorik!AJ33=\"Medel\",2,IF(Riskhistorik!AJ33=\"Hög\",3,0))),AD31)","v":0},{"$f":"IF(Riskhistorik!AK$2<>\"Datum\",IF(Riskhistorik!AK33=\"Låg\",1,IF(Riskhistorik!AK33=\"Medel\",2,IF(Riskhistorik!AK33=\"Hög\",3,0))),AE31)","v":0},{"$f":"IF(Riskhistorik!AK$2<>\"Datum\",IF(Riskhistorik!AL33=\"Låg\",1,IF(Riskhistorik!AL33=\"Medel\",2,IF(Riskhistorik!AL33=\"Hög\",3,0))),AF31)","v":0},{"$f":"IF(Riskhistorik!AM$2<>\"Datum\",IF(Riskhistorik!AM33=\"Låg\",1,IF(Riskhistorik!AM33=\"Medel\",2,IF(Riskhistorik!AM33=\"Hög\",3,0))),AG31)","v":0},{"$f":"IF(Riskhistorik!AM$2<>\"Datum\",IF(Riskhistorik!AN33=\"Låg\",1,IF(Riskhistorik!AN33=\"Medel\",2,IF(Riskhistorik!AN33=\"Hög\",3,0))),AH31)","v":0},{"$f":"IF(Riskhistorik!AO$2<>\"Datum\",IF(Riskhistorik!AO33=\"Låg\",1,IF(Riskhistorik!AO33=\"Medel\",2,IF(Riskhistorik!AO33=\"Hög\",3,0))),AI31)","v":0},{"$f":"IF(Riskhistorik!AO$2<>\"Datum\",IF(Riskhistorik!AP33=\"Låg\",1,IF(Riskhistorik!AP33=\"Medel\",2,IF(Riskhistorik!AP33=\"Hög\",3,0))),AJ31)","v":0},{"$f":"IF(Riskhistorik!AQ$2<>\"Datum\",IF(Riskhistorik!AQ33=\"Låg\",1,IF(Riskhistorik!AQ33=\"Medel\",2,IF(Riskhistorik!AQ33=\"Hög\",3,0))),AK31)","v":0},{"$f":"IF(Riskhistorik!AQ$2<>\"Datum\",IF(Riskhistorik!AR33=\"Låg\",1,IF(Riskhistorik!AR33=\"Medel\",2,IF(Riskhistorik!AR33=\"Hög\",3,0))),AL31)","v":0},0,0,0,0,0,0,0,0,0,0,0,0,0,0,0,0,0,0,0,0]
[{"$f":"IF(Riskhistorik!E34<>\"\",IF(Riskhistorik!E34=\"Låg\",1,IF(Riskhistorik!E34=\"Medel\",2,3)),0)","v":0},{"$f":"IF(Riskhistorik!F34<>\"\",IF(Riskhistorik!F34=\"Låg\",1,IF(Riskhistorik!F34=\"Medel\",2,3)),0)","v":0},{"$f":"IF(Riskhistorik!G$2<>\"Datum\",IF(Riskhistorik!G34=\"Låg\",1,IF(Riskhistorik!G34=\"Medel\",2,IF(Riskhistorik!G34=\"Hög\",3,0))),A32)","v":0},{"$f":"IF(Riskhistorik!G$2<>\"Datum\",IF(Riskhistorik!H34=\"Låg\",1,IF(Riskhistorik!H34=\"Medel\",2,IF(Riskhistorik!H34=\"Hög\",3,0))),B32)","v":0},{"$f":"IF(Riskhistorik!I$2<>\"Datum\",IF(Riskhistorik!I34=\"Låg\",1,IF(Riskhistorik!I34=\"Medel\",2,IF(Riskhistorik!I34=\"Hög\",3,0))),C32)","v":0},{"$f":"IF(Riskhistorik!I$2<>\"Datum\",IF(Riskhistorik!J34=\"Låg\",1,IF(Riskhistorik!J34=\"Medel\",2,IF(Riskhistorik!J34=\"Hög\",3,0))),D32)","v":0},{"$f":"IF(Riskhistorik!K$2<>\"Datum\",IF(Riskhistorik!K34=\"Låg\",1,IF(Riskhistorik!K34=\"Medel\",2,IF(Riskhistorik!K34=\"Hög\",3,0))),E32)","v":0},{"$f":"IF(Riskhistorik!K$2<>\"Datum\",IF(Riskhistorik!L34=\"Låg\",1,IF(Riskhistorik!L34=\"Medel\",2,IF(Riskhistorik!L34=\"Hög\",3,0))),F32)","v":0},{"$f":"IF(Riskhistorik!M$2<>\"Datum\",IF(Riskhistorik!M34=\"Låg\",1,IF(Riskhistorik!M34=\"Medel\",2,IF(Riskhistorik!M34=\"Hög\",3,0))),G32)","v":0},{"$f":"IF(Riskhistorik!M$2<>\"Datum\",IF(Riskhistorik!N34=\"Låg\",1,IF(Riskhistorik!N34=\"Medel\",2,IF(Riskhistorik!N34=\"Hög\",3,0))),H32)","v":0},{"$f":"IF(Riskhistorik!O$2<>\"Datum\",IF(Riskhistorik!O34=\"Låg\",1,IF(Riskhistorik!O34=\"Medel\",2,IF(Riskhistorik!O34=\"Hög\",3,0))),I32)","v":0},{"$f":"IF(Riskhistorik!O$2<>\"Datum\",IF(Riskhistorik!P34=\"Låg\",1,IF(Riskhistorik!P34=\"Medel\",2,IF(Riskhistorik!P34=\"Hög\",3,0))),J32)","v":0},{"$f":"IF(Riskhistorik!Q$2<>\"Datum\",IF(Riskhistorik!Q34=\"Låg\",1,IF(Riskhistorik!Q34=\"Medel\",2,IF(Riskhistorik!Q34=\"Hög\",3,0))),K32)","v":0},{"$f":"IF(Riskhistorik!Q$2<>\"Datum\",IF(Riskhistorik!R34=\"Låg\",1,IF(Riskhistorik!R34=\"Medel\",2,IF(Riskhistorik!R34=\"Hög\",3,0))),L32)","v":0},{"$f":"IF(Riskhistorik!S$2<>\"Datum\",IF(Riskhistorik!S34=\"Låg\",1,IF(Riskhistorik!S34=\"Medel\",2,IF(Riskhistorik!S34=\"Hög\",3,0))),M32)","v":0},{"$f":"IF(Riskhistorik!S$2<>\"Datum\",IF(Riskhistorik!T34=\"Låg\",1,IF(Riskhistorik!T34=\"Medel\",2,IF(Riskhistorik!T34=\"Hög\",3,0))),N32)","v":0},{"$f":"IF(Riskhistorik!U$2<>\"Datum\",IF(Riskhistorik!U34=\"Låg\",1,IF(Riskhistorik!U34=\"Medel\",2,IF(Riskhistorik!U34=\"Hög\",3,0))),O32)","v":0},{"$f":"IF(Riskhistorik!U$2<>\"Datum\",IF(Riskhistorik!V34=\"Låg\",1,IF(Riskhistorik!V34=\"Medel\",2,IF(Riskhistorik!V34=\"Hög\",3,0))),P32)","v":0},{"$f":"IF(Riskhistorik!W$2<>\"Datum\",IF(Riskhistorik!W34=\"Låg\",1,IF(Riskhistorik!W34=\"Medel\",2,IF(Riskhistorik!W34=\"Hög\",3,0))),Q32)","v":0},{"$f":"IF(Riskhistorik!W$2<>\"Datum\",IF(Riskhistorik!X34=\"Låg\",1,IF(Riskhistorik!X34=\"Medel\",2,IF(Riskhistorik!X34=\"Hög\",3,0))),R32)","v":0},{"$f":"IF(Riskhistorik!Y$2<>\"Datum\",IF(Riskhistorik!Y34=\"Låg\",1,IF(Riskhistorik!Y34=\"Medel\",2,IF(Riskhistorik!Y34=\"Hög\",3,0))),S32)","v":0},{"$f":"IF(Riskhistorik!Y$2<>\"Datum\",IF(Riskhistorik!Z34=\"Låg\",1,IF(Riskhistorik!Z34=\"Medel\",2,IF(Riskhistorik!Z34=\"Hög\",3,0))),T32)","v":0},{"$f":"IF(Riskhistorik!AA$2<>\"Datum\",IF(Riskhistorik!AA34=\"Låg\",1,IF(Riskhistorik!AA34=\"Medel\",2,IF(Riskhistorik!AA34=\"Hög\",3,0))),U32)","v":0},{"$f":"IF(Riskhistorik!AA$2<>\"Datum\",IF(Riskhistorik!AB34=\"Låg\",1,IF(Riskhistorik!AB34=\"Medel\",2,IF(Riskhistorik!AB34=\"Hög\",3,0))),V32)","v":0},{"$f":"IF(Riskhistorik!AC$2<>\"Datum\",IF(Riskhistorik!AC34=\"Låg\",1,IF(Riskhistorik!AC34=\"Medel\",2,IF(Riskhistorik!AC34=\"Hög\",3,0))),W32)","v":0},{"$f":"IF(Riskhistorik!AC$2<>\"Datum\",IF(Riskhistorik!AD34=\"Låg\",1,IF(Riskhistorik!AD34=\"Medel\",2,IF(Riskhistorik!AD34=\"Hög\",3,0))),X32)","v":0},{"$f":"IF(Riskhistorik!AE$2<>\"Datum\",IF(Riskhistorik!AE34=\"Låg\",1,IF(Riskhistorik!AE34=\"Medel\",2,IF(Riskhistorik!AE34=\"Hög\",3,0))),Y32)","v":0},{"$f":"IF(Riskhistorik!AE$2<>\"Datum\",IF(Riskhistorik!AF34=\"Låg\",1,IF(Riskhistorik!AF34=\"Medel\",2,IF(Riskhistorik!AF34=\"Hög\",3,0))),Z32)","v":0},{"$f":"IF(Riskhistorik!AG$2<>\"Datum\",IF(Riskhistorik!AG34=\"Låg\",1,IF(Riskhistorik!AG34=\"Medel\",2,IF(Riskhistorik!AG34=\"Hög\",3,0))),AA32)","v":0},{"$f":"IF(Riskhistorik!AG$2<>\"Datum\",IF(Riskhistorik!AH34=\"Låg\",1,IF(Riskhistorik!AH34=\"Medel\",2,IF(Riskhistorik!AH34=\"Hög\",3,0))),AB32)","v":0},{"$f":"IF(Riskhistorik!AI$2<>\"Datum\",IF(Riskhistorik!AI34=\"Låg\",1,IF(Riskhistorik!AI34=\"Medel\",2,IF(Riskhistorik!AI34=\"Hög\",3,0))),AC32)","v":0},{"$f":"IF(Riskhistorik!AI$2<>\"Datum\",IF(Riskhistorik!AJ34=\"Låg\",1,IF(Riskhistorik!AJ34=\"Medel\",2,IF(Riskhistorik!AJ34=\"Hög\",3,0))),AD32)","v":0},{"$f":"IF(Riskhistorik!AK$2<>\"Datum\",IF(Riskhistorik!AK34=\"Låg\",1,IF(Riskhistorik!AK34=\"Medel\",2,IF(Riskhistorik!AK34=\"Hög\",3,0))),AE32)","v":0},{"$f":"IF(Riskhistorik!AK$2<>\"Datum\",IF(Riskhistorik!AL34=\"Låg\",1,IF(Riskhistorik!AL34=\"Medel\",2,IF(Riskhistorik!AL34=\"Hög\",3,0))),AF32)","v":0},{"$f":"IF(Riskhistorik!AM$2<>\"Datum\",IF(Riskhistorik!AM34=\"Låg\",1,IF(Riskhistorik!AM34=\"Medel\",2,IF(Riskhistorik!AM34=\"Hög\",3,0))),AG32)","v":0},{"$f":"IF(Riskhistorik!AM$2<>\"Datum\",IF(Riskhistorik!AN34=\"Låg\",1,IF(Riskhistorik!AN34=\"Medel\",2,IF(Riskhistorik!AN34=\"Hög\",3,0))),AH32)","v":0},{"$f":"IF(Riskhistorik!AO$2<>\"Datum\",IF(Riskhistorik!AO34=\"Låg\",1,IF(Riskhistorik!AO34=\"Medel\",2,IF(Riskhistorik!AO34=\"Hög\",3,0))),AI32)","v":0},{"$f":"IF(Riskhistorik!AO$2<>\"Datum\",IF(Riskhistorik!AP34=\"Låg\",1,IF(Riskhistorik!AP34=\"Medel\",2,IF(Riskhistorik!AP34=\"Hög\",3,0))),AJ32)","v":0},{"$f":"IF(Riskhistorik!AQ$2<>\"Datum\",IF(Riskhistorik!AQ34=\"Låg\",1,IF(Riskhistorik!AQ34=\"Medel\",2,IF(Riskhistorik!AQ34=\"Hög\",3,0))),AK32)","v":0},{"$f":"IF(Riskhistorik!AQ$2<>\"Datum\",IF(Riskhistorik!AR34=\"Låg\",1,IF(Riskhistorik!AR34=\"Medel\",2,IF(Riskhistorik!AR34=\"Hög\",3,0))),AL32)","v":0},0,0,0,0,0,0,0,0,0,0,0,0,0,0,0,0,0,0,0,0]
[{"$f":"IF(Riskhistorik!E35<>\"\",IF(Riskhistorik!E35=\"Låg\",1,IF(Riskhistorik!E35=\"Medel\",2,3)),0)","v":0},{"$f":"IF(Riskhistorik!F35<>\"\",IF(Riskhistorik!F35=\"Låg\",1,IF(Riskhistorik!F35=\"Medel\",2,3)),0)","v":0},{"$f":"IF(Riskhistorik!G$2<>\"Datum\",IF(Riskhistorik!G35=\"Låg\",1,IF(Riskhistorik!G35=\"Medel\",2,IF(Riskhistorik!G35=\"Hög\",3,0))),A33)","v":0},{"$f":"IF(Riskhistorik!G$2<>\"Datum\",IF(Riskhistorik!H35=\"Låg\",1,IF(Riskhistorik!H35=\"Medel\",2,IF(Riskhistorik!H35=\"Hög\",3,0))),B33)","v":0},{"$f":"IF(Riskhistorik!I$2<>\"Datum\",IF(Riskhistorik!I35=\"Låg\",1,IF(Riskhistorik!I35=\"Medel\",2,IF(Riskhistorik!I35=\"Hög\",3,0))),C33)","v":0},{"$f":"IF(Riskhistorik!I$2<>\"Datum\",IF(Riskhistorik!J35=\"Låg\",1,IF(Riskhistorik!J35=\"Medel\",2,IF(Riskhistorik!J35=\"Hög\",3,0))),D33)","v":0},{"$f":"IF(Riskhistorik!K$2<>\"Datum\",IF(Riskhistorik!K35=\"Låg\",1,IF(Riskhistorik!K35=\"Medel\",2,IF(Riskhistorik!K35=\"Hög\",3,0))),E33)","v":0},{"$f":"IF(Riskhistorik!K$2<>\"Datum\",IF(Riskhistorik!L35=\"Låg\",1,IF(Riskhistorik!L35=\"Medel\",2,IF(Riskhistorik!L35=\"Hög\",3,0))),F33)","v":0},{"$f":"IF(Riskhistorik!M$2<>\"Datum\",IF(Riskhistorik!M35=\"Låg\",1,IF(Riskhistorik!M35=\"Medel\",2,IF(Riskhistorik!M35=\"Hög\",3,0))),G33)","v":0},{"$f":"IF(Riskhistorik!M$2<>\"Datum\",IF(Riskhistorik!N35=\"Låg\",1,IF(Riskhistorik!N35=\"Medel\",2,IF(Riskhistorik!N35=\"Hög\",3,0))),H33)","v":0},{"$f":"IF(Riskhistorik!O$2<>\"Datum\",IF(Riskhistorik!O35=\"Låg\",1,IF(Riskhistorik!O35=\"Medel\",2,IF(Riskhistorik!O35=\"Hög\",3,0))),I33)","v":0},{"$f":"IF(Riskhistorik!O$2<>\"Datum\",IF(Riskhistorik!P35=\"Låg\",1,IF(Riskhistorik!P35=\"Medel\",2,IF(Riskhistorik!P35=\"Hög\",3,0))),J33)","v":0},{"$f":"IF(Riskhistorik!Q$2<>\"Datum\",IF(Riskhistorik!Q35=\"Låg\",1,IF(Riskhistorik!Q35=\"Medel\",2,IF(Riskhistorik!Q35=\"Hög\",3,0))),K33)","v":0},{"$f":"IF(Riskhistorik!Q$2<>\"Datum\",IF(Riskhistorik!R35=\"Låg\",1,IF(Riskhistorik!R35=\"Medel\",2,IF(Riskhistorik!R35=\"Hög\",3,0))),L33)","v":0},{"$f":"IF(Riskhistorik!S$2<>\"Datum\",IF(Riskhistorik!S35=\"Låg\",1,IF(Riskhistorik!S35=\"Medel\",2,IF(Riskhistorik!S35=\"Hög\",3,0))),M33)","v":0},{"$f":"IF(Riskhistorik!S$2<>\"Datum\",IF(Riskhistorik!T35=\"Låg\",1,IF(Riskhistorik!T35=\"Medel\",2,IF(Riskhistorik!T35=\"Hög\",3,0))),N33)","v":0},{"$f":"IF(Riskhistorik!U$2<>\"Datum\",IF(Riskhistorik!U35=\"Låg\",1,IF(Riskhistorik!U35=\"Medel\",2,IF(Riskhistorik!U35=\"Hög\",3,0))),O33)","v":0},{"$f":"IF(Riskhistorik!U$2<>\"Datum\",IF(Riskhistorik!V35=\"Låg\",1,IF(Riskhistorik!V35=\"Medel\",2,IF(Riskhistorik!V35=\"Hög\",3,0))),P33)","v":0},{"$f":"IF(Riskhistorik!W$2<>\"Datum\",IF(Riskhistorik!W35=\"Låg\",1,IF(Riskhistorik!W35=\"Medel\",2,IF(Riskhistorik!W35=\"Hög\",3,0))),Q33)","v":0},{"$f":"IF(Riskhistorik!W$2<>\"Datum\",IF(Riskhistorik!X35=\"Låg\",1,IF(Riskhistorik!X35=\"Medel\",2,IF(Riskhistorik!X35=\"Hög\",3,0))),R33)","v":0},{"$f":"IF(Riskhistorik!Y$2<>\"Datum\",IF(Riskhistorik!Y35=\"Låg\",1,IF(Riskhistorik!Y35=\"Medel\",2,IF(Riskhistorik!Y35=\"Hög\",3,0))),S33)","v":0},{"$f":"IF(Riskhistorik!Y$2<>\"Datum\",IF(Riskhistorik!Z35=\"Låg\",1,IF(Riskhistorik!Z35=\"Medel\",2,IF(Riskhistorik!Z35=\"Hög\",3,0))),T33)","v":0},{"$f":"IF(Riskhistorik!AA$2<>\"Datum\",IF(Riskhistorik!AA35=\"Låg\",1,IF(Riskhistorik!AA35=\"Medel\",2,IF(Riskhistorik!AA35=\"Hög\",3,0))),U33)","v":0},{"$f":"IF(Riskhistorik!AA$2<>\"Datum\",IF(Riskhistorik!AB35=\"Låg\",1,IF(Riskhistorik!AB35=\"Medel\",2,IF(Riskhistorik!AB35=\"Hög\",3,0))),V33)","v":0},{"$f":"IF(Riskhistorik!AC$2<>\"Datum\",IF(Riskhistorik!AC35=\"Låg\",1,IF(Riskhistorik!AC35=\"Medel\",2,IF(Riskhistorik!AC35=\"Hög\",3,0))),W33)","v":0},{"$f":"IF(Riskhistorik!AC$2<>\"Datum\",IF(Riskhistorik!AD35=\"Låg\",1,IF(Riskhistorik!AD35=\"Medel\",2,IF(Riskhistorik!AD35=\"Hög\",3,0))),X33)","v":0},{"$f":"IF(Riskhistorik!AE$2<>\"Datum\",IF(Riskhistorik!AE35=\"Låg\",1,IF(Riskhistorik!AE35=\"Medel\",2,IF(Riskhistorik!AE35=\"Hög\",3,0))),Y33)","v":0},{"$f":"IF(Riskhistorik!AE$2<>\"Datum\",IF(Riskhistorik!AF35=\"Låg\",1,IF(Riskhistorik!AF35=\"Medel\",2,IF(Riskhistorik!AF35=\"Hög\",3,0))),Z33)","v":0},{"$f":"IF(Riskhistorik!AG$2<>\"Datum\",IF(Riskhistorik!AG35=\"Låg\",1,IF(Riskhistorik!AG35=\"Medel\",2,IF(Riskhistorik!AG35=\"Hög\",3,0))),AA33)","v":0},{"$f":"IF(Riskhistorik!AG$2<>\"Datum\",IF(Riskhistorik!AH35=\"Låg\",1,IF(Riskhistorik!AH35=\"Medel\",2,IF(Riskhistorik!AH35=\"Hög\",3,0))),AB33)","v":0},{"$f":"IF(Riskhistorik!AI$2<>\"Datum\",IF(Riskhistorik!AI35=\"Låg\",1,IF(Riskhistorik!AI35=\"Medel\",2,IF(Riskhistorik!AI35=\"Hög\",3,0))),AC33)","v":0},{"$f":"IF(Riskhistorik!AI$2<>\"Datum\",IF(Riskhistorik!AJ35=\"Låg\",1,IF(Riskhistorik!AJ35=\"Medel\",2,IF(Riskhistorik!AJ35=\"Hög\",3,0))),AD33)","v":0},{"$f":"IF(Riskhistorik!AK$2<>\"Datum\",IF(Riskhistorik!AK35=\"Låg\",1,IF(Riskhistorik!AK35=\"Medel\",2,IF(Riskhistorik!AK35=\"Hög\",3,0))),AE33)","v":0},{"$f":"IF(Riskhistorik!AK$2<>\"Datum\",IF(Riskhistorik!AL35=\"Låg\",1,IF(Riskhistorik!AL35=\"Medel\",2,IF(Riskhistorik!AL35=\"Hög\",3,0))),AF33)","v":0},{"$f":"IF(Riskhistorik!AM$2<>\"Datum\",IF(Riskhistorik!AM35=\"Låg\",1,IF(Riskhistorik!AM35=\"Medel\",2,IF(Riskhistorik!AM35=\"Hög\",3,0))),AG33)","v":0},{"$f":"IF(Riskhistorik!AM$2<>\"Datum\",IF(Riskhistorik!AN35=\"Låg\",1,IF(Riskhistorik!AN35=\"Medel\",2,IF(Riskhistorik!AN35=\"Hög\",3,0))),AH33)","v":0},{"$f":"IF(Riskhistorik!AO$2<>\"Datum\",IF(Riskhistorik!AO35=\"Låg\",1,IF(Riskhistorik!AO35=\"Medel\",2,IF(Riskhistorik!AO35=\"Hög\",3,0))),AI33)","v":0},{"$f":"IF(Riskhistorik!AO$2<>\"Datum\",IF(Riskhistorik!AP35=\"Låg\",1,IF(Riskhistorik!AP35=\"Medel\",2,IF(Riskhistorik!AP35=\"Hög\",3,0))),AJ33)","v":0},{"$f":"IF(Riskhistorik!AQ$2<>\"Datum\",IF(Riskhistorik!AQ35=\"Låg\",1,IF(Riskhistorik!AQ35=\"Medel\",2,IF(Riskhistorik!AQ35=\"Hög\",3,0))),AK33)","v":0},{"$f":"IF(Riskhistorik!AQ$2<>\"Datum\",IF(Riskhistorik!AR35=\"Låg\",1,IF(Riskhistorik!AR35=\"Medel\",2,IF(Riskhistorik!AR35=\"Hög\",3,0))),AL33)","v":0},0,0,0,0,0,0,0,0,0,0,0,0,0,0,0,0,0,0,0,0]
[{"$f":"IF(Riskhistorik!E36<>\"\",IF(Riskhistorik!E36=\"Låg\",1,IF(Riskhistorik!E36=\"Medel\",2,3)),0)","v":0},{"$f":"IF(Riskhistorik!F36<>\"\",IF(Riskhistorik!F36=\"Låg\",1,IF(Riskhistorik!F36=\"Medel\",2,3)),0)","v":0},{"$f":"IF(Riskhistorik!G$2<>\"Datum\",IF(Riskhistorik!G36=\"Låg\",1,IF(Riskhistorik!G36=\"Medel\",2,IF(Riskhistorik!G36=\"Hög\",3,0))),A34)","v":0},{"$f":"IF(Riskhistorik!G$2<>\"Datum\",IF(Riskhistorik!H36=\"Låg\",1,IF(Riskhistorik!H36=\"Medel\",2,IF(Riskhistorik!H36=\"Hög\",3,0))),B34)","v":0},{"$f":"IF(Riskhistorik!I$2<>\"Datum\",IF(Riskhistorik!I36=\"Låg\",1,IF(Riskhistorik!I36=\"Medel\",2,IF(Riskhistorik!I36=\"Hög\",3,0))),C34)","v":0},{"$f":"IF(Riskhistorik!I$2<>\"Datum\",IF(Riskhistorik!J36=\"Låg\",1,IF(Riskhistorik!J36=\"Medel\",2,IF(Riskhistorik!J36=\"Hög\",3,0))),D34)","v":0},{"$f":"IF(Riskhistorik!K$2<>\"Datum\",IF(Riskhistorik!K36=\"Låg\",1,IF(Riskhistorik!K36=\"Medel\",2,IF(Riskhistorik!K36=\"Hög\",3,0))),E34)","v":0},{"$f":"IF(Riskhistorik!K$2<>\"Datum\",IF(Riskhistorik!L36=\"Låg\",1,IF(Riskhistorik!L36=\"Medel\",2,IF(Riskhistorik!L36=\"Hög\",3,0))),F34)","v":0},{"$f":"IF(Riskhistorik!M$2<>\"Datum\",IF(Riskhistorik!M36=\"Låg\",1,IF(Riskhistorik!M36=\"Medel\",2,IF(Riskhistorik!M36=\"Hög\",3,0))),G34)","v":0},{"$f":"IF(Riskhistorik!M$2<>\"Datum\",IF(Riskhistorik!N36=\"Låg\",1,IF(Riskhistorik!N36=\"Medel\",2,IF(Riskhistorik!N36=\"Hög\",3,0))),H34)","v":0},{"$f":"IF(Riskhistorik!O$2<>\"Datum\",IF(Riskhistorik!O36=\"Låg\",1,IF(Riskhistorik!O36=\"Medel\",2,IF(Riskhistorik!O36=\"Hög\",3,0))),I34)","v":0},{"$f":"IF(Riskhistorik!O$2<>\"Datum\",IF(Riskhistorik!P36=\"Låg\",1,IF(Riskhistorik!P36=\"Medel\",2,IF(Riskhistorik!P36=\"Hög\",3,0))),J34)","v":0},{"$f":"IF(Riskhistorik!Q$2<>\"Datum\",IF(Riskhistorik!Q36=\"Låg\",1,IF(Riskhistorik!Q36=\"Medel\",2,IF(Riskhistorik!Q36=\"Hög\",3,0))),K34)","v":0},{"$f":"IF(Riskhistorik!Q$2<>\"Datum\",IF(Riskhistorik!R36=\"Låg\",1,IF(Riskhistorik!R36=\"Medel\",2,IF(Riskhistorik!R36=\"Hög\",3,0))),L34)","v":0},{"$f":"IF(Riskhistorik!S$2<>\"Datum\",IF(Riskhistorik!S36=\"Låg\",1,IF(Riskhistorik!S36=\"Medel\",2,IF(Riskhistorik!S36=\"Hög\",3,0))),M34)","v":0},{"$f":"IF(Riskhistorik!S$2<>\"Datum\",IF(Riskhistorik!T36=\"Låg\",1,IF(Riskhistorik!T36=\"Medel\",2,IF(Riskhistorik!T36=\"Hög\",3,0))),N34)","v":0},{"$f":"IF(Riskhistorik!U$2<>\"Datum\",IF(Riskhistorik!U36=\"Låg\",1,IF(Riskhistorik!U36=\"Medel\",2,IF(Riskhistorik!U36=\"Hög\",3,0))),O34)","v":0},{"$f":"IF(Riskhistorik!U$2<>\"Datum\",IF(Riskhistorik!V36=\"Låg\",1,IF(Riskhistorik!V36=\"Medel\",2,IF(Riskhistorik!V36=\"Hög\",3,0))),P34)","v":0},{"$f":"IF(Riskhistorik!W$2<>\"Datum\",IF(Riskhistorik!W36=\"Låg\",1,IF(Riskhistorik!W36=\"Medel\",2,IF(Riskhistorik!W36=\"Hög\",3,0))),Q34)","v":0},{"$f":"IF(Riskhistorik!W$2<>\"Datum\",IF(Riskhistorik!X36=\"Låg\",1,IF(Riskhistorik!X36=\"Medel\",2,IF(Riskhistorik!X36=\"Hög\",3,0))),R34)","v":0},{"$f":"IF(Riskhistorik!Y$2<>\"Datum\",IF(Riskhistorik!Y36=\"Låg\",1,IF(Riskhistorik!Y36=\"Medel\",2,IF(Riskhistorik!Y36=\"Hög\",3,0))),S34)","v":0},{"$f":"IF(Riskhistorik!Y$2<>\"Datum\",IF(Riskhistorik!Z36=\"Låg\",1,IF(Riskhistorik!Z36=\"Medel\",2,IF(Riskhistorik!Z36=\"Hög\",3,0))),T34)","v":0},{"$f":"IF(Riskhistorik!AA$2<>\"Datum\",IF(Riskhistorik!AA36=\"Låg\",1,IF(Riskhistorik!AA36=\"Medel\",2,IF(Riskhistorik!AA36=\"Hög\",3,0))),U34)","v":0},{"$f":"IF(Riskhistorik!AA$2<>\"Datum\",IF(Riskhistorik!AB36=\"Låg\",1,IF(Riskhistorik!AB36=\"Medel\",2,IF(Riskhistorik!AB36=\"Hög\",3,0))),V34)","v":0},{"$f":"IF(Riskhistorik!AC$2<>\"Datum\",IF(Riskhistorik!AC36=\"Låg\",1,IF(Riskhistorik!AC36=\"Medel\",2,IF(Riskhistorik!AC36=\"Hög\",3,0))),W34)","v":0},{"$f":"IF(Riskhistorik!AC$2<>\"Datum\",IF(Riskhistorik!AD36=\"Låg\",1,IF(Riskhistorik!AD36=\"Medel\",2,IF(Riskhistorik!AD36=\"Hög\",3,0))),X34)","v":0},{"$f":"IF(Riskhistorik!AE$2<>\"Datum\",IF(Riskhistorik!AE36=\"Låg\",1,IF(Riskhistorik!AE36=\"Medel\",2,IF(Riskhistorik!AE36=\"Hög\",3,0))),Y34)","v":0},{"$f":"IF(Riskhistorik!AE$2<>\"Datum\",IF(Riskhistorik!AF36=\"Låg\",1,IF(Riskhistorik!AF36=\"Medel\",2,IF(Riskhistorik!AF36=\"Hög\",3,0))),Z34)","v":0},{"$f":"IF(Riskhistorik!AG$2<>\"Datum\",IF(Riskhistorik!AG36=\"Låg\",1,IF(Riskhistorik!AG36=\"Medel\",2,IF(Riskhistorik!AG36=\"Hög\",3,0))),AA34)","v":0},{"$f":"IF(Riskhistorik!AG$2<>\"Datum\",IF(Riskhistorik!AH36=\"Låg\",1,IF(Riskhistorik!AH36=\"Medel\",2,IF(Riskhistorik!AH36=\"Hög\",3,0))),AB34)","v":0},{"$f":"IF(Riskhistorik!AI$2<>\"Datum\",IF(Riskhistorik!AI36=\"Låg\",1,IF(Riskhistorik!AI36=\"Medel\",2,IF(Riskhistorik!AI36=\"Hög\",3,0))),AC34)","v":0},{"$f":"IF(Riskhistorik!AI$2<>\"Datum\",IF(Riskhistorik!AJ36=\"Låg\",1,IF(Riskhistorik!AJ36=\"Medel\",2,IF(Riskhistorik!AJ36=\"Hög\",3,0))),AD34)","v":0},{"$f":"IF(Riskhistorik!AK$2<>\"Datum\",IF(Riskhistorik!AK36=\"Låg\",1,IF(Riskhistorik!AK36=\"Medel\",2,IF(Riskhistorik!AK36=\"Hög\",3,0))),AE34)","v":0},{"$f":"IF(Riskhistorik!AK$2<>\"Datum\",IF(Riskhistorik!AL36=\"Låg\",1,IF(Riskhistorik!AL36=\"Medel\",2,IF(Riskhistorik!AL36=\"Hög\",3,0))),AF34)","v":0},{"$f":"IF(Riskhistorik!AM$2<>\"Datum\",IF(Riskhistorik!AM36=\"Låg\",1,IF(Riskhistorik!AM36=\"Medel\",2,IF(Riskhistorik!AM36=\"Hög\",3,0))),AG34)","v":0},{"$f":"IF(Riskhistorik!AM$2<>\"Datum\",IF(Riskhistorik!AN36=\"Låg\",1,IF(Riskhistorik!AN36=\"Medel\",2,IF(Riskhistorik!AN36=\"Hög\",3,0))),AH34)","v":0},{"$f":"IF(Riskhistorik!AO$2<>\"Datum\",IF(Riskhistorik!AO36=\"Låg\",1,IF(Riskhistorik!AO36=\"Medel\",2,IF(Riskhistorik!AO36=\"Hög\",3,0))),AI34)","v":0},{"$f":"IF(Riskhistorik!AO$2<>\"Datum\",IF(Riskhistorik!AP36=\"Låg\",1,IF(Riskhistorik!AP36=\"Medel\",2,IF(Riskhistorik!AP36=\"Hög\",3,0))),AJ34)","v":0},{"$f":"IF(Riskhistorik!AQ$2<>\"Datum\",IF(Riskhistorik!AQ36=\"Låg\",1,IF(Riskhistorik!AQ36=\"Medel\",2,IF(Riskhistorik!AQ36=\"Hög\",3,0))),AK34)","v":0},{"$f":"IF(Riskhistorik!AQ$2<>\"Datum\",IF(Riskhistorik!AR36=\"Låg\",1,IF(Riskhistorik!AR36=\"Medel\",2,IF(Riskhistorik!AR36=\"Hög\",3,0))),AL34)","v":0},0,0,0,0,0,0,0,0,0,0,0,0,0,0,0,0,0,0,0,0]
[{"$f":"IF(Riskhistorik!E37<>\"\",IF(Riskhistorik!E37=\"Låg\",1,IF(Riskhistorik!E37=\"Medel\",2,3)),0)","v":0},{"$f":"IF(Riskhistorik!F37<>\"\",IF(Riskhistorik!F37=\"Låg\",1,IF(Riskhistorik!F37=\"Medel\",2,3)),0)","v":0},{"$f":"IF(Riskhistorik!G$2<>\"Datum\",IF(Riskhistorik!G37=\"Låg\",1,IF(Riskhistorik!G37=\"Medel\",2,IF(Riskhistorik!G37=\"Hög\",3,0))),A35)","v":0},{"$f":"IF(Riskhistorik!G$2<>\"Datum\",IF(Riskhistorik!H37=\"Låg\",1,IF(Riskhistorik!H37=\"Medel\",2,IF(Riskhistorik!H37=\"Hög\",3,0))),B35)","v":0},{"$f":"IF(Riskhistorik!I$2<>\"Datum\",IF(Riskhistorik!I37=\"Låg\",1,IF(Riskhistorik!I37=\"Medel\",2,IF(Riskhistorik!I37=\"Hög\",3,0))),C35)","v":0},{"$f":"IF(Riskhistorik!I$2<>\"Datum\",IF(Riskhistorik!J37=\"Låg\",1,IF(Riskhistorik!J37=\"Medel\",2,IF(Riskhistorik!J37=\"Hög\",3,0))),D35)","v":0},{"$f":"IF(Riskhistorik!K$2<>\"Datum\",IF(Riskhistorik!K37=\"Låg\",1,IF(Riskhistorik!K37=\"Medel\",2,IF(Riskhistorik!K37=\"Hög\",3,0))),E35)","v":0},{"$f":"IF(Riskhistorik!K$2<>\"Datum\",IF(Riskhistorik!L37=\"Låg\",1,IF(Riskhistorik!L37=\"Medel\",2,IF(Riskhistorik!L37=\"Hög\",3,0))),F35)","v":0},{"$f":"IF(Riskhistorik!M$2<>\"Datum\",IF(Riskhistorik!M37=\"Låg\",1,IF(Riskhistorik!M37=\"Medel\",2,IF(Riskhistorik!M37=\"Hög\",3,0))),G35)","v":0},{"$f":"IF(Riskhistorik!M$2<>\"Datum\",IF(Riskhistorik!N37=\"Låg\",1,IF(Riskhistorik!N37=\"Medel\",2,IF(Riskhistorik!N37=\"Hög\",3,0))),H35)","v":0},{"$f":"IF(Riskhistorik!O$2<>\"Datum\",IF(Riskhistorik!O37=\"Låg\",1,IF(Riskhistorik!O37=\"Medel\",2,IF(Riskhistorik!O37=\"Hög\",3,0))),I35)","v":0},{"$f":"IF(Riskhistorik!O$2<>\"Datum\",IF(Riskhistorik!P37=\"Låg\",1,IF(Riskhistorik!P37=\"Medel\",2,IF(Riskhistorik!P37=\"Hög\",3,0))),J35)","v":0},{"$f":"IF(Riskhistorik!Q$2<>\"Datum\",IF(Riskhistorik!Q37=\"Låg\",1,IF(Riskhistorik!Q37=\"Medel\",2,IF(Riskhistorik!Q37=\"Hög\",3,0))),K35)","v":0},{"$f":"IF(Riskhistorik!Q$2<>\"Datum\",IF(Riskhistorik!R37=\"Låg\",1,IF(Riskhistorik!R37=\"Medel\",2,IF(Riskhistorik!R37=\"Hög\",3,0))),L35)","v":0},{"$f":"IF(Riskhistorik!S$2<>\"Datum\",IF(Riskhistorik!S37=\"Låg\",1,IF(Riskhistorik!S37=\"Medel\",2,IF(Riskhistorik!S37=\"Hög\",3,0))),M35)","v":0},{"$f":"IF(Riskhistorik!S$2<>\"Datum\",IF(Riskhistorik!T37=\"Låg\",1,IF(Riskhistorik!T37=\"Medel\",2,IF(Riskhistorik!T37=\"Hög\",3,0))),N35)","v":0},{"$f":"IF(Riskhistorik!U$2<>\"Datum\",IF(Riskhistorik!U37=\"Låg\",1,IF(Riskhistorik!U37=\"Medel\",2,IF(Riskhistorik!U37=\"Hög\",3,0))),O35)","v":0},{"$f":"IF(Riskhistorik!U$2<>\"Datum\",IF(Riskhistorik!V37=\"Låg\",1,IF(Riskhistorik!V37=\"Medel\",2,IF(Riskhistorik!V37=\"Hög\",3,0))),P35)","v":0},{"$f":"IF(Riskhistorik!W$2<>\"Datum\",IF(Riskhistorik!W37=\"Låg\",1,IF(Riskhistorik!W37=\"Medel\",2,IF(Riskhistorik!W37=\"Hög\",3,0))),Q35)","v":0},{"$f":"IF(Riskhistorik!W$2<>\"Datum\",IF(Riskhistorik!X37=\"Låg\",1,IF(Riskhistorik!X37=\"Medel\",2,IF(Riskhistorik!X37=\"Hög\",3,0))),R35)","v":0},{"$f":"IF(Riskhistorik!Y$2<>\"Datum\",IF(Riskhistorik!Y37=\"Låg\",1,IF(Riskhistorik!Y37=\"Medel\",2,IF(Riskhistorik!Y37=\"Hög\",3,0))),S35)","v":0},{"$f":"IF(Riskhistorik!Y$2<>\"Datum\",IF(Riskhistorik!Z37=\"Låg\",1,IF(Riskhistorik!Z37=\"Medel\",2,IF(Riskhistorik!Z37=\"Hög\",3,0))),T35)","v":0},{"$f":"IF(Riskhistorik!AA$2<>\"Datum\",IF(Riskhistorik!AA37=\"Låg\",1,IF(Riskhistorik!AA37=\"Medel\",2,IF(Riskhistorik!AA37=\"Hög\",3,0))),U35)","v":0},{"$f":"IF(Riskhistorik!AA$2<>\"Datum\",IF(Riskhistorik!AB37=\"Låg\",1,IF(Riskhistorik!AB37=\"Medel\",2,IF(Riskhistorik!AB37=\"Hög\",3,0))),V35)","v":0},{"$f":"IF(Riskhistorik!AC$2<>\"Datum\",IF(Riskhistorik!AC37=\"Låg\",1,IF(Riskhistorik!AC37=\"Medel\",2,IF(Riskhistorik!AC37=\"Hög\",3,0))),W35)","v":0},{"$f":"IF(Riskhistorik!AC$2<>\"Datum\",IF(Riskhistorik!AD37=\"Låg\",1,IF(Riskhistorik!AD37=\"Medel\",2,IF(Riskhistorik!AD37=\"Hög\",3,0))),X35)","v":0},{"$f":"IF(Riskhistorik!AE$2<>\"Datum\",IF(Riskhistorik!AE37=\"Låg\",1,IF(Riskhistorik!AE37=\"Medel\",2,IF(Riskhistorik!AE37=\"Hög\",3,0))),Y35)","v":0},{"$f":"IF(Riskhistorik!AE$2<>\"Datum\",IF(Riskhistorik!AF37=\"Låg\",1,IF(Riskhistorik!AF37=\"Medel\",2,IF(Riskhistorik!AF37=\"Hög\",3,0))),Z35)","v":0},{"$f":"IF(Riskhistorik!AG$2<>\"Datum\",IF(Riskhistorik!AG37=\"Låg\",1,IF(Riskhistorik!AG37=\"Medel\",2,IF(Riskhistorik!AG37=\"Hög\",3,0))),AA35)","v":0},{"$f":"IF(Riskhistorik!AG$2<>\"Datum\",IF(Riskhistorik!AH37=\"Låg\",1,IF(Riskhistorik!AH37=\"Medel\",2,IF(Riskhistorik!AH37=\"Hög\",3,0))),AB35)","v":0},{"$f":"IF(Riskhistorik!AI$2<>\"Datum\",IF(Riskhistorik!AI37=\"Låg\",1,IF(Riskhistorik!AI37=\"Medel\",2,IF(Riskhistorik!AI37=\"Hög\",3,0))),AC35)","v":0},{"$f":"IF(Riskhistorik!AI$2<>\"Datum\",IF(Riskhistorik!AJ37=\"Låg\",1,IF(Riskhistorik!AJ37=\"Medel\",2,IF(Riskhistorik!AJ37=\"Hög\",3,0))),AD35)","v":0},{"$f":"IF(Riskhistorik!AK$2<>\"Datum\",IF(Riskhistorik!AK37=\"Låg\",1,IF(Riskhistorik!AK37=\"Medel\",2,IF(Riskhistorik!AK37=\"Hög\",3,0))),AE35)","v":0},{"$f":"IF(Riskhistorik!AK$2<>\"Datum\",IF(Riskhistorik!AL37=\"Låg\",1,IF(Riskhistorik!AL37=\"Medel\",2,IF(Riskhistorik!AL37=\"Hög\",3,0))),AF35)","v":0},{"$f":"IF(Riskhistorik!AM$2<>\"Datum\",IF(Riskhistorik!AM37=\"Låg\",1,IF(Riskhistorik!AM37=\"Medel\",2,IF(Riskhistorik!AM37=\"Hög\",3,0))),AG35)","v":0},{"$f":"IF(Riskhistorik!AM$2<>\"Datum\",IF(Riskhistorik!AN37=\"Låg\",1,IF(Riskhistorik!AN37=\"Medel\",2,IF(Riskhistorik!AN37=\"Hög\",3,0))),AH35)","v":0},{"$f":"IF(Riskhistorik!AO$2<>\"Datum\",IF(Riskhistorik!AO37=\"Låg\",1,IF(Riskhistorik!AO37=\"Medel\",2,IF(Riskhistorik!AO37=\"Hög\",3,0))),AI35)","v":0},{"$f":"IF(Riskhistorik!AO$2<>\"Datum\",IF(Riskhistorik!AP37=\"Låg\",1,IF(Riskhistorik!AP37=\"Medel\",2,IF(Riskhistorik!AP37=\"Hög\",3,0))),AJ35)","v":0},{"$f":"IF(Riskhistorik!AQ$2<>\"Datum\",IF(Riskhistorik!AQ37=\"Låg\",1,IF(Riskhistorik!AQ37=\"Medel\",2,IF(Riskhistorik!AQ37=\"Hög\",3,0))),AK35)","v":0},{"$f":"IF(Riskhistorik!AQ$2<>\"Datum\",IF(Riskhistorik!AR37=\"Låg\",1,IF(Riskhistorik!AR37=\"Medel\",2,IF(Riskhistorik!AR37=\"Hög\",3,0))),AL35)","v":0},0,0,0,0,0,0,0,0,0,0,0,0,0,0,0,0,0,0,0,0]
[{"$f":"IF(Riskhistorik!E38<>\"\",IF(Riskhistorik!E38=\"Låg\",1,IF(Riskhistorik!E38=\"Medel\",2,3)),0)","v":0},{"$f":"IF(Riskhistorik!F38<>\"\",IF(Riskhistorik!F38=\"Låg\",1,IF(Riskhistorik!F38=\"Medel\",2,3)),0)","v":0},{"$f":"IF(Riskhistorik!G$2<>\"Datum\",IF(Riskhistorik!G38=\"Låg\",1,IF(Riskhistorik!G38=\"Medel\",2,IF(Riskhistorik!G38=\"Hög\",3,0))),A36)","v":0},{"$f":"IF(Riskhistorik!G$2<>\"Datum\",IF(Riskhistorik!H38=\"Låg\",1,IF(Riskhistorik!H38=\"Medel\",2,IF(Riskhistorik!H38=\"Hög\",3,0))),B36)","v":0},{"$f":"IF(Riskhistorik!I$2<>\"Datum\",IF(Riskhistorik!I38=\"Låg\",1,IF(Riskhistorik!I38=\"Medel\",2,IF(Riskhistorik!I38=\"Hög\",3,0))),C36)","v":0},{"$f":"IF(Riskhistorik!I$2<>\"Datum\",IF(Riskhistorik!J38=\"Låg\",1,IF(Riskhistorik!J38=\"Medel\",2,IF(Riskhistorik!J38=\"Hög\",3,0))),D36)","v":0},{"$f":"IF(Riskhistorik!K$2<>\"Datum\",IF(Riskhistorik!K38=\"Låg\",1,IF(Riskhistorik!K38=\"Medel\",2,IF(Riskhistorik!K38=\"Hög\",3,0))),E36)","v":0},{"$f":"IF(Riskhistorik!K$2<>\"Datum\",IF(Riskhistorik!L38=\"Låg\",1,IF(Riskhistorik!L38=\"Medel\",2,IF(Riskhistorik!L38=\"Hög\",3,0))),F36)","v":0},{"$f":"IF(Riskhistorik!M$2<>\"Datum\",IF(Riskhistorik!M38=\"Låg\",1,IF(Riskhistorik!M38=\"Medel\",2,IF(Riskhistorik!M38=\"Hög\",3,0))),G36)","v":0},{"$f":"IF(Riskhistorik!M$2<>\"Datum\",IF(Riskhistorik!N38=\"Låg\",1,IF(Riskhistorik!N38=\"Medel\",2,IF(Riskhistorik!N38=\"Hög\",3,0))),H36)","v":0},{"$f":"IF(Riskhistorik!O$2<>\"Datum\",IF(Riskhistorik!O38=\"Låg\",1,IF(Riskhistorik!O38=\"Medel\",2,IF(Riskhistorik!O38=\"Hög\",3,0))),I36)","v":0},{"$f":"IF(Riskhistorik!O$2<>\"Datum\",IF(Riskhistorik!P38=\"Låg\",1,IF(Riskhistorik!P38=\"Medel\",2,IF(Riskhistorik!P38=\"Hög\",3,0))),J36)","v":0},{"$f":"IF(Riskhistorik!Q$2<>\"Datum\",IF(Riskhistorik!Q38=\"Låg\",1,IF(Riskhistorik!Q38=\"Medel\",2,IF(Riskhistorik!Q38=\"Hög\",3,0))),K36)","v":0},{"$f":"IF(Riskhistorik!Q$2<>\"Datum\",IF(Riskhistorik!R38=\"Låg\",1,IF(Riskhistorik!R38=\"Medel\",2,IF(Riskhistorik!R38=\"Hög\",3,0))),L36)","v":0},{"$f":"IF(Riskhistorik!S$2<>\"Datum\",IF(Riskhistorik!S38=\"Låg\",1,IF(Riskhistorik!S38=\"Medel\",2,IF(Riskhistorik!S38=\"Hög\",3,0))),M36)","v":0},{"$f":"IF(Riskhistorik!S$2<>\"Datum\",IF(Riskhistorik!T38=\"Låg\",1,IF(Riskhistorik!T38=\"Medel\",2,IF(Riskhistorik!T38=\"Hög\",3,0))),N36)","v":0},{"$f":"IF(Riskhistorik!U$2<>\"Datum\",IF(Riskhistorik!U38=\"Låg\",1,IF(Riskhistorik!U38=\"Medel\",2,IF(Riskhistorik!U38=\"Hög\",3,0))),O36)","v":0},{"$f":"IF(Riskhistorik!U$2<>\"Datum\",IF(Riskhistorik!V38=\"Låg\",1,IF(Riskhistorik!V38=\"Medel\",2,IF(Riskhistorik!V38=\"Hög\",3,0))),P36)","v":0},{"$f":"IF(Riskhistorik!W$2<>\"Datum\",IF(Riskhistorik!W38=\"Låg\",1,IF(Riskhistorik!W38=\"Medel\",2,IF(Riskhistorik!W38=\"Hög\",3,0))),Q36)","v":0},{"$f":"IF(Riskhistorik!W$2<>\"Datum\",IF(Riskhistorik!X38=\"Låg\",1,IF(Riskhistorik!X38=\"Medel\",2,IF(Riskhistorik!X38=\"Hög\",3,0))),R36)","v":0},{"$f":"IF(Riskhistorik!Y$2<>\"Datum\",IF(Riskhistorik!Y38=\"Låg\",1,IF(Riskhistorik!Y38=\"Medel\",2,IF(Riskhistorik!Y38=\"Hög\",3,0))),S36)","v":0},{"$f":"IF(Riskhistorik!Y$2<>\"Datum\",IF(Riskhistorik!Z38=\"Låg\",1,IF(Riskhistorik!Z38=\"Medel\",2,IF(Riskhistorik!Z38=\"Hög\",3,0))),T36)","v":0},{"$f":"IF(Riskhistorik!AA$2<>\"Datum\",IF(Riskhistorik!AA38=\"Låg\",1,IF(Riskhistorik!AA38=\"Medel\",2,IF(Riskhistorik!AA38=\"Hög\",3,0))),U36)","v":0},{"$f":"IF(Riskhistorik!AA$2<>\"Datum\",IF(Riskhistorik!AB38=\"Låg\",1,IF(Riskhistorik!AB38=\"Medel\",2,IF(Riskhistorik!AB38=\"Hög\",3,0))),V36)","v":0},{"$f":"IF(Riskhistorik!AC$2<>\"Datum\",IF(Riskhistorik!AC38=\"Låg\",1,IF(Riskhistorik!AC38=\"Medel\",2,IF(Riskhistorik!AC38=\"Hög\",3,0))),W36)","v":0},{"$f":"IF(Riskhistorik!AC$2<>\"Datum\",IF(Riskhistorik!AD38=\"Låg\",1,IF(Riskhistorik!AD38=\"Medel\",2,IF(Riskhistorik!AD38=\"Hög\",3,0))),X36)","v":0},{"$f":"IF(Riskhistorik!AE$2<>\"Datum\",IF(Riskhistorik!AE38=\"Låg\",1,IF(Riskhistorik!AE38=\"Medel\",2,IF(Riskhistorik!AE38=\"Hög\",3,0))),Y36)","v":0},{"$f":"IF(Riskhistorik!AE$2<>\"Datum\",IF(Riskhistorik!AF38=\"Låg\",1,IF(Riskhistorik!AF38=\"Medel\",2,IF(Riskhistorik!AF38=\"Hög\",3,0))),Z36)","v":0},{"$f":"IF(Riskhistorik!AG$2<>\"Datum\",IF(Riskhistorik!AG38=\"Låg\",1,IF(Riskhistorik!AG38=\"Medel\",2,IF(Riskhistorik!AG38=\"Hög\",3,0))),AA36)","v":0},{"$f":"IF(Riskhistorik!AG$2<>\"Datum\",IF(Riskhistorik!AH38=\"Låg\",1,IF(Riskhistorik!AH38=\"Medel\",2,IF(Riskhistorik!AH38=\"Hög\",3,0))),AB36)","v":0},{"$f":"IF(Riskhistorik!AI$2<>\"Datum\",IF(Riskhistorik!AI38=\"Låg\",1,IF(Riskhistorik!AI38=\"Medel\",2,IF(Riskhistorik!AI38=\"Hög\",3,0))),AC36)","v":0},{"$f":"IF(Riskhistorik!AI$2<>\"Datum\",IF(Riskhistorik!AJ38=\"Låg\",1,IF(Riskhistorik!AJ38=\"Medel\",2,IF(Riskhistorik!AJ38=\"Hög\",3,0))),AD36)","v":0},{"$f":"IF(Riskhistorik!AK$2<>\"Datum\",IF(Riskhistorik!AK38=\"Låg\",1,IF(Riskhistorik!AK38=\"Medel\",2,IF(Riskhistorik!AK38=\"Hög\",3,0))),AE36)","v":0},{"$f":"IF(Riskhistorik!AK$2<>\"Datum\",IF(Riskhistorik!AL38=\"Låg\",1,IF(Riskhistorik!AL38=\"Medel\",2,IF(Riskhistorik!AL38=\"Hög\",3,0))),AF36)","v":0},{"$f":"IF(Riskhistorik!AM$2<>\"Datum\",IF(Riskhistorik!AM38=\"Låg\",1,IF(Riskhistorik!AM38=\"Medel\",2,IF(Riskhistorik!AM38=\"Hög\",3,0))),AG36)","v":0},{"$f":"IF(Riskhistorik!AM$2<>\"Datum\",IF(Riskhistorik!AN38=\"Låg\",1,IF(Riskhistorik!AN38=\"Medel\",2,IF(Riskhistorik!AN38=\"Hög\",3,0))),AH36)","v":0},{"$f":"IF(Riskhistorik!AO$2<>\"Datum\",IF(Riskhistorik!AO38=\"Låg\",1,IF(Riskhistorik!AO38=\"Medel\",2,IF(Riskhistorik!AO38=\"Hög\",3,0))),AI36)","v":0},{"$f":"IF(Riskhistorik!AO$2<>\"Datum\",IF(Riskhistorik!AP38=\"Låg\",1,IF(Riskhistorik!AP38=\"Medel\",2,IF(Riskhistorik!AP38=\"Hög\",3,0))),AJ36)","v":0},{"$f":"IF(Riskhistorik!AQ$2<>\"Datum\",IF(Riskhistorik!AQ38=\"Låg\",1,IF(Riskhistorik!AQ38=\"Medel\",2,IF(Riskhistorik!AQ38=\"Hög\",3,0))),AK36)","v":0},{"$f":"IF(Riskhistorik!AQ$2<>\"Datum\",IF(Riskhistorik!AR38=\"Låg\",1,IF(Riskhistorik!AR38=\"Medel\",2,IF(Riskhistorik!AR38=\"Hög\",3,0))),AL36)","v":0},0,0,0,0,0,0,0,0,0,0,0,0,0,0,0,0,0,0,0,0]
[{"$f":"IF(Riskhistorik!E39<>\"\",IF(Riskhistorik!E39=\"Låg\",1,IF(Riskhistorik!E39=\"Medel\",2,3)),0)","v":0},{"$f":"IF(Riskhistorik!F39<>\"\",IF(Riskhistorik!F39=\"Låg\",1,IF(Riskhistorik!F39=\"Medel\",2,3)),0)","v":0},{"$f":"IF(Riskhistorik!G$2<>\"Datum\",IF(Riskhistorik!G39=\"Låg\",1,IF(Riskhistorik!G39=\"Medel\",2,IF(Riskhistorik!G39=\"Hög\",3,0))),A37)","v":0},{"$f":"IF(Riskhistorik!G$2<>\"Datum\",IF(Riskhistorik!H39=\"Låg\",1,IF(Riskhistorik!H39=\"Medel\",2,IF(Riskhistorik!H39=\"Hög\",3,0))),B37)","v":0},{"$f":"IF(Riskhistorik!I$2<>\"Datum\",IF(Riskhistorik!I39=\"Låg\",1,IF(Riskhistorik!I39=\"Medel\",2,IF(Riskhistorik!I39=\"Hög\",3,0))),C37)","v":0},{"$f":"IF(Riskhistorik!I$2<>\"Datum\",IF(Riskhistorik!J39=\"Låg\",1,IF(Riskhistorik!J39=\"Medel\",2,IF(Riskhistorik!J39=\"Hög\",3,0))),D37)","v":0},{"$f":"IF(Riskhistorik!K$2<>\"Datum\",IF(Riskhistorik!K39=\"Låg\",1,IF(Riskhistorik!K39=\"Medel\",2,IF(Riskhistorik!K39=\"Hög\",3,0))),E37)","v":0},{"$f":"IF(Riskhistorik!K$2<>\"Datum\",IF(Riskhistorik!L39=\"Låg\",1,IF(Riskhistorik!L39=\"Medel\",2,IF(Riskhistorik!L39=\"Hög\",3,0))),F37)","v":0},{"$f":"IF(Riskhistorik!M$2<>\"Datum\",IF(Riskhistorik!M39=\"Låg\",1,IF(Riskhistorik!M39=\"Medel\",2,IF(Riskhistorik!M39=\"Hög\",3,0))),G37)","v":0},{"$f":"IF(Riskhistorik!M$2<>\"Datum\",IF(Riskhistorik!N39=\"Låg\",1,IF(Riskhistorik!N39=\"Medel\",2,IF(Riskhistorik!N39=\"Hög\",3,0))),H37)","v":0},{"$f":"IF(Riskhistorik!O$2<>\"Datum\",IF(Riskhistorik!O39=\"Låg\",1,IF(Riskhistorik!O39=\"Medel\",2,IF(Riskhistorik!O39=\"Hög\",3,0))),I37)","v":0},{"$f":"IF(Riskhistorik!O$2<>\"Datum\",IF(Riskhistorik!P39=\"Låg\",1,IF(Riskhistorik!P39=\"Medel\",2,IF(Riskhistorik!P39=\"Hög\",3,0))),J37)","v":0},{"$f":"IF(Riskhistorik!Q$2<>\"Datum\",IF(Riskhistorik!Q39=\"Låg\",1,IF(Riskhistorik!Q39=\"Medel\",2,IF(Riskhistorik!Q39=\"Hög\",3,0))),K37)","v":0},{"$f":"IF(Riskhistorik!Q$2<>\"Datum\",IF(Riskhistorik!R39=\"Låg\",1,IF(Riskhistorik!R39=\"Medel\",2,IF(Riskhistorik!R39=\"Hög\",3,0))),L37)","v":0},{"$f":"IF(Riskhistorik!S$2<>\"Datum\",IF(Riskhistorik!S39=\"Låg\",1,IF(Riskhistorik!S39=\"Medel\",2,IF(Riskhistorik!S39=\"Hög\",3,0))),M37)","v":0},{"$f":"IF(Riskhistorik!S$2<>\"Datum\",IF(Riskhistorik!T39=\"Låg\",1,IF(Riskhistorik!T39=\"Medel\",2,IF(Riskhistorik!T39=\"Hög\",3,0))),N37)","v":0},{"$f":"IF(Riskhistorik!U$2<>\"Datum\",IF(Riskhistorik!U39=\"Låg\",1,IF(Riskhistorik!U39=\"Medel\",2,IF(Riskhistorik!U39=\"Hög\",3,0))),O37)","v":0},{"$f":"IF(Riskhistorik!U$2<>\"Datum\",IF(Riskhistorik!V39=\"Låg\",1,IF(Riskhistorik!V39=\"Medel\",2,IF(Riskhistorik!V39=\"Hög\",3,0))),P37)","v":0},{"$f":"IF(Riskhistorik!W$2<>\"Datum\",IF(Riskhistorik!W39=\"Låg\",1,IF(Riskhistorik!W39=\"Medel\",2,IF(Riskhistorik!W39=\"Hög\",3,0))),Q37)","v":0},{"$f":"IF(Riskhistorik!W$2<>\"Datum\",IF(Riskhistorik!X39=\"Låg\",1,IF(Riskhistorik!X39=\"Medel\",2,IF(Riskhistorik!X39=\"Hög\",3,0))),R37)","v":0},{"$f":"IF(Riskhistorik!Y$2<>\"Datum\",IF(Riskhistorik!Y39=\"Låg\",1,IF(Riskhistorik!Y39=\"Medel\",2,IF(Riskhistorik!Y39=\"Hög\",3,0))),S37)","v":0},{"$f":"IF(Riskhistorik!Y$2<>\"Datum\",IF(Riskhistorik!Z39=\"Låg\",1,IF(Riskhistorik!Z39=\"Medel\",2,IF(Riskhistorik!Z39=\"Hög\",3,0))),T37)","v":0},{"$f":"IF(Riskhistorik!AA$2<>\"Datum\",IF(Riskhistorik!AA39=\"Låg\",1,IF(Riskhistorik!AA39=\"Medel\",2,IF(Riskhistorik!AA39=\"Hög\",3,0))),U37)","v":0},{"$f":"IF(Riskhistorik!AA$2<>\"Datum\",IF(Riskhistorik!AB39=\"Låg\",1,IF(Riskhistorik!AB39=\"Medel\",2,IF(Riskhistorik!AB39=\"Hög\",3,0))),V37)","v":0},{"$f":"IF(Riskhistorik!AC$2<>\"Datum\",IF(Riskhistorik!AC39=\"Låg\",1,IF(Riskhistorik!AC39=\"Medel\",2,IF(Riskhistorik!AC39=\"Hög\",3,0))),W37)","v":0},{"$f":"IF(Riskhistorik!AC$2<>\"Datum\",IF(Riskhistorik!AD39=\"Låg\",1,IF(Riskhistorik!AD39=\"Medel\",2,IF(Riskhistorik!AD39=\"Hög\",3,0))),X37)","v":0},{"$f":"IF(Riskhistorik!AE$2<>\"Datum\",IF(Riskhistorik!AE39=\"Låg\",1,IF(Riskhistorik!AE39=\"Medel\",2,IF(Riskhistorik!AE39=\"Hög\",3,0))),Y37)","v":0},{"$f":"IF(Riskhistorik!AE$2<>\"Datum\",IF(Riskhistorik!AF39=\"Låg\",1,IF(Riskhistorik!AF39=\"Medel\",2,IF(Riskhistorik!AF39=\"Hög\",3,0))),Z37)","v":0},{"$f":"IF(Riskhistorik!AG$2<>\"Datum\",IF(Riskhistorik!AG39=\"Låg\",1,IF(Riskhistorik!AG39=\"Medel\",2,IF(Riskhistorik!AG39=\"Hög\",3,0))),AA37)","v":0},{"$f":"IF(Riskhistorik!AG$2<>\"Datum\",IF(Riskhistorik!AH39=\"Låg\",1,IF(Riskhistorik!AH39=\"Medel\",2,IF(Riskhistorik!AH39=\"Hög\",3,0))),AB37)","v":0},{"$f":"IF(Riskhistorik!AI$2<>\"Datum\",IF(Riskhistorik!AI39=\"Låg\",1,IF(Riskhistorik!AI39=\"Medel\",2,IF(Riskhistorik!AI39=\"Hög\",3,0))),AC37)","v":0},{"$f":"IF(Riskhistorik!AI$2<>\"Datum\",IF(Riskhistorik!AJ39=\"Låg\",1,IF(Riskhistorik!AJ39=\"Medel\",2,IF(Riskhistorik!AJ39=\"Hög\",3,0))),AD37)","v":0},{"$f":"IF(Riskhistorik!AK$2<>\"Datum\",IF(Riskhistorik!AK39=\"Låg\",1,IF(Riskhistorik!AK39=\"Medel\",2,IF(Riskhistorik!AK39=\"Hög\",3,0))),AE37)","v":0},{"$f":"IF(Riskhistorik!AK$2<>\"Datum\",IF(Riskhistorik!AL39=\"Låg\",1,IF(Riskhistorik!AL39=\"Medel\",2,IF(Riskhistorik!AL39=\"Hög\",3,0))),AF37)","v":0},{"$f":"IF(Riskhistorik!AM$2<>\"Datum\",IF(Riskhistorik!AM39=\"Låg\",1,IF(Riskhistorik!AM39=\"Medel\",2,IF(Riskhistorik!AM39=\"Hög\",3,0))),AG37)","v":0},{"$f":"IF(Riskhistorik!AM$2<>\"Datum\",IF(Riskhistorik!AN39=\"Låg\",1,IF(Riskhistorik!AN39=\"Medel\",2,IF(Riskhistorik!AN39=\"Hög\",3,0))),AH37)","v":0},{"$f":"IF(Riskhistorik!AO$2<>\"Datum\",IF(Riskhistorik!AO39=\"Låg\",1,IF(Riskhistorik!AO39=\"Medel\",2,IF(Riskhistorik!AO39=\"Hög\",3,0))),AI37)","v":0},{"$f":"IF(Riskhistorik!AO$2<>\"Datum\",IF(Riskhistorik!AP39=\"Låg\",1,IF(Riskhistorik!AP39=\"Medel\",2,IF(Riskhistorik!AP39=\"Hög\",3,0))),AJ37)","v":0},{"$f":"IF(Riskhistorik!AQ$2<>\"Datum\",IF(Riskhistorik!AQ39=\"Låg\",1,IF(Riskhistorik!AQ39=\"Medel\",2,IF(Riskhistorik!AQ39=\"Hög\",3,0))),AK37)","v":0},{"$f":"IF(Riskhistorik!AQ$2<>\"Datum\",IF(Riskhistorik!AR39=\"Låg\",1,IF(Riskhistorik!AR39=\"Medel\",2,IF(Riskhistorik!AR39=\"Hög\",3,0))),AL37)","v":0},0,0,0,0,0,0,0,0,0,0,0,0,0,0,0,0,0,0,0,0]
[{"$f":"IF(Riskhistorik!E40<>\"\",IF(Riskhistorik!E40=\"Låg\",1,IF(Riskhistorik!E40=\"Medel\",2,3)),0)","v":0},{"$f":"IF(Riskhistorik!F40<>\"\",IF(Riskhistorik!F40=\"Låg\",1,IF(Riskhistorik!F40=\"Medel\",2,3)),0)","v":0},{"$f":"IF(Riskhistorik!G$2<>\"Datum\",IF(Riskhistorik!G40=\"Låg\",1,IF(Riskhistorik!G40=\"Medel\",2,IF(Riskhistorik!G40=\"Hög\",3,0))),A38)","v":0},{"$f":"IF(Riskhistorik!G$2<>\"Datum\",IF(Riskhistorik!H40=\"Låg\",1,IF(Riskhistorik!H40=\"Medel\",2,IF(Riskhistorik!H40=\"Hög\",3,0))),B38)","v":0},{"$f":"IF(Riskhistorik!I$2<>\"Datum\",IF(Riskhistorik!I40=\"Låg\",1,IF(Riskhistorik!I40=\"Medel\",2,IF(Riskhistorik!I40=\"Hög\",3,0))),C38)","v":0},{"$f":"IF(Riskhistorik!I$2<>\"Datum\",IF(Riskhistorik!J40=\"Låg\",1,IF(Riskhistorik!J40=\"Medel\",2,IF(Riskhistorik!J40=\"Hög\",3,0))),D38)","v":0},{"$f":"IF(Riskhistorik!K$2<>\"Datum\",IF(Riskhistorik!K40=\"Låg\",1,IF(Riskhistorik!K40=\"Medel\",2,IF(Riskhistorik!K40=\"Hög\",3,0))),E38)","v":0},{"$f":"IF(Riskhistorik!K$2<>\"Datum\",IF(Riskhistorik!L40=\"Låg\",1,IF(Riskhistorik!L40=\"Medel\",2,IF(Riskhistorik!L40=\"Hög\",3,0))),F38)","v":0},{"$f":"IF(Riskhistorik!M$2<>\"Datum\",IF(Riskhistorik!M40=\"Låg\",1,IF(Riskhistorik!M40=\"Medel\",2,IF(Riskhistorik!M40=\"Hög\",3,0))),G38)","v":0},{"$f":"IF(Riskhistorik!M$2<>\"Datum\",IF(Riskhistorik!N40=\"Låg\",1,IF(Riskhistorik!N40=\"Medel\",2,IF(Riskhistorik!N40=\"Hög\",3,0))),H38)","v":0},{"$f":"IF(Riskhistorik!O$2<>\"Datum\",IF(Riskhistorik!O40=\"Låg\",1,IF(Riskhistorik!O40=\"Medel\",2,IF(Riskhistorik!O40=\"Hög\",3,0))),I38)","v":0},{"$f":"IF(Riskhistorik!O$2<>\"Datum\",IF(Riskhistorik!P40=\"Låg\",1,IF(Riskhistorik!P40=\"Medel\",2,IF(Riskhistorik!P40=\"Hög\",3,0))),J38)","v":0},{"$f":"IF(Riskhistorik!Q$2<>\"Datum\",IF(Riskhistorik!Q40=\"Låg\",1,IF(Riskhistorik!Q40=\"Medel\",2,IF(Riskhistorik!Q40=\"Hög\",3,0))),K38)","v":0},{"$f":"IF(Riskhistorik!Q$2<>\"Datum\",IF(Riskhistorik!R40=\"Låg\",1,IF(Riskhistorik!R40=\"Medel\",2,IF(Riskhistorik!R40=\"Hög\",3,0))),L38)","v":0},{"$f":"IF(Riskhistorik!S$2<>\"Datum\",IF(Riskhistorik!S40=\"Låg\",1,IF(Riskhistorik!S40=\"Medel\",2,IF(Riskhistorik!S40=\"Hög\",3,0))),M38)","v":0},{"$f":"IF(Riskhistorik!S$2<>\"Datum\",IF(Riskhistorik!T40=\"Låg\",1,IF(Riskhistorik!T40=\"Medel\",2,IF(Riskhistorik!T40=\"Hög\",3,0))),N38)","v":0},{"$f":"IF(Riskhistorik!U$2<>\"Datum\",IF(Riskhistorik!U40=\"Låg\",1,IF(Riskhistorik!U40=\"Medel\",2,IF(Riskhistorik!U40=\"Hög\",3,0))),O38)","v":0},{"$f":"IF(Riskhistorik!U$2<>\"Datum\",IF(Riskhistorik!V40=\"Låg\",1,IF(Riskhistorik!V40=\"Medel\",2,IF(Riskhistorik!V40=\"Hög\",3,0))),P38)","v":0},{"$f":"IF(Riskhistorik!W$2<>\"Datum\",IF(Riskhistorik!W40=\"Låg\",1,IF(Riskhistorik!W40=\"Medel\",2,IF(Riskhistorik!W40=\"Hög\",3,0))),Q38)","v":0},{"$f":"IF(Riskhistorik!W$2<>\"Datum\",IF(Riskhistorik!X40=\"Låg\",1,IF(Riskhistorik!X40=\"Medel\",2,IF(Riskhistorik!X40=\"Hög\",3,0))),R38)","v":0},{"$f":"IF(Riskhistorik!Y$2<>\"Datum\",IF(Riskhistorik!Y40=\"Låg\",1,IF(Riskhistorik!Y40=\"Medel\",2,IF(Riskhistorik!Y40=\"Hög\",3,0))),S38)","v":0},{"$f":"IF(Riskhistorik!Y$2<>\"Datum\",IF(Riskhistorik!Z40=\"Låg\",1,IF(Riskhistorik!Z40=\"Medel\",2,IF(Riskhistorik!Z40=\"Hög\",3,0))),T38)","v":0},{"$f":"IF(Riskhistorik!AA$2<>\"Datum\",IF(Riskhistorik!AA40=\"Låg\",1,IF(Riskhistorik!AA40=\"Medel\",2,IF(Riskhistorik!AA40=\"Hög\",3,0))),U38)","v":0},{"$f":"IF(Riskhistorik!AA$2<>\"Datum\",IF(Riskhistorik!AB40=\"Låg\",1,IF(Riskhistorik!AB40=\"Medel\",2,IF(Riskhistorik!AB40=\"Hög\",3,0))),V38)","v":0},{"$f":"IF(Riskhistorik!AC$2<>\"Datum\",IF(Riskhistorik!AC40=\"Låg\",1,IF(Riskhistorik!AC40=\"Medel\",2,IF(Riskhistorik!AC40=\"Hög\",3,0))),W38)","v":0},{"$f":"IF(Riskhistorik!AC$2<>\"Datum\",IF(Riskhistorik!AD40=\"Låg\",1,IF(Riskhistorik!AD40=\"Medel\",2,IF(Riskhistorik!AD40=\"Hög\",3,0))),X38)","v":0},{"$f":"IF(Riskhistorik!AE$2<>\"Datum\",IF(Riskhistorik!AE40=\"Låg\",1,IF(Riskhistorik!AE40=\"Medel\",2,IF(Riskhistorik!AE40=\"Hög\",3,0))),Y38)","v":0},{"$f":"IF(Riskhistorik!AE$2<>\"Datum\",IF(Riskhistorik!AF40=\"Låg\",1,IF(Riskhistorik!AF40=\"Medel\",2,IF(Riskhistorik!AF40=\"Hög\",3,0))),Z38)","v":0},{"$f":"IF(Riskhistorik!AG$2<>\"Datum\",IF(Riskhistorik!AG40=\"Låg\",1,IF(Riskhistorik!AG40=\"Medel\",2,IF(Riskhistorik!AG40=\"Hög\",3,0))),AA38)","v":0},{"$f":"IF(Riskhistorik!AG$2<>\"Datum\",IF(Riskhistorik!AH40=\"Låg\",1,IF(Riskhistorik!AH40=\"Medel\",2,IF(Riskhistorik!AH40=\"Hög\",3,0))),AB38)","v":0},{"$f":"IF(Riskhistorik!AI$2<>\"Datum\",IF(Riskhistorik!AI40=\"Låg\",1,IF(Riskhistorik!AI40=\"Medel\",2,IF(Riskhistorik!AI40=\"Hög\",3,0))),AC38)","v":0},{"$f":"IF(Riskhistorik!AI$2<>\"Datum\",IF(Riskhistorik!AJ40=\"Låg\",1,IF(Riskhistorik!AJ40=\"Medel\",2,IF(Riskhistorik!AJ40=\"Hög\",3,0))),AD38)","v":0},{"$f":"IF(Riskhistorik!AK$2<>\"Datum\",IF(Riskhistorik!AK40=\"Låg\",1,IF(Riskhistorik!AK40=\"Medel\",2,IF(Riskhistorik!AK40=\"Hög\",3,0))),AE38)","v":0},{"$f":"IF(Riskhistorik!AK$2<>\"Datum\",IF(Riskhistorik!AL40=\"Låg\",1,IF(Riskhistorik!AL40=\"Medel\",2,IF(Riskhistorik!AL40=\"Hög\",3,0))),AF38)","v":0},{"$f":"IF(Riskhistorik!AM$2<>\"Datum\",IF(Riskhistorik!AM40=\"Låg\",1,IF(Riskhistorik!AM40=\"Medel\",2,IF(Riskhistorik!AM40=\"Hög\",3,0))),AG38)","v":0},{"$f":"IF(Riskhistorik!AM$2<>\"Datum\",IF(Riskhistorik!AN40=\"Låg\",1,IF(Riskhistorik!AN40=\"Medel\",2,IF(Riskhistorik!AN40=\"Hög\",3,0))),AH38)","v":0},{"$f":"IF(Riskhistorik!AO$2<>\"Datum\",IF(Riskhistorik!AO40=\"Låg\",1,IF(Riskhistorik!AO40=\"Medel\",2,IF(Riskhistorik!AO40=\"Hög\",3,0))),AI38)","v":0},{"$f":"IF(Riskhistorik!AO$2<>\"Datum\",IF(Riskhistorik!AP40=\"Låg\",1,IF(Riskhistorik!AP40=\"Medel\",2,IF(Riskhistorik!AP40=\"Hög\",3,0))),AJ38)","v":0},{"$f":"IF(Riskhistorik!AQ$2<>\"Datum\",IF(Riskhistorik!AQ40=\"Låg\",1,IF(Riskhistorik!AQ40=\"Medel\",2,IF(Riskhistorik!AQ40=\"Hög\",3,0))),AK38)","v":0},{"$f":"IF(Riskhistorik!AQ$2<>\"Datum\",IF(Riskhistorik!AR40=\"Låg\",1,IF(Riskhistorik!AR40=\"Medel\",2,IF(Riskhistorik!AR40=\"Hög\",3,0))),AL38)","v":0},0,0,0,0,0,0,0,0,0,0,0,0,0,0,0,0,0,0,0,0]
[{"$f":"IF(Riskhistorik!E41<>\"\",IF(Riskhistorik!E41=\"Låg\",1,IF(Riskhistorik!E41=\"Medel\",2,3)),0)","v":0},{"$f":"IF(Riskhistorik!F41<>\"\",IF(Riskhistorik!F41=\"Låg\",1,IF(Riskhistorik!F41=\"Medel\",2,3)),0)","v":0},{"$f":"IF(Riskhistorik!G$2<>\"Datum\",IF(Riskhistorik!G41=\"Låg\",1,IF(Riskhistorik!G41=\"Medel\",2,IF(Riskhistorik!G41=\"Hög\",3,0))),A39)","v":0},{"$f":"IF(Riskhistorik!G$2<>\"Datum\",IF(Riskhistorik!H41=\"Låg\",1,IF(Riskhistorik!H41=\"Medel\",2,IF(Riskhistorik!H41=\"Hög\",3,0))),B39)","v":0},{"$f":"IF(Riskhistorik!I$2<>\"Datum\",IF(Riskhistorik!I41=\"Låg\",1,IF(Riskhistorik!I41=\"Medel\",2,IF(Riskhistorik!I41=\"Hög\",3,0))),C39)","v":0},{"$f":"IF(Riskhistorik!I$2<>\"Datum\",IF(Riskhistorik!J41=\"Låg\",1,IF(Riskhistorik!J41=\"Medel\",2,IF(Riskhistorik!J41=\"Hög\",3,0))),D39)","v":0},{"$f":"IF(Riskhistorik!K$2<>\"Datum\",IF(Riskhistorik!K41=\"Låg\",1,IF(Riskhistorik!K41=\"Medel\",2,IF(Riskhistorik!K41=\"Hög\",3,0))),E39)","v":0},{"$f":"IF(Riskhistorik!K$2<>\"Datum\",IF(Riskhistorik!L41=\"Låg\",1,IF(Riskhistorik!L41=\"Medel\",2,IF(Riskhistorik!L41=\"Hög\",3,0))),F39)","v":0},{"$f":"IF(Riskhistorik!M$2<>\"Datum\",IF(Riskhistorik!M41=\"Låg\",1,IF(Riskhistorik!M41=\"Medel\",2,IF(Riskhistorik!M41=\"Hög\",3,0))),G39)","v":0},{"$f":"IF(Riskhistorik!M$2<>\"Datum\",IF(Riskhistorik!N41=\"Låg\",1,IF(Riskhistorik!N41=\"Medel\",2,IF(Riskhistorik!N41=\"Hög\",3,0))),H39)","v":0},{"$f":"IF(Riskhistorik!O$2<>\"Datum\",IF(Riskhistorik!O41=\"Låg\",1,IF(Riskhistorik!O41=\"Medel\",2,IF(Riskhistorik!O41=\"Hög\",3,0))),I39)","v":0},{"$f":"IF(Riskhistorik!O$2<>\"Datum\",IF(Riskhistorik!P41=\"Låg\",1,IF(Riskhistorik!P41=\"Medel\",2,IF(Riskhistorik!P41=\"Hög\",3,0))),J39)","v":0},{"$f":"IF(Riskhistorik!Q$2<>\"Datum\",IF(Riskhistorik!Q41=\"Låg\",1,IF(Riskhistorik!Q41=\"Medel\",2,IF(Riskhistorik!Q41=\"Hög\",3,0))),K39)","v":0},{"$f":"IF(Riskhistorik!Q$2<>\"Datum\",IF(Riskhistorik!R41=\"Låg\",1,IF(Riskhistorik!R41=\"Medel\",2,IF(Riskhistorik!R41=\"Hög\",3,0))),L39)","v":0},{"$f":"IF(Riskhistorik!S$2<>\"Datum\",IF(Riskhistorik!S41=\"Låg\",1,IF(Riskhistorik!S41=\"Medel\",2,IF(Riskhistorik!S41=\"Hög\",3,0))),M39)","v":0},{"$f":"IF(Riskhistorik!S$2<>\"Datum\",IF(Riskhistorik!T41=\"Låg\",1,IF(Riskhistorik!T41=\"Medel\",2,IF(Riskhistorik!T41=\"Hög\",3,0))),N39)","v":0},{"$f":"IF(Riskhistorik!U$2<>\"Datum\",IF(Riskhistorik!U41=\"Låg\",1,IF(Riskhistorik!U41=\"Medel\",2,IF(Riskhistorik!U41=\"Hög\",3,0))),O39)","v":0},{"$f":"IF(Riskhistorik!U$2<>\"Datum\",IF(Riskhistorik!V41=\"Låg\",1,IF(Riskhistorik!V41=\"Medel\",2,IF(Riskhistorik!V41=\"Hög\",3,0))),P39)","v":0},{"$f":"IF(Riskhistorik!W$2<>\"Datum\",IF(Riskhistorik!W41=\"Låg\",1,IF(Riskhistorik!W41=\"Medel\",2,IF(Riskhistorik!W41=\"Hög\",3,0))),Q39)","v":0},{"$f":"IF(Riskhistorik!W$2<>\"Datum\",IF(Riskhistorik!X41=\"Låg\",1,IF(Riskhistorik!X41=\"Medel\",2,IF(Riskhistorik!X41=\"Hög\",3,0))),R39)","v":0},{"$f":"IF(Riskhistorik!Y$2<>\"Datum\",IF(Riskhistorik!Y41=\"Låg\",1,IF(Riskhistorik!Y41=\"Medel\",2,IF(Riskhistorik!Y41=\"Hög\",3,0))),S39)","v":0},{"$f":"IF(Riskhistorik!Y$2<>\"Datum\",IF(Riskhistorik!Z41=\"Låg\",1,IF(Riskhistorik!Z41=\"Medel\",2,IF(Riskhistorik!Z41=\"Hög\",3,0))),T39)","v":0},{"$f":"IF(Riskhistorik!AA$2<>\"Datum\",IF(Riskhistorik!AA41=\"Låg\",1,IF(Riskhistorik!AA41=\"Medel\",2,IF(Riskhistorik!AA41=\"Hög\",3,0))),U39)","v":0},{"$f":"IF(Riskhistorik!AA$2<>\"Datum\",IF(Riskhistorik!AB41=\"Låg\",1,IF(Riskhistorik!AB41=\"Medel\",2,IF(Riskhistorik!AB41=\"Hög\",3,0))),V39)","v":0},{"$f":"IF(Riskhistorik!AC$2<>\"Datum\",IF(Riskhistorik!AC41=\"Låg\",1,IF(Riskhistorik!AC41=\"Medel\",2,IF(Riskhistorik!AC41=\"Hög\",3,0))),W39)","v":0},{"$f":"IF(Riskhistorik!AC$2<>\"Datum\",IF(Riskhistorik!AD41=\"Låg\",1,IF(Riskhistorik!AD41=\"Medel\",2,IF(Riskhistorik!AD41=\"Hög\",3,0))),X39)","v":0},{"$f":"IF(Riskhistorik!AE$2<>\"Datum\",IF(Riskhistorik!AE41=\"Låg\",1,IF(Riskhistorik!AE41=\"Medel\",2,IF(Riskhistorik!AE41=\"Hög\",3,0))),Y39)","v":0},{"$f":"IF(Riskhistorik!AE$2<>\"Datum\",IF(Riskhistorik!AF41=\"Låg\",1,IF(Riskhistorik!AF41=\"Medel\",2,IF(Riskhistorik!AF41=\"Hög\",3,0))),Z39)","v":0},{"$f":"IF(Riskhistorik!AG$2<>\"Datum\",IF(Riskhistorik!AG41=\"Låg\",1,IF(Riskhistorik!AG41=\"Medel\",2,IF(Riskhistorik!AG41=\"Hög\",3,0))),AA39)","v":0},{"$f":"IF(Riskhistorik!AG$2<>\"Datum\",IF(Riskhistorik!AH41=\"Låg\",1,IF(Riskhistorik!AH41=\"Medel\",2,IF(Riskhistorik!AH41=\"Hög\",3,0))),AB39)","v":0},{"$f":"IF(Riskhistorik!AI$2<>\"Datum\",IF(Riskhistorik!AI41=\"Låg\",1,IF(Riskhistorik!AI41=\"Medel\",2,IF(Riskhistorik!AI41=\"Hög\",3,0))),AC39)","v":0},{"$f":"IF(Riskhistorik!AI$2<>\"Datum\",IF(Riskhistorik!AJ41=\"Låg\",1,IF(Riskhistorik!AJ41=\"Medel\",2,IF(Riskhistorik!AJ41=\"Hög\",3,0))),AD39)","v":0},{"$f":"IF(Riskhistorik!AK$2<>\"Datum\",IF(Riskhistorik!AK41=\"Låg\",1,IF(Riskhistorik!AK41=\"Medel\",2,IF(Riskhistorik!AK41=\"Hög\",3,0))),AE39)","v":0},{"$f":"IF(Riskhistorik!AK$2<>\"Datum\",IF(Riskhistorik!AL41=\"Låg\",1,IF(Riskhistorik!AL41=\"Medel\",2,IF(Riskhistorik!AL41=\"Hög\",3,0))),AF39)","v":0},{"$f":"IF(Riskhistorik!AM$2<>\"Datum\",IF(Riskhistorik!AM41=\"Låg\",1,IF(Riskhistorik!AM41=\"Medel\",2,IF(Riskhistorik!AM41=\"Hög\",3,0))),AG39)","v":0},{"$f":"IF(Riskhistorik!AM$2<>\"Datum\",IF(Riskhistorik!AN41=\"Låg\",1,IF(Riskhistorik!AN41=\"Medel\",2,IF(Riskhistorik!AN41=\"Hög\",3,0))),AH39)","v":0},{"$f":"IF(Riskhistorik!AO$2<>\"Datum\",IF(Riskhistorik!AO41=\"Låg\",1,IF(Riskhistorik!AO41=\"Medel\",2,IF(Riskhistorik!AO41=\"Hög\",3,0))),AI39)","v":0},{"$f":"IF(Riskhistorik!AO$2<>\"Datum\",IF(Riskhistorik!AP41=\"Låg\",1,IF(Riskhistorik!AP41=\"Medel\",2,IF(Riskhistorik!AP41=\"Hög\",3,0))),AJ39)","v":0},{"$f":"IF(Riskhistorik!AQ$2<>\"Datum\",IF(Riskhistorik!AQ41=\"Låg\",1,IF(Riskhistorik!AQ41=\"Medel\",2,IF(Riskhistorik!AQ41=\"Hög\",3,0))),AK39)","v":0},{"$f":"IF(Riskhistorik!AQ$2<>\"Datum\",IF(Riskhistorik!AR41=\"Låg\",1,IF(Riskhistorik!AR41=\"Medel\",2,IF(Riskhistorik!AR41=\"Hög\",3,0))),AL39)","v":0},0,0,0,0,0,0,0,0,0,0,0,0,0,0,0,0,0,0,0,0]
[{"$f":"IF(Riskhistorik!E42<>\"\",IF(Riskhistorik!E42=\"Låg\",1,IF(Riskhistorik!E42=\"Medel\",2,3)),0)","v":0},{"$f":"IF(Riskhistorik!F42<>\"\",IF(Riskhistorik!F42=\"Låg\",1,IF(Riskhistorik!F42=\"Medel\",2,3)),0)","v":0},{"$f":"IF(Riskhistorik!G$2<>\"Datum\",IF(Riskhistorik!G42=\"Låg\",1,IF(Riskhistorik!G42=\"Medel\",2,IF(Riskhistorik!G42=\"Hög\",3,0))),A40)","v":0},{"$f":"IF(Riskhistorik!G$2<>\"Datum\",IF(Riskhistorik!H42=\"Låg\",1,IF(Riskhistorik!H42=\"Medel\",2,IF(Riskhistorik!H42=\"Hög\",3,0))),B40)","v":0},{"$f":"IF(Riskhistorik!I$2<>\"Datum\",IF(Riskhistorik!I42=\"Låg\",1,IF(Riskhistorik!I42=\"Medel\",2,IF(Riskhistorik!I42=\"Hög\",3,0))),C40)","v":0},{"$f":"IF(Riskhistorik!I$2<>\"Datum\",IF(Riskhistorik!J42=\"Låg\",1,IF(Riskhistorik!J42=\"Medel\",2,IF(Riskhistorik!J42=\"Hög\",3,0))),D40)","v":0},{"$f":"IF(Riskhistorik!K$2<>\"Datum\",IF(Riskhistorik!K42=\"Låg\",1,IF(Riskhistorik!K42=\"Medel\",2,IF(Riskhistorik!K42=\"Hög\",3,0))),E40)","v":0},{"$f":"IF(Riskhistorik!K$2<>\"Datum\",IF(Riskhistorik!L42=\"Låg\",1,IF(Riskhistorik!L42=\"Medel\",2,IF(Riskhistorik!L42=\"Hög\",3,0))),F40)","v":0},{"$f":"IF(Riskhistorik!M$2<>\"Datum\",IF(Riskhistorik!M42=\"Låg\",1,IF(Riskhistorik!M42=\"Medel\",2,IF(Riskhistorik!M42=\"Hög\",3,0))),G40)","v":0},{"$f":"IF(Riskhistorik!M$2<>\"Datum\",IF(Riskhistorik!N42=\"Låg\",1,IF(Riskhistorik!N42=\"Medel\",2,IF(Riskhistorik!N42=\"Hög\",3,0))),H40)","v":0},{"$f":"IF(Riskhistorik!O$2<>\"Datum\",IF(Riskhistorik!O42=\"Låg\",1,IF(Riskhistorik!O42=\"Medel\",2,IF(Riskhistorik!O42=\"Hög\",3,0))),I40)","v":0},{"$f":"IF(Riskhistorik!O$2<>\"Datum\",IF(Riskhistorik!P42=\"Låg\",1,IF(Riskhistorik!P42=\"Medel\",2,IF(Riskhistorik!P42=\"Hög\",3,0))),J40)","v":0},{"$f":"IF(Riskhistorik!Q$2<>\"Datum\",IF(Riskhistorik!Q42=\"Låg\",1,IF(Riskhistorik!Q42=\"Medel\",2,IF(Riskhistorik!Q42=\"Hög\",3,0))),K40)","v":0},{"$f":"IF(Riskhistorik!Q$2<>\"Datum\",IF(Riskhistorik!R42=\"Låg\",1,IF(Riskhistorik!R42=\"Medel\",2,IF(Riskhistorik!R42=\"Hög\",3,0))),L40)","v":0},{"$f":"IF(Riskhistorik!S$2<>\"Datum\",IF(Riskhistorik!S42=\"Låg\",1,IF(Riskhistorik!S42=\"Medel\",2,IF(Riskhistorik!S42=\"Hög\",3,0))),M40)","v":0},{"$f":"IF(Riskhistorik!S$2<>\"Datum\",IF(Riskhistorik!T42=\"Låg\",1,IF(Riskhistorik!T42=\"Medel\",2,IF(Riskhistorik!T42=\"Hög\",3,0))),N40)","v":0},{"$f":"IF(Riskhistorik!U$2<>\"Datum\",IF(Riskhistorik!U42=\"Låg\",1,IF(Riskhistorik!U42=\"Medel\",2,IF(Riskhistorik!U42=\"Hög\",3,0))),O40)","v":0},{"$f":"IF(Riskhistorik!U$2<>\"Datum\",IF(Riskhistorik!V42=\"Låg\",1,IF(Riskhistorik!V42=\"Medel\",2,IF(Riskhistorik!V42=\"Hög\",3,0))),P40)","v":0},{"$f":"IF(Riskhistorik!W$2<>\"Datum\",IF(Riskhistorik!W42=\"Låg\",1,IF(Riskhistorik!W42=\"Medel\",2,IF(Riskhistorik!W42=\"Hög\",3,0))),Q40)","v":0},{"$f":"IF(Riskhistorik!W$2<>\"Datum\",IF(Riskhistorik!X42=\"Låg\",1,IF(Riskhistorik!X42=\"Medel\",2,IF(Riskhistorik!X42=\"Hög\",3,0))),R40)","v":0},{"$f":"IF(Riskhistorik!Y$2<>\"Datum\",IF(Riskhistorik!Y42=\"Låg\",1,IF(Riskhistorik!Y42=\"Medel\",2,IF(Riskhistorik!Y42=\"Hög\",3,0))),S40)","v":0},{"$f":"IF(Riskhistorik!Y$2<>\"Datum\",IF(Riskhistorik!Z42=\"Låg\",1,IF(Riskhistorik!Z42=\"Medel\",2,IF(Riskhistorik!Z42=\"Hög\",3,0))),T40)","v":0},{"$f":"IF(Riskhistorik!AA$2<>\"Datum\",IF(Riskhistorik!AA42=\"Låg\",1,IF(Riskhistorik!AA42=\"Medel\",2,IF(Riskhistorik!AA42=\"Hög\",3,0))),U40)","v":0},{"$f":"IF(Riskhistorik!AA$2<>\"Datum\",IF(Riskhistorik!AB42=\"Låg\",1,IF(Riskhistorik!AB42=\"Medel\",2,IF(Riskhistorik!AB42=\"Hög\",3,0))),V40)","v":0},{"$f":"IF(Riskhistorik!AC$2<>\"Datum\",IF(Riskhistorik!AC42=\"Låg\",1,IF(Riskhistorik!AC42=\"Medel\",2,IF(Riskhistorik!AC42=\"Hög\",3,0))),W40)","v":0},{"$f":"IF(Riskhistorik!AC$2<>\"Datum\",IF(Riskhistorik!AD42=\"Låg\",1,IF(Riskhistorik!AD42=\"Medel\",2,IF(Riskhistorik!AD42=\"Hög\",3,0))),X40)","v":0},{"$f":"IF(Riskhistorik!AE$2<>\"Datum\",IF(Riskhistorik!AE42=\"Låg\",1,IF(Riskhistorik!AE42=\"Medel\",2,IF(Riskhistorik!AE42=\"Hög\",3,0))),Y40)","v":0},{"$f":"IF(Riskhistorik!AE$2<>\"Datum\",IF(Riskhistorik!AF42=\"Låg\",1,IF(Riskhistorik!AF42=\"Medel\",2,IF(Riskhistorik!AF42=\"Hög\",3,0))),Z40)","v":0},{"$f":"IF(Riskhistorik!AG$2<>\"Datum\",IF(Riskhistorik!AG42=\"Låg\",1,IF(Riskhistorik!AG42=\"Medel\",2,IF(Riskhistorik!AG42=\"Hög\",3,0))),AA40)","v":0},{"$f":"IF(Riskhistorik!AG$2<>\"Datum\",IF(Riskhistorik!AH42=\"Låg\",1,IF(Riskhistorik!AH42=\"Medel\",2,IF(Riskhistorik!AH42=\"Hög\",3,0))),AB40)","v":0},{"$f":"IF(Riskhistorik!AI$2<>\"Datum\",IF(Riskhistorik!AI42=\"Låg\",1,IF(Riskhistorik!AI42=\"Medel\",2,IF(Riskhistorik!AI42=\"Hög\",3,0))),AC40)","v":0},{"$f":"IF(Riskhistorik!AI$2<>\"Datum\",IF(Riskhistorik!AJ42=\"Låg\",1,IF(Riskhistorik!AJ42=\"Medel\",2,IF(Riskhistorik!AJ42=\"Hög\",3,0))),AD40)","v":0},{"$f":"IF(Riskhistorik!AK$2<>\"Datum\",IF(Riskhistorik!AK42=\"Låg\",1,IF(Riskhistorik!AK42=\"Medel\",2,IF(Riskhistorik!AK42=\"Hög\",3,0))),AE40)","v":0},{"$f":"IF(Riskhistorik!AK$2<>\"Datum\",IF(Riskhistorik!AL42=\"Låg\",1,IF(Riskhistorik!AL42=\"Medel\",2,IF(Riskhistorik!AL42=\"Hög\",3,0))),AF40)","v":0},{"$f":"IF(Riskhistorik!AM$2<>\"Datum\",IF(Riskhistorik!AM42=\"Låg\",1,IF(Riskhistorik!AM42=\"Medel\",2,IF(Riskhistorik!AM42=\"Hög\",3,0))),AG40)","v":0},{"$f":"IF(Riskhistorik!AM$2<>\"Datum\",IF(Riskhistorik!AN42=\"Låg\",1,IF(Riskhistorik!AN42=\"Medel\",2,IF(Riskhistorik!AN42=\"Hög\",3,0))),AH40)","v":0},{"$f":"IF(Riskhistorik!AO$2<>\"Datum\",IF(Riskhistorik!AO42=\"Låg\",1,IF(Riskhistorik!AO42=\"Medel\",2,IF(Riskhistorik!AO42=\"Hög\",3,0))),AI40)","v":0},{"$f":"IF(Riskhistorik!AO$2<>\"Datum\",IF(Riskhistorik!AP42=\"Låg\",1,IF(Riskhistorik!AP42=\"Medel\",2,IF(Riskhistorik!AP42=\"Hög\",3,0))),AJ40)","v":0},{"$f":"IF(Riskhistorik!AQ$2<>\"Datum\",IF(Riskhistorik!AQ42=\"Låg\",1,IF(Riskhistorik!AQ42=\"Medel\",2,IF(Riskhistorik!AQ42=\"Hög\",3,0))),AK40)","v":0},{"$f":"IF(Riskhistorik!AQ$2<>\"Datum\",IF(Riskhistorik!AR42=\"Låg\",1,IF(Riskhistorik!AR42=\"Medel\",2,IF(Riskhistorik!AR42=\"Hög\",3,0))),AL40)","v":0},0,0,0,0,0,0,0,0,0,0,0,0,0,0,0,0,0,0,0,0]
[{"$f":"IF(Riskhistorik!E43<>\"\",IF(Riskhistorik!E43=\"Låg\",1,IF(Riskhistorik!E43=\"Medel\",2,3)),0)","v":0},{"$f":"IF(Riskhistorik!F43<>\"\",IF(Riskhistorik!F43=\"Låg\",1,IF(Riskhistorik!F43=\"Medel\",2,3)),0)","v":0},{"$f":"IF(Riskhistorik!G$2<>\"Datum\",IF(Riskhistorik!G43=\"Låg\",1,IF(Riskhistorik!G43=\"Medel\",2,IF(Riskhistorik!G43=\"Hög\",3,0))),A41)","v":0},{"$f":"IF(Riskhistorik!G$2<>\"Datum\",IF(Riskhistorik!H43=\"Låg\",1,IF(Riskhistorik!H43=\"Medel\",2,IF(Riskhistorik!H43=\"Hög\",3,0))),B41)","v":0},{"$f":"IF(Riskhistorik!I$2<>\"Datum\",IF(Riskhistorik!I43=\"Låg\",1,IF(Riskhistorik!I43=\"Medel\",2,IF(Riskhistorik!I43=\"Hög\",3,0))),C41)","v":0},{"$f":"IF(Riskhistorik!I$2<>\"Datum\",IF(Riskhistorik!J43=\"Låg\",1,IF(Riskhistorik!J43=\"Medel\",2,IF(Riskhistorik!J43=\"Hög\",3,0))),D41)","v":0},{"$f":"IF(Riskhistorik!K$2<>\"Datum\",IF(Riskhistorik!K43=\"Låg\",1,IF(Riskhistorik!K43=\"Medel\",2,IF(Riskhistorik!K43=\"Hög\",3,0))),E41)","v":0},{"$f":"IF(Riskhistorik!K$2<>\"Datum\",IF(Riskhistorik!L43=\"Låg\",1,IF(Riskhistorik!L43=\"Medel\",2,IF(Riskhistorik!L43=\"Hög\",3,0))),F41)","v":0},{"$f":"IF(Riskhistorik!M$2<>\"Datum\",IF(Riskhistorik!M43=\"Låg\",1,IF(Riskhistorik!M43=\"Medel\",2,IF(Riskhistorik!M43=\"Hög\",3,0))),G41)","v":0},{"$f":"IF(Riskhistorik!M$2<>\"Datum\",IF(Riskhistorik!N43=\"Låg\",1,IF(Riskhistorik!N43=\"Medel\",2,IF(Riskhistorik!N43=\"Hög\",3,0))),H41)","v":0},{"$f":"IF(Riskhistorik!O$2<>\"Datum\",IF(Riskhistorik!O43=\"Låg\",1,IF(Riskhistorik!O43=\"Medel\",2,IF(Riskhistorik!O43=\"Hög\",3,0))),I41)","v":0},{"$f":"IF(Riskhistorik!O$2<>\"Datum\",IF(Riskhistorik!P43=\"Låg\",1,IF(Riskhistorik!P43=\"Medel\",2,IF(Riskhistorik!P43=\"Hög\",3,0))),J41)","v":0},{"$f":"IF(Riskhistorik!Q$2<>\"Datum\",IF(Riskhistorik!Q43=\"Låg\",1,IF(Riskhistorik!Q43=\"Medel\",2,IF(Riskhistorik!Q43=\"Hög\",3,0))),K41)","v":0},{"$f":"IF(Riskhistorik!Q$2<>\"Datum\",IF(Riskhistorik!R43=\"Låg\",1,IF(Riskhistorik!R43=\"Medel\",2,IF(Riskhistorik!R43=\"Hög\",3,0))),L41)","v":0},{"$f":"IF(Riskhistorik!S$2<>\"Datum\",IF(Riskhistorik!S43=\"Låg\",1,IF(Riskhistorik!S43=\"Medel\",2,IF(Riskhistorik!S43=\"Hög\",3,0))),M41)","v":0},{"$f":"IF(Riskhistorik!S$2<>\"Datum\",IF(Riskhistorik!T43=\"Låg\",1,IF(Riskhistorik!T43=\"Medel\",2,IF(Riskhistorik!T43=\"Hög\",3,0))),N41)","v":0},{"$f":"IF(Riskhistorik!U$2<>\"Datum\",IF(Riskhistorik!U43=\"Låg\",1,IF(Riskhistorik!U43=\"Medel\",2,IF(Riskhistorik!U43=\"Hög\",3,0))),O41)","v":0},{"$f":"IF(Riskhistorik!U$2<>\"Datum\",IF(Riskhistorik!V43=\"Låg\",1,IF(Riskhistorik!V43=\"Medel\",2,IF(Riskhistorik!V43=\"Hög\",3,0))),P41)","v":0},{"$f":"IF(Riskhistorik!W$2<>\"Datum\",IF(Riskhistorik!W43=\"Låg\",1,IF(Riskhistorik!W43=\"Medel\",2,IF(Riskhistorik!W43=\"Hög\",3,0))),Q41)","v":0},{"$f":"IF(Riskhistorik!W$2<>\"Datum\",IF(Riskhistorik!X43=\"Låg\",1,IF(Riskhistorik!X43=\"Medel\",2,IF(Riskhistorik!X43=\"Hög\",3,0))),R41)","v":0},{"$f":"IF(Riskhistorik!Y$2<>\"Datum\",IF(Riskhistorik!Y43=\"Låg\",1,IF(Riskhistorik!Y43=\"Medel\",2,IF(Riskhistorik!Y43=\"Hög\",3,0))),S41)","v":0},{"$f":"IF(Riskhistorik!Y$2<>\"Datum\",IF(Riskhistorik!Z43=\"Låg\",1,IF(Riskhistorik!Z43=\"Medel\",2,IF(Riskhistorik!Z43=\"Hög\",3,0))),T41)","v":0},{"$f":"IF(Riskhistorik!AA$2<>\"Datum\",IF(Riskhistorik!AA43=\"Låg\",1,IF(Riskhistorik!AA43=\"Medel\",2,IF(Riskhistorik!AA43=\"Hög\",3,0))),U41)","v":0},{"$f":"IF(Riskhistorik!AA$2<>\"Datum\",IF(Riskhistorik!AB43=\"Låg\",1,IF(Riskhistorik!AB43=\"Medel\",2,IF(Riskhistorik!AB43=\"Hög\",3,0))),V41)","v":0},{"$f":"IF(Riskhistorik!AC$2<>\"Datum\",IF(Riskhistorik!AC43=\"Låg\",1,IF(Riskhistorik!AC43=\"Medel\",2,IF(Riskhistorik!AC43=\"Hög\",3,0))),W41)","v":0},{"$f":"IF(Riskhistorik!AC$2<>\"Datum\",IF(Riskhistorik!AD43=\"Låg\",1,IF(Riskhistorik!AD43=\"Medel\",2,IF(Riskhistorik!AD43=\"Hög\",3,0))),X41)","v":0},{"$f":"IF(Riskhistorik!AE$2<>\"Datum\",IF(Riskhistorik!AE43=\"Låg\",1,IF(Riskhistorik!AE43=\"Medel\",2,IF(Riskhistorik!AE43=\"Hög\",3,0))),Y41)","v":0},{"$f":"IF(Riskhistorik!AE$2<>\"Datum\",IF(Riskhistorik!AF43=\"Låg\",1,IF(Riskhistorik!AF43=\"Medel\",2,IF(Riskhistorik!AF43=\"Hög\",3,0))),Z41)","v":0},{"$f":"IF(Riskhistorik!AG$2<>\"Datum\",IF(Riskhistorik!AG43=\"Låg\",1,IF(Riskhistorik!AG43=\"Medel\",2,IF(Riskhistorik!AG43=\"Hög\",3,0))),AA41)","v":0},{"$f":"IF(Riskhistorik!AG$2<>\"Datum\",IF(Riskhistorik!AH43=\"Låg\",1,IF(Riskhistorik!AH43=\"Medel\",2,IF(Riskhistorik!AH43=\"Hög\",3,0))),AB41)","v":0},{"$f":"IF(Riskhistorik!AI$2<>\"Datum\",IF(Riskhistorik!AI43=\"Låg\",1,IF(Riskhistorik!AI43=\"Medel\",2,IF(Riskhistorik!AI43=\"Hög\",3,0))),AC41)","v":0},{"$f":"IF(Riskhistorik!AI$2<>\"Datum\",IF(Riskhistorik!AJ43=\"Låg\",1,IF(Riskhistorik!AJ43=\"Medel\",2,IF(Riskhistorik!AJ43=\"Hög\",3,0))),AD41)","v":0},{"$f":"IF(Riskhistorik!AK$2<>\"Datum\",IF(Riskhistorik!AK43=\"Låg\",1,IF(Riskhistorik!AK43=\"Medel\",2,IF(Riskhistorik!AK43=\"Hög\",3,0))),AE41)","v":0},{"$f":"IF(Riskhistorik!AK$2<>\"Datum\",IF(Riskhistorik!AL43=\"Låg\",1,IF(Riskhistorik!AL43=\"Medel\",2,IF(Riskhistorik!AL43=\"Hög\",3,0))),AF41)","v":0},{"$f":"IF(Riskhistorik!AM$2<>\"Datum\",IF(Riskhistorik!AM43=\"Låg\",1,IF(Riskhistorik!AM43=\"Medel\",2,IF(Riskhistorik!AM43=\"Hög\",3,0))),AG41)","v":0},{"$f":"IF(Riskhistorik!AM$2<>\"Datum\",IF(Riskhistorik!AN43=\"Låg\",1,IF(Riskhistorik!AN43=\"Medel\",2,IF(Riskhistorik!AN43=\"Hög\",3,0))),AH41)","v":0},{"$f":"IF(Riskhistorik!AO$2<>\"Datum\",IF(Riskhistorik!AO43=\"Låg\",1,IF(Riskhistorik!AO43=\"Medel\",2,IF(Riskhistorik!AO43=\"Hög\",3,0))),AI41)","v":0},{"$f":"IF(Riskhistorik!AO$2<>\"Datum\",IF(Riskhistorik!AP43=\"Låg\",1,IF(Riskhistorik!AP43=\"Medel\",2,IF(Riskhistorik!AP43=\"Hög\",3,0))),AJ41)","v":0},{"$f":"IF(Riskhistorik!AQ$2<>\"Datum\",IF(Riskhistorik!AQ43=\"Låg\",1,IF(Riskhistorik!AQ43=\"Medel\",2,IF(Riskhistorik!AQ43=\"Hög\",3,0))),AK41)","v":0},{"$f":"IF(Riskhistorik!AQ$2<>\"Datum\",IF(Riskhistorik!AR43=\"Låg\",1,IF(Riskhistorik!AR43=\"Medel\",2,IF(Riskhistorik!AR43=\"Hög\",3,0))),AL41)","v":0},0,0,0,0,0,0,0,0,0,0,0,0,0,0,0,0,0,0,0,0]
[{"$f":"IF(Riskhistorik!E44<>\"\",IF(Riskhistorik!E44=\"Låg\",1,IF(Riskhistorik!E44=\"Medel\",2,3)),0)","v":0},{"$f":"IF(Riskhistorik!F44<>\"\",IF(Riskhistorik!F44=\"Låg\",1,IF(Riskhistorik!F44=\"Medel\",2,3)),0)","v":0},{"$f":"IF(Riskhistorik!G$2<>\"Datum\",IF(Riskhistorik!G44=\"Låg\",1,IF(Riskhistorik!G44=\"Medel\",2,IF(Riskhistorik!G44=\"Hög\",3,0))),A42)","v":0},{"$f":"IF(Riskhistorik!G$2<>\"Datum\",IF(Riskhistorik!H44=\"Låg\",1,IF(Riskhistorik!H44=\"Medel\",2,IF(Riskhistorik!H44=\"Hög\",3,0))),B42)","v":0},{"$f":"IF(Riskhistorik!I$2<>\"Datum\",IF(Riskhistorik!I44=\"Låg\",1,IF(Riskhistorik!I44=\"Medel\",2,IF(Riskhistorik!I44=\"Hög\",3,0))),C42)","v":0},{"$f":"IF(Riskhistorik!I$2<>\"Datum\",IF(Riskhistorik!J44=\"Låg\",1,IF(Riskhistorik!J44=\"Medel\",2,IF(Riskhistorik!J44=\"Hög\",3,0))),D42)","v":0},{"$f":"IF(Riskhistorik!K$2<>\"Datum\",IF(Riskhistorik!K44=\"Låg\",1,IF(Riskhistorik!K44=\"Medel\",2,IF(Riskhistorik!K44=\"Hög\",3,0))),E42)","v":0},{"$f":"IF(Riskhistorik!K$2<>\"Datum\",IF(Riskhistorik!L44=\"Låg\",1,IF(Riskhistorik!L44=\"Medel\",2,IF(Riskhistorik!L44=\"Hög\",3,0))),F42)","v":0},{"$f":"IF(Riskhistorik!M$2<>\"Datum\",IF(Riskhistorik!M44=\"Låg\",1,IF(Riskhistorik!M44=\"Medel\",2,IF(Riskhistorik!M44=\"Hög\",3,0))),G42)","v":0},{"$f":"IF(Riskhistorik!M$2<>\"Datum\",IF(Riskhistorik!N44=\"Låg\",1,IF(Riskhistorik!N44=\"Medel\",2,IF(Riskhistorik!N44=\"Hög\",3,0))),H42)","v":0},{"$f":"IF(Riskhistorik!O$2<>\"Datum\",IF(Riskhistorik!O44=\"Låg\",1,IF(Riskhistorik!O44=\"Medel\",2,IF(Riskhistorik!O44=\"Hög\",3,0))),I42)","v":0},{"$f":"IF(Riskhistorik!O$2<>\"Datum\",IF(Riskhistorik!P44=\"Låg\",1,IF(Riskhistorik!P44=\"Medel\",2,IF(Riskhistorik!P44=\"Hög\",3,0))),J42)","v":0},{"$f":"IF(Riskhistorik!Q$2<>\"Datum\",IF(Riskhistorik!Q44=\"Låg\",1,IF(Riskhistorik!Q44=\"Medel\",2,IF(Riskhistorik!Q44=\"Hög\",3,0))),K42)","v":0},{"$f":"IF(Riskhistorik!Q$2<>\"Datum\",IF(Riskhistorik!R44=\"Låg\",1,IF(Riskhistorik!R44=\"Medel\",2,IF(Riskhistorik!R44=\"Hög\",3,0))),L42)","v":0},{"$f":"IF(Riskhistorik!S$2<>\"Datum\",IF(Riskhistorik!S44=\"Låg\",1,IF(Riskhistorik!S44=\"Medel\",2,IF(Riskhistorik!S44=\"Hög\",3,0))),M42)","v":0},{"$f":"IF(Riskhistorik!S$2<>\"Datum\",IF(Riskhistorik!T44=\"Låg\",1,IF(Riskhistorik!T44=\"Medel\",2,IF(Riskhistorik!T44=\"Hög\",3,0))),N42)","v":0},{"$f":"IF(Riskhistorik!U$2<>\"Datum\",IF(Riskhistorik!U44=\"Låg\",1,IF(Riskhistorik!U44=\"Medel\",2,IF(Riskhistorik!U44=\"Hög\",3,0))),O42)","v":0},{"$f":"IF(Riskhistorik!U$2<>\"Datum\",IF(Riskhistorik!V44=\"Låg\",1,IF(Riskhistorik!V44=\"Medel\",2,IF(Riskhistorik!V44=\"Hög\",3,0))),P42)","v":0},{"$f":"IF(Riskhistorik!W$2<>\"Datum\",IF(Riskhistorik!W44=\"Låg\",1,IF(Riskhistorik!W44=\"Medel\",2,IF(Riskhistorik!W44=\"Hög\",3,0))),Q42)","v":0},{"$f":"IF(Riskhistorik!W$2<>\"Datum\",IF(Riskhistorik!X44=\"Låg\",1,IF(Riskhistorik!X44=\"Medel\",2,IF(Riskhistorik!X44=\"Hög\",3,0))),R42)","v":0},{"$f":"IF(Riskhistorik!Y$2<>\"Datum\",IF(Riskhistorik!Y44=\"Låg\",1,IF(Riskhistorik!Y44=\"Medel\",2,IF(Riskhistorik!Y44=\"Hög\",3,0))),S42)","v":0},{"$f":"IF(Riskhistorik!Y$2<>\"Datum\",IF(Riskhistorik!Z44=\"Låg\",1,IF(Riskhistorik!Z44=\"Medel\",2,IF(Riskhistorik!Z44=\"Hög\",3,0))),T42)","v":0},{"$f":"IF(Riskhistorik!AA$2<>\"Datum\",IF(Riskhistorik!AA44=\"Låg\",1,IF(Riskhistorik!AA44=\"Medel\",2,IF(Riskhistorik!AA44=\"Hög\",3,0))),U42)","v":0},{"$f":"IF(Riskhistorik!AA$2<>\"Datum\",IF(Riskhistorik!AB44=\"Låg\",1,IF(Riskhistorik!AB44=\"Medel\",2,IF(Riskhistorik!AB44=\"Hög\",3,0))),V42)","v":0},{"$f":"IF(Riskhistorik!AC$2<>\"Datum\",IF(Riskhistorik!AC44=\"Låg\",1,IF(Riskhistorik!AC44=\"Medel\",2,IF(Riskhistorik!AC44=\"Hög\",3,0))),W42)","v":0},{"$f":"IF(Riskhistorik!AC$2<>\"Datum\",IF(Riskhistorik!AD44=\"Låg\",1,IF(Riskhistorik!AD44=\"Medel\",2,IF(Riskhistorik!AD44=\"Hög\",3,0))),X42)","v":0},{"$f":"IF(Riskhistorik!AE$2<>\"Datum\",IF(Riskhistorik!AE44=\"Låg\",1,IF(Riskhistorik!AE44=\"Medel\",2,IF(Riskhistorik!AE44=\"Hög\",3,0))),Y42)","v":0},{"$f":"IF(Riskhistorik!AE$2<>\"Datum\",IF(Riskhistorik!AF44=\"Låg\",1,IF(Riskhistorik!AF44=\"Medel\",2,IF(Riskhistorik!AF44=\"Hög\",3,0))),Z42)","v":0},{"$f":"IF(Riskhistorik!AG$2<>\"Datum\",IF(Riskhistorik!AG44=\"Låg\",1,IF(Riskhistorik!AG44=\"Medel\",2,IF(Riskhistorik!AG44=\"Hög\",3,0))),AA42)","v":0},{"$f":"IF(Riskhistorik!AG$2<>\"Datum\",IF(Riskhistorik!AH44=\"Låg\",1,IF(Riskhistorik!AH44=\"Medel\",2,IF(Riskhistorik!AH44=\"Hög\",3,0))),AB42)","v":0},{"$f":"IF(Riskhistorik!AI$2<>\"Datum\",IF(Riskhistorik!AI44=\"Låg\",1,IF(Riskhistorik!AI44=\"Medel\",2,IF(Riskhistorik!AI44=\"Hög\",3,0))),AC42)","v":0},{"$f":"IF(Riskhistorik!AI$2<>\"Datum\",IF(Riskhistorik!AJ44=\"Låg\",1,IF(Riskhistorik!AJ44=\"Medel\",2,IF(Riskhistorik!AJ44=\"Hög\",3,0))),AD42)","v":0},{"$f":"IF(Riskhistorik!AK$2<>\"Datum\",IF(Riskhistorik!AK44=\"Låg\",1,IF(Riskhistorik!AK44=\"Medel\",2,IF(Riskhistorik!AK44=\"Hög\",3,0))),AE42)","v":0},{"$f":"IF(Riskhistorik!AK$2<>\"Datum\",IF(Riskhistorik!AL44=\"Låg\",1,IF(Riskhistorik!AL44=\"Medel\",2,IF(Riskhistorik!AL44=\"Hög\",3,0))),AF42)","v":0},{"$f":"IF(Riskhistorik!AM$2<>\"Datum\",IF(Riskhistorik!AM44=\"Låg\",1,IF(Riskhistorik!AM44=\"Medel\",2,IF(Riskhistorik!AM44=\"Hög\",3,0))),AG42)","v":0},{"$f":"IF(Riskhistorik!AM$2<>\"Datum\",IF(Riskhistorik!AN44=\"Låg\",1,IF(Riskhistorik!AN44=\"Medel\",2,IF(Riskhistorik!AN44=\"Hög\",3,0))),AH42)","v":0},{"$f":"IF(Riskhistorik!AO$2<>\"Datum\",IF(Riskhistorik!AO44=\"Låg\",1,IF(Riskhistorik!AO44=\"Medel\",2,IF(Riskhistorik!AO44=\"Hög\",3,0))),AI42)","v":0},{"$f":"IF(Riskhistorik!AO$2<>\"Datum\",IF(Riskhistorik!AP44=\"Låg\",1,IF(Riskhistorik!AP44=\"Medel\",2,IF(Riskhistorik!AP44=\"Hög\",3,0))),AJ42)","v":0},{"$f":"IF(Riskhistorik!AQ$2<>\"Datum\",IF(Riskhistorik!AQ44=\"Låg\",1,IF(Riskhistorik!AQ44=\"Medel\",2,IF(Riskhistorik!AQ44=\"Hög\",3,0))),AK42)","v":0},{"$f":"IF(Riskhistorik!AQ$2<>\"Datum\",IF(Riskhistorik!AR44=\"Låg\",1,IF(Riskhistorik!AR44=\"Medel\",2,IF(Riskhistorik!AR44=\"Hög\",3,0))),AL42)","v":0},0,0,0,0,0,0,0,0,0,0,0,0,0,0,0,0,0,0,0,0]
[{"$f":"IF(Riskhistorik!E45<>\"\",IF(Riskhistorik!E45=\"Låg\",1,IF(Riskhistorik!E45=\"Medel\",2,3)),0)","v":0},{"$f":"IF(Riskhistorik!F45<>\"\",IF(Riskhistorik!F45=\"Låg\",1,IF(Riskhistorik!F45=\"Medel\",2,3)),0)","v":0},{"$f":"IF(Riskhistorik!G$2<>\"Datum\",IF(Riskhistorik!G45=\"Låg\",1,IF(Riskhistorik!G45=\"Medel\",2,IF(Riskhistorik!G45=\"Hög\",3,0))),A43)","v":0},{"$f":"IF(Riskhistorik!G$2<>\"Datum\",IF(Riskhistorik!H45=\"Låg\",1,IF(Riskhistorik!H45=\"Medel\",2,IF(Riskhistorik!H45=\"Hög\",3,0))),B43)","v":0},{"$f":"IF(Riskhistorik!I$2<>\"Datum\",IF(Riskhistorik!I45=\"Låg\",1,IF(Riskhistorik!I45=\"Medel\",2,IF(Riskhistorik!I45=\"Hög\",3,0))),C43)","v":0},{"$f":"IF(Riskhistorik!I$2<>\"Datum\",IF(Riskhistorik!J45=\"Låg\",1,IF(Riskhistorik!J45=\"Medel\",2,IF(Riskhistorik!J45=\"Hög\",3,0))),D43)","v":0},{"$f":"IF(Riskhistorik!K$2<>\"Datum\",IF(Riskhistorik!K45=\"Låg\",1,IF(Riskhistorik!K45=\"Medel\",2,IF(Riskhistorik!K45=\"Hög\",3,0))),E43)","v":0},{"$f":"IF(Riskhistorik!K$2<>\"Datum\",IF(Riskhistorik!L45=\"Låg\",1,IF(Riskhistorik!L45=\"Medel\",2,IF(Riskhistorik!L45=\"Hög\",3,0))),F43)","v":0},{"$f":"IF(Riskhistorik!M$2<>\"Datum\",IF(Riskhistorik!M45=\"Låg\",1,IF(Riskhistorik!M45=\"Medel\",2,IF(Riskhistorik!M45=\"Hög\",3,0))),G43)","v":0},{"$f":"IF(Riskhistorik!M$2<>\"Datum\",IF(Riskhistorik!N45=\"Låg\",1,IF(Riskhistorik!N45=\"Medel\",2,IF(Riskhistorik!N45=\"Hög\",3,0))),H43)","v":0},{"$f":"IF(Riskhistorik!O$2<>\"Datum\",IF(Riskhistorik!O45=\"Låg\",1,IF(Riskhistorik!O45=\"Medel\",2,IF(Riskhistorik!O45=\"Hög\",3,0))),I43)","v":0},{"$f":"IF(Riskhistorik!O$2<>\"Datum\",IF(Riskhistorik!P45=\"Låg\",1,IF(Riskhistorik!P45=\"Medel\",2,IF(Riskhistorik!P45=\"Hög\",3,0))),J43)","v":0},{"$f":"IF(Riskhistorik!Q$2<>\"Datum\",IF(Riskhistorik!Q45=\"Låg\",1,IF(Riskhistorik!Q45=\"Medel\",2,IF(Riskhistorik!Q45=\"Hög\",3,0))),K43)","v":0},{"$f":"IF(Riskhistorik!Q$2<>\"Datum\",IF(Riskhistorik!R45=\"Låg\",1,IF(Riskhistorik!R45=\"Medel\",2,IF(Riskhistorik!R45=\"Hög\",3,0))),L43)","v":0},{"$f":"IF(Riskhistorik!S$2<>\"Datum\",IF(Riskhistorik!S45=\"Låg\",1,IF(Riskhistorik!S45=\"Medel\",2,IF(Riskhistorik!S45=\"Hög\",3,0))),M43)","v":0},{"$f":"IF(Riskhistorik!S$2<>\"Datum\",IF(Riskhistorik!T45=\"Låg\",1,IF(Riskhistorik!T45=\"Medel\",2,IF(Riskhistorik!T45=\"Hög\",3,0))),N43)","v":0},{"$f":"IF(Riskhistorik!U$2<>\"Datum\",IF(Riskhistorik!U45=\"Låg\",1,IF(Riskhistorik!U45=\"Medel\",2,IF(Riskhistorik!U45=\"Hög\",3,0))),O43)","v":0},{"$f":"IF(Riskhistorik!U$2<>\"Datum\",IF(Riskhistorik!V45=\"Låg\",1,IF(Riskhistorik!V45=\"Medel\",2,IF(Riskhistorik!V45=\"Hög\",3,0))),P43)","v":0},{"$f":"IF(Riskhistorik!W$2<>\"Datum\",IF(Riskhistorik!W45=\"Låg\",1,IF(Riskhistorik!W45=\"Medel\",2,IF(Riskhistorik!W45=\"Hög\",3,0))),Q43)","v":0},{"$f":"IF(Riskhistorik!W$2<>\"Datum\",IF(Riskhistorik!X45=\"Låg\",1,IF(Riskhistorik!X45=\"Medel\",2,IF(Riskhistorik!X45=\"Hög\",3,0))),R43)","v":0},{"$f":"IF(Riskhistorik!Y$2<>\"Datum\",IF(Riskhistorik!Y45=\"Låg\",1,IF(Riskhistorik!Y45=\"Medel\",2,IF(Riskhistorik!Y45=\"Hög\",3,0))),S43)","v":0},{"$f":"IF(Riskhistorik!Y$2<>\"Datum\",IF(Riskhistorik!Z45=\"Låg\",1,IF(Riskhistorik!Z45=\"Medel\",2,IF(Riskhistorik!Z45=\"Hög\",3,0))),T43)","v":0},{"$f":"IF(Riskhistorik!AA$2<>\"Datum\",IF(Riskhistorik!AA45=\"Låg\",1,IF(Riskhistorik!AA45=\"Medel\",2,IF(Riskhistorik!AA45=\"Hög\",3,0))),U43)","v":0},{"$f":"IF(Riskhistorik!AA$2<>\"Datum\",IF(Riskhistorik!AB45=\"Låg\",1,IF(Riskhistorik!AB45=\"Medel\",2,IF(Riskhistorik!AB45=\"Hög\",3,0))),V43)","v":0},{"$f":"IF(Riskhistorik!AC$2<>\"Datum\",IF(Riskhistorik!AC45=\"Låg\",1,IF(Riskhistorik!AC45=\"Medel\",2,IF(Riskhistorik!AC45=\"Hög\",3,0))),W43)","v":0},{"$f":"IF(Riskhistorik!AC$2<>\"Datum\",IF(Riskhistorik!AD45=\"Låg\",1,IF(Riskhistorik!AD45=\"Medel\",2,IF(Riskhistorik!AD45=\"Hög\",3,0))),X43)","v":0},{"$f":"IF(Riskhistorik!AE$2<>\"Datum\",IF(Riskhistorik!AE45=\"Låg\",1,IF(Riskhistorik!AE45=\"Medel\",2,IF(Riskhistorik!AE45=\"Hög\",3,0))),Y43)","v":0},{"$f":"IF(Riskhistorik!AE$2<>\"Datum\",IF(Riskhistorik!AF45=\"Låg\",1,IF(Riskhistorik!AF45=\"Medel\",2,IF(Riskhistorik!AF45=\"Hög\",3,0))),Z43)","v":0},{"$f":"IF(Riskhistorik!AG$2<>\"Datum\",IF(Riskhistorik!AG45=\"Låg\",1,IF(Riskhistorik!AG45=\"Medel\",2,IF(Riskhistorik!AG45=\"Hög\",3,0))),AA43)","v":0},{"$f":"IF(Riskhistorik!AG$2<>\"Datum\",IF(Riskhistorik!AH45=\"Låg\",1,IF(Riskhistorik!AH45=\"Medel\",2,IF(Riskhistorik!AH45=\"Hög\",3,0))),AB43)","v":0},{"$f":"IF(Riskhistorik!AI$2<>\"Datum\",IF(Riskhistorik!AI45=\"Låg\",1,IF(Riskhistorik!AI45=\"Medel\",2,IF(Riskhistorik!AI45=\"Hög\",3,0))),AC43)","v":0},{"$f":"IF(Riskhistorik!AI$2<>\"Datum\",IF(Riskhistorik!AJ45=\"Låg\",1,IF(Riskhistorik!AJ45=\"Medel\",2,IF(Riskhistorik!AJ45=\"Hög\",3,0))),AD43)","v":0},{"$f":"IF(Riskhistorik!AK$2<>\"Datum\",IF(Riskhistorik!AK45=\"Låg\",1,IF(Riskhistorik!AK45=\"Medel\",2,IF(Riskhistorik!AK45=\"Hög\",3,0))),AE43)","v":0},{"$f":"IF(Riskhistorik!AK$2<>\"Datum\",IF(Riskhistorik!AL45=\"Låg\",1,IF(Riskhistorik!AL45=\"Medel\",2,IF(Riskhistorik!AL45=\"Hög\",3,0))),AF43)","v":0},{"$f":"IF(Riskhistorik!AM$2<>\"Datum\",IF(Riskhistorik!AM45=\"Låg\",1,IF(Riskhistorik!AM45=\"Medel\",2,IF(Riskhistorik!AM45=\"Hög\",3,0))),AG43)","v":0},{"$f":"IF(Riskhistorik!AM$2<>\"Datum\",IF(Riskhistorik!AN45=\"Låg\",1,IF(Riskhistorik!AN45=\"Medel\",2,IF(Riskhistorik!AN45=\"Hög\",3,0))),AH43)","v":0},{"$f":"IF(Riskhistorik!AO$2<>\"Datum\",IF(Riskhistorik!AO45=\"Låg\",1,IF(Riskhistorik!AO45=\"Medel\",2,IF(Riskhistorik!AO45=\"Hög\",3,0))),AI43)","v":0},{"$f":"IF(Riskhistorik!AO$2<>\"Datum\",IF(Riskhistorik!AP45=\"Låg\",1,IF(Riskhistorik!AP45=\"Medel\",2,IF(Riskhistorik!AP45=\"Hög\",3,0))),AJ43)","v":0},{"$f":"IF(Riskhistorik!AQ$2<>\"Datum\",IF(Riskhistorik!AQ45=\"Låg\",1,IF(Riskhistorik!AQ45=\"Medel\",2,IF(Riskhistorik!AQ45=\"Hög\",3,0))),AK43)","v":0},{"$f":"IF(Riskhistorik!AQ$2<>\"Datum\",IF(Riskhistorik!AR45=\"Låg\",1,IF(Riskhistorik!AR45=\"Medel\",2,IF(Riskhistorik!AR45=\"Hög\",3,0))),AL43)","v":0},0,0,0,0,0,0,0,0,0,0,0,0,0,0,0,0,0,0,0,0]
[{"$f":"IF(Riskhistorik!E46<>\"\",IF(Riskhistorik!E46=\"Låg\",1,IF(Riskhistorik!E46=\"Medel\",2,3)),0)","v":0},{"$f":"IF(Riskhistorik!F46<>\"\",IF(Riskhistorik!F46=\"Låg\",1,IF(Riskhistorik!F46=\"Medel\",2,3)),0)","v":0},{"$f":"IF(Riskhistorik!G$2<>\"Datum\",IF(Riskhistorik!G46=\"Låg\",1,IF(Riskhistorik!G46=\"Medel\",2,IF(Riskhistorik!G46=\"Hög\",3,0))),A44)","v":0},{"$f":"IF(Riskhistorik!G$2<>\"Datum\",IF(Riskhistorik!H46=\"Låg\",1,IF(Riskhistorik!H46=\"Medel\",2,IF(Riskhistorik!H46=\"Hög\",3,0))),B44)","v":0},{"$f":"IF(Riskhistorik!I$2<>\"Datum\",IF(Riskhistorik!I46=\"Låg\",1,IF(Riskhistorik!I46=\"Medel\",2,IF(Riskhistorik!I46=\"Hög\",3,0))),C44)","v":0},{"$f":"IF(Riskhistorik!I$2<>\"Datum\",IF(Riskhistorik!J46=\"Låg\",1,IF(Riskhistorik!J46=\"Medel\",2,IF(Riskhistorik!J46=\"Hög\",3,0))),D44)","v":0},{"$f":"IF(Riskhistorik!K$2<>\"Datum\",IF(Riskhistorik!K46=\"Låg\",1,IF(Riskhistorik!K46=\"Medel\",2,IF(Riskhistorik!K46=\"Hög\",3,0))),E44)","v":0},{"$f":"IF(Riskhistorik!K$2<>\"Datum\",IF(Riskhistorik!L46=\"Låg\",1,IF(Riskhistorik!L46=\"Medel\",2,IF(Riskhistorik!L46=\"Hög\",3,0))),F44)","v":0},{"$f":"IF(Riskhistorik!M$2<>\"Datum\",IF(Riskhistorik!M46=\"Låg\",1,IF(Riskhistorik!M46=\"Medel\",2,IF(Riskhistorik!M46=\"Hög\",3,0))),G44)","v":0},{"$f":"IF(Riskhistorik!M$2<>\"Datum\",IF(Riskhistorik!N46=\"Låg\",1,IF(Riskhistorik!N46=\"Medel\",2,IF(Riskhistorik!N46=\"Hög\",3,0))),H44)","v":0},{"$f":"IF(Riskhistorik!O$2<>\"Datum\",IF(Riskhistorik!O46=\"Låg\",1,IF(Riskhistorik!O46=\"Medel\",2,IF(Riskhistorik!O46=\"Hög\",3,0))),I44)","v":0},{"$f":"IF(Riskhistorik!O$2<>\"Datum\",IF(Riskhistorik!P46=\"Låg\",1,IF(Riskhistorik!P46=\"Medel\",2,IF(Riskhistorik!P46=\"Hög\",3,0))),J44)","v":0},{"$f":"IF(Riskhistorik!Q$2<>\"Datum\",IF(Riskhistorik!Q46=\"Låg\",1,IF(Riskhistorik!Q46=\"Medel\",2,IF(Riskhistorik!Q46=\"Hög\",3,0))),K44)","v":0},{"$f":"IF(Riskhistorik!Q$2<>\"Datum\",IF(Riskhistorik!R46=\"Låg\",1,IF(Riskhistorik!R46=\"Medel\",2,IF(Riskhistorik!R46=\"Hög\",3,0))),L44)","v":0},{"$f":"IF(Riskhistorik!S$2<>\"Datum\",IF(Riskhistorik!S46=\"Låg\",1,IF(Riskhistorik!S46=\"Medel\",2,IF(Riskhistorik!S46=\"Hög\",3,0))),M44)","v":0},{"$f":"IF(Riskhistorik!S$2<>\"Datum\",IF(Riskhistorik!T46=\"Låg\",1,IF(Riskhistorik!T46=\"Medel\",2,IF(Riskhistorik!T46=\"Hög\",3,0))),N44)","v":0},{"$f":"IF(Riskhistorik!U$2<>\"Datum\",IF(Riskhistorik!U46=\"Låg\",1,IF(Riskhistorik!U46=\"Medel\",2,IF(Riskhistorik!U46=\"Hög\",3,0))),O44)","v":0},{"$f":"IF(Riskhistorik!U$2<>\"Datum\",IF(Riskhistorik!V46=\"Låg\",1,IF(Riskhistorik!V46=\"Medel\",2,IF(Riskhistorik!V46=\"Hög\",3,0))),P44)","v":0},{"$f":"IF(Riskhistorik!W$2<>\"Datum\",IF(Riskhistorik!W46=\"Låg\",1,IF(Riskhistorik!W46=\"Medel\",2,IF(Riskhistorik!W46=\"Hög\",3,0))),Q44)","v":0},{"$f":"IF(Riskhistorik!W$2<>\"Datum\",IF(Riskhistorik!X46=\"Låg\",1,IF(Riskhistorik!X46=\"Medel\",2,IF(Riskhistorik!X46=\"Hög\",3,0))),R44)","v":0},{"$f":"IF(Riskhistorik!Y$2<>\"Datum\",IF(Riskhistorik!Y46=\"Låg\",1,IF(Riskhistorik!Y46=\"Medel\",2,IF(Riskhistorik!Y46=\"Hög\",3,0))),S44)","v":0},{"$f":"IF(Riskhistorik!Y$2<>\"Datum\",IF(Riskhistorik!Z46=\"Låg\",1,IF(Riskhistorik!Z46=\"Medel\",2,IF(Riskhistorik!Z46=\"Hög\",3,0))),T44)","v":0},{"$f":"IF(Riskhistorik!AA$2<>\"Datum\",IF(Riskhistorik!AA46=\"Låg\",1,IF(Riskhistorik!AA46=\"Medel\",2,IF(Riskhistorik!AA46=\"Hög\",3,0))),U44)","v":0},{"$f":"IF(Riskhistorik!AA$2<>\"Datum\",IF(Riskhistorik!AB46=\"Låg\",1,IF(Riskhistorik!AB46=\"Medel\",2,IF(Riskhistorik!AB46=\"Hög\",3,0))),V44)","v":0},{"$f":"IF(Riskhistorik!AC$2<>\"Datum\",IF(Riskhistorik!AC46=\"Låg\",1,IF(Riskhistorik!AC46=\"Medel\",2,IF(Riskhistorik!AC46=\"Hög\",3,0))),W44)","v":0},{"$f":"IF(Riskhistorik!AC$2<>\"Datum\",IF(Riskhistorik!AD46=\"Låg\",1,IF(Riskhistorik!AD46=\"Medel\",2,IF(Riskhistorik!AD46=\"Hög\",3,0))),X44)","v":0},{"$f":"IF(Riskhistorik!AE$2<>\"Datum\",IF(Riskhistorik!AE46=\"Låg\",1,IF(Riskhistorik!AE46=\"Medel\",2,IF(Riskhistorik!AE46=\"Hög\",3,0))),Y44)","v":0},{"$f":"IF(Riskhistorik!AE$2<>\"Datum\",IF(Riskhistorik!AF46=\"Låg\",1,IF(Riskhistorik!AF46=\"Medel\",2,IF(Riskhistorik!AF46=\"Hög\",3,0))),Z44)","v":0},{"$f":"IF(Riskhistorik!AG$2<>\"Datum\",IF(Riskhistorik!AG46=\"Låg\",1,IF(Riskhistorik!AG46=\"Medel\",2,IF(Riskhistorik!AG46=\"Hög\",3,0))),AA44)","v":0},{"$f":"IF(Riskhistorik!AG$2<>\"Datum\",IF(Riskhistorik!AH46=\"Låg\",1,IF(Riskhistorik!AH46=\"Medel\",2,IF(Riskhistorik!AH46=\"Hög\",3,0))),AB44)","v":0},{"$f":"IF(Riskhistorik!AI$2<>\"Datum\",IF(Riskhistorik!AI46=\"Låg\",1,IF(Riskhistorik!AI46=\"Medel\",2,IF(Riskhistorik!AI46=\"Hög\",3,0))),AC44)","v":0},{"$f":"IF(Riskhistorik!AI$2<>\"Datum\",IF(Riskhistorik!AJ46=\"Låg\",1,IF(Riskhistorik!AJ46=\"Medel\",2,IF(Riskhistorik!AJ46=\"Hög\",3,0))),AD44)","v":0},{"$f":"IF(Riskhistorik!AK$2<>\"Datum\",IF(Riskhistorik!AK46=\"Låg\",1,IF(Riskhistorik!AK46=\"Medel\",2,IF(Riskhistorik!AK46=\"Hög\",3,0))),AE44)","v":0},{"$f":"IF(Riskhistorik!AK$2<>\"Datum\",IF(Riskhistorik!AL46=\"Låg\",1,IF(Riskhistorik!AL46=\"Medel\",2,IF(Riskhistorik!AL46=\"Hög\",3,0))),AF44)","v":0},{"$f":"IF(Riskhistorik!AM$2<>\"Datum\",IF(Riskhistorik!AM46=\"Låg\",1,IF(Riskhistorik!AM46=\"Medel\",2,IF(Riskhistorik!AM46=\"Hög\",3,0))),AG44)","v":0},{"$f":"IF(Riskhistorik!AM$2<>\"Datum\",IF(Riskhistorik!AN46=\"Låg\",1,IF(Riskhistorik!AN46=\"Medel\",2,IF(Riskhistorik!AN46=\"Hög\",3,0))),AH44)","v":0},{"$f":"IF(Riskhistorik!AO$2<>\"Datum\",IF(Riskhistorik!AO46=\"Låg\",1,IF(Riskhistorik!AO46=\"Medel\",2,IF(Riskhistorik!AO46=\"Hög\",3,0))),AI44)","v":0},{"$f":"IF(Riskhistorik!AO$2<>\"Datum\",IF(Riskhistorik!AP46=\"Låg\",1,IF(Riskhistorik!AP46=\"Medel\",2,IF(Riskhistorik!AP46=\"Hög\",3,0))),AJ44)","v":0},{"$f":"IF(Riskhistorik!AQ$2<>\"Datum\",IF(Riskhistorik!AQ46=\"Låg\",1,IF(Riskhistorik!AQ46=\"Medel\",2,IF(Riskhistorik!AQ46=\"Hög\",3,0))),AK44)","v":0},{"$f":"IF(Riskhistorik!AQ$2<>\"Datum\",IF(Riskhistorik!AR46=\"Låg\",1,IF(Riskhistorik!AR46=\"Medel\",2,IF(Riskhistorik!AR46=\"Hög\",3,0))),AL44)","v":0},0,0,0,0,0,0,0,0,0,0,0,0,0,0,0,0,0,0,0,0]
[{"$f":"IF(Riskhistorik!E47<>\"\",IF(Riskhistorik!E47=\"Låg\",1,IF(Riskhistorik!E47=\"Medel\",2,3)),0)","v":0},{"$f":"IF(Riskhistorik!F47<>\"\",IF(Riskhistorik!F47=\"Låg\",1,IF(Riskhistorik!F47=\"Medel\",2,3)),0)","v":0},{"$f":"IF(Riskhistorik!G$2<>\"Datum\",IF(Riskhistorik!G47=\"Låg\",1,IF(Riskhistorik!G47=\"Medel\",2,IF(Riskhistorik!G47=\"Hög\",3,0))),A45)","v":0},{"$f":"IF(Riskhistorik!G$2<>\"Datum\",IF(Riskhistorik!H47=\"Låg\",1,IF(Riskhistorik!H47=\"Medel\",2,IF(Riskhistorik!H47=\"Hög\",3,0))),B45)","v":0},{"$f":"IF(Riskhistorik!I$2<>\"Datum\",IF(Riskhistorik!I47=\"Låg\",1,IF(Riskhistorik!I47=\"Medel\",2,IF(Riskhistorik!I47=\"Hög\",3,0))),C45)","v":0},{"$f":"IF(Riskhistorik!I$2<>\"Datum\",IF(Riskhistorik!J47=\"Låg\",1,IF(Riskhistorik!J47=\"Medel\",2,IF(Riskhistorik!J47=\"Hög\",3,0))),D45)","v":0},{"$f":"IF(Riskhistorik!K$2<>\"Datum\",IF(Riskhistorik!K47=\"Låg\",1,IF(Riskhistorik!K47=\"Medel\",2,IF(Riskhistorik!K47=\"Hög\",3,0))),E45)","v":0},{"$f":"IF(Riskhistorik!K$2<>\"Datum\",IF(Riskhistorik!L47=\"Låg\",1,IF(Riskhistorik!L47=\"Medel\",2,IF(Riskhistorik!L47=\"Hög\",3,0))),F45)","v":0},{"$f":"IF(Riskhistorik!M$2<>\"Datum\",IF(Riskhistorik!M47=\"Låg\",1,IF(Riskhistorik!M47=\"Medel\",2,IF(Riskhistorik!M47=\"Hög\",3,0))),G45)","v":0},{"$f":"IF(Riskhistorik!M$2<>\"Datum\",IF(Riskhistorik!N47=\"Låg\",1,IF(Riskhistorik!N47=\"Medel\",2,IF(Riskhistorik!N47=\"Hög\",3,0))),H45)","v":0},{"$f":"IF(Riskhistorik!O$2<>\"Datum\",IF(Riskhistorik!O47=\"Låg\",1,IF(Riskhistorik!O47=\"Medel\",2,IF(Riskhistorik!O47=\"Hög\",3,0))),I45)","v":0},{"$f":"IF(Riskhistorik!O$2<>\"Datum\",IF(Riskhistorik!P47=\"Låg\",1,IF(Riskhistorik!P47=\"Medel\",2,IF(Riskhistorik!P47=\"Hög\",3,0))),J45)","v":0},{"$f":"IF(Riskhistorik!Q$2<>\"Datum\",IF(Riskhistorik!Q47=\"Låg\",1,IF(Riskhistorik!Q47=\"Medel\",2,IF(Riskhistorik!Q47=\"Hög\",3,0))),K45)","v":0},{"$f":"IF(Riskhistorik!Q$2<>\"Datum\",IF(Riskhistorik!R47=\"Låg\",1,IF(Riskhistorik!R47=\"Medel\",2,IF(Riskhistorik!R47=\"Hög\",3,0))),L45)","v":0},{"$f":"IF(Riskhistorik!S$2<>\"Datum\",IF(Riskhistorik!S47=\"Låg\",1,IF(Riskhistorik!S47=\"Medel\",2,IF(Riskhistorik!S47=\"Hög\",3,0))),M45)","v":0},{"$f":"IF(Riskhistorik!S$2<>\"Datum\",IF(Riskhistorik!T47=\"Låg\",1,IF(Riskhistorik!T47=\"Medel\",2,IF(Riskhistorik!T47=\"Hög\",3,0))),N45)","v":0},{"$f":"IF(Riskhistorik!U$2<>\"Datum\",IF(Riskhistorik!U47=\"Låg\",1,IF(Riskhistorik!U47=\"Medel\",2,IF(Riskhistorik!U47=\"Hög\",3,0))),O45)","v":0},{"$f":"IF(Riskhistorik!U$2<>\"Datum\",IF(Riskhistorik!V47=\"Låg\",1,IF(Riskhistorik!V47=\"Medel\",2,IF(Riskhistorik!V47=\"Hög\",3,0))),P45)","v":0},{"$f":"IF(Riskhistorik!W$2<>\"Datum\",IF(Riskhistorik!W47=\"Låg\",1,IF(Riskhistorik!W47=\"Medel\",2,IF(Riskhistorik!W47=\"Hög\",3,0))),Q45)","v":0},{"$f":"IF(Riskhistorik!W$2<>\"Datum\",IF(Riskhistorik!X47=\"Låg\",1,IF(Riskhistorik!X47=\"Medel\",2,IF(Riskhistorik!X47=\"Hög\",3,0))),R45)","v":0},{"$f":"IF(Riskhistorik!Y$2<>\"Datum\",IF(Riskhistorik!Y47=\"Låg\",1,IF(Riskhistorik!Y47=\"Medel\",2,IF(Riskhistorik!Y47=\"Hög\",3,0))),S45)","v":0},{"$f":"IF(Riskhistorik!Y$2<>\"Datum\",IF(Riskhistorik!Z47=\"Låg\",1,IF(Riskhistorik!Z47=\"Medel\",2,IF(Riskhistorik!Z47=\"Hög\",3,0))),T45)","v":0},{"$f":"IF(Riskhistorik!AA$2<>\"Datum\",IF(Riskhistorik!AA47=\"Låg\",1,IF(Riskhistorik!AA47=\"Medel\",2,IF(Riskhistorik!AA47=\"Hög\",3,0))),U45)","v":0},{"$f":"IF(Riskhistorik!AA$2<>\"Datum\",IF(Riskhistorik!AB47=\"Låg\",1,IF(Riskhistorik!AB47=\"Medel\",2,IF(Riskhistorik!AB47=\"Hög\",3,0))),V45)","v":0},{"$f":"IF(Riskhistorik!AC$2<>\"Datum\",IF(Riskhistorik!AC47=\"Låg\",1,IF(Riskhistorik!AC47=\"Medel\",2,IF(Riskhistorik!AC47=\"Hög\",3,0))),W45)","v":0},{"$f":"IF(Riskhistorik!AC$2<>\"Datum\",IF(Riskhistorik!AD47=\"Låg\",1,IF(Riskhistorik!AD47=\"Medel\",2,IF(Riskhistorik!AD47=\"Hög\",3,0))),X45)","v":0},{"$f":"IF(Riskhistorik!AE$2<>\"Datum\",IF(Riskhistorik!AE47=\"Låg\",1,IF(Riskhistorik!AE47=\"Medel\",2,IF(Riskhistorik!AE47=\"Hög\",3,0))),Y45)","v":0},{"$f":"IF(Riskhistorik!AE$2<>\"Datum\",IF(Riskhistorik!AF47=\"Låg\",1,IF(Riskhistorik!AF47=\"Medel\",2,IF(Riskhistorik!AF47=\"Hög\",3,0))),Z45)","v":0},{"$f":"IF(Riskhistorik!AG$2<>\"Datum\",IF(Riskhistorik!AG47=\"Låg\",1,IF(Riskhistorik!AG47=\"Medel\",2,IF(Riskhistorik!AG47=\"Hög\",3,0))),AA45)","v":0},{"$f":"IF(Riskhistorik!AG$2<>\"Datum\",IF(Riskhistorik!AH47=\"Låg\",1,IF(Riskhistorik!AH47=\"Medel\",2,IF(Riskhistorik!AH47=\"Hög\",3,0))),AB45)","v":0},{"$f":"IF(Riskhistorik!AI$2<>\"Datum\",IF(Riskhistorik!AI47=\"Låg\",1,IF(Riskhistorik!AI47=\"Medel\",2,IF(Riskhistorik!AI47=\"Hög\",3,0))),AC45)","v":0},{"$f":"IF(Riskhistorik!AI$2<>\"Datum\",IF(Riskhistorik!AJ47=\"Låg\",1,IF(Riskhistorik!AJ47=\"Medel\",2,IF(Riskhistorik!AJ47=\"Hög\",3,0))),AD45)","v":0},{"$f":"IF(Riskhistorik!AK$2<>\"Datum\",IF(Riskhistorik!AK47=\"Låg\",1,IF(Riskhistorik!AK47=\"Medel\",2,IF(Riskhistorik!AK47=\"Hög\",3,0))),AE45)","v":0},{"$f":"IF(Riskhistorik!AK$2<>\"Datum\",IF(Riskhistorik!AL47=\"Låg\",1,IF(Riskhistorik!AL47=\"Medel\",2,IF(Riskhistorik!AL47=\"Hög\",3,0))),AF45)","v":0},{"$f":"IF(Riskhistorik!AM$2<>\"Datum\",IF(Riskhistorik!AM47=\"Låg\",1,IF(Riskhistorik!AM47=\"Medel\",2,IF(Riskhistorik!AM47=\"Hög\",3,0))),AG45)","v":0},{"$f":"IF(Riskhistorik!AM$2<>\"Datum\",IF(Riskhistorik!AN47=\"Låg\",1,IF(Riskhistorik!AN47=\"Medel\",2,IF(Riskhistorik!AN47=\"Hög\",3,0))),AH45)","v":0},{"$f":"IF(Riskhistorik!AO$2<>\"Datum\",IF(Riskhistorik!AO47=\"Låg\",1,IF(Riskhistorik!AO47=\"Medel\",2,IF(Riskhistorik!AO47=\"Hög\",3,0))),AI45)","v":0},{"$f":"IF(Riskhistorik!AO$2<>\"Datum\",IF(Riskhistorik!AP47=\"Låg\",1,IF(Riskhistorik!AP47=\"Medel\",2,IF(Riskhistorik!AP47=\"Hög\",3,0))),AJ45)","v":0},{"$f":"IF(Riskhistorik!AQ$2<>\"Datum\",IF(Riskhistorik!AQ47=\"Låg\",1,IF(Riskhistorik!AQ47=\"Medel\",2,IF(Riskhistorik!AQ47=\"Hög\",3,0))),AK45)","v":0},{"$f":"IF(Riskhistorik!AQ$2<>\"Datum\",IF(Riskhistorik!AR47=\"Låg\",1,IF(Riskhistorik!AR47=\"Medel\",2,IF(Riskhistorik!AR47=\"Hög\",3,0))),AL45)","v":0},0,0,0,0,0,0,0,0,0,0,0,0,0,0,0,0,0,0,0,0]
[{"$f":"IF(Riskhistorik!E48<>\"\",IF(Riskhistorik!E48=\"Låg\",1,IF(Riskhistorik!E48=\"Medel\",2,3)),0)","v":0},{"$f":"IF(Riskhistorik!F48<>\"\",IF(Riskhistorik!F48=\"Låg\",1,IF(Riskhistorik!F48=\"Medel\",2,3)),0)","v":0},{"$f":"IF(Riskhistorik!G$2<>\"Datum\",IF(Riskhistorik!G48=\"Låg\",1,IF(Riskhistorik!G48=\"Medel\",2,IF(Riskhistorik!G48=\"Hög\",3,0))),A46)","v":0},{"$f":"IF(Riskhistorik!G$2<>\"Datum\",IF(Riskhistorik!H48=\"Låg\",1,IF(Riskhistorik!H48=\"Medel\",2,IF(Riskhistorik!H48=\"Hög\",3,0))),B46)","v":0},{"$f":"IF(Riskhistorik!I$2<>\"Datum\",IF(Riskhistorik!I48=\"Låg\",1,IF(Riskhistorik!I48=\"Medel\",2,IF(Riskhistorik!I48=\"Hög\",3,0))),C46)","v":0},{"$f":"IF(Riskhistorik!I$2<>\"Datum\",IF(Riskhistorik!J48=\"Låg\",1,IF(Riskhistorik!J48=\"Medel\",2,IF(Riskhistorik!J48=\"Hög\",3,0))),D46)","v":0},{"$f":"IF(Riskhistorik!K$2<>\"Datum\",IF(Riskhistorik!K48=\"Låg\",1,IF(Riskhistorik!K48=\"Medel\",2,IF(Riskhistorik!K48=\"Hög\",3,0))),E46)","v":0},{"$f":"IF(Riskhistorik!K$2<>\"Datum\",IF(Riskhistorik!L48=\"Låg\",1,IF(Riskhistorik!L48=\"Medel\",2,IF(Riskhistorik!L48=\"Hög\",3,0))),F46)","v":0},{"$f":"IF(Riskhistorik!M$2<>\"Datum\",IF(Riskhistorik!M48=\"Låg\",1,IF(Riskhistorik!M48=\"Medel\",2,IF(Riskhistorik!M48=\"Hög\",3,0))),G46)","v":0},{"$f":"IF(Riskhistorik!M$2<>\"Datum\",IF(Riskhistorik!N48=\"Låg\",1,IF(Riskhistorik!N48=\"Medel\",2,IF(Riskhistorik!N48=\"Hög\",3,0))),H46)","v":0},{"$f":"IF(Riskhistorik!O$2<>\"Datum\",IF(Riskhistorik!O48=\"Låg\",1,IF(Riskhistorik!O48=\"Medel\",2,IF(Riskhistorik!O48=\"Hög\",3,0))),I46)","v":0},{"$f":"IF(Riskhistorik!O$2<>\"Datum\",IF(Riskhistorik!P48=\"Låg\",1,IF(Riskhistorik!P48=\"Medel\",2,IF(Riskhistorik!P48=\"Hög\",3,0))),J46)","v":0},{"$f":"IF(Riskhistorik!Q$2<>\"Datum\",IF(Riskhistorik!Q48=\"Låg\",1,IF(Riskhistorik!Q48=\"Medel\",2,IF(Riskhistorik!Q48=\"Hög\",3,0))),K46)","v":0},{"$f":"IF(Riskhistorik!Q$2<>\"Datum\",IF(Riskhistorik!R48=\"Låg\",1,IF(Riskhistorik!R48=\"Medel\",2,IF(Riskhistorik!R48=\"Hög\",3,0))),L46)","v":0},{"$f":"IF(Riskhistorik!S$2<>\"Datum\",IF(Riskhistorik!S48=\"Låg\",1,IF(Riskhistorik!S48=\"Medel\",2,IF(Riskhistorik!S48=\"Hög\",3,0))),M46)","v":0},{"$f":"IF(Riskhistorik!S$2<>\"Datum\",IF(Riskhistorik!T48=\"Låg\",1,IF(Riskhistorik!T48=\"Medel\",2,IF(Riskhistorik!T48=\"Hög\",3,0))),N46)","v":0},{"$f":"IF(Riskhistorik!U$2<>\"Datum\",IF(Riskhistorik!U48=\"Låg\",1,IF(Riskhistorik!U48=\"Medel\",2,IF(Riskhistorik!U48=\"Hög\",3,0))),O46)","v":0},{"$f":"IF(Riskhistorik!U$2<>\"Datum\",IF(Riskhistorik!V48=\"Låg\",1,IF(Riskhistorik!V48=\"Medel\",2,IF(Riskhistorik!V48=\"Hög\",3,0))),P46)","v":0},{"$f":"IF(Riskhistorik!W$2<>\"Datum\",IF(Riskhistorik!W48=\"Låg\",1,IF(Riskhistorik!W48=\"Medel\",2,IF(Riskhistorik!W48=\"Hög\",3,0))),Q46)","v":0},{"$f":"IF(Riskhistorik!W$2<>\"Datum\",IF(Riskhistorik!X48=\"Låg\",1,IF(Riskhistorik!X48=\"Medel\",2,IF(Riskhistorik!X48=\"Hög\",3,0))),R46)","v":0},{"$f":"IF(Riskhistorik!Y$2<>\"Datum\",IF(Riskhistorik!Y48=\"Låg\",1,IF(Riskhistorik!Y48=\"Medel\",2,IF(Riskhistorik!Y48=\"Hög\",3,0))),S46)","v":0},{"$f":"IF(Riskhistorik!Y$2<>\"Datum\",IF(Riskhistorik!Z48=\"Låg\",1,IF(Riskhistorik!Z48=\"Medel\",2,IF(Riskhistorik!Z48=\"Hög\",3,0))),T46)","v":0},{"$f":"IF(Riskhistorik!AA$2<>\"Datum\",IF(Riskhistorik!AA48=\"Låg\",1,IF(Riskhistorik!AA48=\"Medel\",2,IF(Riskhistorik!AA48=\"Hög\",3,0))),U46)","v":0},{"$f":"IF(Riskhistorik!AA$2<>\"Datum\",IF(Riskhistorik!AB48=\"Låg\",1,IF(Riskhistorik!AB48=\"Medel\",2,IF(Riskhistorik!AB48=\"Hög\",3,0))),V46)","v":0},{"$f":"IF(Riskhistorik!AC$2<>\"Datum\",IF(Riskhistorik!AC48=\"Låg\",1,IF(Riskhistorik!AC48=\"Medel\",2,IF(Riskhistorik!AC48=\"Hög\",3,0))),W46)","v":0},{"$f":"IF(Riskhistorik!AC$2<>\"Datum\",IF(Riskhistorik!AD48=\"Låg\",1,IF(Riskhistorik!AD48=\"Medel\",2,IF(Riskhistorik!AD48=\"Hög\",3,0))),X46)","v":0},{"$f":"IF(Riskhistorik!AE$2<>\"Datum\",IF(Riskhistorik!AE48=\"Låg\",1,IF(Riskhistorik!AE48=\"Medel\",2,IF(Riskhistorik!AE48=\"Hög\",3,0))),Y46)","v":0},{"$f":"IF(Riskhistorik!AE$2<>\"Datum\",IF(Riskhistorik!AF48=\"Låg\",1,IF(Riskhistorik!AF48=\"Medel\",2,IF(Riskhistorik!AF48=\"Hög\",3,0))),Z46)","v":0},{"$f":"IF(Riskhistorik!AG$2<>\"Datum\",IF(Riskhistorik!AG48=\"Låg\",1,IF(Riskhistorik!AG48=\"Medel\",2,IF(Riskhistorik!AG48=\"Hög\",3,0))),AA46)","v":0},{"$f":"IF(Riskhistorik!AG$2<>\"Datum\",IF(Riskhistorik!AH48=\"Låg\",1,IF(Riskhistorik!AH48=\"Medel\",2,IF(Riskhistorik!AH48=\"Hög\",3,0))),AB46)","v":0},{"$f":"IF(Riskhistorik!AI$2<>\"Datum\",IF(Riskhistorik!AI48=\"Låg\",1,IF(Riskhistorik!AI48=\"Medel\",2,IF(Riskhistorik!AI48=\"Hög\",3,0))),AC46)","v":0},{"$f":"IF(Riskhistorik!AI$2<>\"Datum\",IF(Riskhistorik!AJ48=\"Låg\",1,IF(Riskhistorik!AJ48=\"Medel\",2,IF(Riskhistorik!AJ48=\"Hög\",3,0))),AD46)","v":0},{"$f":"IF(Riskhistorik!AK$2<>\"Datum\",IF(Riskhistorik!AK48=\"Låg\",1,IF(Riskhistorik!AK48=\"Medel\",2,IF(Riskhistorik!AK48=\"Hög\",3,0))),AE46)","v":0},{"$f":"IF(Riskhistorik!AK$2<>\"Datum\",IF(Riskhistorik!AL48=\"Låg\",1,IF(Riskhistorik!AL48=\"Medel\",2,IF(Riskhistorik!AL48=\"Hög\",3,0))),AF46)","v":0},{"$f":"IF(Riskhistorik!AM$2<>\"Datum\",IF(Riskhistorik!AM48=\"Låg\",1,IF(Riskhistorik!AM48=\"Medel\",2,IF(Riskhistorik!AM48=\"Hög\",3,0))),AG46)","v":0},{"$f":"IF(Riskhistorik!AM$2<>\"Datum\",IF(Riskhistorik!AN48=\"Låg\",1,IF(Riskhistorik!AN48=\"Medel\",2,IF(Riskhistorik!AN48=\"Hög\",3,0))),AH46)","v":0},{"$f":"IF(Riskhistorik!AO$2<>\"Datum\",IF(Riskhistorik!AO48=\"Låg\",1,IF(Riskhistorik!AO48=\"Medel\",2,IF(Riskhistorik!AO48=\"Hög\",3,0))),AI46)","v":0},{"$f":"IF(Riskhistorik!AO$2<>\"Datum\",IF(Riskhistorik!AP48=\"Låg\",1,IF(Riskhistorik!AP48=\"Medel\",2,IF(Riskhistorik!AP48=\"Hög\",3,0))),AJ46)","v":0},{"$f":"IF(Riskhistorik!AQ$2<>\"Datum\",IF(Riskhistorik!AQ48=\"Låg\",1,IF(Riskhistorik!AQ48=\"Medel\",2,IF(Riskhistorik!AQ48=\"Hög\",3,0))),AK46)","v":0},{"$f":"IF(Riskhistorik!AQ$2<>\"Datum\",IF(Riskhistorik!AR48=\"Låg\",1,IF(Riskhistorik!AR48=\"Medel\",2,IF(Riskhistorik!AR48=\"Hög\",3,0))),AL46)","v":0},0,0,0,0,0,0,0,0,0,0,0,0,0,0,0,0,0,0,0,0]
[{"$f":"IF(Riskhistorik!E49<>\"\",IF(Riskhistorik!E49=\"Låg\",1,IF(Riskhistorik!E49=\"Medel\",2,3)),0)","v":0},{"$f":"IF(Riskhistorik!F49<>\"\",IF(Riskhistorik!F49=\"Låg\",1,IF(Riskhistorik!F49=\"Medel\",2,3)),0)","v":0},{"$f":"IF(Riskhistorik!G$2<>\"Datum\",IF(Riskhistorik!G49=\"Låg\",1,IF(Riskhistorik!G49=\"Medel\",2,IF(Riskhistorik!G49=\"Hög\",3,0))),A47)","v":0},{"$f":"IF(Riskhistorik!G$2<>\"Datum\",IF(Riskhistorik!H49=\"Låg\",1,IF(Riskhistorik!H49=\"Medel\",2,IF(Riskhistorik!H49=\"Hög\",3,0))),B47)","v":0},{"$f":"IF(Riskhistorik!I$2<>\"Datum\",IF(Riskhistorik!I49=\"Låg\",1,IF(Riskhistorik!I49=\"Medel\",2,IF(Riskhistorik!I49=\"Hög\",3,0))),C47)","v":0},{"$f":"IF(Riskhistorik!I$2<>\"Datum\",IF(Riskhistorik!J49=\"Låg\",1,IF(Riskhistorik!J49=\"Medel\",2,IF(Riskhistorik!J49=\"Hög\",3,0))),D47)","v":0},{"$f":"IF(Riskhistorik!K$2<>\"Datum\",IF(Riskhistorik!K49=\"Låg\",1,IF(Riskhistorik!K49=\"Medel\",2,IF(Riskhistorik!K49=\"Hög\",3,0))),E47)","v":0},{"$f":"IF(Riskhistorik!K$2<>\"Datum\",IF(Riskhistorik!L49=\"Låg\",1,IF(Riskhistorik!L49=\"Medel\",2,IF(Riskhistorik!L49=\"Hög\",3,0))),F47)","v":0},{"$f":"IF(Riskhistorik!M$2<>\"Datum\",IF(Riskhistorik!M49=\"Låg\",1,IF(Riskhistorik!M49=\"Medel\",2,IF(Riskhistorik!M49=\"Hög\",3,0))),G47)","v":0},{"$f":"IF(Riskhistorik!M$2<>\"Datum\",IF(Riskhistorik!N49=\"Låg\",1,IF(Riskhistorik!N49=\"Medel\",2,IF(Riskhistorik!N49=\"Hög\",3,0))),H47)","v":0},{"$f":"IF(Riskhistorik!O$2<>\"Datum\",IF(Riskhistorik!O49=\"Låg\",1,IF(Riskhistorik!O49=\"Medel\",2,IF(Riskhistorik!O49=\"Hög\",3,0))),I47)","v":0},{"$f":"IF(Riskhistorik!O$2<>\"Datum\",IF(Riskhistorik!P49=\"Låg\",1,IF(Riskhistorik!P49=\"Medel\",2,IF(Riskhistorik!P49=\"Hög\",3,0))),J47)","v":0},{"$f":"IF(Riskhistorik!Q$2<>\"Datum\",IF(Riskhistorik!Q49=\"Låg\",1,IF(Riskhistorik!Q49=\"Medel\",2,IF(Riskhistorik!Q49=\"Hög\",3,0))),K47)","v":0},{"$f":"IF(Riskhistorik!Q$2<>\"Datum\",IF(Riskhistorik!R49=\"Låg\",1,IF(Riskhistorik!R49=\"Medel\",2,IF(Riskhistorik!R49=\"Hög\",3,0))),L47)","v":0},{"$f":"IF(Riskhistorik!S$2<>\"Datum\",IF(Riskhistorik!S49=\"Låg\",1,IF(Riskhistorik!S49=\"Medel\",2,IF(Riskhistorik!S49=\"Hög\",3,0))),M47)","v":0},{"$f":"IF(Riskhistorik!S$2<>\"Datum\",IF(Riskhistorik!T49=\"Låg\",1,IF(Riskhistorik!T49=\"Medel\",2,IF(Riskhistorik!T49=\"Hög\",3,0))),N47)","v":0},{"$f":"IF(Riskhistorik!U$2<>\"Datum\",IF(Riskhistorik!U49=\"Låg\",1,IF(Riskhistorik!U49=\"Medel\",2,IF(Riskhistorik!U49=\"Hög\",3,0))),O47)","v":0},{"$f":"IF(Riskhistorik!U$2<>\"Datum\",IF(Riskhistorik!V49=\"Låg\",1,IF(Riskhistorik!V49=\"Medel\",2,IF(Riskhistorik!V49=\"Hög\",3,0))),P47)","v":0},{"$f":"IF(Riskhistorik!W$2<>\"Datum\",IF(Riskhistorik!W49=\"Låg\",1,IF(Riskhistorik!W49=\"Medel\",2,IF(Riskhistorik!W49=\"Hög\",3,0))),Q47)","v":0},{"$f":"IF(Riskhistorik!W$2<>\"Datum\",IF(Riskhistorik!X49=\"Låg\",1,IF(Riskhistorik!X49=\"Medel\",2,IF(Riskhistorik!X49=\"Hög\",3,0))),R47)","v":0},{"$f":"IF(Riskhistorik!Y$2<>\"Datum\",IF(Riskhistorik!Y49=\"Låg\",1,IF(Riskhistorik!Y49=\"Medel\",2,IF(Riskhistorik!Y49=\"Hög\",3,0))),S47)","v":0},{"$f":"IF(Riskhistorik!Y$2<>\"Datum\",IF(Riskhistorik!Z49=\"Låg\",1,IF(Riskhistorik!Z49=\"Medel\",2,IF(Riskhistorik!Z49=\"Hög\",3,0))),T47)","v":0},{"$f":"IF(Riskhistorik!AA$2<>\"Datum\",IF(Riskhistorik!AA49=\"Låg\",1,IF(Riskhistorik!AA49=\"Medel\",2,IF(Riskhistorik!AA49=\"Hög\",3,0))),U47)","v":0},{"$f":"IF(Riskhistorik!AA$2<>\"Datum\",IF(Riskhistorik!AB49=\"Låg\",1,IF(Riskhistorik!AB49=\"Medel\",2,IF(Riskhistorik!AB49=\"Hög\",3,0))),V47)","v":0},{"$f":"IF(Riskhistorik!AC$2<>\"Datum\",IF(Riskhistorik!AC49=\"Låg\",1,IF(Riskhistorik!AC49=\"Medel\",2,IF(Riskhistorik!AC49=\"Hög\",3,0))),W47)","v":0},{"$f":"IF(Riskhistorik!AC$2<>\"Datum\",IF(Riskhistorik!AD49=\"Låg\",1,IF(Riskhistorik!AD49=\"Medel\",2,IF(Riskhistorik!AD49=\"Hög\",3,0))),X47)","v":0},{"$f":"IF(Riskhistorik!AE$2<>\"Datum\",IF(Riskhistorik!AE49=\"Låg\",1,IF(Riskhistorik!AE49=\"Medel\",2,IF(Riskhistorik!AE49=\"Hög\",3,0))),Y47)","v":0},{"$f":"IF(Riskhistorik!AE$2<>\"Datum\",IF(Riskhistorik!AF49=\"Låg\",1,IF(Riskhistorik!AF49=\"Medel\",2,IF(Riskhistorik!AF49=\"Hög\",3,0))),Z47)","v":0},{"$f":"IF(Riskhistorik!AG$2<>\"Datum\",IF(Riskhistorik!AG49=\"Låg\",1,IF(Riskhistorik!AG49=\"Medel\",2,IF(Riskhistorik!AG49=\"Hög\",3,0))),AA47)","v":0},{"$f":"IF(Riskhistorik!AG$2<>\"Datum\",IF(Riskhistorik!AH49=\"Låg\",1,IF(Riskhistorik!AH49=\"Medel\",2,IF(Riskhistorik!AH49=\"Hög\",3,0))),AB47)","v":0},{"$f":"IF(Riskhistorik!AI$2<>\"Datum\",IF(Riskhistorik!AI49=\"Låg\",1,IF(Riskhistorik!AI49=\"Medel\",2,IF(Riskhistorik!AI49=\"Hög\",3,0))),AC47)","v":0},{"$f":"IF(Riskhistorik!AI$2<>\"Datum\",IF(Riskhistorik!AJ49=\"Låg\",1,IF(Riskhistorik!AJ49=\"Medel\",2,IF(Riskhistorik!AJ49=\"Hög\",3,0))),AD47)","v":0},{"$f":"IF(Riskhistorik!AK$2<>\"Datum\",IF(Riskhistorik!AK49=\"Låg\",1,IF(Riskhistorik!AK49=\"Medel\",2,IF(Riskhistorik!AK49=\"Hög\",3,0))),AE47)","v":0},{"$f":"IF(Riskhistorik!AK$2<>\"Datum\",IF(Riskhistorik!AL49=\"Låg\",1,IF(Riskhistorik!AL49=\"Medel\",2,IF(Riskhistorik!AL49=\"Hög\",3,0))),AF47)","v":0},{"$f":"IF(Riskhistorik!AM$2<>\"Datum\",IF(Riskhistorik!AM49=\"Låg\",1,IF(Riskhistorik!AM49=\"Medel\",2,IF(Riskhistorik!AM49=\"Hög\",3,0))),AG47)","v":0},{"$f":"IF(Riskhistorik!AM$2<>\"Datum\",IF(Riskhistorik!AN49=\"Låg\",1,IF(Riskhistorik!AN49=\"Medel\",2,IF(Riskhistorik!AN49=\"Hög\",3,0))),AH47)","v":0},{"$f":"IF(Riskhistorik!AO$2<>\"Datum\",IF(Riskhistorik!AO49=\"Låg\",1,IF(Riskhistorik!AO49=\"Medel\",2,IF(Riskhistorik!AO49=\"Hög\",3,0))),AI47)","v":0},{"$f":"IF(Riskhistorik!AO$2<>\"Datum\",IF(Riskhistorik!AP49=\"Låg\",1,IF(Riskhistorik!AP49=\"Medel\",2,IF(Riskhistorik!AP49=\"Hög\",3,0))),AJ47)","v":0},{"$f":"IF(Riskhistorik!AQ$2<>\"Datum\",IF(Riskhistorik!AQ49=\"Låg\",1,IF(Riskhistorik!AQ49=\"Medel\",2,IF(Riskhistorik!AQ49=\"Hög\",3,0))),AK47)","v":0},{"$f":"IF(Riskhistorik!AQ$2<>\"Datum\",IF(Riskhistorik!AR49=\"Låg\",1,IF(Riskhistorik!AR49=\"Medel\",2,IF(Riskhistorik!AR49=\"Hög\",3,0))),AL47)","v":0},0,0,0,0,0,0,0,0,0,0,0,0,0,0,0,0,0,0,0,0]
[{"$f":"IF(Riskhistorik!E50<>\"\",IF(Riskhistorik!E50=\"Låg\",1,IF(Riskhistorik!E50=\"Medel\",2,3)),0)","v":0},{"$f":"IF(Riskhistorik!F50<>\"\",IF(Riskhistorik!F50=\"Låg\",1,IF(Riskhistorik!F50=\"Medel\",2,3)),0)","v":0},{"$f":"IF(Riskhistorik!G$2<>\"Datum\",IF(Riskhistorik!G50=\"Låg\",1,IF(Riskhistorik!G50=\"Medel\",2,IF(Riskhistorik!G50=\"Hög\",3,0))),A48)","v":0},{"$f":"IF(Riskhistorik!G$2<>\"Datum\",IF(Riskhistorik!H50=\"Låg\",1,IF(Riskhistorik!H50=\"Medel\",2,IF(Riskhistorik!H50=\"Hög\",3,0))),B48)","v":0},{"$f":"IF(Riskhistorik!I$2<>\"Datum\",IF(Riskhistorik!I50=\"Låg\",1,IF(Riskhistorik!I50=\"Medel\",2,IF(Riskhistorik!I50=\"Hög\",3,0))),C48)","v":0},{"$f":"IF(Riskhistorik!I$2<>\"Datum\",IF(Riskhistorik!J50=\"Låg\",1,IF(Riskhistorik!J50=\"Medel\",2,IF(Riskhistorik!J50=\"Hög\",3,0))),D48)","v":0},{"$f":"IF(Riskhistorik!K$2<>\"Datum\",IF(Riskhistorik!K50=\"Låg\",1,IF(Riskhistorik!K50=\"Medel\",2,IF(Riskhistorik!K50=\"Hög\",3,0))),E48)","v":0},{"$f":"IF(Riskhistorik!K$2<>\"Datum\",IF(Riskhistorik!L50=\"Låg\",1,IF(Riskhistorik!L50=\"Medel\",2,IF(Riskhistorik!L50=\"Hög\",3,0))),F48)","v":0},{"$f":"IF(Riskhistorik!M$2<>\"Datum\",IF(Riskhistorik!M50=\"Låg\",1,IF(Riskhistorik!M50=\"Medel\",2,IF(Riskhistorik!M50=\"Hög\",3,0))),G48)","v":0},{"$f":"IF(Riskhistorik!M$2<>\"Datum\",IF(Riskhistorik!N50=\"Låg\",1,IF(Riskhistorik!N50=\"Medel\",2,IF(Riskhistorik!N50=\"Hög\",3,0))),H48)","v":0},{"$f":"IF(Riskhistorik!O$2<>\"Datum\",IF(Riskhistorik!O50=\"Låg\",1,IF(Riskhistorik!O50=\"Medel\",2,IF(Riskhistorik!O50=\"Hög\",3,0))),I48)","v":0},{"$f":"IF(Riskhistorik!O$2<>\"Datum\",IF(Riskhistorik!P50=\"Låg\",1,IF(Riskhistorik!P50=\"Medel\",2,IF(Riskhistorik!P50=\"Hög\",3,0))),J48)","v":0},{"$f":"IF(Riskhistorik!Q$2<>\"Datum\",IF(Riskhistorik!Q50=\"Låg\",1,IF(Riskhistorik!Q50=\"Medel\",2,IF(Riskhistorik!Q50=\"Hög\",3,0))),K48)","v":0},{"$f":"IF(Riskhistorik!Q$2<>\"Datum\",IF(Riskhistorik!R50=\"Låg\",1,IF(Riskhistorik!R50=\"Medel\",2,IF(Riskhistorik!R50=\"Hög\",3,0))),L48)","v":0},{"$f":"IF(Riskhistorik!S$2<>\"Datum\",IF(Riskhistorik!S50=\"Låg\",1,IF(Riskhistorik!S50=\"Medel\",2,IF(Riskhistorik!S50=\"Hög\",3,0))),M48)","v":0},{"$f":"IF(Riskhistorik!S$2<>\"Datum\",IF(Riskhistorik!T50=\"Låg\",1,IF(Riskhistorik!T50=\"Medel\",2,IF(Riskhistorik!T50=\"Hög\",3,0))),N48)","v":0},{"$f":"IF(Riskhistorik!U$2<>\"Datum\",IF(Riskhistorik!U50=\"Låg\",1,IF(Riskhistorik!U50=\"Medel\",2,IF(Riskhistorik!U50=\"Hög\",3,0))),O48)","v":0},{"$f":"IF(Riskhistorik!U$2<>\"Datum\",IF(Riskhistorik!V50=\"Låg\",1,IF(Riskhistorik!V50=\"Medel\",2,IF(Riskhistorik!V50=\"Hög\",3,0))),P48)","v":0},{"$f":"IF(Riskhistorik!W$2<>\"Datum\",IF(Riskhistorik!W50=\"Låg\",1,IF(Riskhistorik!W50=\"Medel\",2,IF(Riskhistorik!W50=\"Hög\",3,0))),Q48)","v":0},{"$f":"IF(Riskhistorik!W$2<>\"Datum\",IF(Riskhistorik!X50=\"Låg\",1,IF(Riskhistorik!X50=\"Medel\",2,IF(Riskhistorik!X50=\"Hög\",3,0))),R48)","v":0},{"$f":"IF(Riskhistorik!Y$2<>\"Datum\",IF(Riskhistorik!Y50=\"Låg\",1,IF(Riskhistorik!Y50=\"Medel\",2,IF(Riskhistorik!Y50=\"Hög\",3,0))),S48)","v":0},{"$f":"IF(Riskhistorik!Y$2<>\"Datum\",IF(Riskhistorik!Z50=\"Låg\",1,IF(Riskhistorik!Z50=\"Medel\",2,IF(Riskhistorik!Z50=\"Hög\",3,0))),T48)","v":0},{"$f":"IF(Riskhistorik!AA$2<>\"Datum\",IF(Riskhistorik!AA50=\"Låg\",1,IF(Riskhistorik!AA50=\"Medel\",2,IF(Riskhistorik!AA50=\"Hög\",3,0))),U48)","v":0},{"$f":"IF(Riskhistorik!AA$2<>\"Datum\",IF(Riskhistorik!AB50=\"Låg\",1,IF(Riskhistorik!AB50=\"Medel\",2,IF(Riskhistorik!AB50=\"Hög\",3,0))),V48)","v":0},{"$f":"IF(Riskhistorik!AC$2<>\"Datum\",IF(Riskhistorik!AC50=\"Låg\",1,IF(Riskhistorik!AC50=\"Medel\",2,IF(Riskhistorik!AC50=\"Hög\",3,0))),W48)","v":0},{"$f":"IF(Riskhistorik!AC$2<>\"Datum\",IF(Riskhistorik!AD50=\"Låg\",1,IF(Riskhistorik!AD50=\"Medel\",2,IF(Riskhistorik!AD50=\"Hög\",3,0))),X48)","v":0},{"$f":"IF(Riskhistorik!AE$2<>\"Datum\",IF(Riskhistorik!AE50=\"Låg\",1,IF(Riskhistorik!AE50=\"Medel\",2,IF(Riskhistorik!AE50=\"Hög\",3,0))),Y48)","v":0},{"$f":"IF(Riskhistorik!AE$2<>\"Datum\",IF(Riskhistorik!AF50=\"Låg\",1,IF(Riskhistorik!AF50=\"Medel\",2,IF(Riskhistorik!AF50=\"Hög\",3,0))),Z48)","v":0},{"$f":"IF(Riskhistorik!AG$2<>\"Datum\",IF(Riskhistorik!AG50=\"Låg\",1,IF(Riskhistorik!AG50=\"Medel\",2,IF(Riskhistorik!AG50=\"Hög\",3,0))),AA48)","v":0},{"$f":"IF(Riskhistorik!AG$2<>\"Datum\",IF(Riskhistorik!AH50=\"Låg\",1,IF(Riskhistorik!AH50=\"Medel\",2,IF(Riskhistorik!AH50=\"Hög\",3,0))),AB48)","v":0},{"$f":"IF(Riskhistorik!AI$2<>\"Datum\",IF(Riskhistorik!AI50=\"Låg\",1,IF(Riskhistorik!AI50=\"Medel\",2,IF(Riskhistorik!AI50=\"Hög\",3,0))),AC48)","v":0},{"$f":"IF(Riskhistorik!AI$2<>\"Datum\",IF(Riskhistorik!AJ50=\"Låg\",1,IF(Riskhistorik!AJ50=\"Medel\",2,IF(Riskhistorik!AJ50=\"Hög\",3,0))),AD48)","v":0},{"$f":"IF(Riskhistorik!AK$2<>\"Datum\",IF(Riskhistorik!AK50=\"Låg\",1,IF(Riskhistorik!AK50=\"Medel\",2,IF(Riskhistorik!AK50=\"Hög\",3,0))),AE48)","v":0},{"$f":"IF(Riskhistorik!AK$2<>\"Datum\",IF(Riskhistorik!AL50=\"Låg\",1,IF(Riskhistorik!AL50=\"Medel\",2,IF(Riskhistorik!AL50=\"Hög\",3,0))),AF48)","v":0},{"$f":"IF(Riskhistorik!AM$2<>\"Datum\",IF(Riskhistorik!AM50=\"Låg\",1,IF(Riskhistorik!AM50=\"Medel\",2,IF(Riskhistorik!AM50=\"Hög\",3,0))),AG48)","v":0},{"$f":"IF(Riskhistorik!AM$2<>\"Datum\",IF(Riskhistorik!AN50=\"Låg\",1,IF(Riskhistorik!AN50=\"Medel\",2,IF(Riskhistorik!AN50=\"Hög\",3,0))),AH48)","v":0},{"$f":"IF(Riskhistorik!AO$2<>\"Datum\",IF(Riskhistorik!AO50=\"Låg\",1,IF(Riskhistorik!AO50=\"Medel\",2,IF(Riskhistorik!AO50=\"Hög\",3,0))),AI48)","v":0},{"$f":"IF(Riskhistorik!AO$2<>\"Datum\",IF(Riskhistorik!AP50=\"Låg\",1,IF(Riskhistorik!AP50=\"Medel\",2,IF(Riskhistorik!AP50=\"Hög\",3,0))),AJ48)","v":0},{"$f":"IF(Riskhistorik!AQ$2<>\"Datum\",IF(Riskhistorik!AQ50=\"Låg\",1,IF(Riskhistorik!AQ50=\"Medel\",2,IF(Riskhistorik!AQ50=\"Hög\",3,0))),AK48)","v":0},{"$f":"IF(Riskhistorik!AQ$2<>\"Datum\",IF(Riskhistorik!AR50=\"Låg\",1,IF(Riskhistorik!AR50=\"Medel\",2,IF(Riskhistorik!AR50=\"Hög\",3,0))),AL48)","v":0},0,0,0,0,0,0,0,0,0,0,0,0,0,0,0,0,0,0,0,0]
[{"$f":"IF(Riskhistorik!E51<>\"\",IF(Riskhistorik!E51=\"Låg\",1,IF(Riskhistorik!E51=\"Medel\",2,3)),0)","v":0},{"$f":"IF(Riskhistorik!F51<>\"\",IF(Riskhistorik!F51=\"Låg\",1,IF(Riskhistorik!F51=\"Medel\",2,3)),0)","v":0},{"$f":"IF(Riskhistorik!G$2<>\"Datum\",IF(Riskhistorik!G51=\"Låg\",1,IF(Riskhistorik!G51=\"Medel\",2,IF(Riskhistorik!G51=\"Hög\",3,0))),A49)","v":0},{"$f":"IF(Riskhistorik!G$2<>\"Datum\",IF(Riskhistorik!H51=\"Låg\",1,IF(Riskhistorik!H51=\"Medel\",2,IF(Riskhistorik!H51=\"Hög\",3,0))),B49)","v":0},{"$f":"IF(Riskhistorik!I$2<>\"Datum\",IF(Riskhistorik!I51=\"Låg\",1,IF(Riskhistorik!I51=\"Medel\",2,IF(Riskhistorik!I51=\"Hög\",3,0))),C49)","v":0},{"$f":"IF(Riskhistorik!I$2<>\"Datum\",IF(Riskhistorik!J51=\"Låg\",1,IF(Riskhistorik!J51=\"Medel\",2,IF(Riskhistorik!J51=\"Hög\",3,0))),D49)","v":0},{"$f":"IF(Riskhistorik!K$2<>\"Datum\",IF(Riskhistorik!K51=\"Låg\",1,IF(Riskhistorik!K51=\"Medel\",2,IF(Riskhistorik!K51=\"Hög\",3,0))),E49)","v":0},{"$f":"IF(Riskhistorik!K$2<>\"Datum\",IF(Riskhistorik!L51=\"Låg\",1,IF(Riskhistorik!L51=\"Medel\",2,IF(Riskhistorik!L51=\"Hög\",3,0))),F49)","v":0},{"$f":"IF(Riskhistorik!M$2<>\"Datum\",IF(Riskhistorik!M51=\"Låg\",1,IF(Riskhistorik!M51=\"Medel\",2,IF(Riskhistorik!M51=\"Hög\",3,0))),G49)","v":0},{"$f":"IF(Riskhistorik!M$2<>\"Datum\",IF(Riskhistorik!N51=\"Låg\",1,IF(Riskhistorik!N51=\"Medel\",2,IF(Riskhistorik!N51=\"Hög\",3,0))),H49)","v":0},{"$f":"IF(Riskhistorik!O$2<>\"Datum\",IF(Riskhistorik!O51=\"Låg\",1,IF(Riskhistorik!O51=\"Medel\",2,IF(Riskhistorik!O51=\"Hög\",3,0))),I49)","v":0},{"$f":"IF(Riskhistorik!O$2<>\"Datum\",IF(Riskhistorik!P51=\"Låg\",1,IF(Riskhistorik!P51=\"Medel\",2,IF(Riskhistorik!P51=\"Hög\",3,0))),J49)","v":0},{"$f":"IF(Riskhistorik!Q$2<>\"Datum\",IF(Riskhistorik!Q51=\"Låg\",1,IF(Riskhistorik!Q51=\"Medel\",2,IF(Riskhistorik!Q51=\"Hög\",3,0))),K49)","v":0},{"$f":"IF(Riskhistorik!Q$2<>\"Datum\",IF(Riskhistorik!R51=\"Låg\",1,IF(Riskhistorik!R51=\"Medel\",2,IF(Riskhistorik!R51=\"Hög\",3,0))),L49)","v":0},{"$f":"IF(Riskhistorik!S$2<>\"Datum\",IF(Riskhistorik!S51=\"Låg\",1,IF(Riskhistorik!S51=\"Medel\",2,IF(Riskhistorik!S51=\"Hög\",3,0))),M49)","v":0},{"$f":"IF(Riskhistorik!S$2<>\"Datum\",IF(Riskhistorik!T51=\"Låg\",1,IF(Riskhistorik!T51=\"Medel\",2,IF(Riskhistorik!T51=\"Hög\",3,0))),N49)","v":0},{"$f":"IF(Riskhistorik!U$2<>\"Datum\",IF(Riskhistorik!U51=\"Låg\",1,IF(Riskhistorik!U51=\"Medel\",2,IF(Riskhistorik!U51=\"Hög\",3,0))),O49)","v":0},{"$f":"IF(Riskhistorik!U$2<>\"Datum\",IF(Riskhistorik!V51=\"Låg\",1,IF(Riskhistorik!V51=\"Medel\",2,IF(Riskhistorik!V51=\"Hög\",3,0))),P49)","v":0},{"$f":"IF(Riskhistorik!W$2<>\"Datum\",IF(Riskhistorik!W51=\"Låg\",1,IF(Riskhistorik!W51=\"Medel\",2,IF(Riskhistorik!W51=\"Hög\",3,0))),Q49)","v":0},{"$f":"IF(Riskhistorik!W$2<>\"Datum\",IF(Riskhistorik!X51=\"Låg\",1,IF(Riskhistorik!X51=\"Medel\",2,IF(Riskhistorik!X51=\"Hög\",3,0))),R49)","v":0},{"$f":"IF(Riskhistorik!Y$2<>\"Datum\",IF(Riskhistorik!Y51=\"Låg\",1,IF(Riskhistorik!Y51=\"Medel\",2,IF(Riskhistorik!Y51=\"Hög\",3,0))),S49)","v":0},{"$f":"IF(Riskhistorik!Y$2<>\"Datum\",IF(Riskhistorik!Z51=\"Låg\",1,IF(Riskhistorik!Z51=\"Medel\",2,IF(Riskhistorik!Z51=\"Hög\",3,0))),T49)","v":0},{"$f":"IF(Riskhistorik!AA$2<>\"Datum\",IF(Riskhistorik!AA51=\"Låg\",1,IF(Riskhistorik!AA51=\"Medel\",2,IF(Riskhistorik!AA51=\"Hög\",3,0))),U49)","v":0},{"$f":"IF(Riskhistorik!AA$2<>\"Datum\",IF(Riskhistorik!AB51=\"Låg\",1,IF(Riskhistorik!AB51=\"Medel\",2,IF(Riskhistorik!AB51=\"Hög\",3,0))),V49)","v":0},{"$f":"IF(Riskhistorik!AC$2<>\"Datum\",IF(Riskhistorik!AC51=\"Låg\",1,IF(Riskhistorik!AC51=\"Medel\",2,IF(Riskhistorik!AC51=\"Hög\",3,0))),W49)","v":0},{"$f":"IF(Riskhistorik!AC$2<>\"Datum\",IF(Riskhistorik!AD51=\"Låg\",1,IF(Riskhistorik!AD51=\"Medel\",2,IF(Riskhistorik!AD51=\"Hög\",3,0))),X49)","v":0},{"$f":"IF(Riskhistorik!AE$2<>\"Datum\",IF(Riskhistorik!AE51=\"Låg\",1,IF(Riskhistorik!AE51=\"Medel\",2,IF(Riskhistorik!AE51=\"Hög\",3,0))),Y49)","v":0},{"$f":"IF(Riskhistorik!AE$2<>\"Datum\",IF(Riskhistorik!AF51=\"Låg\",1,IF(Riskhistorik!AF51=\"Medel\",2,IF(Riskhistorik!AF51=\"Hög\",3,0))),Z49)","v":0},{"$f":"IF(Riskhistorik!AG$2<>\"Datum\",IF(Riskhistorik!AG51=\"Låg\",1,IF(Riskhistorik!AG51=\"Medel\",2,IF(Riskhistorik!AG51=\"Hög\",3,0))),AA49)","v":0},{"$f":"IF(Riskhistorik!AG$2<>\"Datum\",IF(Riskhistorik!AH51=\"Låg\",1,IF(Riskhistorik!AH51=\"Medel\",2,IF(Riskhistorik!AH51=\"Hög\",3,0))),AB49)","v":0},{"$f":"IF(Riskhistorik!AI$2<>\"Datum\",IF(Riskhistorik!AI51=\"Låg\",1,IF(Riskhistorik!AI51=\"Medel\",2,IF(Riskhistorik!AI51=\"Hög\",3,0))),AC49)","v":0},{"$f":"IF(Riskhistorik!AI$2<>\"Datum\",IF(Riskhistorik!AJ51=\"Låg\",1,IF(Riskhistorik!AJ51=\"Medel\",2,IF(Riskhistorik!AJ51=\"Hög\",3,0))),AD49)","v":0},{"$f":"IF(Riskhistorik!AK$2<>\"Datum\",IF(Riskhistorik!AK51=\"Låg\",1,IF(Riskhistorik!AK51=\"Medel\",2,IF(Riskhistorik!AK51=\"Hög\",3,0))),AE49)","v":0},{"$f":"IF(Riskhistorik!AK$2<>\"Datum\",IF(Riskhistorik!AL51=\"Låg\",1,IF(Riskhistorik!AL51=\"Medel\",2,IF(Riskhistorik!AL51=\"Hög\",3,0))),AF49)","v":0},{"$f":"IF(Riskhistorik!AM$2<>\"Datum\",IF(Riskhistorik!AM51=\"Låg\",1,IF(Riskhistorik!AM51=\"Medel\",2,IF(Riskhistorik!AM51=\"Hög\",3,0))),AG49)","v":0},{"$f":"IF(Riskhistorik!AM$2<>\"Datum\",IF(Riskhistorik!AN51=\"Låg\",1,IF(Riskhistorik!AN51=\"Medel\",2,IF(Riskhistorik!AN51=\"Hög\",3,0))),AH49)","v":0},{"$f":"IF(Riskhistorik!AO$2<>\"Datum\",IF(Riskhistorik!AO51=\"Låg\",1,IF(Riskhistorik!AO51=\"Medel\",2,IF(Riskhistorik!AO51=\"Hög\",3,0))),AI49)","v":0},{"$f":"IF(Riskhistorik!AO$2<>\"Datum\",IF(Riskhistorik!AP51=\"Låg\",1,IF(Riskhistorik!AP51=\"Medel\",2,IF(Riskhistorik!AP51=\"Hög\",3,0))),AJ49)","v":0},{"$f":"IF(Riskhistorik!AQ$2<>\"Datum\",IF(Riskhistorik!AQ51=\"Låg\",1,IF(Riskhistorik!AQ51=\"Medel\",2,IF(Riskhistorik!AQ51=\"Hög\",3,0))),AK49)","v":0},{"$f":"IF(Riskhistorik!AQ$2<>\"Datum\",IF(Riskhistorik!AR51=\"Låg\",1,IF(Riskhistorik!AR51=\"Medel\",2,IF(Riskhistorik!AR51=\"Hög\",3,0))),AL49)","v":0},0,0,0,0,0,0,0,0,0,0,0,0,0,0,0,0,0,0,0,0]
[{"$f":"IF(Riskhistorik!E52<>\"\",IF(Riskhistorik!E52=\"Låg\",1,IF(Riskhistorik!E52=\"Medel\",2,3)),0)","v":0},{"$f":"IF(Riskhistorik!F52<>\"\",IF(Riskhistorik!F52=\"Låg\",1,IF(Riskhistorik!F52=\"Medel\",2,3)),0)","v":0},{"$f":"IF(Riskhistorik!G$2<>\"Datum\",IF(Riskhistorik!G52=\"Låg\",1,IF(Riskhistorik!G52=\"Medel\",2,IF(Riskhistorik!G52=\"Hög\",3,0))),A50)","v":0},{"$f":"IF(Riskhistorik!G$2<>\"Datum\",IF(Riskhistorik!H52=\"Låg\",1,IF(Riskhistorik!H52=\"Medel\",2,IF(Riskhistorik!H52=\"Hög\",3,0))),B50)","v":0},{"$f":"IF(Riskhistorik!I$2<>\"Datum\",IF(Riskhistorik!I52=\"Låg\",1,IF(Riskhistorik!I52=\"Medel\",2,IF(Riskhistorik!I52=\"Hög\",3,0))),C50)","v":0},{"$f":"IF(Riskhistorik!I$2<>\"Datum\",IF(Riskhistorik!J52=\"Låg\",1,IF(Riskhistorik!J52=\"Medel\",2,IF(Riskhistorik!J52=\"Hög\",3,0))),D50)","v":0},{"$f":"IF(Riskhistorik!K$2<>\"Datum\",IF(Riskhistorik!K52=\"Låg\",1,IF(Riskhistorik!K52=\"Medel\",2,IF(Riskhistorik!K52=\"Hög\",3,0))),E50)","v":0},{"$f":"IF(Riskhistorik!K$2<>\"Datum\",IF(Riskhistorik!L52=\"Låg\",1,IF(Riskhistorik!L52=\"Medel\",2,IF(Riskhistorik!L52=\"Hög\",3,0))),F50)","v":0},{"$f":"IF(Riskhistorik!M$2<>\"Datum\",IF(Riskhistorik!M52=\"Låg\",1,IF(Riskhistorik!M52=\"Medel\",2,IF(Riskhistorik!M52=\"Hög\",3,0))),G50)","v":0},{"$f":"IF(Riskhistorik!M$2<>\"Datum\",IF(Riskhistorik!N52=\"Låg\",1,IF(Riskhistorik!N52=\"Medel\",2,IF(Riskhistorik!N52=\"Hög\",3,0))),H50)","v":0},{"$f":"IF(Riskhistorik!O$2<>\"Datum\",IF(Riskhistorik!O52=\"Låg\",1,IF(Riskhistorik!O52=\"Medel\",2,IF(Riskhistorik!O52=\"Hög\",3,0))),I50)","v":0},{"$f":"IF(Riskhistorik!O$2<>\"Datum\",IF(Riskhistorik!P52=\"Låg\",1,IF(Riskhistorik!P52=\"Medel\",2,IF(Riskhistorik!P52=\"Hög\",3,0))),J50)","v":0},{"$f":"IF(Riskhistorik!Q$2<>\"Datum\",IF(Riskhistorik!Q52=\"Låg\",1,IF(Riskhistorik!Q52=\"Medel\",2,IF(Riskhistorik!Q52=\"Hög\",3,0))),K50)","v":0},{"$f":"IF(Riskhistorik!Q$2<>\"Datum\",IF(Riskhistorik!R52=\"Låg\",1,IF(Riskhistorik!R52=\"Medel\",2,IF(Riskhistorik!R52=\"Hög\",3,0))),L50)","v":0},{"$f":"IF(Riskhistorik!S$2<>\"Datum\",IF(Riskhistorik!S52=\"Låg\",1,IF(Riskhistorik!S52=\"Medel\",2,IF(Riskhistorik!S52=\"Hög\",3,0))),M50)","v":0},{"$f":"IF(Riskhistorik!S$2<>\"Datum\",IF(Riskhistorik!T52=\"Låg\",1,IF(Riskhistorik!T52=\"Medel\",2,IF(Riskhistorik!T52=\"Hög\",3,0))),N50)","v":0},{"$f":"IF(Riskhistorik!U$2<>\"Datum\",IF(Riskhistorik!U52=\"Låg\",1,IF(Riskhistorik!U52=\"Medel\",2,IF(Riskhistorik!U52=\"Hög\",3,0))),O50)","v":0},{"$f":"IF(Riskhistorik!U$2<>\"Datum\",IF(Riskhistorik!V52=\"Låg\",1,IF(Riskhistorik!V52=\"Medel\",2,IF(Riskhistorik!V52=\"Hög\",3,0))),P50)","v":0},{"$f":"IF(Riskhistorik!W$2<>\"Datum\",IF(Riskhistorik!W52=\"Låg\",1,IF(Riskhistorik!W52=\"Medel\",2,IF(Riskhistorik!W52=\"Hög\",3,0))),Q50)","v":0},{"$f":"IF(Riskhistorik!W$2<>\"Datum\",IF(Riskhistorik!X52=\"Låg\",1,IF(Riskhistorik!X52=\"Medel\",2,IF(Riskhistorik!X52=\"Hög\",3,0))),R50)","v":0},{"$f":"IF(Riskhistorik!Y$2<>\"Datum\",IF(Riskhistorik!Y52=\"Låg\",1,IF(Riskhistorik!Y52=\"Medel\",2,IF(Riskhistorik!Y52=\"Hög\",3,0))),S50)","v":0},{"$f":"IF(Riskhistorik!Y$2<>\"Datum\",IF(Riskhistorik!Z52=\"Låg\",1,IF(Riskhistorik!Z52=\"Medel\",2,IF(Riskhistorik!Z52=\"Hög\",3,0))),T50)","v":0},{"$f":"IF(Riskhistorik!AA$2<>\"Datum\",IF(Riskhistorik!AA52=\"Låg\",1,IF(Riskhistorik!AA52=\"Medel\",2,IF(Riskhistorik!AA52=\"Hög\",3,0))),U50)","v":0},{"$f":"IF(Riskhistorik!AA$2<>\"Datum\",IF(Riskhistorik!AB52=\"Låg\",1,IF(Riskhistorik!AB52=\"Medel\",2,IF(Riskhistorik!AB52=\"Hög\",3,0))),V50)","v":0},{"$f":"IF(Riskhistorik!AC$2<>\"Datum\",IF(Riskhistorik!AC52=\"Låg\",1,IF(Riskhistorik!AC52=\"Medel\",2,IF(Riskhistorik!AC52=\"Hög\",3,0))),W50)","v":0},{"$f":"IF(Riskhistorik!AC$2<>\"Datum\",IF(Riskhistorik!AD52=\"Låg\",1,IF(Riskhistorik!AD52=\"Medel\",2,IF(Riskhistorik!AD52=\"Hög\",3,0))),X50)","v":0},{"$f":"IF(Riskhistorik!AE$2<>\"Datum\",IF(Riskhistorik!AE52=\"Låg\",1,IF(Riskhistorik!AE52=\"Medel\",2,IF(Riskhistorik!AE52=\"Hög\",3,0))),Y50)","v":0},{"$f":"IF(Riskhistorik!AE$2<>\"Datum\",IF(Riskhistorik!AF52=\"Låg\",1,IF(Riskhistorik!AF52=\"Medel\",2,IF(Riskhistorik!AF52=\"Hög\",3,0))),Z50)","v":0},{"$f":"IF(Riskhistorik!AG$2<>\"Datum\",IF(Riskhistorik!AG52=\"Låg\",1,IF(Riskhistorik!AG52=\"Medel\",2,IF(Riskhistorik!AG52=\"Hög\",3,0))),AA50)","v":0},{"$f":"IF(Riskhistorik!AG$2<>\"Datum\",IF(Riskhistorik!AH52=\"Låg\",1,IF(Riskhistorik!AH52=\"Medel\",2,IF(Riskhistorik!AH52=\"Hög\",3,0))),AB50)","v":0},{"$f":"IF(Riskhistorik!AI$2<>\"Datum\",IF(Riskhistorik!AI52=\"Låg\",1,IF(Riskhistorik!AI52=\"Medel\",2,IF(Riskhistorik!AI52=\"Hög\",3,0))),AC50)","v":0},{"$f":"IF(Riskhistorik!AI$2<>\"Datum\",IF(Riskhistorik!AJ52=\"Låg\",1,IF(Riskhistorik!AJ52=\"Medel\",2,IF(Riskhistorik!AJ52=\"Hög\",3,0))),AD50)","v":0},{"$f":"IF(Riskhistorik!AK$2<>\"Datum\",IF(Riskhistorik!AK52=\"Låg\",1,IF(Riskhistorik!AK52=\"Medel\",2,IF(Riskhistorik!AK52=\"Hög\",3,0))),AE50)","v":0},{"$f":"IF(Riskhistorik!AK$2<>\"Datum\",IF(Riskhistorik!AL52=\"Låg\",1,IF(Riskhistorik!AL52=\"Medel\",2,IF(Riskhistorik!AL52=\"Hög\",3,0))),AF50)","v":0},{"$f":"IF(Riskhistorik!AM$2<>\"Datum\",IF(Riskhistorik!AM52=\"Låg\",1,IF(Riskhistorik!AM52=\"Medel\",2,IF(Riskhistorik!AM52=\"Hög\",3,0))),AG50)","v":0},{"$f":"IF(Riskhistorik!AM$2<>\"Datum\",IF(Riskhistorik!AN52=\"Låg\",1,IF(Riskhistorik!AN52=\"Medel\",2,IF(Riskhistorik!AN52=\"Hög\",3,0))),AH50)","v":0},{"$f":"IF(Riskhistorik!AO$2<>\"Datum\",IF(Riskhistorik!AO52=\"Låg\",1,IF(Riskhistorik!AO52=\"Medel\",2,IF(Riskhistorik!AO52=\"Hög\",3,0))),AI50)","v":0},{"$f":"IF(Riskhistorik!AO$2<>\"Datum\",IF(Riskhistorik!AP52=\"Låg\",1,IF(Riskhistorik!AP52=\"Medel\",2,IF(Riskhistorik!AP52=\"Hög\",3,0))),AJ50)","v":0},{"$f":"IF(Riskhistorik!AQ$2<>\"Datum\",IF(Riskhistorik!AQ52=\"Låg\",1,IF(Riskhistorik!AQ52=\"Medel\",2,IF(Riskhistorik!AQ52=\"Hög\",3,0))),AK50)","v":0},{"$f":"IF(Riskhistorik!AQ$2<>\"Datum\",IF(Riskhistorik!AR52=\"Låg\",1,IF(Riskhistorik!AR52=\"Medel\",2,IF(Riskhistorik!AR52=\"Hög\",3,0))),AL50)","v":0},0,0,0,0,0,0,0,0,0,0,0,0,0,0,0,0,0,0,0,0]
[{"$f":"IF(Riskhistorik!E53<>\"\",IF(Riskhistorik!E53=\"Låg\",1,IF(Riskhistorik!E53=\"Medel\",2,3)),0)","v":0},{"$f":"IF(Riskhistorik!F53<>\"\",IF(Riskhistorik!F53=\"Låg\",1,IF(Riskhistorik!F53=\"Medel\",2,3)),0)","v":0},{"$f":"IF(Riskhistorik!G$2<>\"Datum\",IF(Riskhistorik!G53=\"Låg\",1,IF(Riskhistorik!G53=\"Medel\",2,IF(Riskhistorik!G53=\"Hög\",3,0))),A51)","v":0},{"$f":"IF(Riskhistorik!G$2<>\"Datum\",IF(Riskhistorik!H53=\"Låg\",1,IF(Riskhistorik!H53=\"Medel\",2,IF(Riskhistorik!H53=\"Hög\",3,0))),B51)","v":0},{"$f":"IF(Riskhistorik!I$2<>\"Datum\",IF(Riskhistorik!I53=\"Låg\",1,IF(Riskhistorik!I53=\"Medel\",2,IF(Riskhistorik!I53=\"Hög\",3,0))),C51)","v":0},{"$f":"IF(Riskhistorik!I$2<>\"Datum\",IF(Riskhistorik!J53=\"Låg\",1,IF(Riskhistorik!J53=\"Medel\",2,IF(Riskhistorik!J53=\"Hög\",3,0))),D51)","v":0},{"$f":"IF(Riskhistorik!K$2<>\"Datum\",IF(Riskhistorik!K53=\"Låg\",1,IF(Riskhistorik!K53=\"Medel\",2,IF(Riskhistorik!K53=\"Hög\",3,0))),E51)","v":0},{"$f":"IF(Riskhistorik!K$2<>\"Datum\",IF(Riskhistorik!L53=\"Låg\",1,IF(Riskhistorik!L53=\"Medel\",2,IF(Riskhistorik!L53=\"Hög\",3,0))),F51)","v":0},{"$f":"IF(Riskhistorik!M$2<>\"Datum\",IF(Riskhistorik!M53=\"Låg\",1,IF(Riskhistorik!M53=\"Medel\",2,IF(Riskhistorik!M53=\"Hög\",3,0))),G51)","v":0},{"$f":"IF(Riskhistorik!M$2<>\"Datum\",IF(Riskhistorik!N53=\"Låg\",1,IF(Riskhistorik!N53=\"Medel\",2,IF(Riskhistorik!N53=\"Hög\",3,0))),H51)","v":0},{"$f":"IF(Riskhistorik!O$2<>\"Datum\",IF(Riskhistorik!O53=\"Låg\",1,IF(Riskhistorik!O53=\"Medel\",2,IF(Riskhistorik!O53=\"Hög\",3,0))),I51)","v":0},{"$f":"IF(Riskhistorik!O$2<>\"Datum\",IF(Riskhistorik!P53=\"Låg\",1,IF(Riskhistorik!P53=\"Medel\",2,IF(Riskhistorik!P53=\"Hög\",3,0))),J51)","v":0},{"$f":"IF(Riskhistorik!Q$2<>\"Datum\",IF(Riskhistorik!Q53=\"Låg\",1,IF(Riskhistorik!Q53=\"Medel\",2,IF(Riskhistorik!Q53=\"Hög\",3,0))),K51)","v":0},{"$f":"IF(Riskhistorik!Q$2<>\"Datum\",IF(Riskhistorik!R53=\"Låg\",1,IF(Riskhistorik!R53=\"Medel\",2,IF(Riskhistorik!R53=\"Hög\",3,0))),L51)","v":0},{"$f":"IF(Riskhistorik!S$2<>\"Datum\",IF(Riskhistorik!S53=\"Låg\",1,IF(Riskhistorik!S53=\"Medel\",2,IF(Riskhistorik!S53=\"Hög\",3,0))),M51)","v":0},{"$f":"IF(Riskhistorik!S$2<>\"Datum\",IF(Riskhistorik!T53=\"Låg\",1,IF(Riskhistorik!T53=\"Medel\",2,IF(Riskhistorik!T53=\"Hög\",3,0))),N51)","v":0},{"$f":"IF(Riskhistorik!U$2<>\"Datum\",IF(Riskhistorik!U53=\"Låg\",1,IF(Riskhistorik!U53=\"Medel\",2,IF(Riskhistorik!U53=\"Hög\",3,0))),O51)","v":0},{"$f":"IF(Riskhistorik!U$2<>\"Datum\",IF(Riskhistorik!V53=\"Låg\",1,IF(Riskhistorik!V53=\"Medel\",2,IF(Riskhistorik!V53=\"Hög\",3,0))),P51)","v":0},{"$f":"IF(Riskhistorik!W$2<>\"Datum\",IF(Riskhistorik!W53=\"Låg\",1,IF(Riskhistorik!W53=\"Medel\",2,IF(Riskhistorik!W53=\"Hög\",3,0))),Q51)","v":0},{"$f":"IF(Riskhistorik!W$2<>\"Datum\",IF(Riskhistorik!X53=\"Låg\",1,IF(Riskhistorik!X53=\"Medel\",2,IF(Riskhistorik!X53=\"Hög\",3,0))),R51)","v":0},{"$f":"IF(Riskhistorik!Y$2<>\"Datum\",IF(Riskhistorik!Y53=\"Låg\",1,IF(Riskhistorik!Y53=\"Medel\",2,IF(Riskhistorik!Y53=\"Hög\",3,0))),S51)","v":0},{"$f":"IF(Riskhistorik!Y$2<>\"Datum\",IF(Riskhistorik!Z53=\"Låg\",1,IF(Riskhistorik!Z53=\"Medel\",2,IF(Riskhistorik!Z53=\"Hög\",3,0))),T51)","v":0},{"$f":"IF(Riskhistorik!AA$2<>\"Datum\",IF(Riskhistorik!AA53=\"Låg\",1,IF(Riskhistorik!AA53=\"Medel\",2,IF(Riskhistorik!AA53=\"Hög\",3,0))),U51)","v":0},{"$f":"IF(Riskhistorik!AA$2<>\"Datum\",IF(Riskhistorik!AB53=\"Låg\",1,IF(Riskhistorik!AB53=\"Medel\",2,IF(Riskhistorik!AB53=\"Hög\",3,0))),V51)","v":0},{"$f":"IF(Riskhistorik!AC$2<>\"Datum\",IF(Riskhistorik!AC53=\"Låg\",1,IF(Riskhistorik!AC53=\"Medel\",2,IF(Riskhistorik!AC53=\"Hög\",3,0))),W51)","v":0},{"$f":"IF(Riskhistorik!AC$2<>\"Datum\",IF(Riskhistorik!AD53=\"Låg\",1,IF(Riskhistorik!AD53=\"Medel\",2,IF(Riskhistorik!AD53=\"Hög\",3,0))),X51)","v":0},{"$f":"IF(Riskhistorik!AE$2<>\"Datum\",IF(Riskhistorik!AE53=\"Låg\",1,IF(Riskhistorik!AE53=\"Medel\",2,IF(Riskhistorik!AE53=\"Hög\",3,0))),Y51)","v":0},{"$f":"IF(Riskhistorik!AE$2<>\"Datum\",IF(Riskhistorik!AF53=\"Låg\",1,IF(Riskhistorik!AF53=\"Medel\",2,IF(Riskhistorik!AF53=\"Hög\",3,0))),Z51)","v":0},{"$f":"IF(Riskhistorik!AG$2<>\"Datum\",IF(Riskhistorik!AG53=\"Låg\",1,IF(Riskhistorik!AG53=\"Medel\",2,IF(Riskhistorik!AG53=\"Hög\",3,0))),AA51)","v":0},{"$f":"IF(Riskhistorik!AG$2<>\"Datum\",IF(Riskhistorik!AH53=\"Låg\",1,IF(Riskhistorik!AH53=\"Medel\",2,IF(Riskhistorik!AH53=\"Hög\",3,0))),AB51)","v":0},{"$f":"IF(Riskhistorik!AI$2<>\"Datum\",IF(Riskhistorik!AI53=\"Låg\",1,IF(Riskhistorik!AI53=\"Medel\",2,IF(Riskhistorik!AI53=\"Hög\",3,0))),AC51)","v":0},{"$f":"IF(Riskhistorik!AI$2<>\"Datum\",IF(Riskhistorik!AJ53=\"Låg\",1,IF(Riskhistorik!AJ53=\"Medel\",2,IF(Riskhistorik!AJ53=\"Hög\",3,0))),AD51)","v":0},{"$f":"IF(Riskhistorik!AK$2<>\"Datum\",IF(Riskhistorik!AK53=\"Låg\",1,IF(Riskhistorik!AK53=\"Medel\",2,IF(Riskhistorik!AK53=\"Hög\",3,0))),AE51)","v":0},{"$f":"IF(Riskhistorik!AK$2<>\"Datum\",IF(Riskhistorik!AL53=\"Låg\",1,IF(Riskhistorik!AL53=\"Medel\",2,IF(Riskhistorik!AL53=\"Hög\",3,0))),AF51)","v":0},{"$f":"IF(Riskhistorik!AM$2<>\"Datum\",IF(Riskhistorik!AM53=\"Låg\",1,IF(Riskhistorik!AM53=\"Medel\",2,IF(Riskhistorik!AM53=\"Hög\",3,0))),AG51)","v":0},{"$f":"IF(Riskhistorik!AM$2<>\"Datum\",IF(Riskhistorik!AN53=\"Låg\",1,IF(Riskhistorik!AN53=\"Medel\",2,IF(Riskhistorik!AN53=\"Hög\",3,0))),AH51)","v":0},{"$f":"IF(Riskhistorik!AO$2<>\"Datum\",IF(Riskhistorik!AO53=\"Låg\",1,IF(Riskhistorik!AO53=\"Medel\",2,IF(Riskhistorik!AO53=\"Hög\",3,0))),AI51)","v":0},{"$f":"IF(Riskhistorik!AO$2<>\"Datum\",IF(Riskhistorik!AP53=\"Låg\",1,IF(Riskhistorik!AP53=\"Medel\",2,IF(Riskhistorik!AP53=\"Hög\",3,0))),AJ51)","v":0},{"$f":"IF(Riskhistorik!AQ$2<>\"Datum\",IF(Riskhistorik!AQ53=\"Låg\",1,IF(Riskhistorik!AQ53=\"Medel\",2,IF(Riskhistorik!AQ53=\"Hög\",3,0))),AK51)","v":0},{"$f":"IF(Riskhistorik!AQ$2<>\"Datum\",IF(Riskhistorik!AR53=\"Låg\",1,IF(Riskhistorik!AR53=\"Medel\",2,IF(Riskhistorik!AR53=\"Hög\",3,0))),AL51)","v":0},0,0,0,0,0,0,0,0,0,0,0,0,0,0,0,0,0,0,0,0]
[{"$f":"IF(Riskhistorik!E54<>\"\",IF(Riskhistorik!E54=\"Låg\",1,IF(Riskhistorik!E54=\"Medel\",2,3)),0)","v":0},{"$f":"IF(Riskhistorik!F54<>\"\",IF(Riskhistorik!F54=\"Låg\",1,IF(Riskhistorik!F54=\"Medel\",2,3)),0)","v":0},{"$f":"IF(Riskhistorik!G$2<>\"Datum\",IF(Riskhistorik!G54=\"Låg\",1,IF(Riskhistorik!G54=\"Medel\",2,IF(Riskhistorik!G54=\"Hög\",3,0))),A52)","v":0},{"$f":"IF(Riskhistorik!G$2<>\"Datum\",IF(Riskhistorik!H54=\"Låg\",1,IF(Riskhistorik!H54=\"Medel\",2,IF(Riskhistorik!H54=\"Hög\",3,0))),B52)","v":0},{"$f":"IF(Riskhistorik!I$2<>\"Datum\",IF(Riskhistorik!I54=\"Låg\",1,IF(Riskhistorik!I54=\"Medel\",2,IF(Riskhistorik!I54=\"Hög\",3,0))),C52)","v":0},{"$f":"IF(Riskhistorik!I$2<>\"Datum\",IF(Riskhistorik!J54=\"Låg\",1,IF(Riskhistorik!J54=\"Medel\",2,IF(Riskhistorik!J54=\"Hög\",3,0))),D52)","v":0},{"$f":"IF(Riskhistorik!K$2<>\"Datum\",IF(Riskhistorik!K54=\"Låg\",1,IF(Riskhistorik!K54=\"Medel\",2,IF(Riskhistorik!K54=\"Hög\",3,0))),E52)","v":0},{"$f":"IF(Riskhistorik!K$2<>\"Datum\",IF(Riskhistorik!L54=\"Låg\",1,IF(Riskhistorik!L54=\"Medel\",2,IF(Riskhistorik!L54=\"Hög\",3,0))),F52)","v":0},{"$f":"IF(Riskhistorik!M$2<>\"Datum\",IF(Riskhistorik!M54=\"Låg\",1,IF(Riskhistorik!M54=\"Medel\",2,IF(Riskhistorik!M54=\"Hög\",3,0))),G52)","v":0},{"$f":"IF(Riskhistorik!M$2<>\"Datum\",IF(Riskhistorik!N54=\"Låg\",1,IF(Riskhistorik!N54=\"Medel\",2,IF(Riskhistorik!N54=\"Hög\",3,0))),H52)","v":0},{"$f":"IF(Riskhistorik!O$2<>\"Datum\",IF(Riskhistorik!O54=\"Låg\",1,IF(Riskhistorik!O54=\"Medel\",2,IF(Riskhistorik!O54=\"Hög\",3,0))),I52)","v":0},{"$f":"IF(Riskhistorik!O$2<>\"Datum\",IF(Riskhistorik!P54=\"Låg\",1,IF(Riskhistorik!P54=\"Medel\",2,IF(Riskhistorik!P54=\"Hög\",3,0))),J52)","v":0},{"$f":"IF(Riskhistorik!Q$2<>\"Datum\",IF(Riskhistorik!Q54=\"Låg\",1,IF(Riskhistorik!Q54=\"Medel\",2,IF(Riskhistorik!Q54=\"Hög\",3,0))),K52)","v":0},{"$f":"IF(Riskhistorik!Q$2<>\"Datum\",IF(Riskhistorik!R54=\"Låg\",1,IF(Riskhistorik!R54=\"Medel\",2,IF(Riskhistorik!R54=\"Hög\",3,0))),L52)","v":0},{"$f":"IF(Riskhistorik!S$2<>\"Datum\",IF(Riskhistorik!S54=\"Låg\",1,IF(Riskhistorik!S54=\"Medel\",2,IF(Riskhistorik!S54=\"Hög\",3,0))),M52)","v":0},{"$f":"IF(Riskhistorik!S$2<>\"Datum\",IF(Riskhistorik!T54=\"Låg\",1,IF(Riskhistorik!T54=\"Medel\",2,IF(Riskhistorik!T54=\"Hög\",3,0))),N52)","v":0},{"$f":"IF(Riskhistorik!U$2<>\"Datum\",IF(Riskhistorik!U54=\"Låg\",1,IF(Riskhistorik!U54=\"Medel\",2,IF(Riskhistorik!U54=\"Hög\",3,0))),O52)","v":0},{"$f":"IF(Riskhistorik!U$2<>\"Datum\",IF(Riskhistorik!V54=\"Låg\",1,IF(Riskhistorik!V54=\"Medel\",2,IF(Riskhistorik!V54=\"Hög\",3,0))),P52)","v":0},{"$f":"IF(Riskhistorik!W$2<>\"Datum\",IF(Riskhistorik!W54=\"Låg\",1,IF(Riskhistorik!W54=\"Medel\",2,IF(Riskhistorik!W54=\"Hög\",3,0))),Q52)","v":0},{"$f":"IF(Riskhistorik!W$2<>\"Datum\",IF(Riskhistorik!X54=\"Låg\",1,IF(Riskhistorik!X54=\"Medel\",2,IF(Riskhistorik!X54=\"Hög\",3,0))),R52)","v":0},{"$f":"IF(Riskhistorik!Y$2<>\"Datum\",IF(Riskhistorik!Y54=\"Låg\",1,IF(Riskhistorik!Y54=\"Medel\",2,IF(Riskhistorik!Y54=\"Hög\",3,0))),S52)","v":0},{"$f":"IF(Riskhistorik!Y$2<>\"Datum\",IF(Riskhistorik!Z54=\"Låg\",1,IF(Riskhistorik!Z54=\"Medel\",2,IF(Riskhistorik!Z54=\"Hög\",3,0))),T52)","v":0},{"$f":"IF(Riskhistorik!AA$2<>\"Datum\",IF(Riskhistorik!AA54=\"Låg\",1,IF(Riskhistorik!AA54=\"Medel\",2,IF(Riskhistorik!AA54=\"Hög\",3,0))),U52)","v":0},{"$f":"IF(Riskhistorik!AA$2<>\"Datum\",IF(Riskhistorik!AB54=\"Låg\",1,IF(Riskhistorik!AB54=\"Medel\",2,IF(Riskhistorik!AB54=\"Hög\",3,0))),V52)","v":0},{"$f":"IF(Riskhistorik!AC$2<>\"Datum\",IF(Riskhistorik!AC54=\"Låg\",1,IF(Riskhistorik!AC54=\"Medel\",2,IF(Riskhistorik!AC54=\"Hög\",3,0))),W52)","v":0},{"$f":"IF(Riskhistorik!AC$2<>\"Datum\",IF(Riskhistorik!AD54=\"Låg\",1,IF(Riskhistorik!AD54=\"Medel\",2,IF(Riskhistorik!AD54=\"Hög\",3,0))),X52)","v":0},{"$f":"IF(Riskhistorik!AE$2<>\"Datum\",IF(Riskhistorik!AE54=\"Låg\",1,IF(Riskhistorik!AE54=\"Medel\",2,IF(Riskhistorik!AE54=\"Hög\",3,0))),Y52)","v":0},{"$f":"IF(Riskhistorik!AE$2<>\"Datum\",IF(Riskhistorik!AF54=\"Låg\",1,IF(Riskhistorik!AF54=\"Medel\",2,IF(Riskhistorik!AF54=\"Hög\",3,0))),Z52)","v":0},{"$f":"IF(Riskhistorik!AG$2<>\"Datum\",IF(Riskhistorik!AG54=\"Låg\",1,IF(Riskhistorik!AG54=\"Medel\",2,IF(Riskhistorik!AG54=\"Hög\",3,0))),AA52)","v":0},{"$f":"IF(Riskhistorik!AG$2<>\"Datum\",IF(Riskhistorik!AH54=\"Låg\",1,IF(Riskhistorik!AH54=\"Medel\",2,IF(Riskhistorik!AH54=\"Hög\",3,0))),AB52)","v":0},{"$f":"IF(Riskhistorik!AI$2<>\"Datum\",IF(Riskhistorik!AI54=\"Låg\",1,IF(Riskhistorik!AI54=\"Medel\",2,IF(Riskhistorik!AI54=\"Hög\",3,0))),AC52)","v":0},{"$f":"IF(Riskhistorik!AI$2<>\"Datum\",IF(Riskhistorik!AJ54=\"Låg\",1,IF(Riskhistorik!AJ54=\"Medel\",2,IF(Riskhistorik!AJ54=\"Hög\",3,0))),AD52)","v":0},{"$f":"IF(Riskhistorik!AK$2<>\"Datum\",IF(Riskhistorik!AK54=\"Låg\",1,IF(Riskhistorik!AK54=\"Medel\",2,IF(Riskhistorik!AK54=\"Hög\",3,0))),AE52)","v":0},{"$f":"IF(Riskhistorik!AK$2<>\"Datum\",IF(Riskhistorik!AL54=\"Låg\",1,IF(Riskhistorik!AL54=\"Medel\",2,IF(Riskhistorik!AL54=\"Hög\",3,0))),AF52)","v":0},{"$f":"IF(Riskhistorik!AM$2<>\"Datum\",IF(Riskhistorik!AM54=\"Låg\",1,IF(Riskhistorik!AM54=\"Medel\",2,IF(Riskhistorik!AM54=\"Hög\",3,0))),AG52)","v":0},{"$f":"IF(Riskhistorik!AM$2<>\"Datum\",IF(Riskhistorik!AN54=\"Låg\",1,IF(Riskhistorik!AN54=\"Medel\",2,IF(Riskhistorik!AN54=\"Hög\",3,0))),AH52)","v":0},{"$f":"IF(Riskhistorik!AO$2<>\"Datum\",IF(Riskhistorik!AO54=\"Låg\",1,IF(Riskhistorik!AO54=\"Medel\",2,IF(Riskhistorik!AO54=\"Hög\",3,0))),AI52)","v":0},{"$f":"IF(Riskhistorik!AO$2<>\"Datum\",IF(Riskhistorik!AP54=\"Låg\",1,IF(Riskhistorik!AP54=\"Medel\",2,IF(Riskhistorik!AP54=\"Hög\",3,0))),AJ52)","v":0},{"$f":"IF(Riskhistorik!AQ$2<>\"Datum\",IF(Riskhistorik!AQ54=\"Låg\",1,IF(Riskhistorik!AQ54=\"Medel\",2,IF(Riskhistorik!AQ54=\"Hög\",3,0))),AK52)","v":0},{"$f":"IF(Riskhistorik!AQ$2<>\"Datum\",IF(Riskhistorik!AR54=\"Låg\",1,IF(Riskhistorik!AR54=\"Medel\",2,IF(Riskhistorik!AR54=\"Hög\",3,0))),AL52)","v":0},0,0,0,0,0,0,0,0,0,0,0,0,0,0,0,0,0,0,0,0]
[{"$f":"IF(Riskhistorik!E55<>\"\",IF(Riskhistorik!E55=\"Låg\",1,IF(Riskhistorik!E55=\"Medel\",2,3)),0)","v":0},{"$f":"IF(Riskhistorik!F55<>\"\",IF(Riskhistorik!F55=\"Låg\",1,IF(Riskhistorik!F55=\"Medel\",2,3)),0)","v":0},{"$f":"IF(Riskhistorik!G$2<>\"Datum\",IF(Riskhistorik!G55=\"Låg\",1,IF(Riskhistorik!G55=\"Medel\",2,IF(Riskhistorik!G55=\"Hög\",3,0))),A53)","v":0},{"$f":"IF(Riskhistorik!G$2<>\"Datum\",IF(Riskhistorik!H55=\"Låg\",1,IF(Riskhistorik!H55=\"Medel\",2,IF(Riskhistorik!H55=\"Hög\",3,0))),B53)","v":0},{"$f":"IF(Riskhistorik!I$2<>\"Datum\",IF(Riskhistorik!I55=\"Låg\",1,IF(Riskhistorik!I55=\"Medel\",2,IF(Riskhistorik!I55=\"Hög\",3,0))),C53)","v":0},{"$f":"IF(Riskhistorik!I$2<>\"Datum\",IF(Riskhistorik!J55=\"Låg\",1,IF(Riskhistorik!J55=\"Medel\",2,IF(Riskhistorik!J55=\"Hög\",3,0))),D53)","v":0},{"$f":"IF(Riskhistorik!K$2<>\"Datum\",IF(Riskhistorik!K55=\"Låg\",1,IF(Riskhistorik!K55=\"Medel\",2,IF(Riskhistorik!K55=\"Hög\",3,0))),E53)","v":0},{"$f":"IF(Riskhistorik!K$2<>\"Datum\",IF(Riskhistorik!L55=\"Låg\",1,IF(Riskhistorik!L55=\"Medel\",2,IF(Riskhistorik!L55=\"Hög\",3,0))),F53)","v":0},{"$f":"IF(Riskhistorik!M$2<>\"Datum\",IF(Riskhistorik!M55=\"Låg\",1,IF(Riskhistorik!M55=\"Medel\",2,IF(Riskhistorik!M55=\"Hög\",3,0))),G53)","v":0},{"$f":"IF(Riskhistorik!M$2<>\"Datum\",IF(Riskhistorik!N55=\"Låg\",1,IF(Riskhistorik!N55=\"Medel\",2,IF(Riskhistorik!N55=\"Hög\",3,0))),H53)","v":0},{"$f":"IF(Riskhistorik!O$2<>\"Datum\",IF(Riskhistorik!O55=\"Låg\",1,IF(Riskhistorik!O55=\"Medel\",2,IF(Riskhistorik!O55=\"Hög\",3,0))),I53)","v":0},{"$f":"IF(Riskhistorik!O$2<>\"Datum\",IF(Riskhistorik!P55=\"Låg\",1,IF(Riskhistorik!P55=\"Medel\",2,IF(Riskhistorik!P55=\"Hög\",3,0))),J53)","v":0},{"$f":"IF(Riskhistorik!Q$2<>\"Datum\",IF(Riskhistorik!Q55=\"Låg\",1,IF(Riskhistorik!Q55=\"Medel\",2,IF(Riskhistorik!Q55=\"Hög\",3,0))),K53)","v":0},{"$f":"IF(Riskhistorik!Q$2<>\"Datum\",IF(Riskhistorik!R55=\"Låg\",1,IF(Riskhistorik!R55=\"Medel\",2,IF(Riskhistorik!R55=\"Hög\",3,0))),L53)","v":0},{"$f":"IF(Riskhistorik!S$2<>\"Datum\",IF(Riskhistorik!S55=\"Låg\",1,IF(Riskhistorik!S55=\"Medel\",2,IF(Riskhistorik!S55=\"Hög\",3,0))),M53)","v":0},{"$f":"IF(Riskhistorik!S$2<>\"Datum\",IF(Riskhistorik!T55=\"Låg\",1,IF(Riskhistorik!T55=\"Medel\",2,IF(Riskhistorik!T55=\"Hög\",3,0))),N53)","v":0},{"$f":"IF(Riskhistorik!U$2<>\"Datum\",IF(Riskhistorik!U55=\"Låg\",1,IF(Riskhistorik!U55=\"Medel\",2,IF(Riskhistorik!U55=\"Hög\",3,0))),O53)","v":0},{"$f":"IF(Riskhistorik!U$2<>\"Datum\",IF(Riskhistorik!V55=\"Låg\",1,IF(Riskhistorik!V55=\"Medel\",2,IF(Riskhistorik!V55=\"Hög\",3,0))),P53)","v":0},{"$f":"IF(Riskhistorik!W$2<>\"Datum\",IF(Riskhistorik!W55=\"Låg\",1,IF(Riskhistorik!W55=\"Medel\",2,IF(Riskhistorik!W55=\"Hög\",3,0))),Q53)","v":0},{"$f":"IF(Riskhistorik!W$2<>\"Datum\",IF(Riskhistorik!X55=\"Låg\",1,IF(Riskhistorik!X55=\"Medel\",2,IF(Riskhistorik!X55=\"Hög\",3,0))),R53)","v":0},{"$f":"IF(Riskhistorik!Y$2<>\"Datum\",IF(Riskhistorik!Y55=\"Låg\",1,IF(Riskhistorik!Y55=\"Medel\",2,IF(Riskhistorik!Y55=\"Hög\",3,0))),S53)","v":0},{"$f":"IF(Riskhistorik!Y$2<>\"Datum\",IF(Riskhistorik!Z55=\"Låg\",1,IF(Riskhistorik!Z55=\"Medel\",2,IF(Riskhistorik!Z55=\"Hög\",3,0))),T53)","v":0},{"$f":"IF(Riskhistorik!AA$2<>\"Datum\",IF(Riskhistorik!AA55=\"Låg\",1,IF(Riskhistorik!AA55=\"Medel\",2,IF(Riskhistorik!AA55=\"Hög\",3,0))),U53)","v":0},{"$f":"IF(Riskhistorik!AA$2<>\"Datum\",IF(Riskhistorik!AB55=\"Låg\",1,IF(Riskhistorik!AB55=\"Medel\",2,IF(Riskhistorik!AB55=\"Hög\",3,0))),V53)","v":0},{"$f":"IF(Riskhistorik!AC$2<>\"Datum\",IF(Riskhistorik!AC55=\"Låg\",1,IF(Riskhistorik!AC55=\"Medel\",2,IF(Riskhistorik!AC55=\"Hög\",3,0))),W53)","v":0},{"$f":"IF(Riskhistorik!AC$2<>\"Datum\",IF(Riskhistorik!AD55=\"Låg\",1,IF(Riskhistorik!AD55=\"Medel\",2,IF(Riskhistorik!AD55=\"Hög\",3,0))),X53)","v":0},{"$f":"IF(Riskhistorik!AE$2<>\"Datum\",IF(Riskhistorik!AE55=\"Låg\",1,IF(Riskhistorik!AE55=\"Medel\",2,IF(Riskhistorik!AE55=\"Hög\",3,0))),Y53)","v":0},{"$f":"IF(Riskhistorik!AE$2<>\"Datum\",IF(Riskhistorik!AF55=\"Låg\",1,IF(Riskhistorik!AF55=\"Medel\",2,IF(Riskhistorik!AF55=\"Hög\",3,0))),Z53)","v":0},{"$f":"IF(Riskhistorik!AG$2<>\"Datum\",IF(Riskhistorik!AG55=\"Låg\",1,IF(Riskhistorik!AG55=\"Medel\",2,IF(Riskhistorik!AG55=\"Hög\",3,0))),AA53)","v":0},{"$f":"IF(Riskhistorik!AG$2<>\"Datum\",IF(Riskhistorik!AH55=\"Låg\",1,IF(Riskhistorik!AH55=\"Medel\",2,IF(Riskhistorik!AH55=\"Hög\",3,0))),AB53)","v":0},{"$f":"IF(Riskhistorik!AI$2<>\"Datum\",IF(Riskhistorik!AI55=\"Låg\",1,IF(Riskhistorik!AI55=\"Medel\",2,IF(Riskhistorik!AI55=\"Hög\",3,0))),AC53)","v":0},{"$f":"IF(Riskhistorik!AI$2<>\"Datum\",IF(Riskhistorik!AJ55=\"Låg\",1,IF(Riskhistorik!AJ55=\"Medel\",2,IF(Riskhistorik!AJ55=\"Hög\",3,0))),AD53)","v":0},{"$f":"IF(Riskhistorik!AK$2<>\"Datum\",IF(Riskhistorik!AK55=\"Låg\",1,IF(Riskhistorik!AK55=\"Medel\",2,IF(Riskhistorik!AK55=\"Hög\",3,0))),AE53)","v":0},{"$f":"IF(Riskhistorik!AK$2<>\"Datum\",IF(Riskhistorik!AL55=\"Låg\",1,IF(Riskhistorik!AL55=\"Medel\",2,IF(Riskhistorik!AL55=\"Hög\",3,0))),AF53)","v":0},{"$f":"IF(Riskhistorik!AM$2<>\"Datum\",IF(Riskhistorik!AM55=\"Låg\",1,IF(Riskhistorik!AM55=\"Medel\",2,IF(Riskhistorik!AM55=\"Hög\",3,0))),AG53)","v":0},{"$f":"IF(Riskhistorik!AM$2<>\"Datum\",IF(Riskhistorik!AN55=\"Låg\",1,IF(Riskhistorik!AN55=\"Medel\",2,IF(Riskhistorik!AN55=\"Hög\",3,0))),AH53)","v":0},{"$f":"IF(Riskhistorik!AO$2<>\"Datum\",IF(Riskhistorik!AO55=\"Låg\",1,IF(Riskhistorik!AO55=\"Medel\",2,IF(Riskhistorik!AO55=\"Hög\",3,0))),AI53)","v":0},{"$f":"IF(Riskhistorik!AO$2<>\"Datum\",IF(Riskhistorik!AP55=\"Låg\",1,IF(Riskhistorik!AP55=\"Medel\",2,IF(Riskhistorik!AP55=\"Hög\",3,0))),AJ53)","v":0},{"$f":"IF(Riskhistorik!AQ$2<>\"Datum\",IF(Riskhistorik!AQ55=\"Låg\",1,IF(Riskhistorik!AQ55=\"Medel\",2,IF(Riskhistorik!AQ55=\"Hög\",3,0))),AK53)","v":0},{"$f":"IF(Riskhistorik!AQ$2<>\"Datum\",IF(Riskhistorik!AR55=\"Låg\",1,IF(Riskhistorik!AR55=\"Medel\",2,IF(Riskhistorik!AR55=\"Hög\",3,0))),AL53)","v":0},0,0,0,0,0,0,0,0,0,0,0,0,0,0,0,0,0,0,0,0]
[{"$f":"IF(Riskhistorik!E56<>\"\",IF(Riskhistorik!E56=\"Låg\",1,IF(Riskhistorik!E56=\"Medel\",2,3)),0)","v":0},{"$f":"IF(Riskhistorik!F56<>\"\",IF(Riskhistorik!F56=\"Låg\",1,IF(Riskhistorik!F56=\"Medel\",2,3)),0)","v":0},{"$f":"IF(Riskhistorik!G$2<>\"Datum\",IF(Riskhistorik!G56=\"Låg\",1,IF(Riskhistorik!G56=\"Medel\",2,IF(Riskhistorik!G56=\"Hög\",3,0))),A54)","v":0},{"$f":"IF(Riskhistorik!G$2<>\"Datum\",IF(Riskhistorik!H56=\"Låg\",1,IF(Riskhistorik!H56=\"Medel\",2,IF(Riskhistorik!H56=\"Hög\",3,0))),B54)","v":0},{"$f":"IF(Riskhistorik!I$2<>\"Datum\",IF(Riskhistorik!I56=\"Låg\",1,IF(Riskhistorik!I56=\"Medel\",2,IF(Riskhistorik!I56=\"Hög\",3,0))),C54)","v":0},{"$f":"IF(Riskhistorik!I$2<>\"Datum\",IF(Riskhistorik!J56=\"Låg\",1,IF(Riskhistorik!J56=\"Medel\",2,IF(Riskhistorik!J56=\"Hög\",3,0))),D54)","v":0},{"$f":"IF(Riskhistorik!K$2<>\"Datum\",IF(Riskhistorik!K56=\"Låg\",1,IF(Riskhistorik!K56=\"Medel\",2,IF(Riskhistorik!K56=\"Hög\",3,0))),E54)","v":0},{"$f":"IF(Riskhistorik!K$2<>\"Datum\",IF(Riskhistorik!L56=\"Låg\",1,IF(Riskhistorik!L56=\"Medel\",2,IF(Riskhistorik!L56=\"Hög\",3,0))),F54)","v":0},{"$f":"IF(Riskhistorik!M$2<>\"Datum\",IF(Riskhistorik!M56=\"Låg\",1,IF(Riskhistorik!M56=\"Medel\",2,IF(Riskhistorik!M56=\"Hög\",3,0))),G54)","v":0},{"$f":"IF(Riskhistorik!M$2<>\"Datum\",IF(Riskhistorik!N56=\"Låg\",1,IF(Riskhistorik!N56=\"Medel\",2,IF(Riskhistorik!N56=\"Hög\",3,0))),H54)","v":0},{"$f":"IF(Riskhistorik!O$2<>\"Datum\",IF(Riskhistorik!O56=\"Låg\",1,IF(Riskhistorik!O56=\"Medel\",2,IF(Riskhistorik!O56=\"Hög\",3,0))),I54)","v":0},{"$f":"IF(Riskhistorik!O$2<>\"Datum\",IF(Riskhistorik!P56=\"Låg\",1,IF(Riskhistorik!P56=\"Medel\",2,IF(Riskhistorik!P56=\"Hög\",3,0))),J54)","v":0},{"$f":"IF(Riskhistorik!Q$2<>\"Datum\",IF(Riskhistorik!Q56=\"Låg\",1,IF(Riskhistorik!Q56=\"Medel\",2,IF(Riskhistorik!Q56=\"Hög\",3,0))),K54)","v":0},{"$f":"IF(Riskhistorik!Q$2<>\"Datum\",IF(Riskhistorik!R56=\"Låg\",1,IF(Riskhistorik!R56=\"Medel\",2,IF(Riskhistorik!R56=\"Hög\",3,0))),L54)","v":0},{"$f":"IF(Riskhistorik!S$2<>\"Datum\",IF(Riskhistorik!S56=\"Låg\",1,IF(Riskhistorik!S56=\"Medel\",2,IF(Riskhistorik!S56=\"Hög\",3,0))),M54)","v":0},{"$f":"IF(Riskhistorik!S$2<>\"Datum\",IF(Riskhistorik!T56=\"Låg\",1,IF(Riskhistorik!T56=\"Medel\",2,IF(Riskhistorik!T56=\"Hög\",3,0))),N54)","v":0},{"$f":"IF(Riskhistorik!U$2<>\"Datum\",IF(Riskhistorik!U56=\"Låg\",1,IF(Riskhistorik!U56=\"Medel\",2,IF(Riskhistorik!U56=\"Hög\",3,0))),O54)","v":0},{"$f":"IF(Riskhistorik!U$2<>\"Datum\",IF(Riskhistorik!V56=\"Låg\",1,IF(Riskhistorik!V56=\"Medel\",2,IF(Riskhistorik!V56=\"Hög\",3,0))),P54)","v":0},{"$f":"IF(Riskhistorik!W$2<>\"Datum\",IF(Riskhistorik!W56=\"Låg\",1,IF(Riskhistorik!W56=\"Medel\",2,IF(Riskhistorik!W56=\"Hög\",3,0))),Q54)","v":0},{"$f":"IF(Riskhistorik!W$2<>\"Datum\",IF(Riskhistorik!X56=\"Låg\",1,IF(Riskhistorik!X56=\"Medel\",2,IF(Riskhistorik!X56=\"Hög\",3,0))),R54)","v":0},{"$f":"IF(Riskhistorik!Y$2<>\"Datum\",IF(Riskhistorik!Y56=\"Låg\",1,IF(Riskhistorik!Y56=\"Medel\",2,IF(Riskhistorik!Y56=\"Hög\",3,0))),S54)","v":0},{"$f":"IF(Riskhistorik!Y$2<>\"Datum\",IF(Riskhistorik!Z56=\"Låg\",1,IF(Riskhistorik!Z56=\"Medel\",2,IF(Riskhistorik!Z56=\"Hög\",3,0))),T54)","v":0},{"$f":"IF(Riskhistorik!AA$2<>\"Datum\",IF(Riskhistorik!AA56=\"Låg\",1,IF(Riskhistorik!AA56=\"Medel\",2,IF(Riskhistorik!AA56=\"Hög\",3,0))),U54)","v":0},{"$f":"IF(Riskhistorik!AA$2<>\"Datum\",IF(Riskhistorik!AB56=\"Låg\",1,IF(Riskhistorik!AB56=\"Medel\",2,IF(Riskhistorik!AB56=\"Hög\",3,0))),V54)","v":0},{"$f":"IF(Riskhistorik!AC$2<>\"Datum\",IF(Riskhistorik!AC56=\"Låg\",1,IF(Riskhistorik!AC56=\"Medel\",2,IF(Riskhistorik!AC56=\"Hög\",3,0))),W54)","v":0},{"$f":"IF(Riskhistorik!AC$2<>\"Datum\",IF(Riskhistorik!AD56=\"Låg\",1,IF(Riskhistorik!AD56=\"Medel\",2,IF(Riskhistorik!AD56=\"Hög\",3,0))),X54)","v":0},{"$f":"IF(Riskhistorik!AE$2<>\"Datum\",IF(Riskhistorik!AE56=\"Låg\",1,IF(Riskhistorik!AE56=\"Medel\",2,IF(Riskhistorik!AE56=\"Hög\",3,0))),Y54)","v":0},{"$f":"IF(Riskhistorik!AE$2<>\"Datum\",IF(Riskhistorik!AF56=\"Låg\",1,IF(Riskhistorik!AF56=\"Medel\",2,IF(Riskhistorik!AF56=\"Hög\",3,0))),Z54)","v":0},{"$f":"IF(Riskhistorik!AG$2<>\"Datum\",IF(Riskhistorik!AG56=\"Låg\",1,IF(Riskhistorik!AG56=\"Medel\",2,IF(Riskhistorik!AG56=\"Hög\",3,0))),AA54)","v":0},{"$f":"IF(Riskhistorik!AG$2<>\"Datum\",IF(Riskhistorik!AH56=\"Låg\",1,IF(Riskhistorik!AH56=\"Medel\",2,IF(Riskhistorik!AH56=\"Hög\",3,0))),AB54)","v":0},{"$f":"IF(Riskhistorik!AI$2<>\"Datum\",IF(Riskhistorik!AI56=\"Låg\",1,IF(Riskhistorik!AI56=\"Medel\",2,IF(Riskhistorik!AI56=\"Hög\",3,0))),AC54)","v":0},{"$f":"IF(Riskhistorik!AI$2<>\"Datum\",IF(Riskhistorik!AJ56=\"Låg\",1,IF(Riskhistorik!AJ56=\"Medel\",2,IF(Riskhistorik!AJ56=\"Hög\",3,0))),AD54)","v":0},{"$f":"IF(Riskhistorik!AK$2<>\"Datum\",IF(Riskhistorik!AK56=\"Låg\",1,IF(Riskhistorik!AK56=\"Medel\",2,IF(Riskhistorik!AK56=\"Hög\",3,0))),AE54)","v":0},{"$f":"IF(Riskhistorik!AK$2<>\"Datum\",IF(Riskhistorik!AL56=\"Låg\",1,IF(Riskhistorik!AL56=\"Medel\",2,IF(Riskhistorik!AL56=\"Hög\",3,0))),AF54)","v":0},{"$f":"IF(Riskhistorik!AM$2<>\"Datum\",IF(Riskhistorik!AM56=\"Låg\",1,IF(Riskhistorik!AM56=\"Medel\",2,IF(Riskhistorik!AM56=\"Hög\",3,0))),AG54)","v":0},{"$f":"IF(Riskhistorik!AM$2<>\"Datum\",IF(Riskhistorik!AN56=\"Låg\",1,IF(Riskhistorik!AN56=\"Medel\",2,IF(Riskhistorik!AN56=\"Hög\",3,0))),AH54)","v":0},{"$f":"IF(Riskhistorik!AO$2<>\"Datum\",IF(Riskhistorik!AO56=\"Låg\",1,IF(Riskhistorik!AO56=\"Medel\",2,IF(Riskhistorik!AO56=\"Hög\",3,0))),AI54)","v":0},{"$f":"IF(Riskhistorik!AO$2<>\"Datum\",IF(Riskhistorik!AP56=\"Låg\",1,IF(Riskhistorik!AP56=\"Medel\",2,IF(Riskhistorik!AP56=\"Hög\",3,0))),AJ54)","v":0},{"$f":"IF(Riskhistorik!AQ$2<>\"Datum\",IF(Riskhistorik!AQ56=\"Låg\",1,IF(Riskhistorik!AQ56=\"Medel\",2,IF(Riskhistorik!AQ56=\"Hög\",3,0))),AK54)","v":0},{"$f":"IF(Riskhistorik!AQ$2<>\"Datum\",IF(Riskhistorik!AR56=\"Låg\",1,IF(Riskhistorik!AR56=\"Medel\",2,IF(Riskhistorik!AR56=\"Hög\",3,0))),AL54)","v":0},0,0,0,0,0,0,0,0,0,0,0,0,0,0,0,0,0,0,0,0]
[{"$f":"IF(Riskhistorik!E57<>\"\",IF(Riskhistorik!E57=\"Låg\",1,IF(Riskhistorik!E57=\"Medel\",2,3)),0)","v":0},{"$f":"IF(Riskhistorik!F57<>\"\",IF(Riskhistorik!F57=\"Låg\",1,IF(Riskhistorik!F57=\"Medel\",2,3)),0)","v":0},{"$f":"IF(Riskhistorik!G$2<>\"Datum\",IF(Riskhistorik!G57=\"Låg\",1,IF(Riskhistorik!G57=\"Medel\",2,IF(Riskhistorik!G57=\"Hög\",3,0))),A55)","v":0},{"$f":"IF(Riskhistorik!G$2<>\"Datum\",IF(Riskhistorik!H57=\"Låg\",1,IF(Riskhistorik!H57=\"Medel\",2,IF(Riskhistorik!H57=\"Hög\",3,0))),B55)","v":0},{"$f":"IF(Riskhistorik!I$2<>\"Datum\",IF(Riskhistorik!I57=\"Låg\",1,IF(Riskhistorik!I57=\"Medel\",2,IF(Riskhistorik!I57=\"Hög\",3,0))),C55)","v":0},{"$f":"IF(Riskhistorik!I$2<>\"Datum\",IF(Riskhistorik!J57=\"Låg\",1,IF(Riskhistorik!J57=\"Medel\",2,IF(Riskhistorik!J57=\"Hög\",3,0))),D55)","v":0},{"$f":"IF(Riskhistorik!K$2<>\"Datum\",IF(Riskhistorik!K57=\"Låg\",1,IF(Riskhistorik!K57=\"Medel\",2,IF(Riskhistorik!K57=\"Hög\",3,0))),E55)","v":0},{"$f":"IF(Riskhistorik!K$2<>\"Datum\",IF(Riskhistorik!L57=\"Låg\",1,IF(Riskhistorik!L57=\"Medel\",2,IF(Riskhistorik!L57=\"Hög\",3,0))),F55)","v":0},{"$f":"IF(Riskhistorik!M$2<>\"Datum\",IF(Riskhistorik!M57=\"Låg\",1,IF(Riskhistorik!M57=\"Medel\",2,IF(Riskhistorik!M57=\"Hög\",3,0))),G55)","v":0},{"$f":"IF(Riskhistorik!M$2<>\"Datum\",IF(Riskhistorik!N57=\"Låg\",1,IF(Riskhistorik!N57=\"Medel\",2,IF(Riskhistorik!N57=\"Hög\",3,0))),H55)","v":0},{"$f":"IF(Riskhistorik!O$2<>\"Datum\",IF(Riskhistorik!O57=\"Låg\",1,IF(Riskhistorik!O57=\"Medel\",2,IF(Riskhistorik!O57=\"Hög\",3,0))),I55)","v":0},{"$f":"IF(Riskhistorik!O$2<>\"Datum\",IF(Riskhistorik!P57=\"Låg\",1,IF(Riskhistorik!P57=\"Medel\",2,IF(Riskhistorik!P57=\"Hög\",3,0))),J55)","v":0},{"$f":"IF(Riskhistorik!Q$2<>\"Datum\",IF(Riskhistorik!Q57=\"Låg\",1,IF(Riskhistorik!Q57=\"Medel\",2,IF(Riskhistorik!Q57=\"Hög\",3,0))),K55)","v":0},{"$f":"IF(Riskhistorik!Q$2<>\"Datum\",IF(Riskhistorik!R57=\"Låg\",1,IF(Riskhistorik!R57=\"Medel\",2,IF(Riskhistorik!R57=\"Hög\",3,0))),L55)","v":0},{"$f":"IF(Riskhistorik!S$2<>\"Datum\",IF(Riskhistorik!S57=\"Låg\",1,IF(Riskhistorik!S57=\"Medel\",2,IF(Riskhistorik!S57=\"Hög\",3,0))),M55)","v":0},{"$f":"IF(Riskhistorik!S$2<>\"Datum\",IF(Riskhistorik!T57=\"Låg\",1,IF(Riskhistorik!T57=\"Medel\",2,IF(Riskhistorik!T57=\"Hög\",3,0))),N55)","v":0},{"$f":"IF(Riskhistorik!U$2<>\"Datum\",IF(Riskhistorik!U57=\"Låg\",1,IF(Riskhistorik!U57=\"Medel\",2,IF(Riskhistorik!U57=\"Hög\",3,0))),O55)","v":0},{"$f":"IF(Riskhistorik!U$2<>\"Datum\",IF(Riskhistorik!V57=\"Låg\",1,IF(Riskhistorik!V57=\"Medel\",2,IF(Riskhistorik!V57=\"Hög\",3,0))),P55)","v":0},{"$f":"IF(Riskhistorik!W$2<>\"Datum\",IF(Riskhistorik!W57=\"Låg\",1,IF(Riskhistorik!W57=\"Medel\",2,IF(Riskhistorik!W57=\"Hög\",3,0))),Q55)","v":0},{"$f":"IF(Riskhistorik!W$2<>\"Datum\",IF(Riskhistorik!X57=\"Låg\",1,IF(Riskhistorik!X57=\"Medel\",2,IF(Riskhistorik!X57=\"Hög\",3,0))),R55)","v":0},{"$f":"IF(Riskhistorik!Y$2<>\"Datum\",IF(Riskhistorik!Y57=\"Låg\",1,IF(Riskhistorik!Y57=\"Medel\",2,IF(Riskhistorik!Y57=\"Hög\",3,0))),S55)","v":0},{"$f":"IF(Riskhistorik!Y$2<>\"Datum\",IF(Riskhistorik!Z57=\"Låg\",1,IF(Riskhistorik!Z57=\"Medel\",2,IF(Riskhistorik!Z57=\"Hög\",3,0))),T55)","v":0},{"$f":"IF(Riskhistorik!AA$2<>\"Datum\",IF(Riskhistorik!AA57=\"Låg\",1,IF(Riskhistorik!AA57=\"Medel\",2,IF(Riskhistorik!AA57=\"Hög\",3,0))),U55)","v":0},{"$f":"IF(Riskhistorik!AA$2<>\"Datum\",IF(Riskhistorik!AB57=\"Låg\",1,IF(Riskhistorik!AB57=\"Medel\",2,IF(Riskhistorik!AB57=\"Hög\",3,0))),V55)","v":0},{"$f":"IF(Riskhistorik!AC$2<>\"Datum\",IF(Riskhistorik!AC57=\"Låg\",1,IF(Riskhistorik!AC57=\"Medel\",2,IF(Riskhistorik!AC57=\"Hög\",3,0))),W55)","v":0},{"$f":"IF(Riskhistorik!AC$2<>\"Datum\",IF(Riskhistorik!AD57=\"Låg\",1,IF(Riskhistorik!AD57=\"Medel\",2,IF(Riskhistorik!AD57=\"Hög\",3,0))),X55)","v":0},{"$f":"IF(Riskhistorik!AE$2<>\"Datum\",IF(Riskhistorik!AE57=\"Låg\",1,IF(Riskhistorik!AE57=\"Medel\",2,IF(Riskhistorik!AE57=\"Hög\",3,0))),Y55)","v":0},{"$f":"IF(Riskhistorik!AE$2<>\"Datum\",IF(Riskhistorik!AF57=\"Låg\",1,IF(Riskhistorik!AF57=\"Medel\",2,IF(Riskhistorik!AF57=\"Hög\",3,0))),Z55)","v":0},{"$f":"IF(Riskhistorik!AG$2<>\"Datum\",IF(Riskhistorik!AG57=\"Låg\",1,IF(Riskhistorik!AG57=\"Medel\",2,IF(Riskhistorik!AG57=\"Hög\",3,0))),AA55)","v":0},{"$f":"IF(Riskhistorik!AG$2<>\"Datum\",IF(Riskhistorik!AH57=\"Låg\",1,IF(Riskhistorik!AH57=\"Medel\",2,IF(Riskhistorik!AH57=\"Hög\",3,0))),AB55)","v":0},{"$f":"IF(Riskhistorik!AI$2<>\"Datum\",IF(Riskhistorik!AI57=\"Låg\",1,IF(Riskhistorik!AI57=\"Medel\",2,IF(Riskhistorik!AI57=\"Hög\",3,0))),AC55)","v":0},{"$f":"IF(Riskhistorik!AI$2<>\"Datum\",IF(Riskhistorik!AJ57=\"Låg\",1,IF(Riskhistorik!AJ57=\"Medel\",2,IF(Riskhistorik!AJ57=\"Hög\",3,0))),AD55)","v":0},{"$f":"IF(Riskhistorik!AK$2<>\"Datum\",IF(Riskhistorik!AK57=\"Låg\",1,IF(Riskhistorik!AK57=\"Medel\",2,IF(Riskhistorik!AK57=\"Hög\",3,0))),AE55)","v":0},{"$f":"IF(Riskhistorik!AK$2<>\"Datum\",IF(Riskhistorik!AL57=\"Låg\",1,IF(Riskhistorik!AL57=\"Medel\",2,IF(Riskhistorik!AL57=\"Hög\",3,0))),AF55)","v":0},{"$f":"IF(Riskhistorik!AM$2<>\"Datum\",IF(Riskhistorik!AM57=\"Låg\",1,IF(Riskhistorik!AM57=\"Medel\",2,IF(Riskhistorik!AM57=\"Hög\",3,0))),AG55)","v":0},{"$f":"IF(Riskhistorik!AM$2<>\"Datum\",IF(Riskhistorik!AN57=\"Låg\",1,IF(Riskhistorik!AN57=\"Medel\",2,IF(Riskhistorik!AN57=\"Hög\",3,0))),AH55)","v":0},{"$f":"IF(Riskhistorik!AO$2<>\"Datum\",IF(Riskhistorik!AO57=\"Låg\",1,IF(Riskhistorik!AO57=\"Medel\",2,IF(Riskhistorik!AO57=\"Hög\",3,0))),AI55)","v":0},{"$f":"IF(Riskhistorik!AO$2<>\"Datum\",IF(Riskhistorik!AP57=\"Låg\",1,IF(Riskhistorik!AP57=\"Medel\",2,IF(Riskhistorik!AP57=\"Hög\",3,0))),AJ55)","v":0},{"$f":"IF(Riskhistorik!AQ$2<>\"Datum\",IF(Riskhistorik!AQ57=\"Låg\",1,IF(Riskhistorik!AQ57=\"Medel\",2,IF(Riskhistorik!AQ57=\"Hög\",3,0))),AK55)","v":0},{"$f":"IF(Riskhistorik!AQ$2<>\"Datum\",IF(Riskhistorik!AR57=\"Låg\",1,IF(Riskhistorik!AR57=\"Medel\",2,IF(Riskhistorik!AR57=\"Hög\",3,0))),AL55)","v":0},0,0,0,0,0,0,0,0,0,0,0,0,0,0,0,0,0,0,0,0]
[{"$f":"IF(Riskhistorik!E58<>\"\",IF(Riskhistorik!E58=\"Låg\",1,IF(Riskhistorik!E58=\"Medel\",2,3)),0)","v":0},{"$f":"IF(Riskhistorik!F58<>\"\",IF(Riskhistorik!F58=\"Låg\",1,IF(Riskhistorik!F58=\"Medel\",2,3)),0)","v":0},{"$f":"IF(Riskhistorik!G$2<>\"Datum\",IF(Riskhistorik!G58=\"Låg\",1,IF(Riskhistorik!G58=\"Medel\",2,IF(Riskhistorik!G58=\"Hög\",3,0))),A56)","v":0},{"$f":"IF(Riskhistorik!G$2<>\"Datum\",IF(Riskhistorik!H58=\"Låg\",1,IF(Riskhistorik!H58=\"Medel\",2,IF(Riskhistorik!H58=\"Hög\",3,0))),B56)","v":0},{"$f":"IF(Riskhistorik!I$2<>\"Datum\",IF(Riskhistorik!I58=\"Låg\",1,IF(Riskhistorik!I58=\"Medel\",2,IF(Riskhistorik!I58=\"Hög\",3,0))),C56)","v":0},{"$f":"IF(Riskhistorik!I$2<>\"Datum\",IF(Riskhistorik!J58=\"Låg\",1,IF(Riskhistorik!J58=\"Medel\",2,IF(Riskhistorik!J58=\"Hög\",3,0))),D56)","v":0},{"$f":"IF(Riskhistorik!K$2<>\"Datum\",IF(Riskhistorik!K58=\"Låg\",1,IF(Riskhistorik!K58=\"Medel\",2,IF(Riskhistorik!K58=\"Hög\",3,0))),E56)","v":0},{"$f":"IF(Riskhistorik!K$2<>\"Datum\",IF(Riskhistorik!L58=\"Låg\",1,IF(Riskhistorik!L58=\"Medel\",2,IF(Riskhistorik!L58=\"Hög\",3,0))),F56)","v":0},{"$f":"IF(Riskhistorik!M$2<>\"Datum\",IF(Riskhistorik!M58=\"Låg\",1,IF(Riskhistorik!M58=\"Medel\",2,IF(Riskhistorik!M58=\"Hög\",3,0))),G56)","v":0},{"$f":"IF(Riskhistorik!M$2<>\"Datum\",IF(Riskhistorik!N58=\"Låg\",1,IF(Riskhistorik!N58=\"Medel\",2,IF(Riskhistorik!N58=\"Hög\",3,0))),H56)","v":0},{"$f":"IF(Riskhistorik!O$2<>\"Datum\",IF(Riskhistorik!O58=\"Låg\",1,IF(Riskhistorik!O58=\"Medel\",2,IF(Riskhistorik!O58=\"Hög\",3,0))),I56)","v":0},{"$f":"IF(Riskhistorik!O$2<>\"Datum\",IF(Riskhistorik!P58=\"Låg\",1,IF(Riskhistorik!P58=\"Medel\",2,IF(Riskhistorik!P58=\"Hög\",3,0))),J56)","v":0},{"$f":"IF(Riskhistorik!Q$2<>\"Datum\",IF(Riskhistorik!Q58=\"Låg\",1,IF(Riskhistorik!Q58=\"Medel\",2,IF(Riskhistorik!Q58=\"Hög\",3,0))),K56)","v":0},{"$f":"IF(Riskhistorik!Q$2<>\"Datum\",IF(Riskhistorik!R58=\"Låg\",1,IF(Riskhistorik!R58=\"Medel\",2,IF(Riskhistorik!R58=\"Hög\",3,0))),L56)","v":0},{"$f":"IF(Riskhistorik!S$2<>\"Datum\",IF(Riskhistorik!S58=\"Låg\",1,IF(Riskhistorik!S58=\"Medel\",2,IF(Riskhistorik!S58=\"Hög\",3,0))),M56)","v":0},{"$f":"IF(Riskhistorik!S$2<>\"Datum\",IF(Riskhistorik!T58=\"Låg\",1,IF(Riskhistorik!T58=\"Medel\",2,IF(Riskhistorik!T58=\"Hög\",3,0))),N56)","v":0},{"$f":"IF(Riskhistorik!U$2<>\"Datum\",IF(Riskhistorik!U58=\"Låg\",1,IF(Riskhistorik!U58=\"Medel\",2,IF(Riskhistorik!U58=\"Hög\",3,0))),O56)","v":0},{"$f":"IF(Riskhistorik!U$2<>\"Datum\",IF(Riskhistorik!V58=\"Låg\",1,IF(Riskhistorik!V58=\"Medel\",2,IF(Riskhistorik!V58=\"Hög\",3,0))),P56)","v":0},{"$f":"IF(Riskhistorik!W$2<>\"Datum\",IF(Riskhistorik!W58=\"Låg\",1,IF(Riskhistorik!W58=\"Medel\",2,IF(Riskhistorik!W58=\"Hög\",3,0))),Q56)","v":0},{"$f":"IF(Riskhistorik!W$2<>\"Datum\",IF(Riskhistorik!X58=\"Låg\",1,IF(Riskhistorik!X58=\"Medel\",2,IF(Riskhistorik!X58=\"Hög\",3,0))),R56)","v":0},{"$f":"IF(Riskhistorik!Y$2<>\"Datum\",IF(Riskhistorik!Y58=\"Låg\",1,IF(Riskhistorik!Y58=\"Medel\",2,IF(Riskhistorik!Y58=\"Hög\",3,0))),S56)","v":0},{"$f":"IF(Riskhistorik!Y$2<>\"Datum\",IF(Riskhistorik!Z58=\"Låg\",1,IF(Riskhistorik!Z58=\"Medel\",2,IF(Riskhistorik!Z58=\"Hög\",3,0))),T56)","v":0},{"$f":"IF(Riskhistorik!AA$2<>\"Datum\",IF(Riskhistorik!AA58=\"Låg\",1,IF(Riskhistorik!AA58=\"Medel\",2,IF(Riskhistorik!AA58=\"Hög\",3,0))),U56)","v":0},{"$f":"IF(Riskhistorik!AA$2<>\"Datum\",IF(Riskhistorik!AB58=\"Låg\",1,IF(Riskhistorik!AB58=\"Medel\",2,IF(Riskhistorik!AB58=\"Hög\",3,0))),V56)","v":0},{"$f":"IF(Riskhistorik!AC$2<>\"Datum\",IF(Riskhistorik!AC58=\"Låg\",1,IF(Riskhistorik!AC58=\"Medel\",2,IF(Riskhistorik!AC58=\"Hög\",3,0))),W56)","v":0},{"$f":"IF(Riskhistorik!AC$2<>\"Datum\",IF(Riskhistorik!AD58=\"Låg\",1,IF(Riskhistorik!AD58=\"Medel\",2,IF(Riskhistorik!AD58=\"Hög\",3,0))),X56)","v":0},{"$f":"IF(Riskhistorik!AE$2<>\"Datum\",IF(Riskhistorik!AE58=\"Låg\",1,IF(Riskhistorik!AE58=\"Medel\",2,IF(Riskhistorik!AE58=\"Hög\",3,0))),Y56)","v":0},{"$f":"IF(Riskhistorik!AE$2<>\"Datum\",IF(Riskhistorik!AF58=\"Låg\",1,IF(Riskhistorik!AF58=\"Medel\",2,IF(Riskhistorik!AF58=\"Hög\",3,0))),Z56)","v":0},{"$f":"IF(Riskhistorik!AG$2<>\"Datum\",IF(Riskhistorik!AG58=\"Låg\",1,IF(Riskhistorik!AG58=\"Medel\",2,IF(Riskhistorik!AG58=\"Hög\",3,0))),AA56)","v":0},{"$f":"IF(Riskhistorik!AG$2<>\"Datum\",IF(Riskhistorik!AH58=\"Låg\",1,IF(Riskhistorik!AH58=\"Medel\",2,IF(Riskhistorik!AH58=\"Hög\",3,0))),AB56)","v":0},{"$f":"IF(Riskhistorik!AI$2<>\"Datum\",IF(Riskhistorik!AI58=\"Låg\",1,IF(Riskhistorik!AI58=\"Medel\",2,IF(Riskhistorik!AI58=\"Hög\",3,0))),AC56)","v":0},{"$f":"IF(Riskhistorik!AI$2<>\"Datum\",IF(Riskhistorik!AJ58=\"Låg\",1,IF(Riskhistorik!AJ58=\"Medel\",2,IF(Riskhistorik!AJ58=\"Hög\",3,0))),AD56)","v":0},{"$f":"IF(Riskhistorik!AK$2<>\"Datum\",IF(Riskhistorik!AK58=\"Låg\",1,IF(Riskhistorik!AK58=\"Medel\",2,IF(Riskhistorik!AK58=\"Hög\",3,0))),AE56)","v":0},{"$f":"IF(Riskhistorik!AK$2<>\"Datum\",IF(Riskhistorik!AL58=\"Låg\",1,IF(Riskhistorik!AL58=\"Medel\",2,IF(Riskhistorik!AL58=\"Hög\",3,0))),AF56)","v":0},{"$f":"IF(Riskhistorik!AM$2<>\"Datum\",IF(Riskhistorik!AM58=\"Låg\",1,IF(Riskhistorik!AM58=\"Medel\",2,IF(Riskhistorik!AM58=\"Hög\",3,0))),AG56)","v":0},{"$f":"IF(Riskhistorik!AM$2<>\"Datum\",IF(Riskhistorik!AN58=\"Låg\",1,IF(Riskhistorik!AN58=\"Medel\",2,IF(Riskhistorik!AN58=\"Hög\",3,0))),AH56)","v":0},{"$f":"IF(Riskhistorik!AO$2<>\"Datum\",IF(Riskhistorik!AO58=\"Låg\",1,IF(Riskhistorik!AO58=\"Medel\",2,IF(Riskhistorik!AO58=\"Hög\",3,0))),AI56)","v":0},{"$f":"IF(Riskhistorik!AO$2<>\"Datum\",IF(Riskhistorik!AP58=\"Låg\",1,IF(Riskhistorik!AP58=\"Medel\",2,IF(Riskhistorik!AP58=\"Hög\",3,0))),AJ56)","v":0},{"$f":"IF(Riskhistorik!AQ$2<>\"Datum\",IF(Riskhistorik!AQ58=\"Låg\",1,IF(Riskhistorik!AQ58=\"Medel\",2,IF(Riskhistorik!AQ58=\"Hög\",3,0))),AK56)","v":0},{"$f":"IF(Riskhistorik!AQ$2<>\"Datum\",IF(Riskhistorik!AR58=\"Låg\",1,IF(Riskhistorik!AR58=\"Medel\",2,IF(Riskhistorik!AR58=\"Hög\",3,0))),AL56)","v":0},0,0,0,0,0,0,0,0,0,0,0,0,0,0,0,0,0,0,0,0]
[{"$f":"IF(Riskhistorik!E59<>\"\",IF(Riskhistorik!E59=\"Låg\",1,IF(Riskhistorik!E59=\"Medel\",2,3)),0)","v":0},{"$f":"IF(Riskhistorik!F59<>\"\",IF(Riskhistorik!F59=\"Låg\",1,IF(Riskhistorik!F59=\"Medel\",2,3)),0)","v":0},{"$f":"IF(Riskhistorik!G$2<>\"Datum\",IF(Riskhistorik!G59=\"Låg\",1,IF(Riskhistorik!G59=\"Medel\",2,IF(Riskhistorik!G59=\"Hög\",3,0))),A57)","v":0},{"$f":"IF(Riskhistorik!G$2<>\"Datum\",IF(Riskhistorik!H59=\"Låg\",1,IF(Riskhistorik!H59=\"Medel\",2,IF(Riskhistorik!H59=\"Hög\",3,0))),B57)","v":0},{"$f":"IF(Riskhistorik!I$2<>\"Datum\",IF(Riskhistorik!I59=\"Låg\",1,IF(Riskhistorik!I59=\"Medel\",2,IF(Riskhistorik!I59=\"Hög\",3,0))),C57)","v":0},{"$f":"IF(Riskhistorik!I$2<>\"Datum\",IF(Riskhistorik!J59=\"Låg\",1,IF(Riskhistorik!J59=\"Medel\",2,IF(Riskhistorik!J59=\"Hög\",3,0))),D57)","v":0},{"$f":"IF(Riskhistorik!K$2<>\"Datum\",IF(Riskhistorik!K59=\"Låg\",1,IF(Riskhistorik!K59=\"Medel\",2,IF(Riskhistorik!K59=\"Hög\",3,0))),E57)","v":0},{"$f":"IF(Riskhistorik!K$2<>\"Datum\",IF(Riskhistorik!L59=\"Låg\",1,IF(Riskhistorik!L59=\"Medel\",2,IF(Riskhistorik!L59=\"Hög\",3,0))),F57)","v":0},{"$f":"IF(Riskhistorik!M$2<>\"Datum\",IF(Riskhistorik!M59=\"Låg\",1,IF(Riskhistorik!M59=\"Medel\",2,IF(Riskhistorik!M59=\"Hög\",3,0))),G57)","v":0},{"$f":"IF(Riskhistorik!M$2<>\"Datum\",IF(Riskhistorik!N59=\"Låg\",1,IF(Riskhistorik!N59=\"Medel\",2,IF(Riskhistorik!N59=\"Hög\",3,0))),H57)","v":0},{"$f":"IF(Riskhistorik!O$2<>\"Datum\",IF(Riskhistorik!O59=\"Låg\",1,IF(Riskhistorik!O59=\"Medel\",2,IF(Riskhistorik!O59=\"Hög\",3,0))),I57)","v":0},{"$f":"IF(Riskhistorik!O$2<>\"Datum\",IF(Riskhistorik!P59=\"Låg\",1,IF(Riskhistorik!P59=\"Medel\",2,IF(Riskhistorik!P59=\"Hög\",3,0))),J57)","v":0},{"$f":"IF(Riskhistorik!Q$2<>\"Datum\",IF(Riskhistorik!Q59=\"Låg\",1,IF(Riskhistorik!Q59=\"Medel\",2,IF(Riskhistorik!Q59=\"Hög\",3,0))),K57)","v":0},{"$f":"IF(Riskhistorik!Q$2<>\"Datum\",IF(Riskhistorik!R59=\"Låg\",1,IF(Riskhistorik!R59=\"Medel\",2,IF(Riskhistorik!R59=\"Hög\",3,0))),L57)","v":0},{"$f":"IF(Riskhistorik!S$2<>\"Datum\",IF(Riskhistorik!S59=\"Låg\",1,IF(Riskhistorik!S59=\"Medel\",2,IF(Riskhistorik!S59=\"Hög\",3,0))),M57)","v":0},{"$f":"IF(Riskhistorik!S$2<>\"Datum\",IF(Riskhistorik!T59=\"Låg\",1,IF(Riskhistorik!T59=\"Medel\",2,IF(Riskhistorik!T59=\"Hög\",3,0))),N57)","v":0},{"$f":"IF(Riskhistorik!U$2<>\"Datum\",IF(Riskhistorik!U59=\"Låg\",1,IF(Riskhistorik!U59=\"Medel\",2,IF(Riskhistorik!U59=\"Hög\",3,0))),O57)","v":0},{"$f":"IF(Riskhistorik!U$2<>\"Datum\",IF(Riskhistorik!V59=\"Låg\",1,IF(Riskhistorik!V59=\"Medel\",2,IF(Riskhistorik!V59=\"Hög\",3,0))),P57)","v":0},{"$f":"IF(Riskhistorik!W$2<>\"Datum\",IF(Riskhistorik!W59=\"Låg\",1,IF(Riskhistorik!W59=\"Medel\",2,IF(Riskhistorik!W59=\"Hög\",3,0))),Q57)","v":0},{"$f":"IF(Riskhistorik!W$2<>\"Datum\",IF(Riskhistorik!X59=\"Låg\",1,IF(Riskhistorik!X59=\"Medel\",2,IF(Riskhistorik!X59=\"Hög\",3,0))),R57)","v":0},{"$f":"IF(Riskhistorik!Y$2<>\"Datum\",IF(Riskhistorik!Y59=\"Låg\",1,IF(Riskhistorik!Y59=\"Medel\",2,IF(Riskhistorik!Y59=\"Hög\",3,0))),S57)","v":0},{"$f":"IF(Riskhistorik!Y$2<>\"Datum\",IF(Riskhistorik!Z59=\"Låg\",1,IF(Riskhistorik!Z59=\"Medel\",2,IF(Riskhistorik!Z59=\"Hög\",3,0))),T57)","v":0},{"$f":"IF(Riskhistorik!AA$2<>\"Datum\",IF(Riskhistorik!AA59=\"Låg\",1,IF(Riskhistorik!AA59=\"Medel\",2,IF(Riskhistorik!AA59=\"Hög\",3,0))),U57)","v":0},{"$f":"IF(Riskhistorik!AA$2<>\"Datum\",IF(Riskhistorik!AB59=\"Låg\",1,IF(Riskhistorik!AB59=\"Medel\",2,IF(Riskhistorik!AB59=\"Hög\",3,0))),V57)","v":0},{"$f":"IF(Riskhistorik!AC$2<>\"Datum\",IF(Riskhistorik!AC59=\"Låg\",1,IF(Riskhistorik!AC59=\"Medel\",2,IF(Riskhistorik!AC59=\"Hög\",3,0))),W57)","v":0},{"$f":"IF(Riskhistorik!AC$2<>\"Datum\",IF(Riskhistorik!AD59=\"Låg\",1,IF(Riskhistorik!AD59=\"Medel\",2,IF(Riskhistorik!AD59=\"Hög\",3,0))),X57)","v":0},{"$f":"IF(Riskhistorik!AE$2<>\"Datum\",IF(Riskhistorik!AE59=\"Låg\",1,IF(Riskhistorik!AE59=\"Medel\",2,IF(Riskhistorik!AE59=\"Hög\",3,0))),Y57)","v":0},{"$f":"IF(Riskhistorik!AE$2<>\"Datum\",IF(Riskhistorik!AF59=\"Låg\",1,IF(Riskhistorik!AF59=\"Medel\",2,IF(Riskhistorik!AF59=\"Hög\",3,0))),Z57)","v":0},{"$f":"IF(Riskhistorik!AG$2<>\"Datum\",IF(Riskhistorik!AG59=\"Låg\",1,IF(Riskhistorik!AG59=\"Medel\",2,IF(Riskhistorik!AG59=\"Hög\",3,0))),AA57)","v":0},{"$f":"IF(Riskhistorik!AG$2<>\"Datum\",IF(Riskhistorik!AH59=\"Låg\",1,IF(Riskhistorik!AH59=\"Medel\",2,IF(Riskhistorik!AH59=\"Hög\",3,0))),AB57)","v":0},{"$f":"IF(Riskhistorik!AI$2<>\"Datum\",IF(Riskhistorik!AI59=\"Låg\",1,IF(Riskhistorik!AI59=\"Medel\",2,IF(Riskhistorik!AI59=\"Hög\",3,0))),AC57)","v":0},{"$f":"IF(Riskhistorik!AI$2<>\"Datum\",IF(Riskhistorik!AJ59=\"Låg\",1,IF(Riskhistorik!AJ59=\"Medel\",2,IF(Riskhistorik!AJ59=\"Hög\",3,0))),AD57)","v":0},{"$f":"IF(Riskhistorik!AK$2<>\"Datum\",IF(Riskhistorik!AK59=\"Låg\",1,IF(Riskhistorik!AK59=\"Medel\",2,IF(Riskhistorik!AK59=\"Hög\",3,0))),AE57)","v":0},{"$f":"IF(Riskhistorik!AK$2<>\"Datum\",IF(Riskhistorik!AL59=\"Låg\",1,IF(Riskhistorik!AL59=\"Medel\",2,IF(Riskhistorik!AL59=\"Hög\",3,0))),AF57)","v":0},{"$f":"IF(Riskhistorik!AM$2<>\"Datum\",IF(Riskhistorik!AM59=\"Låg\",1,IF(Riskhistorik!AM59=\"Medel\",2,IF(Riskhistorik!AM59=\"Hög\",3,0))),AG57)","v":0},{"$f":"IF(Riskhistorik!AM$2<>\"Datum\",IF(Riskhistorik!AN59=\"Låg\",1,IF(Riskhistorik!AN59=\"Medel\",2,IF(Riskhistorik!AN59=\"Hög\",3,0))),AH57)","v":0},{"$f":"IF(Riskhistorik!AO$2<>\"Datum\",IF(Riskhistorik!AO59=\"Låg\",1,IF(Riskhistorik!AO59=\"Medel\",2,IF(Riskhistorik!AO59=\"Hög\",3,0))),AI57)","v":0},{"$f":"IF(Riskhistorik!AO$2<>\"Datum\",IF(Riskhistorik!AP59=\"Låg\",1,IF(Riskhistorik!AP59=\"Medel\",2,IF(Riskhistorik!AP59=\"Hög\",3,0))),AJ57)","v":0},{"$f":"IF(Riskhistorik!AQ$2<>\"Datum\",IF(Riskhistorik!AQ59=\"Låg\",1,IF(Riskhistorik!AQ59=\"Medel\",2,IF(Riskhistorik!AQ59=\"Hög\",3,0))),AK57)","v":0},{"$f":"IF(Riskhistorik!AQ$2<>\"Datum\",IF(Riskhistorik!AR59=\"Låg\",1,IF(Riskhistorik!AR59=\"Medel\",2,IF(Riskhistorik!AR59=\"Hög\",3,0))),AL57)","v":0},0,0,0,0,0,0,0,0,0,0,0,0,0,0,0,0,0,0,0,0]
[{"$f":"IF(Riskhistorik!E60<>\"\",IF(Riskhistorik!E60=\"Låg\",1,IF(Riskhistorik!E60=\"Medel\",2,3)),0)","v":0},{"$f":"IF(Riskhistorik!F60<>\"\",IF(Riskhistorik!F60=\"Låg\",1,IF(Riskhistorik!F60=\"Medel\",2,3)),0)","v":0},{"$f":"IF(Riskhistorik!G$2<>\"Datum\",IF(Riskhistorik!G60=\"Låg\",1,IF(Riskhistorik!G60=\"Medel\",2,IF(Riskhistorik!G60=\"Hög\",3,0))),A58)","v":0},{"$f":"IF(Riskhistorik!G$2<>\"Datum\",IF(Riskhistorik!H60=\"Låg\",1,IF(Riskhistorik!H60=\"Medel\",2,IF(Riskhistorik!H60=\"Hög\",3,0))),B58)","v":0},{"$f":"IF(Riskhistorik!I$2<>\"Datum\",IF(Riskhistorik!I60=\"Låg\",1,IF(Riskhistorik!I60=\"Medel\",2,IF(Riskhistorik!I60=\"Hög\",3,0))),C58)","v":0},{"$f":"IF(Riskhistorik!I$2<>\"Datum\",IF(Riskhistorik!J60=\"Låg\",1,IF(Riskhistorik!J60=\"Medel\",2,IF(Riskhistorik!J60=\"Hög\",3,0))),D58)","v":0},{"$f":"IF(Riskhistorik!K$2<>\"Datum\",IF(Riskhistorik!K60=\"Låg\",1,IF(Riskhistorik!K60=\"Medel\",2,IF(Riskhistorik!K60=\"Hög\",3,0))),E58)","v":0},{"$f":"IF(Riskhistorik!K$2<>\"Datum\",IF(Riskhistorik!L60=\"Låg\",1,IF(Riskhistorik!L60=\"Medel\",2,IF(Riskhistorik!L60=\"Hög\",3,0))),F58)","v":0},{"$f":"IF(Riskhistorik!M$2<>\"Datum\",IF(Riskhistorik!M60=\"Låg\",1,IF(Riskhistorik!M60=\"Medel\",2,IF(Riskhistorik!M60=\"Hög\",3,0))),G58)","v":0},{"$f":"IF(Riskhistorik!M$2<>\"Datum\",IF(Riskhistorik!N60=\"Låg\",1,IF(Riskhistorik!N60=\"Medel\",2,IF(Riskhistorik!N60=\"Hög\",3,0))),H58)","v":0},{"$f":"IF(Riskhistorik!O$2<>\"Datum\",IF(Riskhistorik!O60=\"Låg\",1,IF(Riskhistorik!O60=\"Medel\",2,IF(Riskhistorik!O60=\"Hög\",3,0))),I58)","v":0},{"$f":"IF(Riskhistorik!O$2<>\"Datum\",IF(Riskhistorik!P60=\"Låg\",1,IF(Riskhistorik!P60=\"Medel\",2,IF(Riskhistorik!P60=\"Hög\",3,0))),J58)","v":0},{"$f":"IF(Riskhistorik!Q$2<>\"Datum\",IF(Riskhistorik!Q60=\"Låg\",1,IF(Riskhistorik!Q60=\"Medel\",2,IF(Riskhistorik!Q60=\"Hög\",3,0))),K58)","v":0},{"$f":"IF(Riskhistorik!Q$2<>\"Datum\",IF(Riskhistorik!R60=\"Låg\",1,IF(Riskhistorik!R60=\"Medel\",2,IF(Riskhistorik!R60=\"Hög\",3,0))),L58)","v":0},{"$f":"IF(Riskhistorik!S$2<>\"Datum\",IF(Riskhistorik!S60=\"Låg\",1,IF(Riskhistorik!S60=\"Medel\",2,IF(Riskhistorik!S60=\"Hög\",3,0))),M58)","v":0},{"$f":"IF(Riskhistorik!S$2<>\"Datum\",IF(Riskhistorik!T60=\"Låg\",1,IF(Riskhistorik!T60=\"Medel\",2,IF(Riskhistorik!T60=\"Hög\",3,0))),N58)","v":0},{"$f":"IF(Riskhistorik!U$2<>\"Datum\",IF(Riskhistorik!U60=\"Låg\",1,IF(Riskhistorik!U60=\"Medel\",2,IF(Riskhistorik!U60=\"Hög\",3,0))),O58)","v":0},{"$f":"IF(Riskhistorik!U$2<>\"Datum\",IF(Riskhistorik!V60=\"Låg\",1,IF(Riskhistorik!V60=\"Medel\",2,IF(Riskhistorik!V60=\"Hög\",3,0))),P58)","v":0},{"$f":"IF(Riskhistorik!W$2<>\"Datum\",IF(Riskhistorik!W60=\"Låg\",1,IF(Riskhistorik!W60=\"Medel\",2,IF(Riskhistorik!W60=\"Hög\",3,0))),Q58)","v":0},{"$f":"IF(Riskhistorik!W$2<>\"Datum\",IF(Riskhistorik!X60=\"Låg\",1,IF(Riskhistorik!X60=\"Medel\",2,IF(Riskhistorik!X60=\"Hög\",3,0))),R58)","v":0},{"$f":"IF(Riskhistorik!Y$2<>\"Datum\",IF(Riskhistorik!Y60=\"Låg\",1,IF(Riskhistorik!Y60=\"Medel\",2,IF(Riskhistorik!Y60=\"Hög\",3,0))),S58)","v":0},{"$f":"IF(Riskhistorik!Y$2<>\"Datum\",IF(Riskhistorik!Z60=\"Låg\",1,IF(Riskhistorik!Z60=\"Medel\",2,IF(Riskhistorik!Z60=\"Hög\",3,0))),T58)","v":0},{"$f":"IF(Riskhistorik!AA$2<>\"Datum\",IF(Riskhistorik!AA60=\"Låg\",1,IF(Riskhistorik!AA60=\"Medel\",2,IF(Riskhistorik!AA60=\"Hög\",3,0))),U58)","v":0},{"$f":"IF(Riskhistorik!AA$2<>\"Datum\",IF(Riskhistorik!AB60=\"Låg\",1,IF(Riskhistorik!AB60=\"Medel\",2,IF(Riskhistorik!AB60=\"Hög\",3,0))),V58)","v":0},{"$f":"IF(Riskhistorik!AC$2<>\"Datum\",IF(Riskhistorik!AC60=\"Låg\",1,IF(Riskhistorik!AC60=\"Medel\",2,IF(Riskhistorik!AC60=\"Hög\",3,0))),W58)","v":0},{"$f":"IF(Riskhistorik!AC$2<>\"Datum\",IF(Riskhistorik!AD60=\"Låg\",1,IF(Riskhistorik!AD60=\"Medel\",2,IF(Riskhistorik!AD60=\"Hög\",3,0))),X58)","v":0},{"$f":"IF(Riskhistorik!AE$2<>\"Datum\",IF(Riskhistorik!AE60=\"Låg\",1,IF(Riskhistorik!AE60=\"Medel\",2,IF(Riskhistorik!AE60=\"Hög\",3,0))),Y58)","v":0},{"$f":"IF(Riskhistorik!AE$2<>\"Datum\",IF(Riskhistorik!AF60=\"Låg\",1,IF(Riskhistorik!AF60=\"Medel\",2,IF(Riskhistorik!AF60=\"Hög\",3,0))),Z58)","v":0},{"$f":"IF(Riskhistorik!AG$2<>\"Datum\",IF(Riskhistorik!AG60=\"Låg\",1,IF(Riskhistorik!AG60=\"Medel\",2,IF(Riskhistorik!AG60=\"Hög\",3,0))),AA58)","v":0},{"$f":"IF(Riskhistorik!AG$2<>\"Datum\",IF(Riskhistorik!AH60=\"Låg\",1,IF(Riskhistorik!AH60=\"Medel\",2,IF(Riskhistorik!AH60=\"Hög\",3,0))),AB58)","v":0},{"$f":"IF(Riskhistorik!AI$2<>\"Datum\",IF(Riskhistorik!AI60=\"Låg\",1,IF(Riskhistorik!AI60=\"Medel\",2,IF(Riskhistorik!AI60=\"Hög\",3,0))),AC58)","v":0},{"$f":"IF(Riskhistorik!AI$2<>\"Datum\",IF(Riskhistorik!AJ60=\"Låg\",1,IF(Riskhistorik!AJ60=\"Medel\",2,IF(Riskhistorik!AJ60=\"Hög\",3,0))),AD58)","v":0},{"$f":"IF(Riskhistorik!AK$2<>\"Datum\",IF(Riskhistorik!AK60=\"Låg\",1,IF(Riskhistorik!AK60=\"Medel\",2,IF(Riskhistorik!AK60=\"Hög\",3,0))),AE58)","v":0},{"$f":"IF(Riskhistorik!AK$2<>\"Datum\",IF(Riskhistorik!AL60=\"Låg\",1,IF(Riskhistorik!AL60=\"Medel\",2,IF(Riskhistorik!AL60=\"Hög\",3,0))),AF58)","v":0},{"$f":"IF(Riskhistorik!AM$2<>\"Datum\",IF(Riskhistorik!AM60=\"Låg\",1,IF(Riskhistorik!AM60=\"Medel\",2,IF(Riskhistorik!AM60=\"Hög\",3,0))),AG58)","v":0},{"$f":"IF(Riskhistorik!AM$2<>\"Datum\",IF(Riskhistorik!AN60=\"Låg\",1,IF(Riskhistorik!AN60=\"Medel\",2,IF(Riskhistorik!AN60=\"Hög\",3,0))),AH58)","v":0},{"$f":"IF(Riskhistorik!AO$2<>\"Datum\",IF(Riskhistorik!AO60=\"Låg\",1,IF(Riskhistorik!AO60=\"Medel\",2,IF(Riskhistorik!AO60=\"Hög\",3,0))),AI58)","v":0},{"$f":"IF(Riskhistorik!AO$2<>\"Datum\",IF(Riskhistorik!AP60=\"Låg\",1,IF(Riskhistorik!AP60=\"Medel\",2,IF(Riskhistorik!AP60=\"Hög\",3,0))),AJ58)","v":0},{"$f":"IF(Riskhistorik!AQ$2<>\"Datum\",IF(Riskhistorik!AQ60=\"Låg\",1,IF(Riskhistorik!AQ60=\"Medel\",2,IF(Riskhistorik!AQ60=\"Hög\",3,0))),AK58)","v":0},{"$f":"IF(Riskhistorik!AQ$2<>\"Datum\",IF(Riskhistorik!AR60=\"Låg\",1,IF(Riskhistorik!AR60=\"Medel\",2,IF(Riskhistorik!AR60=\"Hög\",3,0))),AL58)","v":0},0,0,0,0,0,0,0,0,0,0,0,0,0,0,0,0,0,0,0,0]
[{"$f":"IF(Riskhistorik!E61<>\"\",IF(Riskhistorik!E61=\"Låg\",1,IF(Riskhistorik!E61=\"Medel\",2,3)),0)","v":0},{"$f":"IF(Riskhistorik!F61<>\"\",IF(Riskhistorik!F61=\"Låg\",1,IF(Riskhistorik!F61=\"Medel\",2,3)),0)","v":0},{"$f":"IF(Riskhistorik!G$2<>\"Datum\",IF(Riskhistorik!G61=\"Låg\",1,IF(Riskhistorik!G61=\"Medel\",2,IF(Riskhistorik!G61=\"Hög\",3,0))),A59)","v":0},{"$f":"IF(Riskhistorik!G$2<>\"Datum\",IF(Riskhistorik!H61=\"Låg\",1,IF(Riskhistorik!H61=\"Medel\",2,IF(Riskhistorik!H61=\"Hög\",3,0))),B59)","v":0},{"$f":"IF(Riskhistorik!I$2<>\"Datum\",IF(Riskhistorik!I61=\"Låg\",1,IF(Riskhistorik!I61=\"Medel\",2,IF(Riskhistorik!I61=\"Hög\",3,0))),C59)","v":0},{"$f":"IF(Riskhistorik!I$2<>\"Datum\",IF(Riskhistorik!J61=\"Låg\",1,IF(Riskhistorik!J61=\"Medel\",2,IF(Riskhistorik!J61=\"Hög\",3,0))),D59)","v":0},{"$f":"IF(Riskhistorik!K$2<>\"Datum\",IF(Riskhistorik!K61=\"Låg\",1,IF(Riskhistorik!K61=\"Medel\",2,IF(Riskhistorik!K61=\"Hög\",3,0))),E59)","v":0},{"$f":"IF(Riskhistorik!K$2<>\"Datum\",IF(Riskhistorik!L61=\"Låg\",1,IF(Riskhistorik!L61=\"Medel\",2,IF(Riskhistorik!L61=\"Hög\",3,0))),F59)","v":0},{"$f":"IF(Riskhistorik!M$2<>\"Datum\",IF(Riskhistorik!M61=\"Låg\",1,IF(Riskhistorik!M61=\"Medel\",2,IF(Riskhistorik!M61=\"Hög\",3,0))),G59)","v":0},{"$f":"IF(Riskhistorik!M$2<>\"Datum\",IF(Riskhistorik!N61=\"Låg\",1,IF(Riskhistorik!N61=\"Medel\",2,IF(Riskhistorik!N61=\"Hög\",3,0))),H59)","v":0},{"$f":"IF(Riskhistorik!O$2<>\"Datum\",IF(Riskhistorik!O61=\"Låg\",1,IF(Riskhistorik!O61=\"Medel\",2,IF(Riskhistorik!O61=\"Hög\",3,0))),I59)","v":0},{"$f":"IF(Riskhistorik!O$2<>\"Datum\",IF(Riskhistorik!P61=\"Låg\",1,IF(Riskhistorik!P61=\"Medel\",2,IF(Riskhistorik!P61=\"Hög\",3,0))),J59)","v":0},{"$f":"IF(Riskhistorik!Q$2<>\"Datum\",IF(Riskhistorik!Q61=\"Låg\",1,IF(Riskhistorik!Q61=\"Medel\",2,IF(Riskhistorik!Q61=\"Hög\",3,0))),K59)","v":0},{"$f":"IF(Riskhistorik!Q$2<>\"Datum\",IF(Riskhistorik!R61=\"Låg\",1,IF(Riskhistorik!R61=\"Medel\",2,IF(Riskhistorik!R61=\"Hög\",3,0))),L59)","v":0},{"$f":"IF(Riskhistorik!S$2<>\"Datum\",IF(Riskhistorik!S61=\"Låg\",1,IF(Riskhistorik!S61=\"Medel\",2,IF(Riskhistorik!S61=\"Hög\",3,0))),M59)","v":0},{"$f":"IF(Riskhistorik!S$2<>\"Datum\",IF(Riskhistorik!T61=\"Låg\",1,IF(Riskhistorik!T61=\"Medel\",2,IF(Riskhistorik!T61=\"Hög\",3,0))),N59)","v":0},{"$f":"IF(Riskhistorik!U$2<>\"Datum\",IF(Riskhistorik!U61=\"Låg\",1,IF(Riskhistorik!U61=\"Medel\",2,IF(Riskhistorik!U61=\"Hög\",3,0))),O59)","v":0},{"$f":"IF(Riskhistorik!U$2<>\"Datum\",IF(Riskhistorik!V61=\"Låg\",1,IF(Riskhistorik!V61=\"Medel\",2,IF(Riskhistorik!V61=\"Hög\",3,0))),P59)","v":0},{"$f":"IF(Riskhistorik!W$2<>\"Datum\",IF(Riskhistorik!W61=\"Låg\",1,IF(Riskhistorik!W61=\"Medel\",2,IF(Riskhistorik!W61=\"Hög\",3,0))),Q59)","v":0},{"$f":"IF(Riskhistorik!W$2<>\"Datum\",IF(Riskhistorik!X61=\"Låg\",1,IF(Riskhistorik!X61=\"Medel\",2,IF(Riskhistorik!X61=\"Hög\",3,0))),R59)","v":0},{"$f":"IF(Riskhistorik!Y$2<>\"Datum\",IF(Riskhistorik!Y61=\"Låg\",1,IF(Riskhistorik!Y61=\"Medel\",2,IF(Riskhistorik!Y61=\"Hög\",3,0))),S59)","v":0},{"$f":"IF(Riskhistorik!Y$2<>\"Datum\",IF(Riskhistorik!Z61=\"Låg\",1,IF(Riskhistorik!Z61=\"Medel\",2,IF(Riskhistorik!Z61=\"Hög\",3,0))),T59)","v":0},{"$f":"IF(Riskhistorik!AA$2<>\"Datum\",IF(Riskhistorik!AA61=\"Låg\",1,IF(Riskhistorik!AA61=\"Medel\",2,IF(Riskhistorik!AA61=\"Hög\",3,0))),U59)","v":0},{"$f":"IF(Riskhistorik!AA$2<>\"Datum\",IF(Riskhistorik!AB61=\"Låg\",1,IF(Riskhistorik!AB61=\"Medel\",2,IF(Riskhistorik!AB61=\"Hög\",3,0))),V59)","v":0},{"$f":"IF(Riskhistorik!AC$2<>\"Datum\",IF(Riskhistorik!AC61=\"Låg\",1,IF(Riskhistorik!AC61=\"Medel\",2,IF(Riskhistorik!AC61=\"Hög\",3,0))),W59)","v":0},{"$f":"IF(Riskhistorik!AC$2<>\"Datum\",IF(Riskhistorik!AD61=\"Låg\",1,IF(Riskhistorik!AD61=\"Medel\",2,IF(Riskhistorik!AD61=\"Hög\",3,0))),X59)","v":0},{"$f":"IF(Riskhistorik!AE$2<>\"Datum\",IF(Riskhistorik!AE61=\"Låg\",1,IF(Riskhistorik!AE61=\"Medel\",2,IF(Riskhistorik!AE61=\"Hög\",3,0))),Y59)","v":0},{"$f":"IF(Riskhistorik!AE$2<>\"Datum\",IF(Riskhistorik!AF61=\"Låg\",1,IF(Riskhistorik!AF61=\"Medel\",2,IF(Riskhistorik!AF61=\"Hög\",3,0))),Z59)","v":0},{"$f":"IF(Riskhistorik!AG$2<>\"Datum\",IF(Riskhistorik!AG61=\"Låg\",1,IF(Riskhistorik!AG61=\"Medel\",2,IF(Riskhistorik!AG61=\"Hög\",3,0))),AA59)","v":0},{"$f":"IF(Riskhistorik!AG$2<>\"Datum\",IF(Riskhistorik!AH61=\"Låg\",1,IF(Riskhistorik!AH61=\"Medel\",2,IF(Riskhistorik!AH61=\"Hög\",3,0))),AB59)","v":0},{"$f":"IF(Riskhistorik!AI$2<>\"Datum\",IF(Riskhistorik!AI61=\"Låg\",1,IF(Riskhistorik!AI61=\"Medel\",2,IF(Riskhistorik!AI61=\"Hög\",3,0))),AC59)","v":0},{"$f":"IF(Riskhistorik!AI$2<>\"Datum\",IF(Riskhistorik!AJ61=\"Låg\",1,IF(Riskhistorik!AJ61=\"Medel\",2,IF(Riskhistorik!AJ61=\"Hög\",3,0))),AD59)","v":0},{"$f":"IF(Riskhistorik!AK$2<>\"Datum\",IF(Riskhistorik!AK61=\"Låg\",1,IF(Riskhistorik!AK61=\"Medel\",2,IF(Riskhistorik!AK61=\"Hög\",3,0))),AE59)","v":0},{"$f":"IF(Riskhistorik!AK$2<>\"Datum\",IF(Riskhistorik!AL61=\"Låg\",1,IF(Riskhistorik!AL61=\"Medel\",2,IF(Riskhistorik!AL61=\"Hög\",3,0))),AF59)","v":0},{"$f":"IF(Riskhistorik!AM$2<>\"Datum\",IF(Riskhistorik!AM61=\"Låg\",1,IF(Riskhistorik!AM61=\"Medel\",2,IF(Riskhistorik!AM61=\"Hög\",3,0))),AG59)","v":0},{"$f":"IF(Riskhistorik!AM$2<>\"Datum\",IF(Riskhistorik!AN61=\"Låg\",1,IF(Riskhistorik!AN61=\"Medel\",2,IF(Riskhistorik!AN61=\"Hög\",3,0))),AH59)","v":0},{"$f":"IF(Riskhistorik!AO$2<>\"Datum\",IF(Riskhistorik!AO61=\"Låg\",1,IF(Riskhistorik!AO61=\"Medel\",2,IF(Riskhistorik!AO61=\"Hög\",3,0))),AI59)","v":0},{"$f":"IF(Riskhistorik!AO$2<>\"Datum\",IF(Riskhistorik!AP61=\"Låg\",1,IF(Riskhistorik!AP61=\"Medel\",2,IF(Riskhistorik!AP61=\"Hög\",3,0))),AJ59)","v":0},{"$f":"IF(Riskhistorik!AQ$2<>\"Datum\",IF(Riskhistorik!AQ61=\"Låg\",1,IF(Riskhistorik!AQ61=\"Medel\",2,IF(Riskhistorik!AQ61=\"Hög\",3,0))),AK59)","v":0},{"$f":"IF(Riskhistorik!AQ$2<>\"Datum\",IF(Riskhistorik!AR61=\"Låg\",1,IF(Riskhistorik!AR61=\"Medel\",2,IF(Riskhistorik!AR61=\"Hög\",3,0))),AL59)","v":0},0,0,0,0,0,0,0,0,0,0,0,0,0,0,0,0,0,0,0,0]
[{"$f":"IF(Riskhistorik!E62<>\"\",IF(Riskhistorik!E62=\"Låg\",1,IF(Riskhistorik!E62=\"Medel\",2,3)),0)","v":0},{"$f":"IF(Riskhistorik!F62<>\"\",IF(Riskhistorik!F62=\"Låg\",1,IF(Riskhistorik!F62=\"Medel\",2,3)),0)","v":0},{"$f":"IF(Riskhistorik!G$2<>\"Datum\",IF(Riskhistorik!G62=\"Låg\",1,IF(Riskhistorik!G62=\"Medel\",2,IF(Riskhistorik!G62=\"Hög\",3,0))),A60)","v":0},{"$f":"IF(Riskhistorik!G$2<>\"Datum\",IF(Riskhistorik!H62=\"Låg\",1,IF(Riskhistorik!H62=\"Medel\",2,IF(Riskhistorik!H62=\"Hög\",3,0))),B60)","v":0},{"$f":"IF(Riskhistorik!I$2<>\"Datum\",IF(Riskhistorik!I62=\"Låg\",1,IF(Riskhistorik!I62=\"Medel\",2,IF(Riskhistorik!I62=\"Hög\",3,0))),C60)","v":0},{"$f":"IF(Riskhistorik!I$2<>\"Datum\",IF(Riskhistorik!J62=\"Låg\",1,IF(Riskhistorik!J62=\"Medel\",2,IF(Riskhistorik!J62=\"Hög\",3,0))),D60)","v":0},{"$f":"IF(Riskhistorik!K$2<>\"Datum\",IF(Riskhistorik!K62=\"Låg\",1,IF(Riskhistorik!K62=\"Medel\",2,IF(Riskhistorik!K62=\"Hög\",3,0))),E60)","v":0},{"$f":"IF(Riskhistorik!K$2<>\"Datum\",IF(Riskhistorik!L62=\"Låg\",1,IF(Riskhistorik!L62=\"Medel\",2,IF(Riskhistorik!L62=\"Hög\",3,0))),F60)","v":0},{"$f":"IF(Riskhistorik!M$2<>\"Datum\",IF(Riskhistorik!M62=\"Låg\",1,IF(Riskhistorik!M62=\"Medel\",2,IF(Riskhistorik!M62=\"Hög\",3,0))),G60)","v":0},{"$f":"IF(Riskhistorik!M$2<>\"Datum\",IF(Riskhistorik!N62=\"Låg\",1,IF(Riskhistorik!N62=\"Medel\",2,IF(Riskhistorik!N62=\"Hög\",3,0))),H60)","v":0},{"$f":"IF(Riskhistorik!O$2<>\"Datum\",IF(Riskhistorik!O62=\"Låg\",1,IF(Riskhistorik!O62=\"Medel\",2,IF(Riskhistorik!O62=\"Hög\",3,0))),I60)","v":0},{"$f":"IF(Riskhistorik!O$2<>\"Datum\",IF(Riskhistorik!P62=\"Låg\",1,IF(Riskhistorik!P62=\"Medel\",2,IF(Riskhistorik!P62=\"Hög\",3,0))),J60)","v":0},{"$f":"IF(Riskhistorik!Q$2<>\"Datum\",IF(Riskhistorik!Q62=\"Låg\",1,IF(Riskhistorik!Q62=\"Medel\",2,IF(Riskhistorik!Q62=\"Hög\",3,0))),K60)","v":0},{"$f":"IF(Riskhistorik!Q$2<>\"Datum\",IF(Riskhistorik!R62=\"Låg\",1,IF(Riskhistorik!R62=\"Medel\",2,IF(Riskhistorik!R62=\"Hög\",3,0))),L60)","v":0},{"$f":"IF(Riskhistorik!S$2<>\"Datum\",IF(Riskhistorik!S62=\"Låg\",1,IF(Riskhistorik!S62=\"Medel\",2,IF(Riskhistorik!S62=\"Hög\",3,0))),M60)","v":0},{"$f":"IF(Riskhistorik!S$2<>\"Datum\",IF(Riskhistorik!T62=\"Låg\",1,IF(Riskhistorik!T62=\"Medel\",2,IF(Riskhistorik!T62=\"Hög\",3,0))),N60)","v":0},{"$f":"IF(Riskhistorik!U$2<>\"Datum\",IF(Riskhistorik!U62=\"Låg\",1,IF(Riskhistorik!U62=\"Medel\",2,IF(Riskhistorik!U62=\"Hög\",3,0))),O60)","v":0},{"$f":"IF(Riskhistorik!U$2<>\"Datum\",IF(Riskhistorik!V62=\"Låg\",1,IF(Riskhistorik!V62=\"Medel\",2,IF(Riskhistorik!V62=\"Hög\",3,0))),P60)","v":0},{"$f":"IF(Riskhistorik!W$2<>\"Datum\",IF(Riskhistorik!W62=\"Låg\",1,IF(Riskhistorik!W62=\"Medel\",2,IF(Riskhistorik!W62=\"Hög\",3,0))),Q60)","v":0},{"$f":"IF(Riskhistorik!W$2<>\"Datum\",IF(Riskhistorik!X62=\"Låg\",1,IF(Riskhistorik!X62=\"Medel\",2,IF(Riskhistorik!X62=\"Hög\",3,0))),R60)","v":0},{"$f":"IF(Riskhistorik!Y$2<>\"Datum\",IF(Riskhistorik!Y62=\"Låg\",1,IF(Riskhistorik!Y62=\"Medel\",2,IF(Riskhistorik!Y62=\"Hög\",3,0))),S60)","v":0},{"$f":"IF(Riskhistorik!Y$2<>\"Datum\",IF(Riskhistorik!Z62=\"Låg\",1,IF(Riskhistorik!Z62=\"Medel\",2,IF(Riskhistorik!Z62=\"Hög\",3,0))),T60)","v":0},{"$f":"IF(Riskhistorik!AA$2<>\"Datum\",IF(Riskhistorik!AA62=\"Låg\",1,IF(Riskhistorik!AA62=\"Medel\",2,IF(Riskhistorik!AA62=\"Hög\",3,0))),U60)","v":0},{"$f":"IF(Riskhistorik!AA$2<>\"Datum\",IF(Riskhistorik!AB62=\"Låg\",1,IF(Riskhistorik!AB62=\"Medel\",2,IF(Riskhistorik!AB62=\"Hög\",3,0))),V60)","v":0},{"$f":"IF(Riskhistorik!AC$2<>\"Datum\",IF(Riskhistorik!AC62=\"Låg\",1,IF(Riskhistorik!AC62=\"Medel\",2,IF(Riskhistorik!AC62=\"Hög\",3,0))),W60)","v":0},{"$f":"IF(Riskhistorik!AC$2<>\"Datum\",IF(Riskhistorik!AD62=\"Låg\",1,IF(Riskhistorik!AD62=\"Medel\",2,IF(Riskhistorik!AD62=\"Hög\",3,0))),X60)","v":0},{"$f":"IF(Riskhistorik!AE$2<>\"Datum\",IF(Riskhistorik!AE62=\"Låg\",1,IF(Riskhistorik!AE62=\"Medel\",2,IF(Riskhistorik!AE62=\"Hög\",3,0))),Y60)","v":0},{"$f":"IF(Riskhistorik!AE$2<>\"Datum\",IF(Riskhistorik!AF62=\"Låg\",1,IF(Riskhistorik!AF62=\"Medel\",2,IF(Riskhistorik!AF62=\"Hög\",3,0))),Z60)","v":0},{"$f":"IF(Riskhistorik!AG$2<>\"Datum\",IF(Riskhistorik!AG62=\"Låg\",1,IF(Riskhistorik!AG62=\"Medel\",2,IF(Riskhistorik!AG62=\"Hög\",3,0))),AA60)","v":0},{"$f":"IF(Riskhistorik!AG$2<>\"Datum\",IF(Riskhistorik!AH62=\"Låg\",1,IF(Riskhistorik!AH62=\"Medel\",2,IF(Riskhistorik!AH62=\"Hög\",3,0))),AB60)","v":0},{"$f":"IF(Riskhistorik!AI$2<>\"Datum\",IF(Riskhistorik!AI62=\"Låg\",1,IF(Riskhistorik!AI62=\"Medel\",2,IF(Riskhistorik!AI62=\"Hög\",3,0))),AC60)","v":0},{"$f":"IF(Riskhistorik!AI$2<>\"Datum\",IF(Riskhistorik!AJ62=\"Låg\",1,IF(Riskhistorik!AJ62=\"Medel\",2,IF(Riskhistorik!AJ62=\"Hög\",3,0))),AD60)","v":0},{"$f":"IF(Riskhistorik!AK$2<>\"Datum\",IF(Riskhistorik!AK62=\"Låg\",1,IF(Riskhistorik!AK62=\"Medel\",2,IF(Riskhistorik!AK62=\"Hög\",3,0))),AE60)","v":0},{"$f":"IF(Riskhistorik!AK$2<>\"Datum\",IF(Riskhistorik!AL62=\"Låg\",1,IF(Riskhistorik!AL62=\"Medel\",2,IF(Riskhistorik!AL62=\"Hög\",3,0))),AF60)","v":0},{"$f":"IF(Riskhistorik!AM$2<>\"Datum\",IF(Riskhistorik!AM62=\"Låg\",1,IF(Riskhistorik!AM62=\"Medel\",2,IF(Riskhistorik!AM62=\"Hög\",3,0))),AG60)","v":0},{"$f":"IF(Riskhistorik!AM$2<>\"Datum\",IF(Riskhistorik!AN62=\"Låg\",1,IF(Riskhistorik!AN62=\"Medel\",2,IF(Riskhistorik!AN62=\"Hög\",3,0))),AH60)","v":0},{"$f":"IF(Riskhistorik!AO$2<>\"Datum\",IF(Riskhistorik!AO62=\"Låg\",1,IF(Riskhistorik!AO62=\"Medel\",2,IF(Riskhistorik!AO62=\"Hög\",3,0))),AI60)","v":0},{"$f":"IF(Riskhistorik!AO$2<>\"Datum\",IF(Riskhistorik!AP62=\"Låg\",1,IF(Riskhistorik!AP62=\"Medel\",2,IF(Riskhistorik!AP62=\"Hög\",3,0))),AJ60)","v":0},{"$f":"IF(Riskhistorik!AQ$2<>\"Datum\",IF(Riskhistorik!AQ62=\"Låg\",1,IF(Riskhistorik!AQ62=\"Medel\",2,IF(Riskhistorik!AQ62=\"Hög\",3,0))),AK60)","v":0},{"$f":"IF(Riskhistorik!AQ$2<>\"Datum\",IF(Riskhistorik!AR62=\"Låg\",1,IF(Riskhistorik!AR62=\"Medel\",2,IF(Riskhistorik!AR62=\"Hög\",3,0))),AL60)","v":0},0,0,0,0,0,0,0,0,0,0,0,0,0,0,0,0,0,0,0,0]
[{"$f":"IF(Riskhistorik!E63<>\"\",IF(Riskhistorik!E63=\"Låg\",1,IF(Riskhistorik!E63=\"Medel\",2,3)),0)","v":0},{"$f":"IF(Riskhistorik!F63<>\"\",IF(Riskhistorik!F63=\"Låg\",1,IF(Riskhistorik!F63=\"Medel\",2,3)),0)","v":0},{"$f":"IF(Riskhistorik!G$2<>\"Datum\",IF(Riskhistorik!G63=\"Låg\",1,IF(Riskhistorik!G63=\"Medel\",2,IF(Riskhistorik!G63=\"Hög\",3,0))),A61)","v":0},{"$f":"IF(Riskhistorik!G$2<>\"Datum\",IF(Riskhistorik!H63=\"Låg\",1,IF(Riskhistorik!H63=\"Medel\",2,IF(Riskhistorik!H63=\"Hög\",3,0))),B61)","v":0},{"$f":"IF(Riskhistorik!I$2<>\"Datum\",IF(Riskhistorik!I63=\"Låg\",1,IF(Riskhistorik!I63=\"Medel\",2,IF(Riskhistorik!I63=\"Hög\",3,0))),C61)","v":0},{"$f":"IF(Riskhistorik!I$2<>\"Datum\",IF(Riskhistorik!J63=\"Låg\",1,IF(Riskhistorik!J63=\"Medel\",2,IF(Riskhistorik!J63=\"Hög\",3,0))),D61)","v":0},{"$f":"IF(Riskhistorik!K$2<>\"Datum\",IF(Riskhistorik!K63=\"Låg\",1,IF(Riskhistorik!K63=\"Medel\",2,IF(Riskhistorik!K63=\"Hög\",3,0))),E61)","v":0},{"$f":"IF(Riskhistorik!K$2<>\"Datum\",IF(Riskhistorik!L63=\"Låg\",1,IF(Riskhistorik!L63=\"Medel\",2,IF(Riskhistorik!L63=\"Hög\",3,0))),F61)","v":0},{"$f":"IF(Riskhistorik!M$2<>\"Datum\",IF(Riskhistorik!M63=\"Låg\",1,IF(Riskhistorik!M63=\"Medel\",2,IF(Riskhistorik!M63=\"Hög\",3,0))),G61)","v":0},{"$f":"IF(Riskhistorik!M$2<>\"Datum\",IF(Riskhistorik!N63=\"Låg\",1,IF(Riskhistorik!N63=\"Medel\",2,IF(Riskhistorik!N63=\"Hög\",3,0))),H61)","v":0},{"$f":"IF(Riskhistorik!O$2<>\"Datum\",IF(Riskhistorik!O63=\"Låg\",1,IF(Riskhistorik!O63=\"Medel\",2,IF(Riskhistorik!O63=\"Hög\",3,0))),I61)","v":0},{"$f":"IF(Riskhistorik!O$2<>\"Datum\",IF(Riskhistorik!P63=\"Låg\",1,IF(Riskhistorik!P63=\"Medel\",2,IF(Riskhistorik!P63=\"Hög\",3,0))),J61)","v":0},{"$f":"IF(Riskhistorik!Q$2<>\"Datum\",IF(Riskhistorik!Q63=\"Låg\",1,IF(Riskhistorik!Q63=\"Medel\",2,IF(Riskhistorik!Q63=\"Hög\",3,0))),K61)","v":0},{"$f":"IF(Riskhistorik!Q$2<>\"Datum\",IF(Riskhistorik!R63=\"Låg\",1,IF(Riskhistorik!R63=\"Medel\",2,IF(Riskhistorik!R63=\"Hög\",3,0))),L61)","v":0},{"$f":"IF(Riskhistorik!S$2<>\"Datum\",IF(Riskhistorik!S63=\"Låg\",1,IF(Riskhistorik!S63=\"Medel\",2,IF(Riskhistorik!S63=\"Hög\",3,0))),M61)","v":0},{"$f":"IF(Riskhistorik!S$2<>\"Datum\",IF(Riskhistorik!T63=\"Låg\",1,IF(Riskhistorik!T63=\"Medel\",2,IF(Riskhistorik!T63=\"Hög\",3,0))),N61)","v":0},{"$f":"IF(Riskhistorik!U$2<>\"Datum\",IF(Riskhistorik!U63=\"Låg\",1,IF(Riskhistorik!U63=\"Medel\",2,IF(Riskhistorik!U63=\"Hög\",3,0))),O61)","v":0},{"$f":"IF(Riskhistorik!U$2<>\"Datum\",IF(Riskhistorik!V63=\"Låg\",1,IF(Riskhistorik!V63=\"Medel\",2,IF(Riskhistorik!V63=\"Hög\",3,0))),P61)","v":0},{"$f":"IF(Riskhistorik!W$2<>\"Datum\",IF(Riskhistorik!W63=\"Låg\",1,IF(Riskhistorik!W63=\"Medel\",2,IF(Riskhistorik!W63=\"Hög\",3,0))),Q61)","v":0},{"$f":"IF(Riskhistorik!W$2<>\"Datum\",IF(Riskhistorik!X63=\"Låg\",1,IF(Riskhistorik!X63=\"Medel\",2,IF(Riskhistorik!X63=\"Hög\",3,0))),R61)","v":0},{"$f":"IF(Riskhistorik!Y$2<>\"Datum\",IF(Riskhistorik!Y63=\"Låg\",1,IF(Riskhistorik!Y63=\"Medel\",2,IF(Riskhistorik!Y63=\"Hög\",3,0))),S61)","v":0},{"$f":"IF(Riskhistorik!Y$2<>\"Datum\",IF(Riskhistorik!Z63=\"Låg\",1,IF(Riskhistorik!Z63=\"Medel\",2,IF(Riskhistorik!Z63=\"Hög\",3,0))),T61)","v":0},{"$f":"IF(Riskhistorik!AA$2<>\"Datum\",IF(Riskhistorik!AA63=\"Låg\",1,IF(Riskhistorik!AA63=\"Medel\",2,IF(Riskhistorik!AA63=\"Hög\",3,0))),U61)","v":0},{"$f":"IF(Riskhistorik!AA$2<>\"Datum\",IF(Riskhistorik!AB63=\"Låg\",1,IF(Riskhistorik!AB63=\"Medel\",2,IF(Riskhistorik!AB63=\"Hög\",3,0))),V61)","v":0},{"$f":"IF(Riskhistorik!AC$2<>\"Datum\",IF(Riskhistorik!AC63=\"Låg\",1,IF(Riskhistorik!AC63=\"Medel\",2,IF(Riskhistorik!AC63=\"Hög\",3,0))),W61)","v":0},{"$f":"IF(Riskhistorik!AC$2<>\"Datum\",IF(Riskhistorik!AD63=\"Låg\",1,IF(Riskhistorik!AD63=\"Medel\",2,IF(Riskhistorik!AD63=\"Hög\",3,0))),X61)","v":0},{"$f":"IF(Riskhistorik!AE$2<>\"Datum\",IF(Riskhistorik!AE63=\"Låg\",1,IF(Riskhistorik!AE63=\"Medel\",2,IF(Riskhistorik!AE63=\"Hög\",3,0))),Y61)","v":0},{"$f":"IF(Riskhistorik!AE$2<>\"Datum\",IF(Riskhistorik!AF63=\"Låg\",1,IF(Riskhistorik!AF63=\"Medel\",2,IF(Riskhistorik!AF63=\"Hög\",3,0))),Z61)","v":0},{"$f":"IF(Riskhistorik!AG$2<>\"Datum\",IF(Riskhistorik!AG63=\"Låg\",1,IF(Riskhistorik!AG63=\"Medel\",2,IF(Riskhistorik!AG63=\"Hög\",3,0))),AA61)","v":0},{"$f":"IF(Riskhistorik!AG$2<>\"Datum\",IF(Riskhistorik!AH63=\"Låg\",1,IF(Riskhistorik!AH63=\"Medel\",2,IF(Riskhistorik!AH63=\"Hög\",3,0))),AB61)","v":0},{"$f":"IF(Riskhistorik!AI$2<>\"Datum\",IF(Riskhistorik!AI63=\"Låg\",1,IF(Riskhistorik!AI63=\"Medel\",2,IF(Riskhistorik!AI63=\"Hög\",3,0))),AC61)","v":0},{"$f":"IF(Riskhistorik!AI$2<>\"Datum\",IF(Riskhistorik!AJ63=\"Låg\",1,IF(Riskhistorik!AJ63=\"Medel\",2,IF(Riskhistorik!AJ63=\"Hög\",3,0))),AD61)","v":0},{"$f":"IF(Riskhistorik!AK$2<>\"Datum\",IF(Riskhistorik!AK63=\"Låg\",1,IF(Riskhistorik!AK63=\"Medel\",2,IF(Riskhistorik!AK63=\"Hög\",3,0))),AE61)","v":0},{"$f":"IF(Riskhistorik!AK$2<>\"Datum\",IF(Riskhistorik!AL63=\"Låg\",1,IF(Riskhistorik!AL63=\"Medel\",2,IF(Riskhistorik!AL63=\"Hög\",3,0))),AF61)","v":0},{"$f":"IF(Riskhistorik!AM$2<>\"Datum\",IF(Riskhistorik!AM63=\"Låg\",1,IF(Riskhistorik!AM63=\"Medel\",2,IF(Riskhistorik!AM63=\"Hög\",3,0))),AG61)","v":0},{"$f":"IF(Riskhistorik!AM$2<>\"Datum\",IF(Riskhistorik!AN63=\"Låg\",1,IF(Riskhistorik!AN63=\"Medel\",2,IF(Riskhistorik!AN63=\"Hög\",3,0))),AH61)","v":0},{"$f":"IF(Riskhistorik!AO$2<>\"Datum\",IF(Riskhistorik!AO63=\"Låg\",1,IF(Riskhistorik!AO63=\"Medel\",2,IF(Riskhistorik!AO63=\"Hög\",3,0))),AI61)","v":0},{"$f":"IF(Riskhistorik!AO$2<>\"Datum\",IF(Riskhistorik!AP63=\"Låg\",1,IF(Riskhistorik!AP63=\"Medel\",2,IF(Riskhistorik!AP63=\"Hög\",3,0))),AJ61)","v":0},{"$f":"IF(Riskhistorik!AQ$2<>\"Datum\",IF(Riskhistorik!AQ63=\"Låg\",1,IF(Riskhistorik!AQ63=\"Medel\",2,IF(Riskhistorik!AQ63=\"Hög\",3,0))),AK61)","v":0},{"$f":"IF(Riskhistorik!AQ$2<>\"Datum\",IF(Riskhistorik!AR63=\"Låg\",1,IF(Riskhistorik!AR63=\"Medel\",2,IF(Riskhistorik!AR63=\"Hög\",3,0))),AL61)","v":0},0,0,0,0,0,0,0,0,0,0,0,0,0,0,0,0,0,0,0,0]
[{"$f":"IF(Riskhistorik!E64<>\"\",IF(Riskhistorik!E64=\"Låg\",1,IF(Riskhistorik!E64=\"Medel\",2,3)),0)","v":0},{"$f":"IF(Riskhistorik!F64<>\"\",IF(Riskhistorik!F64=\"Låg\",1,IF(Riskhistorik!F64=\"Medel\",2,3)),0)","v":0},{"$f":"IF(Riskhistorik!G$2<>\"Datum\",IF(Riskhistorik!G64=\"Låg\",1,IF(Riskhistorik!G64=\"Medel\",2,IF(Riskhistorik!G64=\"Hög\",3,0))),A62)","v":0},{"$f":"IF(Riskhistorik!G$2<>\"Datum\",IF(Riskhistorik!H64=\"Låg\",1,IF(Riskhistorik!H64=\"Medel\",2,IF(Riskhistorik!H64=\"Hög\",3,0))),B62)","v":0},{"$f":"IF(Riskhistorik!I$2<>\"Datum\",IF(Riskhistorik!I64=\"Låg\",1,IF(Riskhistorik!I64=\"Medel\",2,IF(Riskhistorik!I64=\"Hög\",3,0))),C62)","v":0},{"$f":"IF(Riskhistorik!I$2<>\"Datum\",IF(Riskhistorik!J64=\"Låg\",1,IF(Riskhistorik!J64=\"Medel\",2,IF(Riskhistorik!J64=\"Hög\",3,0))),D62)","v":0},{"$f":"IF(Riskhistorik!K$2<>\"Datum\",IF(Riskhistorik!K64=\"Låg\",1,IF(Riskhistorik!K64=\"Medel\",2,IF(Riskhistorik!K64=\"Hög\",3,0))),E62)","v":0},{"$f":"IF(Riskhistorik!K$2<>\"Datum\",IF(Riskhistorik!L64=\"Låg\",1,IF(Riskhistorik!L64=\"Medel\",2,IF(Riskhistorik!L64=\"Hög\",3,0))),F62)","v":0},{"$f":"IF(Riskhistorik!M$2<>\"Datum\",IF(Riskhistorik!M64=\"Låg\",1,IF(Riskhistorik!M64=\"Medel\",2,IF(Riskhistorik!M64=\"Hög\",3,0))),G62)","v":0},{"$f":"IF(Riskhistorik!M$2<>\"Datum\",IF(Riskhistorik!N64=\"Låg\",1,IF(Riskhistorik!N64=\"Medel\",2,IF(Riskhistorik!N64=\"Hög\",3,0))),H62)","v":0},{"$f":"IF(Riskhistorik!O$2<>\"Datum\",IF(Riskhistorik!O64=\"Låg\",1,IF(Riskhistorik!O64=\"Medel\",2,IF(Riskhistorik!O64=\"Hög\",3,0))),I62)","v":0},{"$f":"IF(Riskhistorik!O$2<>\"Datum\",IF(Riskhistorik!P64=\"Låg\",1,IF(Riskhistorik!P64=\"Medel\",2,IF(Riskhistorik!P64=\"Hög\",3,0))),J62)","v":0},{"$f":"IF(Riskhistorik!Q$2<>\"Datum\",IF(Riskhistorik!Q64=\"Låg\",1,IF(Riskhistorik!Q64=\"Medel\",2,IF(Riskhistorik!Q64=\"Hög\",3,0))),K62)","v":0},{"$f":"IF(Riskhistorik!Q$2<>\"Datum\",IF(Riskhistorik!R64=\"Låg\",1,IF(Riskhistorik!R64=\"Medel\",2,IF(Riskhistorik!R64=\"Hög\",3,0))),L62)","v":0},{"$f":"IF(Riskhistorik!S$2<>\"Datum\",IF(Riskhistorik!S64=\"Låg\",1,IF(Riskhistorik!S64=\"Medel\",2,IF(Riskhistorik!S64=\"Hög\",3,0))),M62)","v":0},{"$f":"IF(Riskhistorik!S$2<>\"Datum\",IF(Riskhistorik!T64=\"Låg\",1,IF(Riskhistorik!T64=\"Medel\",2,IF(Riskhistorik!T64=\"Hög\",3,0))),N62)","v":0},{"$f":"IF(Riskhistorik!U$2<>\"Datum\",IF(Riskhistorik!U64=\"Låg\",1,IF(Riskhistorik!U64=\"Medel\",2,IF(Riskhistorik!U64=\"Hög\",3,0))),O62)","v":0},{"$f":"IF(Riskhistorik!U$2<>\"Datum\",IF(Riskhistorik!V64=\"Låg\",1,IF(Riskhistorik!V64=\"Medel\",2,IF(Riskhistorik!V64=\"Hög\",3,0))),P62)","v":0},{"$f":"IF(Riskhistorik!W$2<>\"Datum\",IF(Riskhistorik!W64=\"Låg\",1,IF(Riskhistorik!W64=\"Medel\",2,IF(Riskhistorik!W64=\"Hög\",3,0))),Q62)","v":0},{"$f":"IF(Riskhistorik!W$2<>\"Datum\",IF(Riskhistorik!X64=\"Låg\",1,IF(Riskhistorik!X64=\"Medel\",2,IF(Riskhistorik!X64=\"Hög\",3,0))),R62)","v":0},{"$f":"IF(Riskhistorik!Y$2<>\"Datum\",IF(Riskhistorik!Y64=\"Låg\",1,IF(Riskhistorik!Y64=\"Medel\",2,IF(Riskhistorik!Y64=\"Hög\",3,0))),S62)","v":0},{"$f":"IF(Riskhistorik!Y$2<>\"Datum\",IF(Riskhistorik!Z64=\"Låg\",1,IF(Riskhistorik!Z64=\"Medel\",2,IF(Riskhistorik!Z64=\"Hög\",3,0))),T62)","v":0},{"$f":"IF(Riskhistorik!AA$2<>\"Datum\",IF(Riskhistorik!AA64=\"Låg\",1,IF(Riskhistorik!AA64=\"Medel\",2,IF(Riskhistorik!AA64=\"Hög\",3,0))),U62)","v":0},{"$f":"IF(Riskhistorik!AA$2<>\"Datum\",IF(Riskhistorik!AB64=\"Låg\",1,IF(Riskhistorik!AB64=\"Medel\",2,IF(Riskhistorik!AB64=\"Hög\",3,0))),V62)","v":0},{"$f":"IF(Riskhistorik!AC$2<>\"Datum\",IF(Riskhistorik!AC64=\"Låg\",1,IF(Riskhistorik!AC64=\"Medel\",2,IF(Riskhistorik!AC64=\"Hög\",3,0))),W62)","v":0},{"$f":"IF(Riskhistorik!AC$2<>\"Datum\",IF(Riskhistorik!AD64=\"Låg\",1,IF(Riskhistorik!AD64=\"Medel\",2,IF(Riskhistorik!AD64=\"Hög\",3,0))),X62)","v":0},{"$f":"IF(Riskhistorik!AE$2<>\"Datum\",IF(Riskhistorik!AE64=\"Låg\",1,IF(Riskhistorik!AE64=\"Medel\",2,IF(Riskhistorik!AE64=\"Hög\",3,0))),Y62)","v":0},{"$f":"IF(Riskhistorik!AE$2<>\"Datum\",IF(Riskhistorik!AF64=\"Låg\",1,IF(Riskhistorik!AF64=\"Medel\",2,IF(Riskhistorik!AF64=\"Hög\",3,0))),Z62)","v":0},{"$f":"IF(Riskhistorik!AG$2<>\"Datum\",IF(Riskhistorik!AG64=\"Låg\",1,IF(Riskhistorik!AG64=\"Medel\",2,IF(Riskhistorik!AG64=\"Hög\",3,0))),AA62)","v":0},{"$f":"IF(Riskhistorik!AG$2<>\"Datum\",IF(Riskhistorik!AH64=\"Låg\",1,IF(Riskhistorik!AH64=\"Medel\",2,IF(Riskhistorik!AH64=\"Hög\",3,0))),AB62)","v":0},{"$f":"IF(Riskhistorik!AI$2<>\"Datum\",IF(Riskhistorik!AI64=\"Låg\",1,IF(Riskhistorik!AI64=\"Medel\",2,IF(Riskhistorik!AI64=\"Hög\",3,0))),AC62)","v":0},{"$f":"IF(Riskhistorik!AI$2<>\"Datum\",IF(Riskhistorik!AJ64=\"Låg\",1,IF(Riskhistorik!AJ64=\"Medel\",2,IF(Riskhistorik!AJ64=\"Hög\",3,0))),AD62)","v":0},{"$f":"IF(Riskhistorik!AK$2<>\"Datum\",IF(Riskhistorik!AK64=\"Låg\",1,IF(Riskhistorik!AK64=\"Medel\",2,IF(Riskhistorik!AK64=\"Hög\",3,0))),AE62)","v":0},{"$f":"IF(Riskhistorik!AK$2<>\"Datum\",IF(Riskhistorik!AL64=\"Låg\",1,IF(Riskhistorik!AL64=\"Medel\",2,IF(Riskhistorik!AL64=\"Hög\",3,0))),AF62)","v":0},{"$f":"IF(Riskhistorik!AM$2<>\"Datum\",IF(Riskhistorik!AM64=\"Låg\",1,IF(Riskhistorik!AM64=\"Medel\",2,IF(Riskhistorik!AM64=\"Hög\",3,0))),AG62)","v":0},{"$f":"IF(Riskhistorik!AM$2<>\"Datum\",IF(Riskhistorik!AN64=\"Låg\",1,IF(Riskhistorik!AN64=\"Medel\",2,IF(Riskhistorik!AN64=\"Hög\",3,0))),AH62)","v":0},{"$f":"IF(Riskhistorik!AO$2<>\"Datum\",IF(Riskhistorik!AO64=\"Låg\",1,IF(Riskhistorik!AO64=\"Medel\",2,IF(Riskhistorik!AO64=\"Hög\",3,0))),AI62)","v":0},{"$f":"IF(Riskhistorik!AO$2<>\"Datum\",IF(Riskhistorik!AP64=\"Låg\",1,IF(Riskhistorik!AP64=\"Medel\",2,IF(Riskhistorik!AP64=\"Hög\",3,0))),AJ62)","v":0},{"$f":"IF(Riskhistorik!AQ$2<>\"Datum\",IF(Riskhistorik!AQ64=\"Låg\",1,IF(Riskhistorik!AQ64=\"Medel\",2,IF(Riskhistorik!AQ64=\"Hög\",3,0))),AK62)","v":0},{"$f":"IF(Riskhistorik!AQ$2<>\"Datum\",IF(Riskhistorik!AR64=\"Låg\",1,IF(Riskhistorik!AR64=\"Medel\",2,IF(Riskhistorik!AR64=\"Hög\",3,0))),AL62)","v":0},0,0,0,0,0,0,0,0,0,0,0,0,0,0,0,0,0,0,0,0]
[{"$f":"IF(Riskhistorik!E65<>\"\",IF(Riskhistorik!E65=\"Låg\",1,IF(Riskhistorik!E65=\"Medel\",2,3)),0)","v":0},{"$f":"IF(Riskhistorik!F65<>\"\",IF(Riskhistorik!F65=\"Låg\",1,IF(Riskhistorik!F65=\"Medel\",2,3)),0)","v":0},{"$f":"IF(Riskhistorik!G$2<>\"Datum\",IF(Riskhistorik!G65=\"Låg\",1,IF(Riskhistorik!G65=\"Medel\",2,IF(Riskhistorik!G65=\"Hög\",3,0))),A63)","v":0},{"$f":"IF(Riskhistorik!G$2<>\"Datum\",IF(Riskhistorik!H65=\"Låg\",1,IF(Riskhistorik!H65=\"Medel\",2,IF(Riskhistorik!H65=\"Hög\",3,0))),B63)","v":0},{"$f":"IF(Riskhistorik!I$2<>\"Datum\",IF(Riskhistorik!I65=\"Låg\",1,IF(Riskhistorik!I65=\"Medel\",2,IF(Riskhistorik!I65=\"Hög\",3,0))),C63)","v":0},{"$f":"IF(Riskhistorik!I$2<>\"Datum\",IF(Riskhistorik!J65=\"Låg\",1,IF(Riskhistorik!J65=\"Medel\",2,IF(Riskhistorik!J65=\"Hög\",3,0))),D63)","v":0},{"$f":"IF(Riskhistorik!K$2<>\"Datum\",IF(Riskhistorik!K65=\"Låg\",1,IF(Riskhistorik!K65=\"Medel\",2,IF(Riskhistorik!K65=\"Hög\",3,0))),E63)","v":0},{"$f":"IF(Riskhistorik!K$2<>\"Datum\",IF(Riskhistorik!L65=\"Låg\",1,IF(Riskhistorik!L65=\"Medel\",2,IF(Riskhistorik!L65=\"Hög\",3,0))),F63)","v":0},{"$f":"IF(Riskhistorik!M$2<>\"Datum\",IF(Riskhistorik!M65=\"Låg\",1,IF(Riskhistorik!M65=\"Medel\",2,IF(Riskhistorik!M65=\"Hög\",3,0))),G63)","v":0},{"$f":"IF(Riskhistorik!M$2<>\"Datum\",IF(Riskhistorik!N65=\"Låg\",1,IF(Riskhistorik!N65=\"Medel\",2,IF(Riskhistorik!N65=\"Hög\",3,0))),H63)","v":0},{"$f":"IF(Riskhistorik!O$2<>\"Datum\",IF(Riskhistorik!O65=\"Låg\",1,IF(Riskhistorik!O65=\"Medel\",2,IF(Riskhistorik!O65=\"Hög\",3,0))),I63)","v":0},{"$f":"IF(Riskhistorik!O$2<>\"Datum\",IF(Riskhistorik!P65=\"Låg\",1,IF(Riskhistorik!P65=\"Medel\",2,IF(Riskhistorik!P65=\"Hög\",3,0))),J63)","v":0},{"$f":"IF(Riskhistorik!Q$2<>\"Datum\",IF(Riskhistorik!Q65=\"Låg\",1,IF(Riskhistorik!Q65=\"Medel\",2,IF(Riskhistorik!Q65=\"Hög\",3,0))),K63)","v":0},{"$f":"IF(Riskhistorik!Q$2<>\"Datum\",IF(Riskhistorik!R65=\"Låg\",1,IF(Riskhistorik!R65=\"Medel\",2,IF(Riskhistorik!R65=\"Hög\",3,0))),L63)","v":0},{"$f":"IF(Riskhistorik!S$2<>\"Datum\",IF(Riskhistorik!S65=\"Låg\",1,IF(Riskhistorik!S65=\"Medel\",2,IF(Riskhistorik!S65=\"Hög\",3,0))),M63)","v":0},{"$f":"IF(Riskhistorik!S$2<>\"Datum\",IF(Riskhistorik!T65=\"Låg\",1,IF(Riskhistorik!T65=\"Medel\",2,IF(Riskhistorik!T65=\"Hög\",3,0))),N63)","v":0},{"$f":"IF(Riskhistorik!U$2<>\"Datum\",IF(Riskhistorik!U65=\"Låg\",1,IF(Riskhistorik!U65=\"Medel\",2,IF(Riskhistorik!U65=\"Hög\",3,0))),O63)","v":0},{"$f":"IF(Riskhistorik!U$2<>\"Datum\",IF(Riskhistorik!V65=\"Låg\",1,IF(Riskhistorik!V65=\"Medel\",2,IF(Riskhistorik!V65=\"Hög\",3,0))),P63)","v":0},{"$f":"IF(Riskhistorik!W$2<>\"Datum\",IF(Riskhistorik!W65=\"Låg\",1,IF(Riskhistorik!W65=\"Medel\",2,IF(Riskhistorik!W65=\"Hög\",3,0))),Q63)","v":0},{"$f":"IF(Riskhistorik!W$2<>\"Datum\",IF(Riskhistorik!X65=\"Låg\",1,IF(Riskhistorik!X65=\"Medel\",2,IF(Riskhistorik!X65=\"Hög\",3,0))),R63)","v":0},{"$f":"IF(Riskhistorik!Y$2<>\"Datum\",IF(Riskhistorik!Y65=\"Låg\",1,IF(Riskhistorik!Y65=\"Medel\",2,IF(Riskhistorik!Y65=\"Hög\",3,0))),S63)","v":0},{"$f":"IF(Riskhistorik!Y$2<>\"Datum\",IF(Riskhistorik!Z65=\"Låg\",1,IF(Riskhistorik!Z65=\"Medel\",2,IF(Riskhistorik!Z65=\"Hög\",3,0))),T63)","v":0},{"$f":"IF(Riskhistorik!AA$2<>\"Datum\",IF(Riskhistorik!AA65=\"Låg\",1,IF(Riskhistorik!AA65=\"Medel\",2,IF(Riskhistorik!AA65=\"Hög\",3,0))),U63)","v":0},{"$f":"IF(Riskhistorik!AA$2<>\"Datum\",IF(Riskhistorik!AB65=\"Låg\",1,IF(Riskhistorik!AB65=\"Medel\",2,IF(Riskhistorik!AB65=\"Hög\",3,0))),V63)","v":0},{"$f":"IF(Riskhistorik!AC$2<>\"Datum\",IF(Riskhistorik!AC65=\"Låg\",1,IF(Riskhistorik!AC65=\"Medel\",2,IF(Riskhistorik!AC65=\"Hög\",3,0))),W63)","v":0},{"$f":"IF(Riskhistorik!AC$2<>\"Datum\",IF(Riskhistorik!AD65=\"Låg\",1,IF(Riskhistorik!AD65=\"Medel\",2,IF(Riskhistorik!AD65=\"Hög\",3,0))),X63)","v":0},{"$f":"IF(Riskhistorik!AE$2<>\"Datum\",IF(Riskhistorik!AE65=\"Låg\",1,IF(Riskhistorik!AE65=\"Medel\",2,IF(Riskhistorik!AE65=\"Hög\",3,0))),Y63)","v":0},{"$f":"IF(Riskhistorik!AE$2<>\"Datum\",IF(Riskhistorik!AF65=\"Låg\",1,IF(Riskhistorik!AF65=\"Medel\",2,IF(Riskhistorik!AF65=\"Hög\",3,0))),Z63)","v":0},{"$f":"IF(Riskhistorik!AG$2<>\"Datum\",IF(Riskhistorik!AG65=\"Låg\",1,IF(Riskhistorik!AG65=\"Medel\",2,IF(Riskhistorik!AG65=\"Hög\",3,0))),AA63)","v":0},{"$f":"IF(Riskhistorik!AG$2<>\"Datum\",IF(Riskhistorik!AH65=\"Låg\",1,IF(Riskhistorik!AH65=\"Medel\",2,IF(Riskhistorik!AH65=\"Hög\",3,0))),AB63)","v":0},{"$f":"IF(Riskhistorik!AI$2<>\"Datum\",IF(Riskhistorik!AI65=\"Låg\",1,IF(Riskhistorik!AI65=\"Medel\",2,IF(Riskhistorik!AI65=\"Hög\",3,0))),AC63)","v":0},{"$f":"IF(Riskhistorik!AI$2<>\"Datum\",IF(Riskhistorik!AJ65=\"Låg\",1,IF(Riskhistorik!AJ65=\"Medel\",2,IF(Riskhistorik!AJ65=\"Hög\",3,0))),AD63)","v":0},{"$f":"IF(Riskhistorik!AK$2<>\"Datum\",IF(Riskhistorik!AK65=\"Låg\",1,IF(Riskhistorik!AK65=\"Medel\",2,IF(Riskhistorik!AK65=\"Hög\",3,0))),AE63)","v":0},{"$f":"IF(Riskhistorik!AK$2<>\"Datum\",IF(Riskhistorik!AL65=\"Låg\",1,IF(Riskhistorik!AL65=\"Medel\",2,IF(Riskhistorik!AL65=\"Hög\",3,0))),AF63)","v":0},{"$f":"IF(Riskhistorik!AM$2<>\"Datum\",IF(Riskhistorik!AM65=\"Låg\",1,IF(Riskhistorik!AM65=\"Medel\",2,IF(Riskhistorik!AM65=\"Hög\",3,0))),AG63)","v":0},{"$f":"IF(Riskhistorik!AM$2<>\"Datum\",IF(Riskhistorik!AN65=\"Låg\",1,IF(Riskhistorik!AN65=\"Medel\",2,IF(Riskhistorik!AN65=\"Hög\",3,0))),AH63)","v":0},{"$f":"IF(Riskhistorik!AO$2<>\"Datum\",IF(Riskhistorik!AO65=\"Låg\",1,IF(Riskhistorik!AO65=\"Medel\",2,IF(Riskhistorik!AO65=\"Hög\",3,0))),AI63)","v":0},{"$f":"IF(Riskhistorik!AO$2<>\"Datum\",IF(Riskhistorik!AP65=\"Låg\",1,IF(Riskhistorik!AP65=\"Medel\",2,IF(Riskhistorik!AP65=\"Hög\",3,0))),AJ63)","v":0},{"$f":"IF(Riskhistorik!AQ$2<>\"Datum\",IF(Riskhistorik!AQ65=\"Låg\",1,IF(Riskhistorik!AQ65=\"Medel\",2,IF(Riskhistorik!AQ65=\"Hög\",3,0))),AK63)","v":0},{"$f":"IF(Riskhistorik!AQ$2<>\"Datum\",IF(Riskhistorik!AR65=\"Låg\",1,IF(Riskhistorik!AR65=\"Medel\",2,IF(Riskhistorik!AR65=\"Hög\",3,0))),AL63)","v":0},0,0,0,0,0,0,0,0,0,0,0,0,0,0,0,0,0,0,0,0]
[{"$f":"IF(Riskhistorik!E66<>\"\",IF(Riskhistorik!E66=\"Låg\",1,IF(Riskhistorik!E66=\"Medel\",2,3)),0)","v":0},{"$f":"IF(Riskhistorik!F66<>\"\",IF(Riskhistorik!F66=\"Låg\",1,IF(Riskhistorik!F66=\"Medel\",2,3)),0)","v":0},{"$f":"IF(Riskhistorik!G$2<>\"Datum\",IF(Riskhistorik!G66=\"Låg\",1,IF(Riskhistorik!G66=\"Medel\",2,IF(Riskhistorik!G66=\"Hög\",3,0))),A64)","v":0},{"$f":"IF(Riskhistorik!G$2<>\"Datum\",IF(Riskhistorik!H66=\"Låg\",1,IF(Riskhistorik!H66=\"Medel\",2,IF(Riskhistorik!H66=\"Hög\",3,0))),B64)","v":0},{"$f":"IF(Riskhistorik!I$2<>\"Datum\",IF(Riskhistorik!I66=\"Låg\",1,IF(Riskhistorik!I66=\"Medel\",2,IF(Riskhistorik!I66=\"Hög\",3,0))),C64)","v":0},{"$f":"IF(Riskhistorik!I$2<>\"Datum\",IF(Riskhistorik!J66=\"Låg\",1,IF(Riskhistorik!J66=\"Medel\",2,IF(Riskhistorik!J66=\"Hög\",3,0))),D64)","v":0},{"$f":"IF(Riskhistorik!K$2<>\"Datum\",IF(Riskhistorik!K66=\"Låg\",1,IF(Riskhistorik!K66=\"Medel\",2,IF(Riskhistorik!K66=\"Hög\",3,0))),E64)","v":0},{"$f":"IF(Riskhistorik!K$2<>\"Datum\",IF(Riskhistorik!L66=\"Låg\",1,IF(Riskhistorik!L66=\"Medel\",2,IF(Riskhistorik!L66=\"Hög\",3,0))),F64)","v":0},{"$f":"IF(Riskhistorik!M$2<>\"Datum\",IF(Riskhistorik!M66=\"Låg\",1,IF(Riskhistorik!M66=\"Medel\",2,IF(Riskhistorik!M66=\"Hög\",3,0))),G64)","v":0},{"$f":"IF(Riskhistorik!M$2<>\"Datum\",IF(Riskhistorik!N66=\"Låg\",1,IF(Riskhistorik!N66=\"Medel\",2,IF(Riskhistorik!N66=\"Hög\",3,0))),H64)","v":0},{"$f":"IF(Riskhistorik!O$2<>\"Datum\",IF(Riskhistorik!O66=\"Låg\",1,IF(Riskhistorik!O66=\"Medel\",2,IF(Riskhistorik!O66=\"Hög\",3,0))),I64)","v":0},{"$f":"IF(Riskhistorik!O$2<>\"Datum\",IF(Riskhistorik!P66=\"Låg\",1,IF(Riskhistorik!P66=\"Medel\",2,IF(Riskhistorik!P66=\"Hög\",3,0))),J64)","v":0},{"$f":"IF(Riskhistorik!Q$2<>\"Datum\",IF(Riskhistorik!Q66=\"Låg\",1,IF(Riskhistorik!Q66=\"Medel\",2,IF(Riskhistorik!Q66=\"Hög\",3,0))),K64)","v":0},{"$f":"IF(Riskhistorik!Q$2<>\"Datum\",IF(Riskhistorik!R66=\"Låg\",1,IF(Riskhistorik!R66=\"Medel\",2,IF(Riskhistorik!R66=\"Hög\",3,0))),L64)","v":0},{"$f":"IF(Riskhistorik!S$2<>\"Datum\",IF(Riskhistorik!S66=\"Låg\",1,IF(Riskhistorik!S66=\"Medel\",2,IF(Riskhistorik!S66=\"Hög\",3,0))),M64)","v":0},{"$f":"IF(Riskhistorik!S$2<>\"Datum\",IF(Riskhistorik!T66=\"Låg\",1,IF(Riskhistorik!T66=\"Medel\",2,IF(Riskhistorik!T66=\"Hög\",3,0))),N64)","v":0},{"$f":"IF(Riskhistorik!U$2<>\"Datum\",IF(Riskhistorik!U66=\"Låg\",1,IF(Riskhistorik!U66=\"Medel\",2,IF(Riskhistorik!U66=\"Hög\",3,0))),O64)","v":0},{"$f":"IF(Riskhistorik!U$2<>\"Datum\",IF(Riskhistorik!V66=\"Låg\",1,IF(Riskhistorik!V66=\"Medel\",2,IF(Riskhistorik!V66=\"Hög\",3,0))),P64)","v":0},{"$f":"IF(Riskhistorik!W$2<>\"Datum\",IF(Riskhistorik!W66=\"Låg\",1,IF(Riskhistorik!W66=\"Medel\",2,IF(Riskhistorik!W66=\"Hög\",3,0))),Q64)","v":0},{"$f":"IF(Riskhistorik!W$2<>\"Datum\",IF(Riskhistorik!X66=\"Låg\",1,IF(Riskhistorik!X66=\"Medel\",2,IF(Riskhistorik!X66=\"Hög\",3,0))),R64)","v":0},{"$f":"IF(Riskhistorik!Y$2<>\"Datum\",IF(Riskhistorik!Y66=\"Låg\",1,IF(Riskhistorik!Y66=\"Medel\",2,IF(Riskhistorik!Y66=\"Hög\",3,0))),S64)","v":0},{"$f":"IF(Riskhistorik!Y$2<>\"Datum\",IF(Riskhistorik!Z66=\"Låg\",1,IF(Riskhistorik!Z66=\"Medel\",2,IF(Riskhistorik!Z66=\"Hög\",3,0))),T64)","v":0},{"$f":"IF(Riskhistorik!AA$2<>\"Datum\",IF(Riskhistorik!AA66=\"Låg\",1,IF(Riskhistorik!AA66=\"Medel\",2,IF(Riskhistorik!AA66=\"Hög\",3,0))),U64)","v":0},{"$f":"IF(Riskhistorik!AA$2<>\"Datum\",IF(Riskhistorik!AB66=\"Låg\",1,IF(Riskhistorik!AB66=\"Medel\",2,IF(Riskhistorik!AB66=\"Hög\",3,0))),V64)","v":0},{"$f":"IF(Riskhistorik!AC$2<>\"Datum\",IF(Riskhistorik!AC66=\"Låg\",1,IF(Riskhistorik!AC66=\"Medel\",2,IF(Riskhistorik!AC66=\"Hög\",3,0))),W64)","v":0},{"$f":"IF(Riskhistorik!AC$2<>\"Datum\",IF(Riskhistorik!AD66=\"Låg\",1,IF(Riskhistorik!AD66=\"Medel\",2,IF(Riskhistorik!AD66=\"Hög\",3,0))),X64)","v":0},{"$f":"IF(Riskhistorik!AE$2<>\"Datum\",IF(Riskhistorik!AE66=\"Låg\",1,IF(Riskhistorik!AE66=\"Medel\",2,IF(Riskhistorik!AE66=\"Hög\",3,0))),Y64)","v":0},{"$f":"IF(Riskhistorik!AE$2<>\"Datum\",IF(Riskhistorik!AF66=\"Låg\",1,IF(Riskhistorik!AF66=\"Medel\",2,IF(Riskhistorik!AF66=\"Hög\",3,0))),Z64)","v":0},{"$f":"IF(Riskhistorik!AG$2<>\"Datum\",IF(Riskhistorik!AG66=\"Låg\",1,IF(Riskhistorik!AG66=\"Medel\",2,IF(Riskhistorik!AG66=\"Hög\",3,0))),AA64)","v":0},{"$f":"IF(Riskhistorik!AG$2<>\"Datum\",IF(Riskhistorik!AH66=\"Låg\",1,IF(Riskhistorik!AH66=\"Medel\",2,IF(Riskhistorik!AH66=\"Hög\",3,0))),AB64)","v":0},{"$f":"IF(Riskhistorik!AI$2<>\"Datum\",IF(Riskhistorik!AI66=\"Låg\",1,IF(Riskhistorik!AI66=\"Medel\",2,IF(Riskhistorik!AI66=\"Hög\",3,0))),AC64)","v":0},{"$f":"IF(Riskhistorik!AI$2<>\"Datum\",IF(Riskhistorik!AJ66=\"Låg\",1,IF(Riskhistorik!AJ66=\"Medel\",2,IF(Riskhistorik!AJ66=\"Hög\",3,0))),AD64)","v":0},{"$f":"IF(Riskhistorik!AK$2<>\"Datum\",IF(Riskhistorik!AK66=\"Låg\",1,IF(Riskhistorik!AK66=\"Medel\",2,IF(Riskhistorik!AK66=\"Hög\",3,0))),AE64)","v":0},{"$f":"IF(Riskhistorik!AK$2<>\"Datum\",IF(Riskhistorik!AL66=\"Låg\",1,IF(Riskhistorik!AL66=\"Medel\",2,IF(Riskhistorik!AL66=\"Hög\",3,0))),AF64)","v":0},{"$f":"IF(Riskhistorik!AM$2<>\"Datum\",IF(Riskhistorik!AM66=\"Låg\",1,IF(Riskhistorik!AM66=\"Medel\",2,IF(Riskhistorik!AM66=\"Hög\",3,0))),AG64)","v":0},{"$f":"IF(Riskhistorik!AM$2<>\"Datum\",IF(Riskhistorik!AN66=\"Låg\",1,IF(Riskhistorik!AN66=\"Medel\",2,IF(Riskhistorik!AN66=\"Hög\",3,0))),AH64)","v":0},{"$f":"IF(Riskhistorik!AO$2<>\"Datum\",IF(Riskhistorik!AO66=\"Låg\",1,IF(Riskhistorik!AO66=\"Medel\",2,IF(Riskhistorik!AO66=\"Hög\",3,0))),AI64)","v":0},{"$f":"IF(Riskhistorik!AO$2<>\"Datum\",IF(Riskhistorik!AP66=\"Låg\",1,IF(Riskhistorik!AP66=\"Medel\",2,IF(Riskhistorik!AP66=\"Hög\",3,0))),AJ64)","v":0},{"$f":"IF(Riskhistorik!AQ$2<>\"Datum\",IF(Riskhistorik!AQ66=\"Låg\",1,IF(Riskhistorik!AQ66=\"Medel\",2,IF(Riskhistorik!AQ66=\"Hög\",3,0))),AK64)","v":0},{"$f":"IF(Riskhistorik!AQ$2<>\"Datum\",IF(Riskhistorik!AR66=\"Låg\",1,IF(Riskhistorik!AR66=\"Medel\",2,IF(Riskhistorik!AR66=\"Hög\",3,0))),AL64)","v":0},0,0,0,0,0,0,0,0,0,0,0,0,0,0,0,0,0,0,0,0]
[{"$f":"IF(Riskhistorik!E67<>\"\",IF(Riskhistorik!E67=\"Låg\",1,IF(Riskhistorik!E67=\"Medel\",2,3)),0)","v":0},{"$f":"IF(Riskhistorik!F67<>\"\",IF(Riskhistorik!F67=\"Låg\",1,IF(Riskhistorik!F67=\"Medel\",2,3)),0)","v":0},{"$f":"IF(Riskhistorik!G$2<>\"Datum\",IF(Riskhistorik!G67=\"Låg\",1,IF(Riskhistorik!G67=\"Medel\",2,IF(Riskhistorik!G67=\"Hög\",3,0))),A65)","v":0},{"$f":"IF(Riskhistorik!G$2<>\"Datum\",IF(Riskhistorik!H67=\"Låg\",1,IF(Riskhistorik!H67=\"Medel\",2,IF(Riskhistorik!H67=\"Hög\",3,0))),B65)","v":0},{"$f":"IF(Riskhistorik!I$2<>\"Datum\",IF(Riskhistorik!I67=\"Låg\",1,IF(Riskhistorik!I67=\"Medel\",2,IF(Riskhistorik!I67=\"Hög\",3,0))),C65)","v":0},{"$f":"IF(Riskhistorik!I$2<>\"Datum\",IF(Riskhistorik!J67=\"Låg\",1,IF(Riskhistorik!J67=\"Medel\",2,IF(Riskhistorik!J67=\"Hög\",3,0))),D65)","v":0},{"$f":"IF(Riskhistorik!K$2<>\"Datum\",IF(Riskhistorik!K67=\"Låg\",1,IF(Riskhistorik!K67=\"Medel\",2,IF(Riskhistorik!K67=\"Hög\",3,0))),E65)","v":0},{"$f":"IF(Riskhistorik!K$2<>\"Datum\",IF(Riskhistorik!L67=\"Låg\",1,IF(Riskhistorik!L67=\"Medel\",2,IF(Riskhistorik!L67=\"Hög\",3,0))),F65)","v":0},{"$f":"IF(Riskhistorik!M$2<>\"Datum\",IF(Riskhistorik!M67=\"Låg\",1,IF(Riskhistorik!M67=\"Medel\",2,IF(Riskhistorik!M67=\"Hög\",3,0))),G65)","v":0},{"$f":"IF(Riskhistorik!M$2<>\"Datum\",IF(Riskhistorik!N67=\"Låg\",1,IF(Riskhistorik!N67=\"Medel\",2,IF(Riskhistorik!N67=\"Hög\",3,0))),H65)","v":0},{"$f":"IF(Riskhistorik!O$2<>\"Datum\",IF(Riskhistorik!O67=\"Låg\",1,IF(Riskhistorik!O67=\"Medel\",2,IF(Riskhistorik!O67=\"Hög\",3,0))),I65)","v":0},{"$f":"IF(Riskhistorik!O$2<>\"Datum\",IF(Riskhistorik!P67=\"Låg\",1,IF(Riskhistorik!P67=\"Medel\",2,IF(Riskhistorik!P67=\"Hög\",3,0))),J65)","v":0},{"$f":"IF(Riskhistorik!Q$2<>\"Datum\",IF(Riskhistorik!Q67=\"Låg\",1,IF(Riskhistorik!Q67=\"Medel\",2,IF(Riskhistorik!Q67=\"Hög\",3,0))),K65)","v":0},{"$f":"IF(Riskhistorik!Q$2<>\"Datum\",IF(Riskhistorik!R67=\"Låg\",1,IF(Riskhistorik!R67=\"Medel\",2,IF(Riskhistorik!R67=\"Hög\",3,0))),L65)","v":0},{"$f":"IF(Riskhistorik!S$2<>\"Datum\",IF(Riskhistorik!S67=\"Låg\",1,IF(Riskhistorik!S67=\"Medel\",2,IF(Riskhistorik!S67=\"Hög\",3,0))),M65)","v":0},{"$f":"IF(Riskhistorik!S$2<>\"Datum\",IF(Riskhistorik!T67=\"Låg\",1,IF(Riskhistorik!T67=\"Medel\",2,IF(Riskhistorik!T67=\"Hög\",3,0))),N65)","v":0},{"$f":"IF(Riskhistorik!U$2<>\"Datum\",IF(Riskhistorik!U67=\"Låg\",1,IF(Riskhistorik!U67=\"Medel\",2,IF(Riskhistorik!U67=\"Hög\",3,0))),O65)","v":0},{"$f":"IF(Riskhistorik!U$2<>\"Datum\",IF(Riskhistorik!V67=\"Låg\",1,IF(Riskhistorik!V67=\"Medel\",2,IF(Riskhistorik!V67=\"Hög\",3,0))),P65)","v":0},{"$f":"IF(Riskhistorik!W$2<>\"Datum\",IF(Riskhistorik!W67=\"Låg\",1,IF(Riskhistorik!W67=\"Medel\",2,IF(Riskhistorik!W67=\"Hög\",3,0))),Q65)","v":0},{"$f":"IF(Riskhistorik!W$2<>\"Datum\",IF(Riskhistorik!X67=\"Låg\",1,IF(Riskhistorik!X67=\"Medel\",2,IF(Riskhistorik!X67=\"Hög\",3,0))),R65)","v":0},{"$f":"IF(Riskhistorik!Y$2<>\"Datum\",IF(Riskhistorik!Y67=\"Låg\",1,IF(Riskhistorik!Y67=\"Medel\",2,IF(Riskhistorik!Y67=\"Hög\",3,0))),S65)","v":0},{"$f":"IF(Riskhistorik!Y$2<>\"Datum\",IF(Riskhistorik!Z67=\"Låg\",1,IF(Riskhistorik!Z67=\"Medel\",2,IF(Riskhistorik!Z67=\"Hög\",3,0))),T65)","v":0},{"$f":"IF(Riskhistorik!AA$2<>\"Datum\",IF(Riskhistorik!AA67=\"Låg\",1,IF(Riskhistorik!AA67=\"Medel\",2,IF(Riskhistorik!AA67=\"Hög\",3,0))),U65)","v":0},{"$f":"IF(Riskhistorik!AA$2<>\"Datum\",IF(Riskhistorik!AB67=\"Låg\",1,IF(Riskhistorik!AB67=\"Medel\",2,IF(Riskhistorik!AB67=\"Hög\",3,0))),V65)","v":0},{"$f":"IF(Riskhistorik!AC$2<>\"Datum\",IF(Riskhistorik!AC67=\"Låg\",1,IF(Riskhistorik!AC67=\"Medel\",2,IF(Riskhistorik!AC67=\"Hög\",3,0))),W65)","v":0},{"$f":"IF(Riskhistorik!AC$2<>\"Datum\",IF(Riskhistorik!AD67=\"Låg\",1,IF(Riskhistorik!AD67=\"Medel\",2,IF(Riskhistorik!AD67=\"Hög\",3,0))),X65)","v":0},{"$f":"IF(Riskhistorik!AE$2<>\"Datum\",IF(Riskhistorik!AE67=\"Låg\",1,IF(Riskhistorik!AE67=\"Medel\",2,IF(Riskhistorik!AE67=\"Hög\",3,0))),Y65)","v":0},{"$f":"IF(Riskhistorik!AE$2<>\"Datum\",IF(Riskhistorik!AF67=\"Låg\",1,IF(Riskhistorik!AF67=\"Medel\",2,IF(Riskhistorik!AF67=\"Hög\",3,0))),Z65)","v":0},{"$f":"IF(Riskhistorik!AG$2<>\"Datum\",IF(Riskhistorik!AG67=\"Låg\",1,IF(Riskhistorik!AG67=\"Medel\",2,IF(Riskhistorik!AG67=\"Hög\",3,0))),AA65)","v":0},{"$f":"IF(Riskhistorik!AG$2<>\"Datum\",IF(Riskhistorik!AH67=\"Låg\",1,IF(Riskhistorik!AH67=\"Medel\",2,IF(Riskhistorik!AH67=\"Hög\",3,0))),AB65)","v":0},{"$f":"IF(Riskhistorik!AI$2<>\"Datum\",IF(Riskhistorik!AI67=\"Låg\",1,IF(Riskhistorik!AI67=\"Medel\",2,IF(Riskhistorik!AI67=\"Hög\",3,0))),AC65)","v":0},{"$f":"IF(Riskhistorik!AI$2<>\"Datum\",IF(Riskhistorik!AJ67=\"Låg\",1,IF(Riskhistorik!AJ67=\"Medel\",2,IF(Riskhistorik!AJ67=\"Hög\",3,0))),AD65)","v":0},{"$f":"IF(Riskhistorik!AK$2<>\"Datum\",IF(Riskhistorik!AK67=\"Låg\",1,IF(Riskhistorik!AK67=\"Medel\",2,IF(Riskhistorik!AK67=\"Hög\",3,0))),AE65)","v":0},{"$f":"IF(Riskhistorik!AK$2<>\"Datum\",IF(Riskhistorik!AL67=\"Låg\",1,IF(Riskhistorik!AL67=\"Medel\",2,IF(Riskhistorik!AL67=\"Hög\",3,0))),AF65)","v":0},{"$f":"IF(Riskhistorik!AM$2<>\"Datum\",IF(Riskhistorik!AM67=\"Låg\",1,IF(Riskhistorik!AM67=\"Medel\",2,IF(Riskhistorik!AM67=\"Hög\",3,0))),AG65)","v":0},{"$f":"IF(Riskhistorik!AM$2<>\"Datum\",IF(Riskhistorik!AN67=\"Låg\",1,IF(Riskhistorik!AN67=\"Medel\",2,IF(Riskhistorik!AN67=\"Hög\",3,0))),AH65)","v":0},{"$f":"IF(Riskhistorik!AO$2<>\"Datum\",IF(Riskhistorik!AO67=\"Låg\",1,IF(Riskhistorik!AO67=\"Medel\",2,IF(Riskhistorik!AO67=\"Hög\",3,0))),AI65)","v":0},{"$f":"IF(Riskhistorik!AO$2<>\"Datum\",IF(Riskhistorik!AP67=\"Låg\",1,IF(Riskhistorik!AP67=\"Medel\",2,IF(Riskhistorik!AP67=\"Hög\",3,0))),AJ65)","v":0},{"$f":"IF(Riskhistorik!AQ$2<>\"Datum\",IF(Riskhistorik!AQ67=\"Låg\",1,IF(Riskhistorik!AQ67=\"Medel\",2,IF(Riskhistorik!AQ67=\"Hög\",3,0))),AK65)","v":0},{"$f":"IF(Riskhistorik!AQ$2<>\"Datum\",IF(Riskhistorik!AR67=\"Låg\",1,IF(Riskhistorik!AR67=\"Medel\",2,IF(Riskhistorik!AR67=\"Hög\",3,0))),AL65)","v":0},0,0,0,0,0,0,0,0,0,0,0,0,0,0,0,0,0,0,0,0]
[{"$f":"IF(Riskhistorik!E68<>\"\",IF(Riskhistorik!E68=\"Låg\",1,IF(Riskhistorik!E68=\"Medel\",2,3)),0)","v":0},{"$f":"IF(Riskhistorik!F68<>\"\",IF(Riskhistorik!F68=\"Låg\",1,IF(Riskhistorik!F68=\"Medel\",2,3)),0)","v":0},{"$f":"IF(Riskhistorik!G$2<>\"Datum\",IF(Riskhistorik!G68=\"Låg\",1,IF(Riskhistorik!G68=\"Medel\",2,IF(Riskhistorik!G68=\"Hög\",3,0))),A66)","v":0},{"$f":"IF(Riskhistorik!G$2<>\"Datum\",IF(Riskhistorik!H68=\"Låg\",1,IF(Riskhistorik!H68=\"Medel\",2,IF(Riskhistorik!H68=\"Hög\",3,0))),B66)","v":0},{"$f":"IF(Riskhistorik!I$2<>\"Datum\",IF(Riskhistorik!I68=\"Låg\",1,IF(Riskhistorik!I68=\"Medel\",2,IF(Riskhistorik!I68=\"Hög\",3,0))),C66)","v":0},{"$f":"IF(Riskhistorik!I$2<>\"Datum\",IF(Riskhistorik!J68=\"Låg\",1,IF(Riskhistorik!J68=\"Medel\",2,IF(Riskhistorik!J68=\"Hög\",3,0))),D66)","v":0},{"$f":"IF(Riskhistorik!K$2<>\"Datum\",IF(Riskhistorik!K68=\"Låg\",1,IF(Riskhistorik!K68=\"Medel\",2,IF(Riskhistorik!K68=\"Hög\",3,0))),E66)","v":0},{"$f":"IF(Riskhistorik!K$2<>\"Datum\",IF(Riskhistorik!L68=\"Låg\",1,IF(Riskhistorik!L68=\"Medel\",2,IF(Riskhistorik!L68=\"Hög\",3,0))),F66)","v":0},{"$f":"IF(Riskhistorik!M$2<>\"Datum\",IF(Riskhistorik!M68=\"Låg\",1,IF(Riskhistorik!M68=\"Medel\",2,IF(Riskhistorik!M68=\"Hög\",3,0))),G66)","v":0},{"$f":"IF(Riskhistorik!M$2<>\"Datum\",IF(Riskhistorik!N68=\"Låg\",1,IF(Riskhistorik!N68=\"Medel\",2,IF(Riskhistorik!N68=\"Hög\",3,0))),H66)","v":0},{"$f":"IF(Riskhistorik!O$2<>\"Datum\",IF(Riskhistorik!O68=\"Låg\",1,IF(Riskhistorik!O68=\"Medel\",2,IF(Riskhistorik!O68=\"Hög\",3,0))),I66)","v":0},{"$f":"IF(Riskhistorik!O$2<>\"Datum\",IF(Riskhistorik!P68=\"Låg\",1,IF(Riskhistorik!P68=\"Medel\",2,IF(Riskhistorik!P68=\"Hög\",3,0))),J66)","v":0},{"$f":"IF(Riskhistorik!Q$2<>\"Datum\",IF(Riskhistorik!Q68=\"Låg\",1,IF(Riskhistorik!Q68=\"Medel\",2,IF(Riskhistorik!Q68=\"Hög\",3,0))),K66)","v":0},{"$f":"IF(Riskhistorik!Q$2<>\"Datum\",IF(Riskhistorik!R68=\"Låg\",1,IF(Riskhistorik!R68=\"Medel\",2,IF(Riskhistorik!R68=\"Hög\",3,0))),L66)","v":0},{"$f":"IF(Riskhistorik!S$2<>\"Datum\",IF(Riskhistorik!S68=\"Låg\",1,IF(Riskhistorik!S68=\"Medel\",2,IF(Riskhistorik!S68=\"Hög\",3,0))),M66)","v":0},{"$f":"IF(Riskhistorik!S$2<>\"Datum\",IF(Riskhistorik!T68=\"Låg\",1,IF(Riskhistorik!T68=\"Medel\",2,IF(Riskhistorik!T68=\"Hög\",3,0))),N66)","v":0},{"$f":"IF(Riskhistorik!U$2<>\"Datum\",IF(Riskhistorik!U68=\"Låg\",1,IF(Riskhistorik!U68=\"Medel\",2,IF(Riskhistorik!U68=\"Hög\",3,0))),O66)","v":0},{"$f":"IF(Riskhistorik!U$2<>\"Datum\",IF(Riskhistorik!V68=\"Låg\",1,IF(Riskhistorik!V68=\"Medel\",2,IF(Riskhistorik!V68=\"Hög\",3,0))),P66)","v":0},{"$f":"IF(Riskhistorik!W$2<>\"Datum\",IF(Riskhistorik!W68=\"Låg\",1,IF(Riskhistorik!W68=\"Medel\",2,IF(Riskhistorik!W68=\"Hög\",3,0))),Q66)","v":0},{"$f":"IF(Riskhistorik!W$2<>\"Datum\",IF(Riskhistorik!X68=\"Låg\",1,IF(Riskhistorik!X68=\"Medel\",2,IF(Riskhistorik!X68=\"Hög\",3,0))),R66)","v":0},{"$f":"IF(Riskhistorik!Y$2<>\"Datum\",IF(Riskhistorik!Y68=\"Låg\",1,IF(Riskhistorik!Y68=\"Medel\",2,IF(Riskhistorik!Y68=\"Hög\",3,0))),S66)","v":0},{"$f":"IF(Riskhistorik!Y$2<>\"Datum\",IF(Riskhistorik!Z68=\"Låg\",1,IF(Riskhistorik!Z68=\"Medel\",2,IF(Riskhistorik!Z68=\"Hög\",3,0))),T66)","v":0},{"$f":"IF(Riskhistorik!AA$2<>\"Datum\",IF(Riskhistorik!AA68=\"Låg\",1,IF(Riskhistorik!AA68=\"Medel\",2,IF(Riskhistorik!AA68=\"Hög\",3,0))),U66)","v":0},{"$f":"IF(Riskhistorik!AA$2<>\"Datum\",IF(Riskhistorik!AB68=\"Låg\",1,IF(Riskhistorik!AB68=\"Medel\",2,IF(Riskhistorik!AB68=\"Hög\",3,0))),V66)","v":0},{"$f":"IF(Riskhistorik!AC$2<>\"Datum\",IF(Riskhistorik!AC68=\"Låg\",1,IF(Riskhistorik!AC68=\"Medel\",2,IF(Riskhistorik!AC68=\"Hög\",3,0))),W66)","v":0},{"$f":"IF(Riskhistorik!AC$2<>\"Datum\",IF(Riskhistorik!AD68=\"Låg\",1,IF(Riskhistorik!AD68=\"Medel\",2,IF(Riskhistorik!AD68=\"Hög\",3,0))),X66)","v":0},{"$f":"IF(Riskhistorik!AE$2<>\"Datum\",IF(Riskhistorik!AE68=\"Låg\",1,IF(Riskhistorik!AE68=\"Medel\",2,IF(Riskhistorik!AE68=\"Hög\",3,0))),Y66)","v":0},{"$f":"IF(Riskhistorik!AE$2<>\"Datum\",IF(Riskhistorik!AF68=\"Låg\",1,IF(Riskhistorik!AF68=\"Medel\",2,IF(Riskhistorik!AF68=\"Hög\",3,0))),Z66)","v":0},{"$f":"IF(Riskhistorik!AG$2<>\"Datum\",IF(Riskhistorik!AG68=\"Låg\",1,IF(Riskhistorik!AG68=\"Medel\",2,IF(Riskhistorik!AG68=\"Hög\",3,0))),AA66)","v":0},{"$f":"IF(Riskhistorik!AG$2<>\"Datum\",IF(Riskhistorik!AH68=\"Låg\",1,IF(Riskhistorik!AH68=\"Medel\",2,IF(Riskhistorik!AH68=\"Hög\",3,0))),AB66)","v":0},{"$f":"IF(Riskhistorik!AI$2<>\"Datum\",IF(Riskhistorik!AI68=\"Låg\",1,IF(Riskhistorik!AI68=\"Medel\",2,IF(Riskhistorik!AI68=\"Hög\",3,0))),AC66)","v":0},{"$f":"IF(Riskhistorik!AI$2<>\"Datum\",IF(Riskhistorik!AJ68=\"Låg\",1,IF(Riskhistorik!AJ68=\"Medel\",2,IF(Riskhistorik!AJ68=\"Hög\",3,0))),AD66)","v":0},{"$f":"IF(Riskhistorik!AK$2<>\"Datum\",IF(Riskhistorik!AK68=\"Låg\",1,IF(Riskhistorik!AK68=\"Medel\",2,IF(Riskhistorik!AK68=\"Hög\",3,0))),AE66)","v":0},{"$f":"IF(Riskhistorik!AK$2<>\"Datum\",IF(Riskhistorik!AL68=\"Låg\",1,IF(Riskhistorik!AL68=\"Medel\",2,IF(Riskhistorik!AL68=\"Hög\",3,0))),AF66)","v":0},{"$f":"IF(Riskhistorik!AM$2<>\"Datum\",IF(Riskhistorik!AM68=\"Låg\",1,IF(Riskhistorik!AM68=\"Medel\",2,IF(Riskhistorik!AM68=\"Hög\",3,0))),AG66)","v":0},{"$f":"IF(Riskhistorik!AM$2<>\"Datum\",IF(Riskhistorik!AN68=\"Låg\",1,IF(Riskhistorik!AN68=\"Medel\",2,IF(Riskhistorik!AN68=\"Hög\",3,0))),AH66)","v":0},{"$f":"IF(Riskhistorik!AO$2<>\"Datum\",IF(Riskhistorik!AO68=\"Låg\",1,IF(Riskhistorik!AO68=\"Medel\",2,IF(Riskhistorik!AO68=\"Hög\",3,0))),AI66)","v":0},{"$f":"IF(Riskhistorik!AO$2<>\"Datum\",IF(Riskhistorik!AP68=\"Låg\",1,IF(Riskhistorik!AP68=\"Medel\",2,IF(Riskhistorik!AP68=\"Hög\",3,0))),AJ66)","v":0},{"$f":"IF(Riskhistorik!AQ$2<>\"Datum\",IF(Riskhistorik!AQ68=\"Låg\",1,IF(Riskhistorik!AQ68=\"Medel\",2,IF(Riskhistorik!AQ68=\"Hög\",3,0))),AK66)","v":0},{"$f":"IF(Riskhistorik!AQ$2<>\"Datum\",IF(Riskhistorik!AR68=\"Låg\",1,IF(Riskhistorik!AR68=\"Medel\",2,IF(Riskhistorik!AR68=\"Hög\",3,0))),AL66)","v":0},0,0,0,0,0,0,0,0,0,0,0,0,0,0,0,0,0,0,0,0]
[{"$f":"IF(Riskhistorik!E69<>\"\",IF(Riskhistorik!E69=\"Låg\",1,IF(Riskhistorik!E69=\"Medel\",2,3)),0)","v":0},{"$f":"IF(Riskhistorik!F69<>\"\",IF(Riskhistorik!F69=\"Låg\",1,IF(Riskhistorik!F69=\"Medel\",2,3)),0)","v":0},{"$f":"IF(Riskhistorik!G$2<>\"Datum\",IF(Riskhistorik!G69=\"Låg\",1,IF(Riskhistorik!G69=\"Medel\",2,IF(Riskhistorik!G69=\"Hög\",3,0))),A67)","v":0},{"$f":"IF(Riskhistorik!G$2<>\"Datum\",IF(Riskhistorik!H69=\"Låg\",1,IF(Riskhistorik!H69=\"Medel\",2,IF(Riskhistorik!H69=\"Hög\",3,0))),B67)","v":0},{"$f":"IF(Riskhistorik!I$2<>\"Datum\",IF(Riskhistorik!I69=\"Låg\",1,IF(Riskhistorik!I69=\"Medel\",2,IF(Riskhistorik!I69=\"Hög\",3,0))),C67)","v":0},{"$f":"IF(Riskhistorik!I$2<>\"Datum\",IF(Riskhistorik!J69=\"Låg\",1,IF(Riskhistorik!J69=\"Medel\",2,IF(Riskhistorik!J69=\"Hög\",3,0))),D67)","v":0},{"$f":"IF(Riskhistorik!K$2<>\"Datum\",IF(Riskhistorik!K69=\"Låg\",1,IF(Riskhistorik!K69=\"Medel\",2,IF(Riskhistorik!K69=\"Hög\",3,0))),E67)","v":0},{"$f":"IF(Riskhistorik!K$2<>\"Datum\",IF(Riskhistorik!L69=\"Låg\",1,IF(Riskhistorik!L69=\"Medel\",2,IF(Riskhistorik!L69=\"Hög\",3,0))),F67)","v":0},{"$f":"IF(Riskhistorik!M$2<>\"Datum\",IF(Riskhistorik!M69=\"Låg\",1,IF(Riskhistorik!M69=\"Medel\",2,IF(Riskhistorik!M69=\"Hög\",3,0))),G67)","v":0},{"$f":"IF(Riskhistorik!M$2<>\"Datum\",IF(Riskhistorik!N69=\"Låg\",1,IF(Riskhistorik!N69=\"Medel\",2,IF(Riskhistorik!N69=\"Hög\",3,0))),H67)","v":0},{"$f":"IF(Riskhistorik!O$2<>\"Datum\",IF(Riskhistorik!O69=\"Låg\",1,IF(Riskhistorik!O69=\"Medel\",2,IF(Riskhistorik!O69=\"Hög\",3,0))),I67)","v":0},{"$f":"IF(Riskhistorik!O$2<>\"Datum\",IF(Riskhistorik!P69=\"Låg\",1,IF(Riskhistorik!P69=\"Medel\",2,IF(Riskhistorik!P69=\"Hög\",3,0))),J67)","v":0},{"$f":"IF(Riskhistorik!Q$2<>\"Datum\",IF(Riskhistorik!Q69=\"Låg\",1,IF(Riskhistorik!Q69=\"Medel\",2,IF(Riskhistorik!Q69=\"Hög\",3,0))),K67)","v":0},{"$f":"IF(Riskhistorik!Q$2<>\"Datum\",IF(Riskhistorik!R69=\"Låg\",1,IF(Riskhistorik!R69=\"Medel\",2,IF(Riskhistorik!R69=\"Hög\",3,0))),L67)","v":0},{"$f":"IF(Riskhistorik!S$2<>\"Datum\",IF(Riskhistorik!S69=\"Låg\",1,IF(Riskhistorik!S69=\"Medel\",2,IF(Riskhistorik!S69=\"Hög\",3,0))),M67)","v":0},{"$f":"IF(Riskhistorik!S$2<>\"Datum\",IF(Riskhistorik!T69=\"Låg\",1,IF(Riskhistorik!T69=\"Medel\",2,IF(Riskhistorik!T69=\"Hög\",3,0))),N67)","v":0},{"$f":"IF(Riskhistorik!U$2<>\"Datum\",IF(Riskhistorik!U69=\"Låg\",1,IF(Riskhistorik!U69=\"Medel\",2,IF(Riskhistorik!U69=\"Hög\",3,0))),O67)","v":0},{"$f":"IF(Riskhistorik!U$2<>\"Datum\",IF(Riskhistorik!V69=\"Låg\",1,IF(Riskhistorik!V69=\"Medel\",2,IF(Riskhistorik!V69=\"Hög\",3,0))),P67)","v":0},{"$f":"IF(Riskhistorik!W$2<>\"Datum\",IF(Riskhistorik!W69=\"Låg\",1,IF(Riskhistorik!W69=\"Medel\",2,IF(Riskhistorik!W69=\"Hög\",3,0))),Q67)","v":0},{"$f":"IF(Riskhistorik!W$2<>\"Datum\",IF(Riskhistorik!X69=\"Låg\",1,IF(Riskhistorik!X69=\"Medel\",2,IF(Riskhistorik!X69=\"Hög\",3,0))),R67)","v":0},{"$f":"IF(Riskhistorik!Y$2<>\"Datum\",IF(Riskhistorik!Y69=\"Låg\",1,IF(Riskhistorik!Y69=\"Medel\",2,IF(Riskhistorik!Y69=\"Hög\",3,0))),S67)","v":0},{"$f":"IF(Riskhistorik!Y$2<>\"Datum\",IF(Riskhistorik!Z69=\"Låg\",1,IF(Riskhistorik!Z69=\"Medel\",2,IF(Riskhistorik!Z69=\"Hög\",3,0))),T67)","v":0},{"$f":"IF(Riskhistorik!AA$2<>\"Datum\",IF(Riskhistorik!AA69=\"Låg\",1,IF(Riskhistorik!AA69=\"Medel\",2,IF(Riskhistorik!AA69=\"Hög\",3,0))),U67)","v":0},{"$f":"IF(Riskhistorik!AA$2<>\"Datum\",IF(Riskhistorik!AB69=\"Låg\",1,IF(Riskhistorik!AB69=\"Medel\",2,IF(Riskhistorik!AB69=\"Hög\",3,0))),V67)","v":0},{"$f":"IF(Riskhistorik!AC$2<>\"Datum\",IF(Riskhistorik!AC69=\"Låg\",1,IF(Riskhistorik!AC69=\"Medel\",2,IF(Riskhistorik!AC69=\"Hög\",3,0))),W67)","v":0},{"$f":"IF(Riskhistorik!AC$2<>\"Datum\",IF(Riskhistorik!AD69=\"Låg\",1,IF(Riskhistorik!AD69=\"Medel\",2,IF(Riskhistorik!AD69=\"Hög\",3,0))),X67)","v":0},{"$f":"IF(Riskhistorik!AE$2<>\"Datum\",IF(Riskhistorik!AE69=\"Låg\",1,IF(Riskhistorik!AE69=\"Medel\",2,IF(Riskhistorik!AE69=\"Hög\",3,0))),Y67)","v":0},{"$f":"IF(Riskhistorik!AE$2<>\"Datum\",IF(Riskhistorik!AF69=\"Låg\",1,IF(Riskhistorik!AF69=\"Medel\",2,IF(Riskhistorik!AF69=\"Hög\",3,0))),Z67)","v":0},{"$f":"IF(Riskhistorik!AG$2<>\"Datum\",IF(Riskhistorik!AG69=\"Låg\",1,IF(Riskhistorik!AG69=\"Medel\",2,IF(Riskhistorik!AG69=\"Hög\",3,0))),AA67)","v":0},{"$f":"IF(Riskhistorik!AG$2<>\"Datum\",IF(Riskhistorik!AH69=\"Låg\",1,IF(Riskhistorik!AH69=\"Medel\",2,IF(Riskhistorik!AH69=\"Hög\",3,0))),AB67)","v":0},{"$f":"IF(Riskhistorik!AI$2<>\"Datum\",IF(Riskhistorik!AI69=\"Låg\",1,IF(Riskhistorik!AI69=\"Medel\",2,IF(Riskhistorik!AI69=\"Hög\",3,0))),AC67)","v":0},{"$f":"IF(Riskhistorik!AI$2<>\"Datum\",IF(Riskhistorik!AJ69=\"Låg\",1,IF(Riskhistorik!AJ69=\"Medel\",2,IF(Riskhistorik!AJ69=\"Hög\",3,0))),AD67)","v":0},{"$f":"IF(Riskhistorik!AK$2<>\"Datum\",IF(Riskhistorik!AK69=\"Låg\",1,IF(Riskhistorik!AK69=\"Medel\",2,IF(Riskhistorik!AK69=\"Hög\",3,0))),AE67)","v":0},{"$f":"IF(Riskhistorik!AK$2<>\"Datum\",IF(Riskhistorik!AL69=\"Låg\",1,IF(Riskhistorik!AL69=\"Medel\",2,IF(Riskhistorik!AL69=\"Hög\",3,0))),AF67)","v":0},{"$f":"IF(Riskhistorik!AM$2<>\"Datum\",IF(Riskhistorik!AM69=\"Låg\",1,IF(Riskhistorik!AM69=\"Medel\",2,IF(Riskhistorik!AM69=\"Hög\",3,0))),AG67)","v":0},{"$f":"IF(Riskhistorik!AM$2<>\"Datum\",IF(Riskhistorik!AN69=\"Låg\",1,IF(Riskhistorik!AN69=\"Medel\",2,IF(Riskhistorik!AN69=\"Hög\",3,0))),AH67)","v":0},{"$f":"IF(Riskhistorik!AO$2<>\"Datum\",IF(Riskhistorik!AO69=\"Låg\",1,IF(Riskhistorik!AO69=\"Medel\",2,IF(Riskhistorik!AO69=\"Hög\",3,0))),AI67)","v":0},{"$f":"IF(Riskhistorik!AO$2<>\"Datum\",IF(Riskhistorik!AP69=\"Låg\",1,IF(Riskhistorik!AP69=\"Medel\",2,IF(Riskhistorik!AP69=\"Hög\",3,0))),AJ67)","v":0},{"$f":"IF(Riskhistorik!AQ$2<>\"Datum\",IF(Riskhistorik!AQ69=\"Låg\",1,IF(Riskhistorik!AQ69=\"Medel\",2,IF(Riskhistorik!AQ69=\"Hög\",3,0))),AK67)","v":0},{"$f":"IF(Riskhistorik!AQ$2<>\"Datum\",IF(Riskhistorik!AR69=\"Låg\",1,IF(Riskhistorik!AR69=\"Medel\",2,IF(Riskhistorik!AR69=\"Hög\",3,0))),AL67)","v":0},0,0,0,0,0,0,0,0,0,0,0,0,0,0,0,0,0,0,0,0]
[{"$f":"IF(Riskhistorik!E70<>\"\",IF(Riskhistorik!E70=\"Låg\",1,IF(Riskhistorik!E70=\"Medel\",2,3)),0)","v":0},{"$f":"IF(Riskhistorik!F70<>\"\",IF(Riskhistorik!F70=\"Låg\",1,IF(Riskhistorik!F70=\"Medel\",2,3)),0)","v":0},{"$f":"IF(Riskhistorik!G$2<>\"Datum\",IF(Riskhistorik!G70=\"Låg\",1,IF(Riskhistorik!G70=\"Medel\",2,IF(Riskhistorik!G70=\"Hög\",3,0))),A68)","v":0},{"$f":"IF(Riskhistorik!G$2<>\"Datum\",IF(Riskhistorik!H70=\"Låg\",1,IF(Riskhistorik!H70=\"Medel\",2,IF(Riskhistorik!H70=\"Hög\",3,0))),B68)","v":0},{"$f":"IF(Riskhistorik!I$2<>\"Datum\",IF(Riskhistorik!I70=\"Låg\",1,IF(Riskhistorik!I70=\"Medel\",2,IF(Riskhistorik!I70=\"Hög\",3,0))),C68)","v":0},{"$f":"IF(Riskhistorik!I$2<>\"Datum\",IF(Riskhistorik!J70=\"Låg\",1,IF(Riskhistorik!J70=\"Medel\",2,IF(Riskhistorik!J70=\"Hög\",3,0))),D68)","v":0},{"$f":"IF(Riskhistorik!K$2<>\"Datum\",IF(Riskhistorik!K70=\"Låg\",1,IF(Riskhistorik!K70=\"Medel\",2,IF(Riskhistorik!K70=\"Hög\",3,0))),E68)","v":0},{"$f":"IF(Riskhistorik!K$2<>\"Datum\",IF(Riskhistorik!L70=\"Låg\",1,IF(Riskhistorik!L70=\"Medel\",2,IF(Riskhistorik!L70=\"Hög\",3,0))),F68)","v":0},{"$f":"IF(Riskhistorik!M$2<>\"Datum\",IF(Riskhistorik!M70=\"Låg\",1,IF(Riskhistorik!M70=\"Medel\",2,IF(Riskhistorik!M70=\"Hög\",3,0))),G68)","v":0},{"$f":"IF(Riskhistorik!M$2<>\"Datum\",IF(Riskhistorik!N70=\"Låg\",1,IF(Riskhistorik!N70=\"Medel\",2,IF(Riskhistorik!N70=\"Hög\",3,0))),H68)","v":0},{"$f":"IF(Riskhistorik!O$2<>\"Datum\",IF(Riskhistorik!O70=\"Låg\",1,IF(Riskhistorik!O70=\"Medel\",2,IF(Riskhistorik!O70=\"Hög\",3,0))),I68)","v":0},{"$f":"IF(Riskhistorik!O$2<>\"Datum\",IF(Riskhistorik!P70=\"Låg\",1,IF(Riskhistorik!P70=\"Medel\",2,IF(Riskhistorik!P70=\"Hög\",3,0))),J68)","v":0},{"$f":"IF(Riskhistorik!Q$2<>\"Datum\",IF(Riskhistorik!Q70=\"Låg\",1,IF(Riskhistorik!Q70=\"Medel\",2,IF(Riskhistorik!Q70=\"Hög\",3,0))),K68)","v":0},{"$f":"IF(Riskhistorik!Q$2<>\"Datum\",IF(Riskhistorik!R70=\"Låg\",1,IF(Riskhistorik!R70=\"Medel\",2,IF(Riskhistorik!R70=\"Hög\",3,0))),L68)","v":0},{"$f":"IF(Riskhistorik!S$2<>\"Datum\",IF(Riskhistorik!S70=\"Låg\",1,IF(Riskhistorik!S70=\"Medel\",2,IF(Riskhistorik!S70=\"Hög\",3,0))),M68)","v":0},{"$f":"IF(Riskhistorik!S$2<>\"Datum\",IF(Riskhistorik!T70=\"Låg\",1,IF(Riskhistorik!T70=\"Medel\",2,IF(Riskhistorik!T70=\"Hög\",3,0))),N68)","v":0},{"$f":"IF(Riskhistorik!U$2<>\"Datum\",IF(Riskhistorik!U70=\"Låg\",1,IF(Riskhistorik!U70=\"Medel\",2,IF(Riskhistorik!U70=\"Hög\",3,0))),O68)","v":0},{"$f":"IF(Riskhistorik!U$2<>\"Datum\",IF(Riskhistorik!V70=\"Låg\",1,IF(Riskhistorik!V70=\"Medel\",2,IF(Riskhistorik!V70=\"Hög\",3,0))),P68)","v":0},{"$f":"IF(Riskhistorik!W$2<>\"Datum\",IF(Riskhistorik!W70=\"Låg\",1,IF(Riskhistorik!W70=\"Medel\",2,IF(Riskhistorik!W70=\"Hög\",3,0))),Q68)","v":0},{"$f":"IF(Riskhistorik!W$2<>\"Datum\",IF(Riskhistorik!X70=\"Låg\",1,IF(Riskhistorik!X70=\"Medel\",2,IF(Riskhistorik!X70=\"Hög\",3,0))),R68)","v":0},{"$f":"IF(Riskhistorik!Y$2<>\"Datum\",IF(Riskhistorik!Y70=\"Låg\",1,IF(Riskhistorik!Y70=\"Medel\",2,IF(Riskhistorik!Y70=\"Hög\",3,0))),S68)","v":0},{"$f":"IF(Riskhistorik!Y$2<>\"Datum\",IF(Riskhistorik!Z70=\"Låg\",1,IF(Riskhistorik!Z70=\"Medel\",2,IF(Riskhistorik!Z70=\"Hög\",3,0))),T68)","v":0},{"$f":"IF(Riskhistorik!AA$2<>\"Datum\",IF(Riskhistorik!AA70=\"Låg\",1,IF(Riskhistorik!AA70=\"Medel\",2,IF(Riskhistorik!AA70=\"Hög\",3,0))),U68)","v":0},{"$f":"IF(Riskhistorik!AA$2<>\"Datum\",IF(Riskhistorik!AB70=\"Låg\",1,IF(Riskhistorik!AB70=\"Medel\",2,IF(Riskhistorik!AB70=\"Hög\",3,0))),V68)","v":0},{"$f":"IF(Riskhistorik!AC$2<>\"Datum\",IF(Riskhistorik!AC70=\"Låg\",1,IF(Riskhistorik!AC70=\"Medel\",2,IF(Riskhistorik!AC70=\"Hög\",3,0))),W68)","v":0},{"$f":"IF(Riskhistorik!AC$2<>\"Datum\",IF(Riskhistorik!AD70=\"Låg\",1,IF(Riskhistorik!AD70=\"Medel\",2,IF(Riskhistorik!AD70=\"Hög\",3,0))),X68)","v":0},{"$f":"IF(Riskhistorik!AE$2<>\"Datum\",IF(Riskhistorik!AE70=\"Låg\",1,IF(Riskhistorik!AE70=\"Medel\",2,IF(Riskhistorik!AE70=\"Hög\",3,0))),Y68)","v":0},{"$f":"IF(Riskhistorik!AE$2<>\"Datum\",IF(Riskhistorik!AF70=\"Låg\",1,IF(Riskhistorik!AF70=\"Medel\",2,IF(Riskhistorik!AF70=\"Hög\",3,0))),Z68)","v":0},{"$f":"IF(Riskhistorik!AG$2<>\"Datum\",IF(Riskhistorik!AG70=\"Låg\",1,IF(Riskhistorik!AG70=\"Medel\",2,IF(Riskhistorik!AG70=\"Hög\",3,0))),AA68)","v":0},{"$f":"IF(Riskhistorik!AG$2<>\"Datum\",IF(Riskhistorik!AH70=\"Låg\",1,IF(Riskhistorik!AH70=\"Medel\",2,IF(Riskhistorik!AH70=\"Hög\",3,0))),AB68)","v":0},{"$f":"IF(Riskhistorik!AI$2<>\"Datum\",IF(Riskhistorik!AI70=\"Låg\",1,IF(Riskhistorik!AI70=\"Medel\",2,IF(Riskhistorik!AI70=\"Hög\",3,0))),AC68)","v":0},{"$f":"IF(Riskhistorik!AI$2<>\"Datum\",IF(Riskhistorik!AJ70=\"Låg\",1,IF(Riskhistorik!AJ70=\"Medel\",2,IF(Riskhistorik!AJ70=\"Hög\",3,0))),AD68)","v":0},{"$f":"IF(Riskhistorik!AK$2<>\"Datum\",IF(Riskhistorik!AK70=\"Låg\",1,IF(Riskhistorik!AK70=\"Medel\",2,IF(Riskhistorik!AK70=\"Hög\",3,0))),AE68)","v":0},{"$f":"IF(Riskhistorik!AK$2<>\"Datum\",IF(Riskhistorik!AL70=\"Låg\",1,IF(Riskhistorik!AL70=\"Medel\",2,IF(Riskhistorik!AL70=\"Hög\",3,0))),AF68)","v":0},{"$f":"IF(Riskhistorik!AM$2<>\"Datum\",IF(Riskhistorik!AM70=\"Låg\",1,IF(Riskhistorik!AM70=\"Medel\",2,IF(Riskhistorik!AM70=\"Hög\",3,0))),AG68)","v":0},{"$f":"IF(Riskhistorik!AM$2<>\"Datum\",IF(Riskhistorik!AN70=\"Låg\",1,IF(Riskhistorik!AN70=\"Medel\",2,IF(Riskhistorik!AN70=\"Hög\",3,0))),AH68)","v":0},{"$f":"IF(Riskhistorik!AO$2<>\"Datum\",IF(Riskhistorik!AO70=\"Låg\",1,IF(Riskhistorik!AO70=\"Medel\",2,IF(Riskhistorik!AO70=\"Hög\",3,0))),AI68)","v":0},{"$f":"IF(Riskhistorik!AO$2<>\"Datum\",IF(Riskhistorik!AP70=\"Låg\",1,IF(Riskhistorik!AP70=\"Medel\",2,IF(Riskhistorik!AP70=\"Hög\",3,0))),AJ68)","v":0},{"$f":"IF(Riskhistorik!AQ$2<>\"Datum\",IF(Riskhistorik!AQ70=\"Låg\",1,IF(Riskhistorik!AQ70=\"Medel\",2,IF(Riskhistorik!AQ70=\"Hög\",3,0))),AK68)","v":0},{"$f":"IF(Riskhistorik!AQ$2<>\"Datum\",IF(Riskhistorik!AR70=\"Låg\",1,IF(Riskhistorik!AR70=\"Medel\",2,IF(Riskhistorik!AR70=\"Hög\",3,0))),AL68)","v":0},0,0,0,0,0,0,0,0,0,0,0,0,0,0,0,0,0,0,0,0]
[{"$f":"IF(Riskhistorik!E71<>\"\",IF(Riskhistorik!E71=\"Låg\",1,IF(Riskhistorik!E71=\"Medel\",2,3)),0)","v":0},{"$f":"IF(Riskhistorik!F71<>\"\",IF(Riskhistorik!F71=\"Låg\",1,IF(Riskhistorik!F71=\"Medel\",2,3)),0)","v":0},{"$f":"IF(Riskhistorik!G$2<>\"Datum\",IF(Riskhistorik!G71=\"Låg\",1,IF(Riskhistorik!G71=\"Medel\",2,IF(Riskhistorik!G71=\"Hög\",3,0))),A69)","v":0},{"$f":"IF(Riskhistorik!G$2<>\"Datum\",IF(Riskhistorik!H71=\"Låg\",1,IF(Riskhistorik!H71=\"Medel\",2,IF(Riskhistorik!H71=\"Hög\",3,0))),B69)","v":0},{"$f":"IF(Riskhistorik!I$2<>\"Datum\",IF(Riskhistorik!I71=\"Låg\",1,IF(Riskhistorik!I71=\"Medel\",2,IF(Riskhistorik!I71=\"Hög\",3,0))),C69)","v":0},{"$f":"IF(Riskhistorik!I$2<>\"Datum\",IF(Riskhistorik!J71=\"Låg\",1,IF(Riskhistorik!J71=\"Medel\",2,IF(Riskhistorik!J71=\"Hög\",3,0))),D69)","v":0},{"$f":"IF(Riskhistorik!K$2<>\"Datum\",IF(Riskhistorik!K71=\"Låg\",1,IF(Riskhistorik!K71=\"Medel\",2,IF(Riskhistorik!K71=\"Hög\",3,0))),E69)","v":0},{"$f":"IF(Riskhistorik!K$2<>\"Datum\",IF(Riskhistorik!L71=\"Låg\",1,IF(Riskhistorik!L71=\"Medel\",2,IF(Riskhistorik!L71=\"Hög\",3,0))),F69)","v":0},{"$f":"IF(Riskhistorik!M$2<>\"Datum\",IF(Riskhistorik!M71=\"Låg\",1,IF(Riskhistorik!M71=\"Medel\",2,IF(Riskhistorik!M71=\"Hög\",3,0))),G69)","v":0},{"$f":"IF(Riskhistorik!M$2<>\"Datum\",IF(Riskhistorik!N71=\"Låg\",1,IF(Riskhistorik!N71=\"Medel\",2,IF(Riskhistorik!N71=\"Hög\",3,0))),H69)","v":0},{"$f":"IF(Riskhistorik!O$2<>\"Datum\",IF(Riskhistorik!O71=\"Låg\",1,IF(Riskhistorik!O71=\"Medel\",2,IF(Riskhistorik!O71=\"Hög\",3,0))),I69)","v":0},{"$f":"IF(Riskhistorik!O$2<>\"Datum\",IF(Riskhistorik!P71=\"Låg\",1,IF(Riskhistorik!P71=\"Medel\",2,IF(Riskhistorik!P71=\"Hög\",3,0))),J69)","v":0},{"$f":"IF(Riskhistorik!Q$2<>\"Datum\",IF(Riskhistorik!Q71=\"Låg\",1,IF(Riskhistorik!Q71=\"Medel\",2,IF(Riskhistorik!Q71=\"Hög\",3,0))),K69)","v":0},{"$f":"IF(Riskhistorik!Q$2<>\"Datum\",IF(Riskhistorik!R71=\"Låg\",1,IF(Riskhistorik!R71=\"Medel\",2,IF(Riskhistorik!R71=\"Hög\",3,0))),L69)","v":0},{"$f":"IF(Riskhistorik!S$2<>\"Datum\",IF(Riskhistorik!S71=\"Låg\",1,IF(Riskhistorik!S71=\"Medel\",2,IF(Riskhistorik!S71=\"Hög\",3,0))),M69)","v":0},{"$f":"IF(Riskhistorik!S$2<>\"Datum\",IF(Riskhistorik!T71=\"Låg\",1,IF(Riskhistorik!T71=\"Medel\",2,IF(Riskhistorik!T71=\"Hög\",3,0))),N69)","v":0},{"$f":"IF(Riskhistorik!U$2<>\"Datum\",IF(Riskhistorik!U71=\"Låg\",1,IF(Riskhistorik!U71=\"Medel\",2,IF(Riskhistorik!U71=\"Hög\",3,0))),O69)","v":0},{"$f":"IF(Riskhistorik!U$2<>\"Datum\",IF(Riskhistorik!V71=\"Låg\",1,IF(Riskhistorik!V71=\"Medel\",2,IF(Riskhistorik!V71=\"Hög\",3,0))),P69)","v":0},{"$f":"IF(Riskhistorik!W$2<>\"Datum\",IF(Riskhistorik!W71=\"Låg\",1,IF(Riskhistorik!W71=\"Medel\",2,IF(Riskhistorik!W71=\"Hög\",3,0))),Q69)","v":0},{"$f":"IF(Riskhistorik!W$2<>\"Datum\",IF(Riskhistorik!X71=\"Låg\",1,IF(Riskhistorik!X71=\"Medel\",2,IF(Riskhistorik!X71=\"Hög\",3,0))),R69)","v":0},{"$f":"IF(Riskhistorik!Y$2<>\"Datum\",IF(Riskhistorik!Y71=\"Låg\",1,IF(Riskhistorik!Y71=\"Medel\",2,IF(Riskhistorik!Y71=\"Hög\",3,0))),S69)","v":0},{"$f":"IF(Riskhistorik!Y$2<>\"Datum\",IF(Riskhistorik!Z71=\"Låg\",1,IF(Riskhistorik!Z71=\"Medel\",2,IF(Riskhistorik!Z71=\"Hög\",3,0))),T69)","v":0},{"$f":"IF(Riskhistorik!AA$2<>\"Datum\",IF(Riskhistorik!AA71=\"Låg\",1,IF(Riskhistorik!AA71=\"Medel\",2,IF(Riskhistorik!AA71=\"Hög\",3,0))),U69)","v":0},{"$f":"IF(Riskhistorik!AA$2<>\"Datum\",IF(Riskhistorik!AB71=\"Låg\",1,IF(Riskhistorik!AB71=\"Medel\",2,IF(Riskhistorik!AB71=\"Hög\",3,0))),V69)","v":0},{"$f":"IF(Riskhistorik!AC$2<>\"Datum\",IF(Riskhistorik!AC71=\"Låg\",1,IF(Riskhistorik!AC71=\"Medel\",2,IF(Riskhistorik!AC71=\"Hög\",3,0))),W69)","v":0},{"$f":"IF(Riskhistorik!AC$2<>\"Datum\",IF(Riskhistorik!AD71=\"Låg\",1,IF(Riskhistorik!AD71=\"Medel\",2,IF(Riskhistorik!AD71=\"Hög\",3,0))),X69)","v":0},{"$f":"IF(Riskhistorik!AE$2<>\"Datum\",IF(Riskhistorik!AE71=\"Låg\",1,IF(Riskhistorik!AE71=\"Medel\",2,IF(Riskhistorik!AE71=\"Hög\",3,0))),Y69)","v":0},{"$f":"IF(Riskhistorik!AE$2<>\"Datum\",IF(Riskhistorik!AF71=\"Låg\",1,IF(Riskhistorik!AF71=\"Medel\",2,IF(Riskhistorik!AF71=\"Hög\",3,0))),Z69)","v":0},{"$f":"IF(Riskhistorik!AG$2<>\"Datum\",IF(Riskhistorik!AG71=\"Låg\",1,IF(Riskhistorik!AG71=\"Medel\",2,IF(Riskhistorik!AG71=\"Hög\",3,0))),AA69)","v":0},{"$f":"IF(Riskhistorik!AG$2<>\"Datum\",IF(Riskhistorik!AH71=\"Låg\",1,IF(Riskhistorik!AH71=\"Medel\",2,IF(Riskhistorik!AH71=\"Hög\",3,0))),AB69)","v":0},{"$f":"IF(Riskhistorik!AI$2<>\"Datum\",IF(Riskhistorik!AI71=\"Låg\",1,IF(Riskhistorik!AI71=\"Medel\",2,IF(Riskhistorik!AI71=\"Hög\",3,0))),AC69)","v":0},{"$f":"IF(Riskhistorik!AI$2<>\"Datum\",IF(Riskhistorik!AJ71=\"Låg\",1,IF(Riskhistorik!AJ71=\"Medel\",2,IF(Riskhistorik!AJ71=\"Hög\",3,0))),AD69)","v":0},{"$f":"IF(Riskhistorik!AK$2<>\"Datum\",IF(Riskhistorik!AK71=\"Låg\",1,IF(Riskhistorik!AK71=\"Medel\",2,IF(Riskhistorik!AK71=\"Hög\",3,0))),AE69)","v":0},{"$f":"IF(Riskhistorik!AK$2<>\"Datum\",IF(Riskhistorik!AL71=\"Låg\",1,IF(Riskhistorik!AL71=\"Medel\",2,IF(Riskhistorik!AL71=\"Hög\",3,0))),AF69)","v":0},{"$f":"IF(Riskhistorik!AM$2<>\"Datum\",IF(Riskhistorik!AM71=\"Låg\",1,IF(Riskhistorik!AM71=\"Medel\",2,IF(Riskhistorik!AM71=\"Hög\",3,0))),AG69)","v":0},{"$f":"IF(Riskhistorik!AM$2<>\"Datum\",IF(Riskhistorik!AN71=\"Låg\",1,IF(Riskhistorik!AN71=\"Medel\",2,IF(Riskhistorik!AN71=\"Hög\",3,0))),AH69)","v":0},{"$f":"IF(Riskhistorik!AO$2<>\"Datum\",IF(Riskhistorik!AO71=\"Låg\",1,IF(Riskhistorik!AO71=\"Medel\",2,IF(Riskhistorik!AO71=\"Hög\",3,0))),AI69)","v":0},{"$f":"IF(Riskhistorik!AO$2<>\"Datum\",IF(Riskhistorik!AP71=\"Låg\",1,IF(Riskhistorik!AP71=\"Medel\",2,IF(Riskhistorik!AP71=\"Hög\",3,0))),AJ69)","v":0},{"$f":"IF(Riskhistorik!AQ$2<>\"Datum\",IF(Riskhistorik!AQ71=\"Låg\",1,IF(Riskhistorik!AQ71=\"Medel\",2,IF(Riskhistorik!AQ71=\"Hög\",3,0))),AK69)","v":0},{"$f":"IF(Riskhistorik!AQ$2<>\"Datum\",IF(Riskhistorik!AR71=\"Låg\",1,IF(Riskhistorik!AR71=\"Medel\",2,IF(Riskhistorik!AR71=\"Hög\",3,0))),AL69)","v":0},0,0,0,0,0,0,0,0,0,0,0,0,0,0,0,0,0,0,0,0]
[{"$f":"IF(Riskhistorik!E72<>\"\",IF(Riskhistorik!E72=\"Låg\",1,IF(Riskhistorik!E72=\"Medel\",2,3)),0)","v":0},{"$f":"IF(Riskhistorik!F72<>\"\",IF(Riskhistorik!F72=\"Låg\",1,IF(Riskhistorik!F72=\"Medel\",2,3)),0)","v":0},{"$f":"IF(Riskhistorik!G$2<>\"Datum\",IF(Riskhistorik!G72=\"Låg\",1,IF(Riskhistorik!G72=\"Medel\",2,IF(Riskhistorik!G72=\"Hög\",3,0))),A70)","v":0},{"$f":"IF(Riskhistorik!G$2<>\"Datum\",IF(Riskhistorik!H72=\"Låg\",1,IF(Riskhistorik!H72=\"Medel\",2,IF(Riskhistorik!H72=\"Hög\",3,0))),B70)","v":0},{"$f":"IF(Riskhistorik!I$2<>\"Datum\",IF(Riskhistorik!I72=\"Låg\",1,IF(Riskhistorik!I72=\"Medel\",2,IF(Riskhistorik!I72=\"Hög\",3,0))),C70)","v":0},{"$f":"IF(Riskhistorik!I$2<>\"Datum\",IF(Riskhistorik!J72=\"Låg\",1,IF(Riskhistorik!J72=\"Medel\",2,IF(Riskhistorik!J72=\"Hög\",3,0))),D70)","v":0},{"$f":"IF(Riskhistorik!K$2<>\"Datum\",IF(Riskhistorik!K72=\"Låg\",1,IF(Riskhistorik!K72=\"Medel\",2,IF(Riskhistorik!K72=\"Hög\",3,0))),E70)","v":0},{"$f":"IF(Riskhistorik!K$2<>\"Datum\",IF(Riskhistorik!L72=\"Låg\",1,IF(Riskhistorik!L72=\"Medel\",2,IF(Riskhistorik!L72=\"Hög\",3,0))),F70)","v":0},{"$f":"IF(Riskhistorik!M$2<>\"Datum\",IF(Riskhistorik!M72=\"Låg\",1,IF(Riskhistorik!M72=\"Medel\",2,IF(Riskhistorik!M72=\"Hög\",3,0))),G70)","v":0},{"$f":"IF(Riskhistorik!M$2<>\"Datum\",IF(Riskhistorik!N72=\"Låg\",1,IF(Riskhistorik!N72=\"Medel\",2,IF(Riskhistorik!N72=\"Hög\",3,0))),H70)","v":0},{"$f":"IF(Riskhistorik!O$2<>\"Datum\",IF(Riskhistorik!O72=\"Låg\",1,IF(Riskhistorik!O72=\"Medel\",2,IF(Riskhistorik!O72=\"Hög\",3,0))),I70)","v":0},{"$f":"IF(Riskhistorik!O$2<>\"Datum\",IF(Riskhistorik!P72=\"Låg\",1,IF(Riskhistorik!P72=\"Medel\",2,IF(Riskhistorik!P72=\"Hög\",3,0))),J70)","v":0},{"$f":"IF(Riskhistorik!Q$2<>\"Datum\",IF(Riskhistorik!Q72=\"Låg\",1,IF(Riskhistorik!Q72=\"Medel\",2,IF(Riskhistorik!Q72=\"Hög\",3,0))),K70)","v":0},{"$f":"IF(Riskhistorik!Q$2<>\"Datum\",IF(Riskhistorik!R72=\"Låg\",1,IF(Riskhistorik!R72=\"Medel\",2,IF(Riskhistorik!R72=\"Hög\",3,0))),L70)","v":0},{"$f":"IF(Riskhistorik!S$2<>\"Datum\",IF(Riskhistorik!S72=\"Låg\",1,IF(Riskhistorik!S72=\"Medel\",2,IF(Riskhistorik!S72=\"Hög\",3,0))),M70)","v":0},{"$f":"IF(Riskhistorik!S$2<>\"Datum\",IF(Riskhistorik!T72=\"Låg\",1,IF(Riskhistorik!T72=\"Medel\",2,IF(Riskhistorik!T72=\"Hög\",3,0))),N70)","v":0},{"$f":"IF(Riskhistorik!U$2<>\"Datum\",IF(Riskhistorik!U72=\"Låg\",1,IF(Riskhistorik!U72=\"Medel\",2,IF(Riskhistorik!U72=\"Hög\",3,0))),O70)","v":0},{"$f":"IF(Riskhistorik!U$2<>\"Datum\",IF(Riskhistorik!V72=\"Låg\",1,IF(Riskhistorik!V72=\"Medel\",2,IF(Riskhistorik!V72=\"Hög\",3,0))),P70)","v":0},{"$f":"IF(Riskhistorik!W$2<>\"Datum\",IF(Riskhistorik!W72=\"Låg\",1,IF(Riskhistorik!W72=\"Medel\",2,IF(Riskhistorik!W72=\"Hög\",3,0))),Q70)","v":0},{"$f":"IF(Riskhistorik!W$2<>\"Datum\",IF(Riskhistorik!X72=\"Låg\",1,IF(Riskhistorik!X72=\"Medel\",2,IF(Riskhistorik!X72=\"Hög\",3,0))),R70)","v":0},{"$f":"IF(Riskhistorik!Y$2<>\"Datum\",IF(Riskhistorik!Y72=\"Låg\",1,IF(Riskhistorik!Y72=\"Medel\",2,IF(Riskhistorik!Y72=\"Hög\",3,0))),S70)","v":0},{"$f":"IF(Riskhistorik!Y$2<>\"Datum\",IF(Riskhistorik!Z72=\"Låg\",1,IF(Riskhistorik!Z72=\"Medel\",2,IF(Riskhistorik!Z72=\"Hög\",3,0))),T70)","v":0},{"$f":"IF(Riskhistorik!AA$2<>\"Datum\",IF(Riskhistorik!AA72=\"Låg\",1,IF(Riskhistorik!AA72=\"Medel\",2,IF(Riskhistorik!AA72=\"Hög\",3,0))),U70)","v":0},{"$f":"IF(Riskhistorik!AA$2<>\"Datum\",IF(Riskhistorik!AB72=\"Låg\",1,IF(Riskhistorik!AB72=\"Medel\",2,IF(Riskhistorik!AB72=\"Hög\",3,0))),V70)","v":0},{"$f":"IF(Riskhistorik!AC$2<>\"Datum\",IF(Riskhistorik!AC72=\"Låg\",1,IF(Riskhistorik!AC72=\"Medel\",2,IF(Riskhistorik!AC72=\"Hög\",3,0))),W70)","v":0},{"$f":"IF(Riskhistorik!AC$2<>\"Datum\",IF(Riskhistorik!AD72=\"Låg\",1,IF(Riskhistorik!AD72=\"Medel\",2,IF(Riskhistorik!AD72=\"Hög\",3,0))),X70)","v":0},{"$f":"IF(Riskhistorik!AE$2<>\"Datum\",IF(Riskhistorik!AE72=\"Låg\",1,IF(Riskhistorik!AE72=\"Medel\",2,IF(Riskhistorik!AE72=\"Hög\",3,0))),Y70)","v":0},{"$f":"IF(Riskhistorik!AE$2<>\"Datum\",IF(Riskhistorik!AF72=\"Låg\",1,IF(Riskhistorik!AF72=\"Medel\",2,IF(Riskhistorik!AF72=\"Hög\",3,0))),Z70)","v":0},{"$f":"IF(Riskhistorik!AG$2<>\"Datum\",IF(Riskhistorik!AG72=\"Låg\",1,IF(Riskhistorik!AG72=\"Medel\",2,IF(Riskhistorik!AG72=\"Hög\",3,0))),AA70)","v":0},{"$f":"IF(Riskhistorik!AG$2<>\"Datum\",IF(Riskhistorik!AH72=\"Låg\",1,IF(Riskhistorik!AH72=\"Medel\",2,IF(Riskhistorik!AH72=\"Hög\",3,0))),AB70)","v":0},{"$f":"IF(Riskhistorik!AI$2<>\"Datum\",IF(Riskhistorik!AI72=\"Låg\",1,IF(Riskhistorik!AI72=\"Medel\",2,IF(Riskhistorik!AI72=\"Hög\",3,0))),AC70)","v":0},{"$f":"IF(Riskhistorik!AI$2<>\"Datum\",IF(Riskhistorik!AJ72=\"Låg\",1,IF(Riskhistorik!AJ72=\"Medel\",2,IF(Riskhistorik!AJ72=\"Hög\",3,0))),AD70)","v":0},{"$f":"IF(Riskhistorik!AK$2<>\"Datum\",IF(Riskhistorik!AK72=\"Låg\",1,IF(Riskhistorik!AK72=\"Medel\",2,IF(Riskhistorik!AK72=\"Hög\",3,0))),AE70)","v":0},{"$f":"IF(Riskhistorik!AK$2<>\"Datum\",IF(Riskhistorik!AL72=\"Låg\",1,IF(Riskhistorik!AL72=\"Medel\",2,IF(Riskhistorik!AL72=\"Hög\",3,0))),AF70)","v":0},{"$f":"IF(Riskhistorik!AM$2<>\"Datum\",IF(Riskhistorik!AM72=\"Låg\",1,IF(Riskhistorik!AM72=\"Medel\",2,IF(Riskhistorik!AM72=\"Hög\",3,0))),AG70)","v":0},{"$f":"IF(Riskhistorik!AM$2<>\"Datum\",IF(Riskhistorik!AN72=\"Låg\",1,IF(Riskhistorik!AN72=\"Medel\",2,IF(Riskhistorik!AN72=\"Hög\",3,0))),AH70)","v":0},{"$f":"IF(Riskhistorik!AO$2<>\"Datum\",IF(Riskhistorik!AO72=\"Låg\",1,IF(Riskhistorik!AO72=\"Medel\",2,IF(Riskhistorik!AO72=\"Hög\",3,0))),AI70)","v":0},{"$f":"IF(Riskhistorik!AO$2<>\"Datum\",IF(Riskhistorik!AP72=\"Låg\",1,IF(Riskhistorik!AP72=\"Medel\",2,IF(Riskhistorik!AP72=\"Hög\",3,0))),AJ70)","v":0},{"$f":"IF(Riskhistorik!AQ$2<>\"Datum\",IF(Riskhistorik!AQ72=\"Låg\",1,IF(Riskhistorik!AQ72=\"Medel\",2,IF(Riskhistorik!AQ72=\"Hög\",3,0))),AK70)","v":0},{"$f":"IF(Riskhistorik!AQ$2<>\"Datum\",IF(Riskhistorik!AR72=\"Låg\",1,IF(Riskhistorik!AR72=\"Medel\",2,IF(Riskhistorik!AR72=\"Hög\",3,0))),AL70)","v":0},0,0,0,0,0,0,0,0,0,0,0,0,0,0,0,0,0,0,0,0]
[{"$f":"IF(Riskhistorik!E73<>\"\",IF(Riskhistorik!E73=\"Låg\",1,IF(Riskhistorik!E73=\"Medel\",2,3)),0)","v":0},{"$f":"IF(Riskhistorik!F73<>\"\",IF(Riskhistorik!F73=\"Låg\",1,IF(Riskhistorik!F73=\"Medel\",2,3)),0)","v":0},{"$f":"IF(Riskhistorik!G$2<>\"Datum\",IF(Riskhistorik!G73=\"Låg\",1,IF(Riskhistorik!G73=\"Medel\",2,IF(Riskhistorik!G73=\"Hög\",3,0))),A71)","v":0},{"$f":"IF(Riskhistorik!G$2<>\"Datum\",IF(Riskhistorik!H73=\"Låg\",1,IF(Riskhistorik!H73=\"Medel\",2,IF(Riskhistorik!H73=\"Hög\",3,0))),B71)","v":0},{"$f":"IF(Riskhistorik!I$2<>\"Datum\",IF(Riskhistorik!I73=\"Låg\",1,IF(Riskhistorik!I73=\"Medel\",2,IF(Riskhistorik!I73=\"Hög\",3,0))),C71)","v":0},{"$f":"IF(Riskhistorik!I$2<>\"Datum\",IF(Riskhistorik!J73=\"Låg\",1,IF(Riskhistorik!J73=\"Medel\",2,IF(Riskhistorik!J73=\"Hög\",3,0))),D71)","v":0},{"$f":"IF(Riskhistorik!K$2<>\"Datum\",IF(Riskhistorik!K73=\"Låg\",1,IF(Riskhistorik!K73=\"Medel\",2,IF(Riskhistorik!K73=\"Hög\",3,0))),E71)","v":0},{"$f":"IF(Riskhistorik!K$2<>\"Datum\",IF(Riskhistorik!L73=\"Låg\",1,IF(Riskhistorik!L73=\"Medel\",2,IF(Riskhistorik!L73=\"Hög\",3,0))),F71)","v":0},{"$f":"IF(Riskhistorik!M$2<>\"Datum\",IF(Riskhistorik!M73=\"Låg\",1,IF(Riskhistorik!M73=\"Medel\",2,IF(Riskhistorik!M73=\"Hög\",3,0))),G71)","v":0},{"$f":"IF(Riskhistorik!M$2<>\"Datum\",IF(Riskhistorik!N73=\"Låg\",1,IF(Riskhistorik!N73=\"Medel\",2,IF(Riskhistorik!N73=\"Hög\",3,0))),H71)","v":0},{"$f":"IF(Riskhistorik!O$2<>\"Datum\",IF(Riskhistorik!O73=\"Låg\",1,IF(Riskhistorik!O73=\"Medel\",2,IF(Riskhistorik!O73=\"Hög\",3,0))),I71)","v":0},{"$f":"IF(Riskhistorik!O$2<>\"Datum\",IF(Riskhistorik!P73=\"Låg\",1,IF(Riskhistorik!P73=\"Medel\",2,IF(Riskhistorik!P73=\"Hög\",3,0))),J71)","v":0},{"$f":"IF(Riskhistorik!Q$2<>\"Datum\",IF(Riskhistorik!Q73=\"Låg\",1,IF(Riskhistorik!Q73=\"Medel\",2,IF(Riskhistorik!Q73=\"Hög\",3,0))),K71)","v":0},{"$f":"IF(Riskhistorik!Q$2<>\"Datum\",IF(Riskhistorik!R73=\"Låg\",1,IF(Riskhistorik!R73=\"Medel\",2,IF(Riskhistorik!R73=\"Hög\",3,0))),L71)","v":0},{"$f":"IF(Riskhistorik!S$2<>\"Datum\",IF(Riskhistorik!S73=\"Låg\",1,IF(Riskhistorik!S73=\"Medel\",2,IF(Riskhistorik!S73=\"Hög\",3,0))),M71)","v":0},{"$f":"IF(Riskhistorik!S$2<>\"Datum\",IF(Riskhistorik!T73=\"Låg\",1,IF(Riskhistorik!T73=\"Medel\",2,IF(Riskhistorik!T73=\"Hög\",3,0))),N71)","v":0},{"$f":"IF(Riskhistorik!U$2<>\"Datum\",IF(Riskhistorik!U73=\"Låg\",1,IF(Riskhistorik!U73=\"Medel\",2,IF(Riskhistorik!U73=\"Hög\",3,0))),O71)","v":0},{"$f":"IF(Riskhistorik!U$2<>\"Datum\",IF(Riskhistorik!V73=\"Låg\",1,IF(Riskhistorik!V73=\"Medel\",2,IF(Riskhistorik!V73=\"Hög\",3,0))),P71)","v":0},{"$f":"IF(Riskhistorik!W$2<>\"Datum\",IF(Riskhistorik!W73=\"Låg\",1,IF(Riskhistorik!W73=\"Medel\",2,IF(Riskhistorik!W73=\"Hög\",3,0))),Q71)","v":0},{"$f":"IF(Riskhistorik!W$2<>\"Datum\",IF(Riskhistorik!X73=\"Låg\",1,IF(Riskhistorik!X73=\"Medel\",2,IF(Riskhistorik!X73=\"Hög\",3,0))),R71)","v":0},{"$f":"IF(Riskhistorik!Y$2<>\"Datum\",IF(Riskhistorik!Y73=\"Låg\",1,IF(Riskhistorik!Y73=\"Medel\",2,IF(Riskhistorik!Y73=\"Hög\",3,0))),S71)","v":0},{"$f":"IF(Riskhistorik!Y$2<>\"Datum\",IF(Riskhistorik!Z73=\"Låg\",1,IF(Riskhistorik!Z73=\"Medel\",2,IF(Riskhistorik!Z73=\"Hög\",3,0))),T71)","v":0},{"$f":"IF(Riskhistorik!AA$2<>\"Datum\",IF(Riskhistorik!AA73=\"Låg\",1,IF(Riskhistorik!AA73=\"Medel\",2,IF(Riskhistorik!AA73=\"Hög\",3,0))),U71)","v":0},{"$f":"IF(Riskhistorik!AA$2<>\"Datum\",IF(Riskhistorik!AB73=\"Låg\",1,IF(Riskhistorik!AB73=\"Medel\",2,IF(Riskhistorik!AB73=\"Hög\",3,0))),V71)","v":0},{"$f":"IF(Riskhistorik!AC$2<>\"Datum\",IF(Riskhistorik!AC73=\"Låg\",1,IF(Riskhistorik!AC73=\"Medel\",2,IF(Riskhistorik!AC73=\"Hög\",3,0))),W71)","v":0},{"$f":"IF(Riskhistorik!AC$2<>\"Datum\",IF(Riskhistorik!AD73=\"Låg\",1,IF(Riskhistorik!AD73=\"Medel\",2,IF(Riskhistorik!AD73=\"Hög\",3,0))),X71)","v":0},{"$f":"IF(Riskhistorik!AE$2<>\"Datum\",IF(Riskhistorik!AE73=\"Låg\",1,IF(Riskhistorik!AE73=\"Medel\",2,IF(Riskhistorik!AE73=\"Hög\",3,0))),Y71)","v":0},{"$f":"IF(Riskhistorik!AE$2<>\"Datum\",IF(Riskhistorik!AF73=\"Låg\",1,IF(Riskhistorik!AF73=\"Medel\",2,IF(Riskhistorik!AF73=\"Hög\",3,0))),Z71)","v":0},{"$f":"IF(Riskhistorik!AG$2<>\"Datum\",IF(Riskhistorik!AG73=\"Låg\",1,IF(Riskhistorik!AG73=\"Medel\",2,IF(Riskhistorik!AG73=\"Hög\",3,0))),AA71)","v":0},{"$f":"IF(Riskhistorik!AG$2<>\"Datum\",IF(Riskhistorik!AH73=\"Låg\",1,IF(Riskhistorik!AH73=\"Medel\",2,IF(Riskhistorik!AH73=\"Hög\",3,0))),AB71)","v":0},{"$f":"IF(Riskhistorik!AI$2<>\"Datum\",IF(Riskhistorik!AI73=\"Låg\",1,IF(Riskhistorik!AI73=\"Medel\",2,IF(Riskhistorik!AI73=\"Hög\",3,0))),AC71)","v":0},{"$f":"IF(Riskhistorik!AI$2<>\"Datum\",IF(Riskhistorik!AJ73=\"Låg\",1,IF(Riskhistorik!AJ73=\"Medel\",2,IF(Riskhistorik!AJ73=\"Hög\",3,0))),AD71)","v":0},{"$f":"IF(Riskhistorik!AK$2<>\"Datum\",IF(Riskhistorik!AK73=\"Låg\",1,IF(Riskhistorik!AK73=\"Medel\",2,IF(Riskhistorik!AK73=\"Hög\",3,0))),AE71)","v":0},{"$f":"IF(Riskhistorik!AK$2<>\"Datum\",IF(Riskhistorik!AL73=\"Låg\",1,IF(Riskhistorik!AL73=\"Medel\",2,IF(Riskhistorik!AL73=\"Hög\",3,0))),AF71)","v":0},{"$f":"IF(Riskhistorik!AM$2<>\"Datum\",IF(Riskhistorik!AM73=\"Låg\",1,IF(Riskhistorik!AM73=\"Medel\",2,IF(Riskhistorik!AM73=\"Hög\",3,0))),AG71)","v":0},{"$f":"IF(Riskhistorik!AM$2<>\"Datum\",IF(Riskhistorik!AN73=\"Låg\",1,IF(Riskhistorik!AN73=\"Medel\",2,IF(Riskhistorik!AN73=\"Hög\",3,0))),AH71)","v":0},{"$f":"IF(Riskhistorik!AO$2<>\"Datum\",IF(Riskhistorik!AO73=\"Låg\",1,IF(Riskhistorik!AO73=\"Medel\",2,IF(Riskhistorik!AO73=\"Hög\",3,0))),AI71)","v":0},{"$f":"IF(Riskhistorik!AO$2<>\"Datum\",IF(Riskhistorik!AP73=\"Låg\",1,IF(Riskhistorik!AP73=\"Medel\",2,IF(Riskhistorik!AP73=\"Hög\",3,0))),AJ71)","v":0},{"$f":"IF(Riskhistorik!AQ$2<>\"Datum\",IF(Riskhistorik!AQ73=\"Låg\",1,IF(Riskhistorik!AQ73=\"Medel\",2,IF(Riskhistorik!AQ73=\"Hög\",3,0))),AK71)","v":0},{"$f":"IF(Riskhistorik!AQ$2<>\"Datum\",IF(Riskhistorik!AR73=\"Låg\",1,IF(Riskhistorik!AR73=\"Medel\",2,IF(Riskhistorik!AR73=\"Hög\",3,0))),AL71)","v":0},0,0,0,0,0,0,0,0,0,0,0,0,0,0,0,0,0,0,0,0]
[{"$f":"IF(Riskhistorik!E74<>\"\",IF(Riskhistorik!E74=\"Låg\",1,IF(Riskhistorik!E74=\"Medel\",2,3)),0)","v":0},{"$f":"IF(Riskhistorik!F74<>\"\",IF(Riskhistorik!F74=\"Låg\",1,IF(Riskhistorik!F74=\"Medel\",2,3)),0)","v":0},{"$f":"IF(Riskhistorik!G$2<>\"Datum\",IF(Riskhistorik!G74=\"Låg\",1,IF(Riskhistorik!G74=\"Medel\",2,IF(Riskhistorik!G74=\"Hög\",3,0))),A72)","v":0},{"$f":"IF(Riskhistorik!G$2<>\"Datum\",IF(Riskhistorik!H74=\"Låg\",1,IF(Riskhistorik!H74=\"Medel\",2,IF(Riskhistorik!H74=\"Hög\",3,0))),B72)","v":0},{"$f":"IF(Riskhistorik!I$2<>\"Datum\",IF(Riskhistorik!I74=\"Låg\",1,IF(Riskhistorik!I74=\"Medel\",2,IF(Riskhistorik!I74=\"Hög\",3,0))),C72)","v":0},{"$f":"IF(Riskhistorik!I$2<>\"Datum\",IF(Riskhistorik!J74=\"Låg\",1,IF(Riskhistorik!J74=\"Medel\",2,IF(Riskhistorik!J74=\"Hög\",3,0))),D72)","v":0},{"$f":"IF(Riskhistorik!K$2<>\"Datum\",IF(Riskhistorik!K74=\"Låg\",1,IF(Riskhistorik!K74=\"Medel\",2,IF(Riskhistorik!K74=\"Hög\",3,0))),E72)","v":0},{"$f":"IF(Riskhistorik!K$2<>\"Datum\",IF(Riskhistorik!L74=\"Låg\",1,IF(Riskhistorik!L74=\"Medel\",2,IF(Riskhistorik!L74=\"Hög\",3,0))),F72)","v":0},{"$f":"IF(Riskhistorik!M$2<>\"Datum\",IF(Riskhistorik!M74=\"Låg\",1,IF(Riskhistorik!M74=\"Medel\",2,IF(Riskhistorik!M74=\"Hög\",3,0))),G72)","v":0},{"$f":"IF(Riskhistorik!M$2<>\"Datum\",IF(Riskhistorik!N74=\"Låg\",1,IF(Riskhistorik!N74=\"Medel\",2,IF(Riskhistorik!N74=\"Hög\",3,0))),H72)","v":0},{"$f":"IF(Riskhistorik!O$2<>\"Datum\",IF(Riskhistorik!O74=\"Låg\",1,IF(Riskhistorik!O74=\"Medel\",2,IF(Riskhistorik!O74=\"Hög\",3,0))),I72)","v":0},{"$f":"IF(Riskhistorik!O$2<>\"Datum\",IF(Riskhistorik!P74=\"Låg\",1,IF(Riskhistorik!P74=\"Medel\",2,IF(Riskhistorik!P74=\"Hög\",3,0))),J72)","v":0},{"$f":"IF(Riskhistorik!Q$2<>\"Datum\",IF(Riskhistorik!Q74=\"Låg\",1,IF(Riskhistorik!Q74=\"Medel\",2,IF(Riskhistorik!Q74=\"Hög\",3,0))),K72)","v":0},{"$f":"IF(Riskhistorik!Q$2<>\"Datum\",IF(Riskhistorik!R74=\"Låg\",1,IF(Riskhistorik!R74=\"Medel\",2,IF(Riskhistorik!R74=\"Hög\",3,0))),L72)","v":0},{"$f":"IF(Riskhistorik!S$2<>\"Datum\",IF(Riskhistorik!S74=\"Låg\",1,IF(Riskhistorik!S74=\"Medel\",2,IF(Riskhistorik!S74=\"Hög\",3,0))),M72)","v":0},{"$f":"IF(Riskhistorik!S$2<>\"Datum\",IF(Riskhistorik!T74=\"Låg\",1,IF(Riskhistorik!T74=\"Medel\",2,IF(Riskhistorik!T74=\"Hög\",3,0))),N72)","v":0},{"$f":"IF(Riskhistorik!U$2<>\"Datum\",IF(Riskhistorik!U74=\"Låg\",1,IF(Riskhistorik!U74=\"Medel\",2,IF(Riskhistorik!U74=\"Hög\",3,0))),O72)","v":0},{"$f":"IF(Riskhistorik!U$2<>\"Datum\",IF(Riskhistorik!V74=\"Låg\",1,IF(Riskhistorik!V74=\"Medel\",2,IF(Riskhistorik!V74=\"Hög\",3,0))),P72)","v":0},{"$f":"IF(Riskhistorik!W$2<>\"Datum\",IF(Riskhistorik!W74=\"Låg\",1,IF(Riskhistorik!W74=\"Medel\",2,IF(Riskhistorik!W74=\"Hög\",3,0))),Q72)","v":0},{"$f":"IF(Riskhistorik!W$2<>\"Datum\",IF(Riskhistorik!X74=\"Låg\",1,IF(Riskhistorik!X74=\"Medel\",2,IF(Riskhistorik!X74=\"Hög\",3,0))),R72)","v":0},{"$f":"IF(Riskhistorik!Y$2<>\"Datum\",IF(Riskhistorik!Y74=\"Låg\",1,IF(Riskhistorik!Y74=\"Medel\",2,IF(Riskhistorik!Y74=\"Hög\",3,0))),S72)","v":0},{"$f":"IF(Riskhistorik!Y$2<>\"Datum\",IF(Riskhistorik!Z74=\"Låg\",1,IF(Riskhistorik!Z74=\"Medel\",2,IF(Riskhistorik!Z74=\"Hög\",3,0))),T72)","v":0},{"$f":"IF(Riskhistorik!AA$2<>\"Datum\",IF(Riskhistorik!AA74=\"Låg\",1,IF(Riskhistorik!AA74=\"Medel\",2,IF(Riskhistorik!AA74=\"Hög\",3,0))),U72)","v":0},{"$f":"IF(Riskhistorik!AA$2<>\"Datum\",IF(Riskhistorik!AB74=\"Låg\",1,IF(Riskhistorik!AB74=\"Medel\",2,IF(Riskhistorik!AB74=\"Hög\",3,0))),V72)","v":0},{"$f":"IF(Riskhistorik!AC$2<>\"Datum\",IF(Riskhistorik!AC74=\"Låg\",1,IF(Riskhistorik!AC74=\"Medel\",2,IF(Riskhistorik!AC74=\"Hög\",3,0))),W72)","v":0},{"$f":"IF(Riskhistorik!AC$2<>\"Datum\",IF(Riskhistorik!AD74=\"Låg\",1,IF(Riskhistorik!AD74=\"Medel\",2,IF(Riskhistorik!AD74=\"Hög\",3,0))),X72)","v":0},{"$f":"IF(Riskhistorik!AE$2<>\"Datum\",IF(Riskhistorik!AE74=\"Låg\",1,IF(Riskhistorik!AE74=\"Medel\",2,IF(Riskhistorik!AE74=\"Hög\",3,0))),Y72)","v":0},{"$f":"IF(Riskhistorik!AE$2<>\"Datum\",IF(Riskhistorik!AF74=\"Låg\",1,IF(Riskhistorik!AF74=\"Medel\",2,IF(Riskhistorik!AF74=\"Hög\",3,0))),Z72)","v":0},{"$f":"IF(Riskhistorik!AG$2<>\"Datum\",IF(Riskhistorik!AG74=\"Låg\",1,IF(Riskhistorik!AG74=\"Medel\",2,IF(Riskhistorik!AG74=\"Hög\",3,0))),AA72)","v":0},{"$f":"IF(Riskhistorik!AG$2<>\"Datum\",IF(Riskhistorik!AH74=\"Låg\",1,IF(Riskhistorik!AH74=\"Medel\",2,IF(Riskhistorik!AH74=\"Hög\",3,0))),AB72)","v":0},{"$f":"IF(Riskhistorik!AI$2<>\"Datum\",IF(Riskhistorik!AI74=\"Låg\",1,IF(Riskhistorik!AI74=\"Medel\",2,IF(Riskhistorik!AI74=\"Hög\",3,0))),AC72)","v":0},{"$f":"IF(Riskhistorik!AI$2<>\"Datum\",IF(Riskhistorik!AJ74=\"Låg\",1,IF(Riskhistorik!AJ74=\"Medel\",2,IF(Riskhistorik!AJ74=\"Hög\",3,0))),AD72)","v":0},{"$f":"IF(Riskhistorik!AK$2<>\"Datum\",IF(Riskhistorik!AK74=\"Låg\",1,IF(Riskhistorik!AK74=\"Medel\",2,IF(Riskhistorik!AK74=\"Hög\",3,0))),AE72)","v":0},{"$f":"IF(Riskhistorik!AK$2<>\"Datum\",IF(Riskhistorik!AL74=\"Låg\",1,IF(Riskhistorik!AL74=\"Medel\",2,IF(Riskhistorik!AL74=\"Hög\",3,0))),AF72)","v":0},{"$f":"IF(Riskhistorik!AM$2<>\"Datum\",IF(Riskhistorik!AM74=\"Låg\",1,IF(Riskhistorik!AM74=\"Medel\",2,IF(Riskhistorik!AM74=\"Hög\",3,0))),AG72)","v":0},{"$f":"IF(Riskhistorik!AM$2<>\"Datum\",IF(Riskhistorik!AN74=\"Låg\",1,IF(Riskhistorik!AN74=\"Medel\",2,IF(Riskhistorik!AN74=\"Hög\",3,0))),AH72)","v":0},{"$f":"IF(Riskhistorik!AO$2<>\"Datum\",IF(Riskhistorik!AO74=\"Låg\",1,IF(Riskhistorik!AO74=\"Medel\",2,IF(Riskhistorik!AO74=\"Hög\",3,0))),AI72)","v":0},{"$f":"IF(Riskhistorik!AO$2<>\"Datum\",IF(Riskhistorik!AP74=\"Låg\",1,IF(Riskhistorik!AP74=\"Medel\",2,IF(Riskhistorik!AP74=\"Hög\",3,0))),AJ72)","v":0},{"$f":"IF(Riskhistorik!AQ$2<>\"Datum\",IF(Riskhistorik!AQ74=\"Låg\",1,IF(Riskhistorik!AQ74=\"Medel\",2,IF(Riskhistorik!AQ74=\"Hög\",3,0))),AK72)","v":0},{"$f":"IF(Riskhistorik!AQ$2<>\"Datum\",IF(Riskhistorik!AR74=\"Låg\",1,IF(Riskhistorik!AR74=\"Medel\",2,IF(Riskhistorik!AR74=\"Hög\",3,0))),AL72)","v":0},0,0,0,0,0,0,0,0,0,0,0,0,0,0,0,0,0,0,0,0]
[{"$f":"IF(Riskhistorik!E75<>\"\",IF(Riskhistorik!E75=\"Låg\",1,IF(Riskhistorik!E75=\"Medel\",2,3)),0)","v":0},{"$f":"IF(Riskhistorik!F75<>\"\",IF(Riskhistorik!F75=\"Låg\",1,IF(Riskhistorik!F75=\"Medel\",2,3)),0)","v":0},{"$f":"IF(Riskhistorik!G$2<>\"Datum\",IF(Riskhistorik!G75=\"Låg\",1,IF(Riskhistorik!G75=\"Medel\",2,IF(Riskhistorik!G75=\"Hög\",3,0))),A73)","v":0},{"$f":"IF(Riskhistorik!G$2<>\"Datum\",IF(Riskhistorik!H75=\"Låg\",1,IF(Riskhistorik!H75=\"Medel\",2,IF(Riskhistorik!H75=\"Hög\",3,0))),B73)","v":0},{"$f":"IF(Riskhistorik!I$2<>\"Datum\",IF(Riskhistorik!I75=\"Låg\",1,IF(Riskhistorik!I75=\"Medel\",2,IF(Riskhistorik!I75=\"Hög\",3,0))),C73)","v":0},{"$f":"IF(Riskhistorik!I$2<>\"Datum\",IF(Riskhistorik!J75=\"Låg\",1,IF(Riskhistorik!J75=\"Medel\",2,IF(Riskhistorik!J75=\"Hög\",3,0))),D73)","v":0},{"$f":"IF(Riskhistorik!K$2<>\"Datum\",IF(Riskhistorik!K75=\"Låg\",1,IF(Riskhistorik!K75=\"Medel\",2,IF(Riskhistorik!K75=\"Hög\",3,0))),E73)","v":0},{"$f":"IF(Riskhistorik!K$2<>\"Datum\",IF(Riskhistorik!L75=\"Låg\",1,IF(Riskhistorik!L75=\"Medel\",2,IF(Riskhistorik!L75=\"Hög\",3,0))),F73)","v":0},{"$f":"IF(Riskhistorik!M$2<>\"Datum\",IF(Riskhistorik!M75=\"Låg\",1,IF(Riskhistorik!M75=\"Medel\",2,IF(Riskhistorik!M75=\"Hög\",3,0))),G73)","v":0},{"$f":"IF(Riskhistorik!M$2<>\"Datum\",IF(Riskhistorik!N75=\"Låg\",1,IF(Riskhistorik!N75=\"Medel\",2,IF(Riskhistorik!N75=\"Hög\",3,0))),H73)","v":0},{"$f":"IF(Riskhistorik!O$2<>\"Datum\",IF(Riskhistorik!O75=\"Låg\",1,IF(Riskhistorik!O75=\"Medel\",2,IF(Riskhistorik!O75=\"Hög\",3,0))),I73)","v":0},{"$f":"IF(Riskhistorik!O$2<>\"Datum\",IF(Riskhistorik!P75=\"Låg\",1,IF(Riskhistorik!P75=\"Medel\",2,IF(Riskhistorik!P75=\"Hög\",3,0))),J73)","v":0},{"$f":"IF(Riskhistorik!Q$2<>\"Datum\",IF(Riskhistorik!Q75=\"Låg\",1,IF(Riskhistorik!Q75=\"Medel\",2,IF(Riskhistorik!Q75=\"Hög\",3,0))),K73)","v":0},{"$f":"IF(Riskhistorik!Q$2<>\"Datum\",IF(Riskhistorik!R75=\"Låg\",1,IF(Riskhistorik!R75=\"Medel\",2,IF(Riskhistorik!R75=\"Hög\",3,0))),L73)","v":0},{"$f":"IF(Riskhistorik!S$2<>\"Datum\",IF(Riskhistorik!S75=\"Låg\",1,IF(Riskhistorik!S75=\"Medel\",2,IF(Riskhistorik!S75=\"Hög\",3,0))),M73)","v":0},{"$f":"IF(Riskhistorik!S$2<>\"Datum\",IF(Riskhistorik!T75=\"Låg\",1,IF(Riskhistorik!T75=\"Medel\",2,IF(Riskhistorik!T75=\"Hög\",3,0))),N73)","v":0},{"$f":"IF(Riskhistorik!U$2<>\"Datum\",IF(Riskhistorik!U75=\"Låg\",1,IF(Riskhistorik!U75=\"Medel\",2,IF(Riskhistorik!U75=\"Hög\",3,0))),O73)","v":0},{"$f":"IF(Riskhistorik!U$2<>\"Datum\",IF(Riskhistorik!V75=\"Låg\",1,IF(Riskhistorik!V75=\"Medel\",2,IF(Riskhistorik!V75=\"Hög\",3,0))),P73)","v":0},{"$f":"IF(Riskhistorik!W$2<>\"Datum\",IF(Riskhistorik!W75=\"Låg\",1,IF(Riskhistorik!W75=\"Medel\",2,IF(Riskhistorik!W75=\"Hög\",3,0))),Q73)","v":0},{"$f":"IF(Riskhistorik!W$2<>\"Datum\",IF(Riskhistorik!X75=\"Låg\",1,IF(Riskhistorik!X75=\"Medel\",2,IF(Riskhistorik!X75=\"Hög\",3,0))),R73)","v":0},{"$f":"IF(Riskhistorik!Y$2<>\"Datum\",IF(Riskhistorik!Y75=\"Låg\",1,IF(Riskhistorik!Y75=\"Medel\",2,IF(Riskhistorik!Y75=\"Hög\",3,0))),S73)","v":0},{"$f":"IF(Riskhistorik!Y$2<>\"Datum\",IF(Riskhistorik!Z75=\"Låg\",1,IF(Riskhistorik!Z75=\"Medel\",2,IF(Riskhistorik!Z75=\"Hög\",3,0))),T73)","v":0},{"$f":"IF(Riskhistorik!AA$2<>\"Datum\",IF(Riskhistorik!AA75=\"Låg\",1,IF(Riskhistorik!AA75=\"Medel\",2,IF(Riskhistorik!AA75=\"Hög\",3,0))),U73)","v":0},{"$f":"IF(Riskhistorik!AA$2<>\"Datum\",IF(Riskhistorik!AB75=\"Låg\",1,IF(Riskhistorik!AB75=\"Medel\",2,IF(Riskhistorik!AB75=\"Hög\",3,0))),V73)","v":0},{"$f":"IF(Riskhistorik!AC$2<>\"Datum\",IF(Riskhistorik!AC75=\"Låg\",1,IF(Riskhistorik!AC75=\"Medel\",2,IF(Riskhistorik!AC75=\"Hög\",3,0))),W73)","v":0},{"$f":"IF(Riskhistorik!AC$2<>\"Datum\",IF(Riskhistorik!AD75=\"Låg\",1,IF(Riskhistorik!AD75=\"Medel\",2,IF(Riskhistorik!AD75=\"Hög\",3,0))),X73)","v":0},{"$f":"IF(Riskhistorik!AE$2<>\"Datum\",IF(Riskhistorik!AE75=\"Låg\",1,IF(Riskhistorik!AE75=\"Medel\",2,IF(Riskhistorik!AE75=\"Hög\",3,0))),Y73)","v":0},{"$f":"IF(Riskhistorik!AE$2<>\"Datum\",IF(Riskhistorik!AF75=\"Låg\",1,IF(Riskhistorik!AF75=\"Medel\",2,IF(Riskhistorik!AF75=\"Hög\",3,0))),Z73)","v":0},{"$f":"IF(Riskhistorik!AG$2<>\"Datum\",IF(Riskhistorik!AG75=\"Låg\",1,IF(Riskhistorik!AG75=\"Medel\",2,IF(Riskhistorik!AG75=\"Hög\",3,0))),AA73)","v":0},{"$f":"IF(Riskhistorik!AG$2<>\"Datum\",IF(Riskhistorik!AH75=\"Låg\",1,IF(Riskhistorik!AH75=\"Medel\",2,IF(Riskhistorik!AH75=\"Hög\",3,0))),AB73)","v":0},{"$f":"IF(Riskhistorik!AI$2<>\"Datum\",IF(Riskhistorik!AI75=\"Låg\",1,IF(Riskhistorik!AI75=\"Medel\",2,IF(Riskhistorik!AI75=\"Hög\",3,0))),AC73)","v":0},{"$f":"IF(Riskhistorik!AI$2<>\"Datum\",IF(Riskhistorik!AJ75=\"Låg\",1,IF(Riskhistorik!AJ75=\"Medel\",2,IF(Riskhistorik!AJ75=\"Hög\",3,0))),AD73)","v":0},{"$f":"IF(Riskhistorik!AK$2<>\"Datum\",IF(Riskhistorik!AK75=\"Låg\",1,IF(Riskhistorik!AK75=\"Medel\",2,IF(Riskhistorik!AK75=\"Hög\",3,0))),AE73)","v":0},{"$f":"IF(Riskhistorik!AK$2<>\"Datum\",IF(Riskhistorik!AL75=\"Låg\",1,IF(Riskhistorik!AL75=\"Medel\",2,IF(Riskhistorik!AL75=\"Hög\",3,0))),AF73)","v":0},{"$f":"IF(Riskhistorik!AM$2<>\"Datum\",IF(Riskhistorik!AM75=\"Låg\",1,IF(Riskhistorik!AM75=\"Medel\",2,IF(Riskhistorik!AM75=\"Hög\",3,0))),AG73)","v":0},{"$f":"IF(Riskhistorik!AM$2<>\"Datum\",IF(Riskhistorik!AN75=\"Låg\",1,IF(Riskhistorik!AN75=\"Medel\",2,IF(Riskhistorik!AN75=\"Hög\",3,0))),AH73)","v":0},{"$f":"IF(Riskhistorik!AO$2<>\"Datum\",IF(Riskhistorik!AO75=\"Låg\",1,IF(Riskhistorik!AO75=\"Medel\",2,IF(Riskhistorik!AO75=\"Hög\",3,0))),AI73)","v":0},{"$f":"IF(Riskhistorik!AO$2<>\"Datum\",IF(Riskhistorik!AP75=\"Låg\",1,IF(Riskhistorik!AP75=\"Medel\",2,IF(Riskhistorik!AP75=\"Hög\",3,0))),AJ73)","v":0},{"$f":"IF(Riskhistorik!AQ$2<>\"Datum\",IF(Riskhistorik!AQ75=\"Låg\",1,IF(Riskhistorik!AQ75=\"Medel\",2,IF(Riskhistorik!AQ75=\"Hög\",3,0))),AK73)","v":0},{"$f":"IF(Riskhistorik!AQ$2<>\"Datum\",IF(Riskhistorik!AR75=\"Låg\",1,IF(Riskhistorik!AR75=\"Medel\",2,IF(Riskhistorik!AR75=\"Hög\",3,0))),AL73)","v":0},0,0,0,0,0,0,0,0,0,0,0,0,0,0,0,0,0,0,0,0]
[{"$f":"IF(Riskhistorik!E76<>\"\",IF(Riskhistorik!E76=\"Låg\",1,IF(Riskhistorik!E76=\"Medel\",2,3)),0)","v":0},{"$f":"IF(Riskhistorik!F76<>\"\",IF(Riskhistorik!F76=\"Låg\",1,IF(Riskhistorik!F76=\"Medel\",2,3)),0)","v":0},{"$f":"IF(Riskhistorik!G$2<>\"Datum\",IF(Riskhistorik!G76=\"Låg\",1,IF(Riskhistorik!G76=\"Medel\",2,IF(Riskhistorik!G76=\"Hög\",3,0))),A74)","v":0},{"$f":"IF(Riskhistorik!G$2<>\"Datum\",IF(Riskhistorik!H76=\"Låg\",1,IF(Riskhistorik!H76=\"Medel\",2,IF(Riskhistorik!H76=\"Hög\",3,0))),B74)","v":0},{"$f":"IF(Riskhistorik!I$2<>\"Datum\",IF(Riskhistorik!I76=\"Låg\",1,IF(Riskhistorik!I76=\"Medel\",2,IF(Riskhistorik!I76=\"Hög\",3,0))),C74)","v":0},{"$f":"IF(Riskhistorik!I$2<>\"Datum\",IF(Riskhistorik!J76=\"Låg\",1,IF(Riskhistorik!J76=\"Medel\",2,IF(Riskhistorik!J76=\"Hög\",3,0))),D74)","v":0},{"$f":"IF(Riskhistorik!K$2<>\"Datum\",IF(Riskhistorik!K76=\"Låg\",1,IF(Riskhistorik!K76=\"Medel\",2,IF(Riskhistorik!K76=\"Hög\",3,0))),E74)","v":0},{"$f":"IF(Riskhistorik!K$2<>\"Datum\",IF(Riskhistorik!L76=\"Låg\",1,IF(Riskhistorik!L76=\"Medel\",2,IF(Riskhistorik!L76=\"Hög\",3,0))),F74)","v":0},{"$f":"IF(Riskhistorik!M$2<>\"Datum\",IF(Riskhistorik!M76=\"Låg\",1,IF(Riskhistorik!M76=\"Medel\",2,IF(Riskhistorik!M76=\"Hög\",3,0))),G74)","v":0},{"$f":"IF(Riskhistorik!M$2<>\"Datum\",IF(Riskhistorik!N76=\"Låg\",1,IF(Riskhistorik!N76=\"Medel\",2,IF(Riskhistorik!N76=\"Hög\",3,0))),H74)","v":0},{"$f":"IF(Riskhistorik!O$2<>\"Datum\",IF(Riskhistorik!O76=\"Låg\",1,IF(Riskhistorik!O76=\"Medel\",2,IF(Riskhistorik!O76=\"Hög\",3,0))),I74)","v":0},{"$f":"IF(Riskhistorik!O$2<>\"Datum\",IF(Riskhistorik!P76=\"Låg\",1,IF(Riskhistorik!P76=\"Medel\",2,IF(Riskhistorik!P76=\"Hög\",3,0))),J74)","v":0},{"$f":"IF(Riskhistorik!Q$2<>\"Datum\",IF(Riskhistorik!Q76=\"Låg\",1,IF(Riskhistorik!Q76=\"Medel\",2,IF(Riskhistorik!Q76=\"Hög\",3,0))),K74)","v":0},{"$f":"IF(Riskhistorik!Q$2<>\"Datum\",IF(Riskhistorik!R76=\"Låg\",1,IF(Riskhistorik!R76=\"Medel\",2,IF(Riskhistorik!R76=\"Hög\",3,0))),L74)","v":0},{"$f":"IF(Riskhistorik!S$2<>\"Datum\",IF(Riskhistorik!S76=\"Låg\",1,IF(Riskhistorik!S76=\"Medel\",2,IF(Riskhistorik!S76=\"Hög\",3,0))),M74)","v":0},{"$f":"IF(Riskhistorik!S$2<>\"Datum\",IF(Riskhistorik!T76=\"Låg\",1,IF(Riskhistorik!T76=\"Medel\",2,IF(Riskhistorik!T76=\"Hög\",3,0))),N74)","v":0},{"$f":"IF(Riskhistorik!U$2<>\"Datum\",IF(Riskhistorik!U76=\"Låg\",1,IF(Riskhistorik!U76=\"Medel\",2,IF(Riskhistorik!U76=\"Hög\",3,0))),O74)","v":0},{"$f":"IF(Riskhistorik!U$2<>\"Datum\",IF(Riskhistorik!V76=\"Låg\",1,IF(Riskhistorik!V76=\"Medel\",2,IF(Riskhistorik!V76=\"Hög\",3,0))),P74)","v":0},{"$f":"IF(Riskhistorik!W$2<>\"Datum\",IF(Riskhistorik!W76=\"Låg\",1,IF(Riskhistorik!W76=\"Medel\",2,IF(Riskhistorik!W76=\"Hög\",3,0))),Q74)","v":0},{"$f":"IF(Riskhistorik!W$2<>\"Datum\",IF(Riskhistorik!X76=\"Låg\",1,IF(Riskhistorik!X76=\"Medel\",2,IF(Riskhistorik!X76=\"Hög\",3,0))),R74)","v":0},{"$f":"IF(Riskhistorik!Y$2<>\"Datum\",IF(Riskhistorik!Y76=\"Låg\",1,IF(Riskhistorik!Y76=\"Medel\",2,IF(Riskhistorik!Y76=\"Hög\",3,0))),S74)","v":0},{"$f":"IF(Riskhistorik!Y$2<>\"Datum\",IF(Riskhistorik!Z76=\"Låg\",1,IF(Riskhistorik!Z76=\"Medel\",2,IF(Riskhistorik!Z76=\"Hög\",3,0))),T74)","v":0},{"$f":"IF(Riskhistorik!AA$2<>\"Datum\",IF(Riskhistorik!AA76=\"Låg\",1,IF(Riskhistorik!AA76=\"Medel\",2,IF(Riskhistorik!AA76=\"Hög\",3,0))),U74)","v":0},{"$f":"IF(Riskhistorik!AA$2<>\"Datum\",IF(Riskhistorik!AB76=\"Låg\",1,IF(Riskhistorik!AB76=\"Medel\",2,IF(Riskhistorik!AB76=\"Hög\",3,0))),V74)","v":0},{"$f":"IF(Riskhistorik!AC$2<>\"Datum\",IF(Riskhistorik!AC76=\"Låg\",1,IF(Riskhistorik!AC76=\"Medel\",2,IF(Riskhistorik!AC76=\"Hög\",3,0))),W74)","v":0},{"$f":"IF(Riskhistorik!AC$2<>\"Datum\",IF(Riskhistorik!AD76=\"Låg\",1,IF(Riskhistorik!AD76=\"Medel\",2,IF(Riskhistorik!AD76=\"Hög\",3,0))),X74)","v":0},{"$f":"IF(Riskhistorik!AE$2<>\"Datum\",IF(Riskhistorik!AE76=\"Låg\",1,IF(Riskhistorik!AE76=\"Medel\",2,IF(Riskhistorik!AE76=\"Hög\",3,0))),Y74)","v":0},{"$f":"IF(Riskhistorik!AE$2<>\"Datum\",IF(Riskhistorik!AF76=\"Låg\",1,IF(Riskhistorik!AF76=\"Medel\",2,IF(Riskhistorik!AF76=\"Hög\",3,0))),Z74)","v":0},{"$f":"IF(Riskhistorik!AG$2<>\"Datum\",IF(Riskhistorik!AG76=\"Låg\",1,IF(Riskhistorik!AG76=\"Medel\",2,IF(Riskhistorik!AG76=\"Hög\",3,0))),AA74)","v":0},{"$f":"IF(Riskhistorik!AG$2<>\"Datum\",IF(Riskhistorik!AH76=\"Låg\",1,IF(Riskhistorik!AH76=\"Medel\",2,IF(Riskhistorik!AH76=\"Hög\",3,0))),AB74)","v":0},{"$f":"IF(Riskhistorik!AI$2<>\"Datum\",IF(Riskhistorik!AI76=\"Låg\",1,IF(Riskhistorik!AI76=\"Medel\",2,IF(Riskhistorik!AI76=\"Hög\",3,0))),AC74)","v":0},{"$f":"IF(Riskhistorik!AI$2<>\"Datum\",IF(Riskhistorik!AJ76=\"Låg\",1,IF(Riskhistorik!AJ76=\"Medel\",2,IF(Riskhistorik!AJ76=\"Hög\",3,0))),AD74)","v":0},{"$f":"IF(Riskhistorik!AK$2<>\"Datum\",IF(Riskhistorik!AK76=\"Låg\",1,IF(Riskhistorik!AK76=\"Medel\",2,IF(Riskhistorik!AK76=\"Hög\",3,0))),AE74)","v":0},{"$f":"IF(Riskhistorik!AK$2<>\"Datum\",IF(Riskhistorik!AL76=\"Låg\",1,IF(Riskhistorik!AL76=\"Medel\",2,IF(Riskhistorik!AL76=\"Hög\",3,0))),AF74)","v":0},{"$f":"IF(Riskhistorik!AM$2<>\"Datum\",IF(Riskhistorik!AM76=\"Låg\",1,IF(Riskhistorik!AM76=\"Medel\",2,IF(Riskhistorik!AM76=\"Hög\",3,0))),AG74)","v":0},{"$f":"IF(Riskhistorik!AM$2<>\"Datum\",IF(Riskhistorik!AN76=\"Låg\",1,IF(Riskhistorik!AN76=\"Medel\",2,IF(Riskhistorik!AN76=\"Hög\",3,0))),AH74)","v":0},{"$f":"IF(Riskhistorik!AO$2<>\"Datum\",IF(Riskhistorik!AO76=\"Låg\",1,IF(Riskhistorik!AO76=\"Medel\",2,IF(Riskhistorik!AO76=\"Hög\",3,0))),AI74)","v":0},{"$f":"IF(Riskhistorik!AO$2<>\"Datum\",IF(Riskhistorik!AP76=\"Låg\",1,IF(Riskhistorik!AP76=\"Medel\",2,IF(Riskhistorik!AP76=\"Hög\",3,0))),AJ74)","v":0},{"$f":"IF(Riskhistorik!AQ$2<>\"Datum\",IF(Riskhistorik!AQ76=\"Låg\",1,IF(Riskhistorik!AQ76=\"Medel\",2,IF(Riskhistorik!AQ76=\"Hög\",3,0))),AK74)","v":0},{"$f":"IF(Riskhistorik!AQ$2<>\"Datum\",IF(Riskhistorik!AR76=\"Låg\",1,IF(Riskhistorik!AR76=\"Medel\",2,IF(Riskhistorik!AR76=\"Hög\",3,0))),AL74)","v":0},0,0,0,0,0,0,0,0,0,0,0,0,0,0,0,0,0,0,0,0]
[{"$f":"IF(Riskhistorik!E77<>\"\",IF(Riskhistorik!E77=\"Låg\",1,IF(Riskhistorik!E77=\"Medel\",2,3)),0)","v":0},{"$f":"IF(Riskhistorik!F77<>\"\",IF(Riskhistorik!F77=\"Låg\",1,IF(Riskhistorik!F77=\"Medel\",2,3)),0)","v":0},{"$f":"IF(Riskhistorik!G$2<>\"Datum\",IF(Riskhistorik!G77=\"Låg\",1,IF(Riskhistorik!G77=\"Medel\",2,IF(Riskhistorik!G77=\"Hög\",3,0))),A75)","v":0},{"$f":"IF(Riskhistorik!G$2<>\"Datum\",IF(Riskhistorik!H77=\"Låg\",1,IF(Riskhistorik!H77=\"Medel\",2,IF(Riskhistorik!H77=\"Hög\",3,0))),B75)","v":0},{"$f":"IF(Riskhistorik!I$2<>\"Datum\",IF(Riskhistorik!I77=\"Låg\",1,IF(Riskhistorik!I77=\"Medel\",2,IF(Riskhistorik!I77=\"Hög\",3,0))),C75)","v":0},{"$f":"IF(Riskhistorik!I$2<>\"Datum\",IF(Riskhistorik!J77=\"Låg\",1,IF(Riskhistorik!J77=\"Medel\",2,IF(Riskhistorik!J77=\"Hög\",3,0))),D75)","v":0},{"$f":"IF(Riskhistorik!K$2<>\"Datum\",IF(Riskhistorik!K77=\"Låg\",1,IF(Riskhistorik!K77=\"Medel\",2,IF(Riskhistorik!K77=\"Hög\",3,0))),E75)","v":0},{"$f":"IF(Riskhistorik!K$2<>\"Datum\",IF(Riskhistorik!L77=\"Låg\",1,IF(Riskhistorik!L77=\"Medel\",2,IF(Riskhistorik!L77=\"Hög\",3,0))),F75)","v":0},{"$f":"IF(Riskhistorik!M$2<>\"Datum\",IF(Riskhistorik!M77=\"Låg\",1,IF(Riskhistorik!M77=\"Medel\",2,IF(Riskhistorik!M77=\"Hög\",3,0))),G75)","v":0},{"$f":"IF(Riskhistorik!M$2<>\"Datum\",IF(Riskhistorik!N77=\"Låg\",1,IF(Riskhistorik!N77=\"Medel\",2,IF(Riskhistorik!N77=\"Hög\",3,0))),H75)","v":0},{"$f":"IF(Riskhistorik!O$2<>\"Datum\",IF(Riskhistorik!O77=\"Låg\",1,IF(Riskhistorik!O77=\"Medel\",2,IF(Riskhistorik!O77=\"Hög\",3,0))),I75)","v":0},{"$f":"IF(Riskhistorik!O$2<>\"Datum\",IF(Riskhistorik!P77=\"Låg\",1,IF(Riskhistorik!P77=\"Medel\",2,IF(Riskhistorik!P77=\"Hög\",3,0))),J75)","v":0},{"$f":"IF(Riskhistorik!Q$2<>\"Datum\",IF(Riskhistorik!Q77=\"Låg\",1,IF(Riskhistorik!Q77=\"Medel\",2,IF(Riskhistorik!Q77=\"Hög\",3,0))),K75)","v":0},{"$f":"IF(Riskhistorik!Q$2<>\"Datum\",IF(Riskhistorik!R77=\"Låg\",1,IF(Riskhistorik!R77=\"Medel\",2,IF(Riskhistorik!R77=\"Hög\",3,0))),L75)","v":0},{"$f":"IF(Riskhistorik!S$2<>\"Datum\",IF(Riskhistorik!S77=\"Låg\",1,IF(Riskhistorik!S77=\"Medel\",2,IF(Riskhistorik!S77=\"Hög\",3,0))),M75)","v":0},{"$f":"IF(Riskhistorik!S$2<>\"Datum\",IF(Riskhistorik!T77=\"Låg\",1,IF(Riskhistorik!T77=\"Medel\",2,IF(Riskhistorik!T77=\"Hög\",3,0))),N75)","v":0},{"$f":"IF(Riskhistorik!U$2<>\"Datum\",IF(Riskhistorik!U77=\"Låg\",1,IF(Riskhistorik!U77=\"Medel\",2,IF(Riskhistorik!U77=\"Hög\",3,0))),O75)","v":0},{"$f":"IF(Riskhistorik!U$2<>\"Datum\",IF(Riskhistorik!V77=\"Låg\",1,IF(Riskhistorik!V77=\"Medel\",2,IF(Riskhistorik!V77=\"Hög\",3,0))),P75)","v":0},{"$f":"IF(Riskhistorik!W$2<>\"Datum\",IF(Riskhistorik!W77=\"Låg\",1,IF(Riskhistorik!W77=\"Medel\",2,IF(Riskhistorik!W77=\"Hög\",3,0))),Q75)","v":0},{"$f":"IF(Riskhistorik!W$2<>\"Datum\",IF(Riskhistorik!X77=\"Låg\",1,IF(Riskhistorik!X77=\"Medel\",2,IF(Riskhistorik!X77=\"Hög\",3,0))),R75)","v":0},{"$f":"IF(Riskhistorik!Y$2<>\"Datum\",IF(Riskhistorik!Y77=\"Låg\",1,IF(Riskhistorik!Y77=\"Medel\",2,IF(Riskhistorik!Y77=\"Hög\",3,0))),S75)","v":0},{"$f":"IF(Riskhistorik!Y$2<>\"Datum\",IF(Riskhistorik!Z77=\"Låg\",1,IF(Riskhistorik!Z77=\"Medel\",2,IF(Riskhistorik!Z77=\"Hög\",3,0))),T75)","v":0},{"$f":"IF(Riskhistorik!AA$2<>\"Datum\",IF(Riskhistorik!AA77=\"Låg\",1,IF(Riskhistorik!AA77=\"Medel\",2,IF(Riskhistorik!AA77=\"Hög\",3,0))),U75)","v":0},{"$f":"IF(Riskhistorik!AA$2<>\"Datum\",IF(Riskhistorik!AB77=\"Låg\",1,IF(Riskhistorik!AB77=\"Medel\",2,IF(Riskhistorik!AB77=\"Hög\",3,0))),V75)","v":0},{"$f":"IF(Riskhistorik!AC$2<>\"Datum\",IF(Riskhistorik!AC77=\"Låg\",1,IF(Riskhistorik!AC77=\"Medel\",2,IF(Riskhistorik!AC77=\"Hög\",3,0))),W75)","v":0},{"$f":"IF(Riskhistorik!AC$2<>\"Datum\",IF(Riskhistorik!AD77=\"Låg\",1,IF(Riskhistorik!AD77=\"Medel\",2,IF(Riskhistorik!AD77=\"Hög\",3,0))),X75)","v":0},{"$f":"IF(Riskhistorik!AE$2<>\"Datum\",IF(Riskhistorik!AE77=\"Låg\",1,IF(Riskhistorik!AE77=\"Medel\",2,IF(Riskhistorik!AE77=\"Hög\",3,0))),Y75)","v":0},{"$f":"IF(Riskhistorik!AE$2<>\"Datum\",IF(Riskhistorik!AF77=\"Låg\",1,IF(Riskhistorik!AF77=\"Medel\",2,IF(Riskhistorik!AF77=\"Hög\",3,0))),Z75)","v":0},{"$f":"IF(Riskhistorik!AG$2<>\"Datum\",IF(Riskhistorik!AG77=\"Låg\",1,IF(Riskhistorik!AG77=\"Medel\",2,IF(Riskhistorik!AG77=\"Hög\",3,0))),AA75)","v":0},{"$f":"IF(Riskhistorik!AG$2<>\"Datum\",IF(Riskhistorik!AH77=\"Låg\",1,IF(Riskhistorik!AH77=\"Medel\",2,IF(Riskhistorik!AH77=\"Hög\",3,0))),AB75)","v":0},{"$f":"IF(Riskhistorik!AI$2<>\"Datum\",IF(Riskhistorik!AI77=\"Låg\",1,IF(Riskhistorik!AI77=\"Medel\",2,IF(Riskhistorik!AI77=\"Hög\",3,0))),AC75)","v":0},{"$f":"IF(Riskhistorik!AI$2<>\"Datum\",IF(Riskhistorik!AJ77=\"Låg\",1,IF(Riskhistorik!AJ77=\"Medel\",2,IF(Riskhistorik!AJ77=\"Hög\",3,0))),AD75)","v":0},{"$f":"IF(Riskhistorik!AK$2<>\"Datum\",IF(Riskhistorik!AK77=\"Låg\",1,IF(Riskhistorik!AK77=\"Medel\",2,IF(Riskhistorik!AK77=\"Hög\",3,0))),AE75)","v":0},{"$f":"IF(Riskhistorik!AK$2<>\"Datum\",IF(Riskhistorik!AL77=\"Låg\",1,IF(Riskhistorik!AL77=\"Medel\",2,IF(Riskhistorik!AL77=\"Hög\",3,0))),AF75)","v":0},{"$f":"IF(Riskhistorik!AM$2<>\"Datum\",IF(Riskhistorik!AM77=\"Låg\",1,IF(Riskhistorik!AM77=\"Medel\",2,IF(Riskhistorik!AM77=\"Hög\",3,0))),AG75)","v":0},{"$f":"IF(Riskhistorik!AM$2<>\"Datum\",IF(Riskhistorik!AN77=\"Låg\",1,IF(Riskhistorik!AN77=\"Medel\",2,IF(Riskhistorik!AN77=\"Hög\",3,0))),AH75)","v":0},{"$f":"IF(Riskhistorik!AO$2<>\"Datum\",IF(Riskhistorik!AO77=\"Låg\",1,IF(Riskhistorik!AO77=\"Medel\",2,IF(Riskhistorik!AO77=\"Hög\",3,0))),AI75)","v":0},{"$f":"IF(Riskhistorik!AO$2<>\"Datum\",IF(Riskhistorik!AP77=\"Låg\",1,IF(Riskhistorik!AP77=\"Medel\",2,IF(Riskhistorik!AP77=\"Hög\",3,0))),AJ75)","v":0},{"$f":"IF(Riskhistorik!AQ$2<>\"Datum\",IF(Riskhistorik!AQ77=\"Låg\",1,IF(Riskhistorik!AQ77=\"Medel\",2,IF(Riskhistorik!AQ77=\"Hög\",3,0))),AK75)","v":0},{"$f":"IF(Riskhistorik!AQ$2<>\"Datum\",IF(Riskhistorik!AR77=\"Låg\",1,IF(Riskhistorik!AR77=\"Medel\",2,IF(Riskhistorik!AR77=\"Hög\",3,0))),AL75)","v":0},0,0,0,0,0,0,0,0,0,0,0,0,0,0,0,0,0,0,0,0]
[{"$f":"IF(Riskhistorik!E78<>\"\",IF(Riskhistorik!E78=\"Låg\",1,IF(Riskhistorik!E78=\"Medel\",2,3)),0)","v":0},{"$f":"IF(Riskhistorik!F78<>\"\",IF(Riskhistorik!F78=\"Låg\",1,IF(Riskhistorik!F78=\"Medel\",2,3)),0)","v":0},{"$f":"IF(Riskhistorik!G$2<>\"Datum\",IF(Riskhistorik!G78=\"Låg\",1,IF(Riskhistorik!G78=\"Medel\",2,IF(Riskhistorik!G78=\"Hög\",3,0))),A76)","v":0},{"$f":"IF(Riskhistorik!G$2<>\"Datum\",IF(Riskhistorik!H78=\"Låg\",1,IF(Riskhistorik!H78=\"Medel\",2,IF(Riskhistorik!H78=\"Hög\",3,0))),B76)","v":0},{"$f":"IF(Riskhistorik!I$2<>\"Datum\",IF(Riskhistorik!I78=\"Låg\",1,IF(Riskhistorik!I78=\"Medel\",2,IF(Riskhistorik!I78=\"Hög\",3,0))),C76)","v":0},{"$f":"IF(Riskhistorik!I$2<>\"Datum\",IF(Riskhistorik!J78=\"Låg\",1,IF(Riskhistorik!J78=\"Medel\",2,IF(Riskhistorik!J78=\"Hög\",3,0))),D76)","v":0},{"$f":"IF(Riskhistorik!K$2<>\"Datum\",IF(Riskhistorik!K78=\"Låg\",1,IF(Riskhistorik!K78=\"Medel\",2,IF(Riskhistorik!K78=\"Hög\",3,0))),E76)","v":0},{"$f":"IF(Riskhistorik!K$2<>\"Datum\",IF(Riskhistorik!L78=\"Låg\",1,IF(Riskhistorik!L78=\"Medel\",2,IF(Riskhistorik!L78=\"Hög\",3,0))),F76)","v":0},{"$f":"IF(Riskhistorik!M$2<>\"Datum\",IF(Riskhistorik!M78=\"Låg\",1,IF(Riskhistorik!M78=\"Medel\",2,IF(Riskhistorik!M78=\"Hög\",3,0))),G76)","v":0},{"$f":"IF(Riskhistorik!M$2<>\"Datum\",IF(Riskhistorik!N78=\"Låg\",1,IF(Riskhistorik!N78=\"Medel\",2,IF(Riskhistorik!N78=\"Hög\",3,0))),H76)","v":0},{"$f":"IF(Riskhistorik!O$2<>\"Datum\",IF(Riskhistorik!O78=\"Låg\",1,IF(Riskhistorik!O78=\"Medel\",2,IF(Riskhistorik!O78=\"Hög\",3,0))),I76)","v":0},{"$f":"IF(Riskhistorik!O$2<>\"Datum\",IF(Riskhistorik!P78=\"Låg\",1,IF(Riskhistorik!P78=\"Medel\",2,IF(Riskhistorik!P78=\"Hög\",3,0))),J76)","v":0},{"$f":"IF(Riskhistorik!Q$2<>\"Datum\",IF(Riskhistorik!Q78=\"Låg\",1,IF(Riskhistorik!Q78=\"Medel\",2,IF(Riskhistorik!Q78=\"Hög\",3,0))),K76)","v":0},{"$f":"IF(Riskhistorik!Q$2<>\"Datum\",IF(Riskhistorik!R78=\"Låg\",1,IF(Riskhistorik!R78=\"Medel\",2,IF(Riskhistorik!R78=\"Hög\",3,0))),L76)","v":0},{"$f":"IF(Riskhistorik!S$2<>\"Datum\",IF(Riskhistorik!S78=\"Låg\",1,IF(Riskhistorik!S78=\"Medel\",2,IF(Riskhistorik!S78=\"Hög\",3,0))),M76)","v":0},{"$f":"IF(Riskhistorik!S$2<>\"Datum\",IF(Riskhistorik!T78=\"Låg\",1,IF(Riskhistorik!T78=\"Medel\",2,IF(Riskhistorik!T78=\"Hög\",3,0))),N76)","v":0},{"$f":"IF(Riskhistorik!U$2<>\"Datum\",IF(Riskhistorik!U78=\"Låg\",1,IF(Riskhistorik!U78=\"Medel\",2,IF(Riskhistorik!U78=\"Hög\",3,0))),O76)","v":0},{"$f":"IF(Riskhistorik!U$2<>\"Datum\",IF(Riskhistorik!V78=\"Låg\",1,IF(Riskhistorik!V78=\"Medel\",2,IF(Riskhistorik!V78=\"Hög\",3,0))),P76)","v":0},{"$f":"IF(Riskhistorik!W$2<>\"Datum\",IF(Riskhistorik!W78=\"Låg\",1,IF(Riskhistorik!W78=\"Medel\",2,IF(Riskhistorik!W78=\"Hög\",3,0))),Q76)","v":0},{"$f":"IF(Riskhistorik!W$2<>\"Datum\",IF(Riskhistorik!X78=\"Låg\",1,IF(Riskhistorik!X78=\"Medel\",2,IF(Riskhistorik!X78=\"Hög\",3,0))),R76)","v":0},{"$f":"IF(Riskhistorik!Y$2<>\"Datum\",IF(Riskhistorik!Y78=\"Låg\",1,IF(Riskhistorik!Y78=\"Medel\",2,IF(Riskhistorik!Y78=\"Hög\",3,0))),S76)","v":0},{"$f":"IF(Riskhistorik!Y$2<>\"Datum\",IF(Riskhistorik!Z78=\"Låg\",1,IF(Riskhistorik!Z78=\"Medel\",2,IF(Riskhistorik!Z78=\"Hög\",3,0))),T76)","v":0},{"$f":"IF(Riskhistorik!AA$2<>\"Datum\",IF(Riskhistorik!AA78=\"Låg\",1,IF(Riskhistorik!AA78=\"Medel\",2,IF(Riskhistorik!AA78=\"Hög\",3,0))),U76)","v":0},{"$f":"IF(Riskhistorik!AA$2<>\"Datum\",IF(Riskhistorik!AB78=\"Låg\",1,IF(Riskhistorik!AB78=\"Medel\",2,IF(Riskhistorik!AB78=\"Hög\",3,0))),V76)","v":0},{"$f":"IF(Riskhistorik!AC$2<>\"Datum\",IF(Riskhistorik!AC78=\"Låg\",1,IF(Riskhistorik!AC78=\"Medel\",2,IF(Riskhistorik!AC78=\"Hög\",3,0))),W76)","v":0},{"$f":"IF(Riskhistorik!AC$2<>\"Datum\",IF(Riskhistorik!AD78=\"Låg\",1,IF(Riskhistorik!AD78=\"Medel\",2,IF(Riskhistorik!AD78=\"Hög\",3,0))),X76)","v":0},{"$f":"IF(Riskhistorik!AE$2<>\"Datum\",IF(Riskhistorik!AE78=\"Låg\",1,IF(Riskhistorik!AE78=\"Medel\",2,IF(Riskhistorik!AE78=\"Hög\",3,0))),Y76)","v":0},{"$f":"IF(Riskhistorik!AE$2<>\"Datum\",IF(Riskhistorik!AF78=\"Låg\",1,IF(Riskhistorik!AF78=\"Medel\",2,IF(Riskhistorik!AF78=\"Hög\",3,0))),Z76)","v":0},{"$f":"IF(Riskhistorik!AG$2<>\"Datum\",IF(Riskhistorik!AG78=\"Låg\",1,IF(Riskhistorik!AG78=\"Medel\",2,IF(Riskhistorik!AG78=\"Hög\",3,0))),AA76)","v":0},{"$f":"IF(Riskhistorik!AG$2<>\"Datum\",IF(Riskhistorik!AH78=\"Låg\",1,IF(Riskhistorik!AH78=\"Medel\",2,IF(Riskhistorik!AH78=\"Hög\",3,0))),AB76)","v":0},{"$f":"IF(Riskhistorik!AI$2<>\"Datum\",IF(Riskhistorik!AI78=\"Låg\",1,IF(Riskhistorik!AI78=\"Medel\",2,IF(Riskhistorik!AI78=\"Hög\",3,0))),AC76)","v":0},{"$f":"IF(Riskhistorik!AI$2<>\"Datum\",IF(Riskhistorik!AJ78=\"Låg\",1,IF(Riskhistorik!AJ78=\"Medel\",2,IF(Riskhistorik!AJ78=\"Hög\",3,0))),AD76)","v":0},{"$f":"IF(Riskhistorik!AK$2<>\"Datum\",IF(Riskhistorik!AK78=\"Låg\",1,IF(Riskhistorik!AK78=\"Medel\",2,IF(Riskhistorik!AK78=\"Hög\",3,0))),AE76)","v":0},{"$f":"IF(Riskhistorik!AK$2<>\"Datum\",IF(Riskhistorik!AL78=\"Låg\",1,IF(Riskhistorik!AL78=\"Medel\",2,IF(Riskhistorik!AL78=\"Hög\",3,0))),AF76)","v":0},{"$f":"IF(Riskhistorik!AM$2<>\"Datum\",IF(Riskhistorik!AM78=\"Låg\",1,IF(Riskhistorik!AM78=\"Medel\",2,IF(Riskhistorik!AM78=\"Hög\",3,0))),AG76)","v":0},{"$f":"IF(Riskhistorik!AM$2<>\"Datum\",IF(Riskhistorik!AN78=\"Låg\",1,IF(Riskhistorik!AN78=\"Medel\",2,IF(Riskhistorik!AN78=\"Hög\",3,0))),AH76)","v":0},{"$f":"IF(Riskhistorik!AO$2<>\"Datum\",IF(Riskhistorik!AO78=\"Låg\",1,IF(Riskhistorik!AO78=\"Medel\",2,IF(Riskhistorik!AO78=\"Hög\",3,0))),AI76)","v":0},{"$f":"IF(Riskhistorik!AO$2<>\"Datum\",IF(Riskhistorik!AP78=\"Låg\",1,IF(Riskhistorik!AP78=\"Medel\",2,IF(Riskhistorik!AP78=\"Hög\",3,0))),AJ76)","v":0},{"$f":"IF(Riskhistorik!AQ$2<>\"Datum\",IF(Riskhistorik!AQ78=\"Låg\",1,IF(Riskhistorik!AQ78=\"Medel\",2,IF(Riskhistorik!AQ78=\"Hög\",3,0))),AK76)","v":0},{"$f":"IF(Riskhistorik!AQ$2<>\"Datum\",IF(Riskhistorik!AR78=\"Låg\",1,IF(Riskhistorik!AR78=\"Medel\",2,IF(Riskhistorik!AR78=\"Hög\",3,0))),AL76)","v":0},0,0,0,0,0,0,0,0,0,0,0,0,0,0,0,0,0,0,0,0]
[{"$f":"IF(Riskhistorik!E79<>\"\",IF(Riskhistorik!E79=\"Låg\",1,IF(Riskhistorik!E79=\"Medel\",2,3)),0)","v":0},{"$f":"IF(Riskhistorik!F79<>\"\",IF(Riskhistorik!F79=\"Låg\",1,IF(Riskhistorik!F79=\"Medel\",2,3)),0)","v":0},{"$f":"IF(Riskhistorik!G$2<>\"Datum\",IF(Riskhistorik!G79=\"Låg\",1,IF(Riskhistorik!G79=\"Medel\",2,IF(Riskhistorik!G79=\"Hög\",3,0))),A77)","v":0},{"$f":"IF(Riskhistorik!G$2<>\"Datum\",IF(Riskhistorik!H79=\"Låg\",1,IF(Riskhistorik!H79=\"Medel\",2,IF(Riskhistorik!H79=\"Hög\",3,0))),B77)","v":0},{"$f":"IF(Riskhistorik!I$2<>\"Datum\",IF(Riskhistorik!I79=\"Låg\",1,IF(Riskhistorik!I79=\"Medel\",2,IF(Riskhistorik!I79=\"Hög\",3,0))),C77)","v":0},{"$f":"IF(Riskhistorik!I$2<>\"Datum\",IF(Riskhistorik!J79=\"Låg\",1,IF(Riskhistorik!J79=\"Medel\",2,IF(Riskhistorik!J79=\"Hög\",3,0))),D77)","v":0},{"$f":"IF(Riskhistorik!K$2<>\"Datum\",IF(Riskhistorik!K79=\"Låg\",1,IF(Riskhistorik!K79=\"Medel\",2,IF(Riskhistorik!K79=\"Hög\",3,0))),E77)","v":0},{"$f":"IF(Riskhistorik!K$2<>\"Datum\",IF(Riskhistorik!L79=\"Låg\",1,IF(Riskhistorik!L79=\"Medel\",2,IF(Riskhistorik!L79=\"Hög\",3,0))),F77)","v":0},{"$f":"IF(Riskhistorik!M$2<>\"Datum\",IF(Riskhistorik!M79=\"Låg\",1,IF(Riskhistorik!M79=\"Medel\",2,IF(Riskhistorik!M79=\"Hög\",3,0))),G77)","v":0},{"$f":"IF(Riskhistorik!M$2<>\"Datum\",IF(Riskhistorik!N79=\"Låg\",1,IF(Riskhistorik!N79=\"Medel\",2,IF(Riskhistorik!N79=\"Hög\",3,0))),H77)","v":0},{"$f":"IF(Riskhistorik!O$2<>\"Datum\",IF(Riskhistorik!O79=\"Låg\",1,IF(Riskhistorik!O79=\"Medel\",2,IF(Riskhistorik!O79=\"Hög\",3,0))),I77)","v":0},{"$f":"IF(Riskhistorik!O$2<>\"Datum\",IF(Riskhistorik!P79=\"Låg\",1,IF(Riskhistorik!P79=\"Medel\",2,IF(Riskhistorik!P79=\"Hög\",3,0))),J77)","v":0},{"$f":"IF(Riskhistorik!Q$2<>\"Datum\",IF(Riskhistorik!Q79=\"Låg\",1,IF(Riskhistorik!Q79=\"Medel\",2,IF(Riskhistorik!Q79=\"Hög\",3,0))),K77)","v":0},{"$f":"IF(Riskhistorik!Q$2<>\"Datum\",IF(Riskhistorik!R79=\"Låg\",1,IF(Riskhistorik!R79=\"Medel\",2,IF(Riskhistorik!R79=\"Hög\",3,0))),L77)","v":0},{"$f":"IF(Riskhistorik!S$2<>\"Datum\",IF(Riskhistorik!S79=\"Låg\",1,IF(Riskhistorik!S79=\"Medel\",2,IF(Riskhistorik!S79=\"Hög\",3,0))),M77)","v":0},{"$f":"IF(Riskhistorik!S$2<>\"Datum\",IF(Riskhistorik!T79=\"Låg\",1,IF(Riskhistorik!T79=\"Medel\",2,IF(Riskhistorik!T79=\"Hög\",3,0))),N77)","v":0},{"$f":"IF(Riskhistorik!U$2<>\"Datum\",IF(Riskhistorik!U79=\"Låg\",1,IF(Riskhistorik!U79=\"Medel\",2,IF(Riskhistorik!U79=\"Hög\",3,0))),O77)","v":0},{"$f":"IF(Riskhistorik!U$2<>\"Datum\",IF(Riskhistorik!V79=\"Låg\",1,IF(Riskhistorik!V79=\"Medel\",2,IF(Riskhistorik!V79=\"Hög\",3,0))),P77)","v":0},{"$f":"IF(Riskhistorik!W$2<>\"Datum\",IF(Riskhistorik!W79=\"Låg\",1,IF(Riskhistorik!W79=\"Medel\",2,IF(Riskhistorik!W79=\"Hög\",3,0))),Q77)","v":0},{"$f":"IF(Riskhistorik!W$2<>\"Datum\",IF(Riskhistorik!X79=\"Låg\",1,IF(Riskhistorik!X79=\"Medel\",2,IF(Riskhistorik!X79=\"Hög\",3,0))),R77)","v":0},{"$f":"IF(Riskhistorik!Y$2<>\"Datum\",IF(Riskhistorik!Y79=\"Låg\",1,IF(Riskhistorik!Y79=\"Medel\",2,IF(Riskhistorik!Y79=\"Hög\",3,0))),S77)","v":0},{"$f":"IF(Riskhistorik!Y$2<>\"Datum\",IF(Riskhistorik!Z79=\"Låg\",1,IF(Riskhistorik!Z79=\"Medel\",2,IF(Riskhistorik!Z79=\"Hög\",3,0))),T77)","v":0},{"$f":"IF(Riskhistorik!AA$2<>\"Datum\",IF(Riskhistorik!AA79=\"Låg\",1,IF(Riskhistorik!AA79=\"Medel\",2,IF(Riskhistorik!AA79=\"Hög\",3,0))),U77)","v":0},{"$f":"IF(Riskhistorik!AA$2<>\"Datum\",IF(Riskhistorik!AB79=\"Låg\",1,IF(Riskhistorik!AB79=\"Medel\",2,IF(Riskhistorik!AB79=\"Hög\",3,0))),V77)","v":0},{"$f":"IF(Riskhistorik!AC$2<>\"Datum\",IF(Riskhistorik!AC79=\"Låg\",1,IF(Riskhistorik!AC79=\"Medel\",2,IF(Riskhistorik!AC79=\"Hög\",3,0))),W77)","v":0},{"$f":"IF(Riskhistorik!AC$2<>\"Datum\",IF(Riskhistorik!AD79=\"Låg\",1,IF(Riskhistorik!AD79=\"Medel\",2,IF(Riskhistorik!AD79=\"Hög\",3,0))),X77)","v":0},{"$f":"IF(Riskhistorik!AE$2<>\"Datum\",IF(Riskhistorik!AE79=\"Låg\",1,IF(Riskhistorik!AE79=\"Medel\",2,IF(Riskhistorik!AE79=\"Hög\",3,0))),Y77)","v":0},{"$f":"IF(Riskhistorik!AE$2<>\"Datum\",IF(Riskhistorik!AF79=\"Låg\",1,IF(Riskhistorik!AF79=\"Medel\",2,IF(Riskhistorik!AF79=\"Hög\",3,0))),Z77)","v":0},{"$f":"IF(Riskhistorik!AG$2<>\"Datum\",IF(Riskhistorik!AG79=\"Låg\",1,IF(Riskhistorik!AG79=\"Medel\",2,IF(Riskhistorik!AG79=\"Hög\",3,0))),AA77)","v":0},{"$f":"IF(Riskhistorik!AG$2<>\"Datum\",IF(Riskhistorik!AH79=\"Låg\",1,IF(Riskhistorik!AH79=\"Medel\",2,IF(Riskhistorik!AH79=\"Hög\",3,0))),AB77)","v":0},{"$f":"IF(Riskhistorik!AI$2<>\"Datum\",IF(Riskhistorik!AI79=\"Låg\",1,IF(Riskhistorik!AI79=\"Medel\",2,IF(Riskhistorik!AI79=\"Hög\",3,0))),AC77)","v":0},{"$f":"IF(Riskhistorik!AI$2<>\"Datum\",IF(Riskhistorik!AJ79=\"Låg\",1,IF(Riskhistorik!AJ79=\"Medel\",2,IF(Riskhistorik!AJ79=\"Hög\",3,0))),AD77)","v":0},{"$f":"IF(Riskhistorik!AK$2<>\"Datum\",IF(Riskhistorik!AK79=\"Låg\",1,IF(Riskhistorik!AK79=\"Medel\",2,IF(Riskhistorik!AK79=\"Hög\",3,0))),AE77)","v":0},{"$f":"IF(Riskhistorik!AK$2<>\"Datum\",IF(Riskhistorik!AL79=\"Låg\",1,IF(Riskhistorik!AL79=\"Medel\",2,IF(Riskhistorik!AL79=\"Hög\",3,0))),AF77)","v":0},{"$f":"IF(Riskhistorik!AM$2<>\"Datum\",IF(Riskhistorik!AM79=\"Låg\",1,IF(Riskhistorik!AM79=\"Medel\",2,IF(Riskhistorik!AM79=\"Hög\",3,0))),AG77)","v":0},{"$f":"IF(Riskhistorik!AM$2<>\"Datum\",IF(Riskhistorik!AN79=\"Låg\",1,IF(Riskhistorik!AN79=\"Medel\",2,IF(Riskhistorik!AN79=\"Hög\",3,0))),AH77)","v":0},{"$f":"IF(Riskhistorik!AO$2<>\"Datum\",IF(Riskhistorik!AO79=\"Låg\",1,IF(Riskhistorik!AO79=\"Medel\",2,IF(Riskhistorik!AO79=\"Hög\",3,0))),AI77)","v":0},{"$f":"IF(Riskhistorik!AO$2<>\"Datum\",IF(Riskhistorik!AP79=\"Låg\",1,IF(Riskhistorik!AP79=\"Medel\",2,IF(Riskhistorik!AP79=\"Hög\",3,0))),AJ77)","v":0},{"$f":"IF(Riskhistorik!AQ$2<>\"Datum\",IF(Riskhistorik!AQ79=\"Låg\",1,IF(Riskhistorik!AQ79=\"Medel\",2,IF(Riskhistorik!AQ79=\"Hög\",3,0))),AK77)","v":0},{"$f":"IF(Riskhistorik!AQ$2<>\"Datum\",IF(Riskhistorik!AR79=\"Låg\",1,IF(Riskhistorik!AR79=\"Medel\",2,IF(Riskhistorik!AR79=\"Hög\",3,0))),AL77)","v":0},0,0,0,0,0,0,0,0,0,0,0,0,0,0,0,0,0,0,0,0]
[{"$f":"IF(Riskhistorik!E80<>\"\",IF(Riskhistorik!E80=\"Låg\",1,IF(Riskhistorik!E80=\"Medel\",2,3)),0)","v":0},{"$f":"IF(Riskhistorik!F80<>\"\",IF(Riskhistorik!F80=\"Låg\",1,IF(Riskhistorik!F80=\"Medel\",2,3)),0)","v":0},{"$f":"IF(Riskhistorik!G$2<>\"Datum\",IF(Riskhistorik!G80=\"Låg\",1,IF(Riskhistorik!G80=\"Medel\",2,IF(Riskhistorik!G80=\"Hög\",3,0))),A78)","v":0},{"$f":"IF(Riskhistorik!G$2<>\"Datum\",IF(Riskhistorik!H80=\"Låg\",1,IF(Riskhistorik!H80=\"Medel\",2,IF(Riskhistorik!H80=\"Hög\",3,0))),B78)","v":0},{"$f":"IF(Riskhistorik!I$2<>\"Datum\",IF(Riskhistorik!I80=\"Låg\",1,IF(Riskhistorik!I80=\"Medel\",2,IF(Riskhistorik!I80=\"Hög\",3,0))),C78)","v":0},{"$f":"IF(Riskhistorik!I$2<>\"Datum\",IF(Riskhistorik!J80=\"Låg\",1,IF(Riskhistorik!J80=\"Medel\",2,IF(Riskhistorik!J80=\"Hög\",3,0))),D78)","v":0},{"$f":"IF(Riskhistorik!K$2<>\"Datum\",IF(Riskhistorik!K80=\"Låg\",1,IF(Riskhistorik!K80=\"Medel\",2,IF(Riskhistorik!K80=\"Hög\",3,0))),E78)","v":0},{"$f":"IF(Riskhistorik!K$2<>\"Datum\",IF(Riskhistorik!L80=\"Låg\",1,IF(Riskhistorik!L80=\"Medel\",2,IF(Riskhistorik!L80=\"Hög\",3,0))),F78)","v":0},{"$f":"IF(Riskhistorik!M$2<>\"Datum\",IF(Riskhistorik!M80=\"Låg\",1,IF(Riskhistorik!M80=\"Medel\",2,IF(Riskhistorik!M80=\"Hög\",3,0))),G78)","v":0},{"$f":"IF(Riskhistorik!M$2<>\"Datum\",IF(Riskhistorik!N80=\"Låg\",1,IF(Riskhistorik!N80=\"Medel\",2,IF(Riskhistorik!N80=\"Hög\",3,0))),H78)","v":0},{"$f":"IF(Riskhistorik!O$2<>\"Datum\",IF(Riskhistorik!O80=\"Låg\",1,IF(Riskhistorik!O80=\"Medel\",2,IF(Riskhistorik!O80=\"Hög\",3,0))),I78)","v":0},{"$f":"IF(Riskhistorik!O$2<>\"Datum\",IF(Riskhistorik!P80=\"Låg\",1,IF(Riskhistorik!P80=\"Medel\",2,IF(Riskhistorik!P80=\"Hög\",3,0))),J78)","v":0},{"$f":"IF(Riskhistorik!Q$2<>\"Datum\",IF(Riskhistorik!Q80=\"Låg\",1,IF(Riskhistorik!Q80=\"Medel\",2,IF(Riskhistorik!Q80=\"Hög\",3,0))),K78)","v":0},{"$f":"IF(Riskhistorik!Q$2<>\"Datum\",IF(Riskhistorik!R80=\"Låg\",1,IF(Riskhistorik!R80=\"Medel\",2,IF(Riskhistorik!R80=\"Hög\",3,0))),L78)","v":0},{"$f":"IF(Riskhistorik!S$2<>\"Datum\",IF(Riskhistorik!S80=\"Låg\",1,IF(Riskhistorik!S80=\"Medel\",2,IF(Riskhistorik!S80=\"Hög\",3,0))),M78)","v":0},{"$f":"IF(Riskhistorik!S$2<>\"Datum\",IF(Riskhistorik!T80=\"Låg\",1,IF(Riskhistorik!T80=\"Medel\",2,IF(Riskhistorik!T80=\"Hög\",3,0))),N78)","v":0},{"$f":"IF(Riskhistorik!U$2<>\"Datum\",IF(Riskhistorik!U80=\"Låg\",1,IF(Riskhistorik!U80=\"Medel\",2,IF(Riskhistorik!U80=\"Hög\",3,0))),O78)","v":0},{"$f":"IF(Riskhistorik!U$2<>\"Datum\",IF(Riskhistorik!V80=\"Låg\",1,IF(Riskhistorik!V80=\"Medel\",2,IF(Riskhistorik!V80=\"Hög\",3,0))),P78)","v":0},{"$f":"IF(Riskhistorik!W$2<>\"Datum\",IF(Riskhistorik!W80=\"Låg\",1,IF(Riskhistorik!W80=\"Medel\",2,IF(Riskhistorik!W80=\"Hög\",3,0))),Q78)","v":0},{"$f":"IF(Riskhistorik!W$2<>\"Datum\",IF(Riskhistorik!X80=\"Låg\",1,IF(Riskhistorik!X80=\"Medel\",2,IF(Riskhistorik!X80=\"Hög\",3,0))),R78)","v":0},{"$f":"IF(Riskhistorik!Y$2<>\"Datum\",IF(Riskhistorik!Y80=\"Låg\",1,IF(Riskhistorik!Y80=\"Medel\",2,IF(Riskhistorik!Y80=\"Hög\",3,0))),S78)","v":0},{"$f":"IF(Riskhistorik!Y$2<>\"Datum\",IF(Riskhistorik!Z80=\"Låg\",1,IF(Riskhistorik!Z80=\"Medel\",2,IF(Riskhistorik!Z80=\"Hög\",3,0))),T78)","v":0},{"$f":"IF(Riskhistorik!AA$2<>\"Datum\",IF(Riskhistorik!AA80=\"Låg\",1,IF(Riskhistorik!AA80=\"Medel\",2,IF(Riskhistorik!AA80=\"Hög\",3,0))),U78)","v":0},{"$f":"IF(Riskhistorik!AA$2<>\"Datum\",IF(Riskhistorik!AB80=\"Låg\",1,IF(Riskhistorik!AB80=\"Medel\",2,IF(Riskhistorik!AB80=\"Hög\",3,0))),V78)","v":0},{"$f":"IF(Riskhistorik!AC$2<>\"Datum\",IF(Riskhistorik!AC80=\"Låg\",1,IF(Riskhistorik!AC80=\"Medel\",2,IF(Riskhistorik!AC80=\"Hög\",3,0))),W78)","v":0},{"$f":"IF(Riskhistorik!AC$2<>\"Datum\",IF(Riskhistorik!AD80=\"Låg\",1,IF(Riskhistorik!AD80=\"Medel\",2,IF(Riskhistorik!AD80=\"Hög\",3,0))),X78)","v":0},{"$f":"IF(Riskhistorik!AE$2<>\"Datum\",IF(Riskhistorik!AE80=\"Låg\",1,IF(Riskhistorik!AE80=\"Medel\",2,IF(Riskhistorik!AE80=\"Hög\",3,0))),Y78)","v":0},{"$f":"IF(Riskhistorik!AE$2<>\"Datum\",IF(Riskhistorik!AF80=\"Låg\",1,IF(Riskhistorik!AF80=\"Medel\",2,IF(Riskhistorik!AF80=\"Hög\",3,0))),Z78)","v":0},{"$f":"IF(Riskhistorik!AG$2<>\"Datum\",IF(Riskhistorik!AG80=\"Låg\",1,IF(Riskhistorik!AG80=\"Medel\",2,IF(Riskhistorik!AG80=\"Hög\",3,0))),AA78)","v":0},{"$f":"IF(Riskhistorik!AG$2<>\"Datum\",IF(Riskhistorik!AH80=\"Låg\",1,IF(Riskhistorik!AH80=\"Medel\",2,IF(Riskhistorik!AH80=\"Hög\",3,0))),AB78)","v":0},{"$f":"IF(Riskhistorik!AI$2<>\"Datum\",IF(Riskhistorik!AI80=\"Låg\",1,IF(Riskhistorik!AI80=\"Medel\",2,IF(Riskhistorik!AI80=\"Hög\",3,0))),AC78)","v":0},{"$f":"IF(Riskhistorik!AI$2<>\"Datum\",IF(Riskhistorik!AJ80=\"Låg\",1,IF(Riskhistorik!AJ80=\"Medel\",2,IF(Riskhistorik!AJ80=\"Hög\",3,0))),AD78)","v":0},{"$f":"IF(Riskhistorik!AK$2<>\"Datum\",IF(Riskhistorik!AK80=\"Låg\",1,IF(Riskhistorik!AK80=\"Medel\",2,IF(Riskhistorik!AK80=\"Hög\",3,0))),AE78)","v":0},{"$f":"IF(Riskhistorik!AK$2<>\"Datum\",IF(Riskhistorik!AL80=\"Låg\",1,IF(Riskhistorik!AL80=\"Medel\",2,IF(Riskhistorik!AL80=\"Hög\",3,0))),AF78)","v":0},{"$f":"IF(Riskhistorik!AM$2<>\"Datum\",IF(Riskhistorik!AM80=\"Låg\",1,IF(Riskhistorik!AM80=\"Medel\",2,IF(Riskhistorik!AM80=\"Hög\",3,0))),AG78)","v":0},{"$f":"IF(Riskhistorik!AM$2<>\"Datum\",IF(Riskhistorik!AN80=\"Låg\",1,IF(Riskhistorik!AN80=\"Medel\",2,IF(Riskhistorik!AN80=\"Hög\",3,0))),AH78)","v":0},{"$f":"IF(Riskhistorik!AO$2<>\"Datum\",IF(Riskhistorik!AO80=\"Låg\",1,IF(Riskhistorik!AO80=\"Medel\",2,IF(Riskhistorik!AO80=\"Hög\",3,0))),AI78)","v":0},{"$f":"IF(Riskhistorik!AO$2<>\"Datum\",IF(Riskhistorik!AP80=\"Låg\",1,IF(Riskhistorik!AP80=\"Medel\",2,IF(Riskhistorik!AP80=\"Hög\",3,0))),AJ78)","v":0},{"$f":"IF(Riskhistorik!AQ$2<>\"Datum\",IF(Riskhistorik!AQ80=\"Låg\",1,IF(Riskhistorik!AQ80=\"Medel\",2,IF(Riskhistorik!AQ80=\"Hög\",3,0))),AK78)","v":0},{"$f":"IF(Riskhistorik!AQ$2<>\"Datum\",IF(Riskhistorik!AR80=\"Låg\",1,IF(Riskhistorik!AR80=\"Medel\",2,IF(Riskhistorik!AR80=\"Hög\",3,0))),AL78)","v":0},0,0,0,0,0,0,0,0,0,0,0,0,0,0,0,0,0,0,0,0]
[{"$f":"IF(Riskhistorik!E81<>\"\",IF(Riskhistorik!E81=\"Låg\",1,IF(Riskhistorik!E81=\"Medel\",2,3)),0)","v":0},{"$f":"IF(Riskhistorik!F81<>\"\",IF(Riskhistorik!F81=\"Låg\",1,IF(Riskhistorik!F81=\"Medel\",2,3)),0)","v":0},{"$f":"IF(Riskhistorik!G$2<>\"Datum\",IF(Riskhistorik!G81=\"Låg\",1,IF(Riskhistorik!G81=\"Medel\",2,IF(Riskhistorik!G81=\"Hög\",3,0))),A79)","v":0},{"$f":"IF(Riskhistorik!G$2<>\"Datum\",IF(Riskhistorik!H81=\"Låg\",1,IF(Riskhistorik!H81=\"Medel\",2,IF(Riskhistorik!H81=\"Hög\",3,0))),B79)","v":0},{"$f":"IF(Riskhistorik!I$2<>\"Datum\",IF(Riskhistorik!I81=\"Låg\",1,IF(Riskhistorik!I81=\"Medel\",2,IF(Riskhistorik!I81=\"Hög\",3,0))),C79)","v":0},{"$f":"IF(Riskhistorik!I$2<>\"Datum\",IF(Riskhistorik!J81=\"Låg\",1,IF(Riskhistorik!J81=\"Medel\",2,IF(Riskhistorik!J81=\"Hög\",3,0))),D79)","v":0},{"$f":"IF(Riskhistorik!K$2<>\"Datum\",IF(Riskhistorik!K81=\"Låg\",1,IF(Riskhistorik!K81=\"Medel\",2,IF(Riskhistorik!K81=\"Hög\",3,0))),E79)","v":0},{"$f":"IF(Riskhistorik!K$2<>\"Datum\",IF(Riskhistorik!L81=\"Låg\",1,IF(Riskhistorik!L81=\"Medel\",2,IF(Riskhistorik!L81=\"Hög\",3,0))),F79)","v":0},{"$f":"IF(Riskhistorik!M$2<>\"Datum\",IF(Riskhistorik!M81=\"Låg\",1,IF(Riskhistorik!M81=\"Medel\",2,IF(Riskhistorik!M81=\"Hög\",3,0))),G79)","v":0},{"$f":"IF(Riskhistorik!M$2<>\"Datum\",IF(Riskhistorik!N81=\"Låg\",1,IF(Riskhistorik!N81=\"Medel\",2,IF(Riskhistorik!N81=\"Hög\",3,0))),H79)","v":0},{"$f":"IF(Riskhistorik!O$2<>\"Datum\",IF(Riskhistorik!O81=\"Låg\",1,IF(Riskhistorik!O81=\"Medel\",2,IF(Riskhistorik!O81=\"Hög\",3,0))),I79)","v":0},{"$f":"IF(Riskhistorik!O$2<>\"Datum\",IF(Riskhistorik!P81=\"Låg\",1,IF(Riskhistorik!P81=\"Medel\",2,IF(Riskhistorik!P81=\"Hög\",3,0))),J79)","v":0},{"$f":"IF(Riskhistorik!Q$2<>\"Datum\",IF(Riskhistorik!Q81=\"Låg\",1,IF(Riskhistorik!Q81=\"Medel\",2,IF(Riskhistorik!Q81=\"Hög\",3,0))),K79)","v":0},{"$f":"IF(Riskhistorik!Q$2<>\"Datum\",IF(Riskhistorik!R81=\"Låg\",1,IF(Riskhistorik!R81=\"Medel\",2,IF(Riskhistorik!R81=\"Hög\",3,0))),L79)","v":0},{"$f":"IF(Riskhistorik!S$2<>\"Datum\",IF(Riskhistorik!S81=\"Låg\",1,IF(Riskhistorik!S81=\"Medel\",2,IF(Riskhistorik!S81=\"Hög\",3,0))),M79)","v":0},{"$f":"IF(Riskhistorik!S$2<>\"Datum\",IF(Riskhistorik!T81=\"Låg\",1,IF(Riskhistorik!T81=\"Medel\",2,IF(Riskhistorik!T81=\"Hög\",3,0))),N79)","v":0},{"$f":"IF(Riskhistorik!U$2<>\"Datum\",IF(Riskhistorik!U81=\"Låg\",1,IF(Riskhistorik!U81=\"Medel\",2,IF(Riskhistorik!U81=\"Hög\",3,0))),O79)","v":0},{"$f":"IF(Riskhistorik!U$2<>\"Datum\",IF(Riskhistorik!V81=\"Låg\",1,IF(Riskhistorik!V81=\"Medel\",2,IF(Riskhistorik!V81=\"Hög\",3,0))),P79)","v":0},{"$f":"IF(Riskhistorik!W$2<>\"Datum\",IF(Riskhistorik!W81=\"Låg\",1,IF(Riskhistorik!W81=\"Medel\",2,IF(Riskhistorik!W81=\"Hög\",3,0))),Q79)","v":0},{"$f":"IF(Riskhistorik!W$2<>\"Datum\",IF(Riskhistorik!X81=\"Låg\",1,IF(Riskhistorik!X81=\"Medel\",2,IF(Riskhistorik!X81=\"Hög\",3,0))),R79)","v":0},{"$f":"IF(Riskhistorik!Y$2<>\"Datum\",IF(Riskhistorik!Y81=\"Låg\",1,IF(Riskhistorik!Y81=\"Medel\",2,IF(Riskhistorik!Y81=\"Hög\",3,0))),S79)","v":0},{"$f":"IF(Riskhistorik!Y$2<>\"Datum\",IF(Riskhistorik!Z81=\"Låg\",1,IF(Riskhistorik!Z81=\"Medel\",2,IF(Riskhistorik!Z81=\"Hög\",3,0))),T79)","v":0},{"$f":"IF(Riskhistorik!AA$2<>\"Datum\",IF(Riskhistorik!AA81=\"Låg\",1,IF(Riskhistorik!AA81=\"Medel\",2,IF(Riskhistorik!AA81=\"Hög\",3,0))),U79)","v":0},{"$f":"IF(Riskhistorik!AA$2<>\"Datum\",IF(Riskhistorik!AB81=\"Låg\",1,IF(Riskhistorik!AB81=\"Medel\",2,IF(Riskhistorik!AB81=\"Hög\",3,0))),V79)","v":0},{"$f":"IF(Riskhistorik!AC$2<>\"Datum\",IF(Riskhistorik!AC81=\"Låg\",1,IF(Riskhistorik!AC81=\"Medel\",2,IF(Riskhistorik!AC81=\"Hög\",3,0))),W79)","v":0},{"$f":"IF(Riskhistorik!AC$2<>\"Datum\",IF(Riskhistorik!AD81=\"Låg\",1,IF(Riskhistorik!AD81=\"Medel\",2,IF(Riskhistorik!AD81=\"Hög\",3,0))),X79)","v":0},{"$f":"IF(Riskhistorik!AE$2<>\"Datum\",IF(Riskhistorik!AE81=\"Låg\",1,IF(Riskhistorik!AE81=\"Medel\",2,IF(Riskhistorik!AE81=\"Hög\",3,0))),Y79)","v":0},{"$f":"IF(Riskhistorik!AE$2<>\"Datum\",IF(Riskhistorik!AF81=\"Låg\",1,IF(Riskhistorik!AF81=\"Medel\",2,IF(Riskhistorik!AF81=\"Hög\",3,0))),Z79)","v":0},{"$f":"IF(Riskhistorik!AG$2<>\"Datum\",IF(Riskhistorik!AG81=\"Låg\",1,IF(Riskhistorik!AG81=\"Medel\",2,IF(Riskhistorik!AG81=\"Hög\",3,0))),AA79)","v":0},{"$f":"IF(Riskhistorik!AG$2<>\"Datum\",IF(Riskhistorik!AH81=\"Låg\",1,IF(Riskhistorik!AH81=\"Medel\",2,IF(Riskhistorik!AH81=\"Hög\",3,0))),AB79)","v":0},{"$f":"IF(Riskhistorik!AI$2<>\"Datum\",IF(Riskhistorik!AI81=\"Låg\",1,IF(Riskhistorik!AI81=\"Medel\",2,IF(Riskhistorik!AI81=\"Hög\",3,0))),AC79)","v":0},{"$f":"IF(Riskhistorik!AI$2<>\"Datum\",IF(Riskhistorik!AJ81=\"Låg\",1,IF(Riskhistorik!AJ81=\"Medel\",2,IF(Riskhistorik!AJ81=\"Hög\",3,0))),AD79)","v":0},{"$f":"IF(Riskhistorik!AK$2<>\"Datum\",IF(Riskhistorik!AK81=\"Låg\",1,IF(Riskhistorik!AK81=\"Medel\",2,IF(Riskhistorik!AK81=\"Hög\",3,0))),AE79)","v":0},{"$f":"IF(Riskhistorik!AK$2<>\"Datum\",IF(Riskhistorik!AL81=\"Låg\",1,IF(Riskhistorik!AL81=\"Medel\",2,IF(Riskhistorik!AL81=\"Hög\",3,0))),AF79)","v":0},{"$f":"IF(Riskhistorik!AM$2<>\"Datum\",IF(Riskhistorik!AM81=\"Låg\",1,IF(Riskhistorik!AM81=\"Medel\",2,IF(Riskhistorik!AM81=\"Hög\",3,0))),AG79)","v":0},{"$f":"IF(Riskhistorik!AM$2<>\"Datum\",IF(Riskhistorik!AN81=\"Låg\",1,IF(Riskhistorik!AN81=\"Medel\",2,IF(Riskhistorik!AN81=\"Hög\",3,0))),AH79)","v":0},{"$f":"IF(Riskhistorik!AO$2<>\"Datum\",IF(Riskhistorik!AO81=\"Låg\",1,IF(Riskhistorik!AO81=\"Medel\",2,IF(Riskhistorik!AO81=\"Hög\",3,0))),AI79)","v":0},{"$f":"IF(Riskhistorik!AO$2<>\"Datum\",IF(Riskhistorik!AP81=\"Låg\",1,IF(Riskhistorik!AP81=\"Medel\",2,IF(Riskhistorik!AP81=\"Hög\",3,0))),AJ79)","v":0},{"$f":"IF(Riskhistorik!AQ$2<>\"Datum\",IF(Riskhistorik!AQ81=\"Låg\",1,IF(Riskhistorik!AQ81=\"Medel\",2,IF(Riskhistorik!AQ81=\"Hög\",3,0))),AK79)","v":0},{"$f":"IF(Riskhistorik!AQ$2<>\"Datum\",IF(Riskhistorik!AR81=\"Låg\",1,IF(Riskhistorik!AR81=\"Medel\",2,IF(Riskhistorik!AR81=\"Hög\",3,0))),AL79)","v":0},0,0,0,0,0,0,0,0,0,0,0,0,0,0,0,0,0,0,0,0]
[{"$f":"IF(Riskhistorik!E82<>\"\",IF(Riskhistorik!E82=\"Låg\",1,IF(Riskhistorik!E82=\"Medel\",2,3)),0)","v":0},{"$f":"IF(Riskhistorik!F82<>\"\",IF(Riskhistorik!F82=\"Låg\",1,IF(Riskhistorik!F82=\"Medel\",2,3)),0)","v":0},{"$f":"IF(Riskhistorik!G$2<>\"Datum\",IF(Riskhistorik!G82=\"Låg\",1,IF(Riskhistorik!G82=\"Medel\",2,IF(Riskhistorik!G82=\"Hög\",3,0))),A80)","v":0},{"$f":"IF(Riskhistorik!G$2<>\"Datum\",IF(Riskhistorik!H82=\"Låg\",1,IF(Riskhistorik!H82=\"Medel\",2,IF(Riskhistorik!H82=\"Hög\",3,0))),B80)","v":0},{"$f":"IF(Riskhistorik!I$2<>\"Datum\",IF(Riskhistorik!I82=\"Låg\",1,IF(Riskhistorik!I82=\"Medel\",2,IF(Riskhistorik!I82=\"Hög\",3,0))),C80)","v":0},{"$f":"IF(Riskhistorik!I$2<>\"Datum\",IF(Riskhistorik!J82=\"Låg\",1,IF(Riskhistorik!J82=\"Medel\",2,IF(Riskhistorik!J82=\"Hög\",3,0))),D80)","v":0},{"$f":"IF(Riskhistorik!K$2<>\"Datum\",IF(Riskhistorik!K82=\"Låg\",1,IF(Riskhistorik!K82=\"Medel\",2,IF(Riskhistorik!K82=\"Hög\",3,0))),E80)","v":0},{"$f":"IF(Riskhistorik!K$2<>\"Datum\",IF(Riskhistorik!L82=\"Låg\",1,IF(Riskhistorik!L82=\"Medel\",2,IF(Riskhistorik!L82=\"Hög\",3,0))),F80)","v":0},{"$f":"IF(Riskhistorik!M$2<>\"Datum\",IF(Riskhistorik!M82=\"Låg\",1,IF(Riskhistorik!M82=\"Medel\",2,IF(Riskhistorik!M82=\"Hög\",3,0))),G80)","v":0},{"$f":"IF(Riskhistorik!M$2<>\"Datum\",IF(Riskhistorik!N82=\"Låg\",1,IF(Riskhistorik!N82=\"Medel\",2,IF(Riskhistorik!N82=\"Hög\",3,0))),H80)","v":0},{"$f":"IF(Riskhistorik!O$2<>\"Datum\",IF(Riskhistorik!O82=\"Låg\",1,IF(Riskhistorik!O82=\"Medel\",2,IF(Riskhistorik!O82=\"Hög\",3,0))),I80)","v":0},{"$f":"IF(Riskhistorik!O$2<>\"Datum\",IF(Riskhistorik!P82=\"Låg\",1,IF(Riskhistorik!P82=\"Medel\",2,IF(Riskhistorik!P82=\"Hög\",3,0))),J80)","v":0},{"$f":"IF(Riskhistorik!Q$2<>\"Datum\",IF(Riskhistorik!Q82=\"Låg\",1,IF(Riskhistorik!Q82=\"Medel\",2,IF(Riskhistorik!Q82=\"Hög\",3,0))),K80)","v":0},{"$f":"IF(Riskhistorik!Q$2<>\"Datum\",IF(Riskhistorik!R82=\"Låg\",1,IF(Riskhistorik!R82=\"Medel\",2,IF(Riskhistorik!R82=\"Hög\",3,0))),L80)","v":0},{"$f":"IF(Riskhistorik!S$2<>\"Datum\",IF(Riskhistorik!S82=\"Låg\",1,IF(Riskhistorik!S82=\"Medel\",2,IF(Riskhistorik!S82=\"Hög\",3,0))),M80)","v":0},{"$f":"IF(Riskhistorik!S$2<>\"Datum\",IF(Riskhistorik!T82=\"Låg\",1,IF(Riskhistorik!T82=\"Medel\",2,IF(Riskhistorik!T82=\"Hög\",3,0))),N80)","v":0},{"$f":"IF(Riskhistorik!U$2<>\"Datum\",IF(Riskhistorik!U82=\"Låg\",1,IF(Riskhistorik!U82=\"Medel\",2,IF(Riskhistorik!U82=\"Hög\",3,0))),O80)","v":0},{"$f":"IF(Riskhistorik!U$2<>\"Datum\",IF(Riskhistorik!V82=\"Låg\",1,IF(Riskhistorik!V82=\"Medel\",2,IF(Riskhistorik!V82=\"Hög\",3,0))),P80)","v":0},{"$f":"IF(Riskhistorik!W$2<>\"Datum\",IF(Riskhistorik!W82=\"Låg\",1,IF(Riskhistorik!W82=\"Medel\",2,IF(Riskhistorik!W82=\"Hög\",3,0))),Q80)","v":0},{"$f":"IF(Riskhistorik!W$2<>\"Datum\",IF(Riskhistorik!X82=\"Låg\",1,IF(Riskhistorik!X82=\"Medel\",2,IF(Riskhistorik!X82=\"Hög\",3,0))),R80)","v":0},{"$f":"IF(Riskhistorik!Y$2<>\"Datum\",IF(Riskhistorik!Y82=\"Låg\",1,IF(Riskhistorik!Y82=\"Medel\",2,IF(Riskhistorik!Y82=\"Hög\",3,0))),S80)","v":0},{"$f":"IF(Riskhistorik!Y$2<>\"Datum\",IF(Riskhistorik!Z82=\"Låg\",1,IF(Riskhistorik!Z82=\"Medel\",2,IF(Riskhistorik!Z82=\"Hög\",3,0))),T80)","v":0},{"$f":"IF(Riskhistorik!AA$2<>\"Datum\",IF(Riskhistorik!AA82=\"Låg\",1,IF(Riskhistorik!AA82=\"Medel\",2,IF(Riskhistorik!AA82=\"Hög\",3,0))),U80)","v":0},{"$f":"IF(Riskhistorik!AA$2<>\"Datum\",IF(Riskhistorik!AB82=\"Låg\",1,IF(Riskhistorik!AB82=\"Medel\",2,IF(Riskhistorik!AB82=\"Hög\",3,0))),V80)","v":0},{"$f":"IF(Riskhistorik!AC$2<>\"Datum\",IF(Riskhistorik!AC82=\"Låg\",1,IF(Riskhistorik!AC82=\"Medel\",2,IF(Riskhistorik!AC82=\"Hög\",3,0))),W80)","v":0},{"$f":"IF(Riskhistorik!AC$2<>\"Datum\",IF(Riskhistorik!AD82=\"Låg\",1,IF(Riskhistorik!AD82=\"Medel\",2,IF(Riskhistorik!AD82=\"Hög\",3,0))),X80)","v":0},{"$f":"IF(Riskhistorik!AE$2<>\"Datum\",IF(Riskhistorik!AE82=\"Låg\",1,IF(Riskhistorik!AE82=\"Medel\",2,IF(Riskhistorik!AE82=\"Hög\",3,0))),Y80)","v":0},{"$f":"IF(Riskhistorik!AE$2<>\"Datum\",IF(Riskhistorik!AF82=\"Låg\",1,IF(Riskhistorik!AF82=\"Medel\",2,IF(Riskhistorik!AF82=\"Hög\",3,0))),Z80)","v":0},{"$f":"IF(Riskhistorik!AG$2<>\"Datum\",IF(Riskhistorik!AG82=\"Låg\",1,IF(Riskhistorik!AG82=\"Medel\",2,IF(Riskhistorik!AG82=\"Hög\",3,0))),AA80)","v":0},{"$f":"IF(Riskhistorik!AG$2<>\"Datum\",IF(Riskhistorik!AH82=\"Låg\",1,IF(Riskhistorik!AH82=\"Medel\",2,IF(Riskhistorik!AH82=\"Hög\",3,0))),AB80)","v":0},{"$f":"IF(Riskhistorik!AI$2<>\"Datum\",IF(Riskhistorik!AI82=\"Låg\",1,IF(Riskhistorik!AI82=\"Medel\",2,IF(Riskhistorik!AI82=\"Hög\",3,0))),AC80)","v":0},{"$f":"IF(Riskhistorik!AI$2<>\"Datum\",IF(Riskhistorik!AJ82=\"Låg\",1,IF(Riskhistorik!AJ82=\"Medel\",2,IF(Riskhistorik!AJ82=\"Hög\",3,0))),AD80)","v":0},{"$f":"IF(Riskhistorik!AK$2<>\"Datum\",IF(Riskhistorik!AK82=\"Låg\",1,IF(Riskhistorik!AK82=\"Medel\",2,IF(Riskhistorik!AK82=\"Hög\",3,0))),AE80)","v":0},{"$f":"IF(Riskhistorik!AK$2<>\"Datum\",IF(Riskhistorik!AL82=\"Låg\",1,IF(Riskhistorik!AL82=\"Medel\",2,IF(Riskhistorik!AL82=\"Hög\",3,0))),AF80)","v":0},{"$f":"IF(Riskhistorik!AM$2<>\"Datum\",IF(Riskhistorik!AM82=\"Låg\",1,IF(Riskhistorik!AM82=\"Medel\",2,IF(Riskhistorik!AM82=\"Hög\",3,0))),AG80)","v":0},{"$f":"IF(Riskhistorik!AM$2<>\"Datum\",IF(Riskhistorik!AN82=\"Låg\",1,IF(Riskhistorik!AN82=\"Medel\",2,IF(Riskhistorik!AN82=\"Hög\",3,0))),AH80)","v":0},{"$f":"IF(Riskhistorik!AO$2<>\"Datum\",IF(Riskhistorik!AO82=\"Låg\",1,IF(Riskhistorik!AO82=\"Medel\",2,IF(Riskhistorik!AO82=\"Hög\",3,0))),AI80)","v":0},{"$f":"IF(Riskhistorik!AO$2<>\"Datum\",IF(Riskhistorik!AP82=\"Låg\",1,IF(Riskhistorik!AP82=\"Medel\",2,IF(Riskhistorik!AP82=\"Hög\",3,0))),AJ80)","v":0},{"$f":"IF(Riskhistorik!AQ$2<>\"Datum\",IF(Riskhistorik!AQ82=\"Låg\",1,IF(Riskhistorik!AQ82=\"Medel\",2,IF(Riskhistorik!AQ82=\"Hög\",3,0))),AK80)","v":0},{"$f":"IF(Riskhistorik!AQ$2<>\"Datum\",IF(Riskhistorik!AR82=\"Låg\",1,IF(Riskhistorik!AR82=\"Medel\",2,IF(Riskhistorik!AR82=\"Hög\",3,0))),AL80)","v":0},0,0,0,0,0,0,0,0,0,0,0,0,0,0,0,0,0,0,0,0]
[{"$f":"IF(Riskhistorik!E83<>\"\",IF(Riskhistorik!E83=\"Låg\",1,IF(Riskhistorik!E83=\"Medel\",2,3)),0)","v":0},{"$f":"IF(Riskhistorik!F83<>\"\",IF(Riskhistorik!F83=\"Låg\",1,IF(Riskhistorik!F83=\"Medel\",2,3)),0)","v":0},{"$f":"IF(Riskhistorik!G$2<>\"Datum\",IF(Riskhistorik!G83=\"Låg\",1,IF(Riskhistorik!G83=\"Medel\",2,IF(Riskhistorik!G83=\"Hög\",3,0))),A81)","v":0},{"$f":"IF(Riskhistorik!G$2<>\"Datum\",IF(Riskhistorik!H83=\"Låg\",1,IF(Riskhistorik!H83=\"Medel\",2,IF(Riskhistorik!H83=\"Hög\",3,0))),B81)","v":0},{"$f":"IF(Riskhistorik!I$2<>\"Datum\",IF(Riskhistorik!I83=\"Låg\",1,IF(Riskhistorik!I83=\"Medel\",2,IF(Riskhistorik!I83=\"Hög\",3,0))),C81)","v":0},{"$f":"IF(Riskhistorik!I$2<>\"Datum\",IF(Riskhistorik!J83=\"Låg\",1,IF(Riskhistorik!J83=\"Medel\",2,IF(Riskhistorik!J83=\"Hög\",3,0))),D81)","v":0},{"$f":"IF(Riskhistorik!K$2<>\"Datum\",IF(Riskhistorik!K83=\"Låg\",1,IF(Riskhistorik!K83=\"Medel\",2,IF(Riskhistorik!K83=\"Hög\",3,0))),E81)","v":0},{"$f":"IF(Riskhistorik!K$2<>\"Datum\",IF(Riskhistorik!L83=\"Låg\",1,IF(Riskhistorik!L83=\"Medel\",2,IF(Riskhistorik!L83=\"Hög\",3,0))),F81)","v":0},{"$f":"IF(Riskhistorik!M$2<>\"Datum\",IF(Riskhistorik!M83=\"Låg\",1,IF(Riskhistorik!M83=\"Medel\",2,IF(Riskhistorik!M83=\"Hög\",3,0))),G81)","v":0},{"$f":"IF(Riskhistorik!M$2<>\"Datum\",IF(Riskhistorik!N83=\"Låg\",1,IF(Riskhistorik!N83=\"Medel\",2,IF(Riskhistorik!N83=\"Hög\",3,0))),H81)","v":0},{"$f":"IF(Riskhistorik!O$2<>\"Datum\",IF(Riskhistorik!O83=\"Låg\",1,IF(Riskhistorik!O83=\"Medel\",2,IF(Riskhistorik!O83=\"Hög\",3,0))),I81)","v":0},{"$f":"IF(Riskhistorik!O$2<>\"Datum\",IF(Riskhistorik!P83=\"Låg\",1,IF(Riskhistorik!P83=\"Medel\",2,IF(Riskhistorik!P83=\"Hög\",3,0))),J81)","v":0},{"$f":"IF(Riskhistorik!Q$2<>\"Datum\",IF(Riskhistorik!Q83=\"Låg\",1,IF(Riskhistorik!Q83=\"Medel\",2,IF(Riskhistorik!Q83=\"Hög\",3,0))),K81)","v":0},{"$f":"IF(Riskhistorik!Q$2<>\"Datum\",IF(Riskhistorik!R83=\"Låg\",1,IF(Riskhistorik!R83=\"Medel\",2,IF(Riskhistorik!R83=\"Hög\",3,0))),L81)","v":0},{"$f":"IF(Riskhistorik!S$2<>\"Datum\",IF(Riskhistorik!S83=\"Låg\",1,IF(Riskhistorik!S83=\"Medel\",2,IF(Riskhistorik!S83=\"Hög\",3,0))),M81)","v":0},{"$f":"IF(Riskhistorik!S$2<>\"Datum\",IF(Riskhistorik!T83=\"Låg\",1,IF(Riskhistorik!T83=\"Medel\",2,IF(Riskhistorik!T83=\"Hög\",3,0))),N81)","v":0},{"$f":"IF(Riskhistorik!U$2<>\"Datum\",IF(Riskhistorik!U83=\"Låg\",1,IF(Riskhistorik!U83=\"Medel\",2,IF(Riskhistorik!U83=\"Hög\",3,0))),O81)","v":0},{"$f":"IF(Riskhistorik!U$2<>\"Datum\",IF(Riskhistorik!V83=\"Låg\",1,IF(Riskhistorik!V83=\"Medel\",2,IF(Riskhistorik!V83=\"Hög\",3,0))),P81)","v":0},{"$f":"IF(Riskhistorik!W$2<>\"Datum\",IF(Riskhistorik!W83=\"Låg\",1,IF(Riskhistorik!W83=\"Medel\",2,IF(Riskhistorik!W83=\"Hög\",3,0))),Q81)","v":0},{"$f":"IF(Riskhistorik!W$2<>\"Datum\",IF(Riskhistorik!X83=\"Låg\",1,IF(Riskhistorik!X83=\"Medel\",2,IF(Riskhistorik!X83=\"Hög\",3,0))),R81)","v":0},{"$f":"IF(Riskhistorik!Y$2<>\"Datum\",IF(Riskhistorik!Y83=\"Låg\",1,IF(Riskhistorik!Y83=\"Medel\",2,IF(Riskhistorik!Y83=\"Hög\",3,0))),S81)","v":0},{"$f":"IF(Riskhistorik!Y$2<>\"Datum\",IF(Riskhistorik!Z83=\"Låg\",1,IF(Riskhistorik!Z83=\"Medel\",2,IF(Riskhistorik!Z83=\"Hög\",3,0))),T81)","v":0},{"$f":"IF(Riskhistorik!AA$2<>\"Datum\",IF(Riskhistorik!AA83=\"Låg\",1,IF(Riskhistorik!AA83=\"Medel\",2,IF(Riskhistorik!AA83=\"Hög\",3,0))),U81)","v":0},{"$f":"IF(Riskhistorik!AA$2<>\"Datum\",IF(Riskhistorik!AB83=\"Låg\",1,IF(Riskhistorik!AB83=\"Medel\",2,IF(Riskhistorik!AB83=\"Hög\",3,0))),V81)","v":0},{"$f":"IF(Riskhistorik!AC$2<>\"Datum\",IF(Riskhistorik!AC83=\"Låg\",1,IF(Riskhistorik!AC83=\"Medel\",2,IF(Riskhistorik!AC83=\"Hög\",3,0))),W81)","v":0},{"$f":"IF(Riskhistorik!AC$2<>\"Datum\",IF(Riskhistorik!AD83=\"Låg\",1,IF(Riskhistorik!AD83=\"Medel\",2,IF(Riskhistorik!AD83=\"Hög\",3,0))),X81)","v":0},{"$f":"IF(Riskhistorik!AE$2<>\"Datum\",IF(Riskhistorik!AE83=\"Låg\",1,IF(Riskhistorik!AE83=\"Medel\",2,IF(Riskhistorik!AE83=\"Hög\",3,0))),Y81)","v":0},{"$f":"IF(Riskhistorik!AE$2<>\"Datum\",IF(Riskhistorik!AF83=\"Låg\",1,IF(Riskhistorik!AF83=\"Medel\",2,IF(Riskhistorik!AF83=\"Hög\",3,0))),Z81)","v":0},{"$f":"IF(Riskhistorik!AG$2<>\"Datum\",IF(Riskhistorik!AG83=\"Låg\",1,IF(Riskhistorik!AG83=\"Medel\",2,IF(Riskhistorik!AG83=\"Hög\",3,0))),AA81)","v":0},{"$f":"IF(Riskhistorik!AG$2<>\"Datum\",IF(Riskhistorik!AH83=\"Låg\",1,IF(Riskhistorik!AH83=\"Medel\",2,IF(Riskhistorik!AH83=\"Hög\",3,0))),AB81)","v":0},{"$f":"IF(Riskhistorik!AI$2<>\"Datum\",IF(Riskhistorik!AI83=\"Låg\",1,IF(Riskhistorik!AI83=\"Medel\",2,IF(Riskhistorik!AI83=\"Hög\",3,0))),AC81)","v":0},{"$f":"IF(Riskhistorik!AI$2<>\"Datum\",IF(Riskhistorik!AJ83=\"Låg\",1,IF(Riskhistorik!AJ83=\"Medel\",2,IF(Riskhistorik!AJ83=\"Hög\",3,0))),AD81)","v":0},{"$f":"IF(Riskhistorik!AK$2<>\"Datum\",IF(Riskhistorik!AK83=\"Låg\",1,IF(Riskhistorik!AK83=\"Medel\",2,IF(Riskhistorik!AK83=\"Hög\",3,0))),AE81)","v":0},{"$f":"IF(Riskhistorik!AK$2<>\"Datum\",IF(Riskhistorik!AL83=\"Låg\",1,IF(Riskhistorik!AL83=\"Medel\",2,IF(Riskhistorik!AL83=\"Hög\",3,0))),AF81)","v":0},{"$f":"IF(Riskhistorik!AM$2<>\"Datum\",IF(Riskhistorik!AM83=\"Låg\",1,IF(Riskhistorik!AM83=\"Medel\",2,IF(Riskhistorik!AM83=\"Hög\",3,0))),AG81)","v":0},{"$f":"IF(Riskhistorik!AM$2<>\"Datum\",IF(Riskhistorik!AN83=\"Låg\",1,IF(Riskhistorik!AN83=\"Medel\",2,IF(Riskhistorik!AN83=\"Hög\",3,0))),AH81)","v":0},{"$f":"IF(Riskhistorik!AO$2<>\"Datum\",IF(Riskhistorik!AO83=\"Låg\",1,IF(Riskhistorik!AO83=\"Medel\",2,IF(Riskhistorik!AO83=\"Hög\",3,0))),AI81)","v":0},{"$f":"IF(Riskhistorik!AO$2<>\"Datum\",IF(Riskhistorik!AP83=\"Låg\",1,IF(Riskhistorik!AP83=\"Medel\",2,IF(Riskhistorik!AP83=\"Hög\",3,0))),AJ81)","v":0},{"$f":"IF(Riskhistorik!AQ$2<>\"Datum\",IF(Riskhistorik!AQ83=\"Låg\",1,IF(Riskhistorik!AQ83=\"Medel\",2,IF(Riskhistorik!AQ83=\"Hög\",3,0))),AK81)","v":0},{"$f":"IF(Riskhistorik!AQ$2<>\"Datum\",IF(Riskhistorik!AR83=\"Låg\",1,IF(Riskhistorik!AR83=\"Medel\",2,IF(Riskhistorik!AR83=\"Hög\",3,0))),AL81)","v":0},0,0,0,0,0,0,0,0,0,0,0,0,0,0,0,0,0,0,0,0]
[{"$f":"IF(Riskhistorik!E84<>\"\",IF(Riskhistorik!E84=\"Låg\",1,IF(Riskhistorik!E84=\"Medel\",2,3)),0)","v":0},{"$f":"IF(Riskhistorik!F84<>\"\",IF(Riskhistorik!F84=\"Låg\",1,IF(Riskhistorik!F84=\"Medel\",2,3)),0)","v":0},{"$f":"IF(Riskhistorik!G$2<>\"Datum\",IF(Riskhistorik!G84=\"Låg\",1,IF(Riskhistorik!G84=\"Medel\",2,IF(Riskhistorik!G84=\"Hög\",3,0))),A82)","v":0},{"$f":"IF(Riskhistorik!G$2<>\"Datum\",IF(Riskhistorik!H84=\"Låg\",1,IF(Riskhistorik!H84=\"Medel\",2,IF(Riskhistorik!H84=\"Hög\",3,0))),B82)","v":0},{"$f":"IF(Riskhistorik!I$2<>\"Datum\",IF(Riskhistorik!I84=\"Låg\",1,IF(Riskhistorik!I84=\"Medel\",2,IF(Riskhistorik!I84=\"Hög\",3,0))),C82)","v":0},{"$f":"IF(Riskhistorik!I$2<>\"Datum\",IF(Riskhistorik!J84=\"Låg\",1,IF(Riskhistorik!J84=\"Medel\",2,IF(Riskhistorik!J84=\"Hög\",3,0))),D82)","v":0},{"$f":"IF(Riskhistorik!K$2<>\"Datum\",IF(Riskhistorik!K84=\"Låg\",1,IF(Riskhistorik!K84=\"Medel\",2,IF(Riskhistorik!K84=\"Hög\",3,0))),E82)","v":0},{"$f":"IF(Riskhistorik!K$2<>\"Datum\",IF(Riskhistorik!L84=\"Låg\",1,IF(Riskhistorik!L84=\"Medel\",2,IF(Riskhistorik!L84=\"Hög\",3,0))),F82)","v":0},{"$f":"IF(Riskhistorik!M$2<>\"Datum\",IF(Riskhistorik!M84=\"Låg\",1,IF(Riskhistorik!M84=\"Medel\",2,IF(Riskhistorik!M84=\"Hög\",3,0))),G82)","v":0},{"$f":"IF(Riskhistorik!M$2<>\"Datum\",IF(Riskhistorik!N84=\"Låg\",1,IF(Riskhistorik!N84=\"Medel\",2,IF(Riskhistorik!N84=\"Hög\",3,0))),H82)","v":0},{"$f":"IF(Riskhistorik!O$2<>\"Datum\",IF(Riskhistorik!O84=\"Låg\",1,IF(Riskhistorik!O84=\"Medel\",2,IF(Riskhistorik!O84=\"Hög\",3,0))),I82)","v":0},{"$f":"IF(Riskhistorik!O$2<>\"Datum\",IF(Riskhistorik!P84=\"Låg\",1,IF(Riskhistorik!P84=\"Medel\",2,IF(Riskhistorik!P84=\"Hög\",3,0))),J82)","v":0},{"$f":"IF(Riskhistorik!Q$2<>\"Datum\",IF(Riskhistorik!Q84=\"Låg\",1,IF(Riskhistorik!Q84=\"Medel\",2,IF(Riskhistorik!Q84=\"Hög\",3,0))),K82)","v":0},{"$f":"IF(Riskhistorik!Q$2<>\"Datum\",IF(Riskhistorik!R84=\"Låg\",1,IF(Riskhistorik!R84=\"Medel\",2,IF(Riskhistorik!R84=\"Hög\",3,0))),L82)","v":0},{"$f":"IF(Riskhistorik!S$2<>\"Datum\",IF(Riskhistorik!S84=\"Låg\",1,IF(Riskhistorik!S84=\"Medel\",2,IF(Riskhistorik!S84=\"Hög\",3,0))),M82)","v":0},{"$f":"IF(Riskhistorik!S$2<>\"Datum\",IF(Riskhistorik!T84=\"Låg\",1,IF(Riskhistorik!T84=\"Medel\",2,IF(Riskhistorik!T84=\"Hög\",3,0))),N82)","v":0},{"$f":"IF(Riskhistorik!U$2<>\"Datum\",IF(Riskhistorik!U84=\"Låg\",1,IF(Riskhistorik!U84=\"Medel\",2,IF(Riskhistorik!U84=\"Hög\",3,0))),O82)","v":0},{"$f":"IF(Riskhistorik!U$2<>\"Datum\",IF(Riskhistorik!V84=\"Låg\",1,IF(Riskhistorik!V84=\"Medel\",2,IF(Riskhistorik!V84=\"Hög\",3,0))),P82)","v":0},{"$f":"IF(Riskhistorik!W$2<>\"Datum\",IF(Riskhistorik!W84=\"Låg\",1,IF(Riskhistorik!W84=\"Medel\",2,IF(Riskhistorik!W84=\"Hög\",3,0))),Q82)","v":0},{"$f":"IF(Riskhistorik!W$2<>\"Datum\",IF(Riskhistorik!X84=\"Låg\",1,IF(Riskhistorik!X84=\"Medel\",2,IF(Riskhistorik!X84=\"Hög\",3,0))),R82)","v":0},{"$f":"IF(Riskhistorik!Y$2<>\"Datum\",IF(Riskhistorik!Y84=\"Låg\",1,IF(Riskhistorik!Y84=\"Medel\",2,IF(Riskhistorik!Y84=\"Hög\",3,0))),S82)","v":0},{"$f":"IF(Riskhistorik!Y$2<>\"Datum\",IF(Riskhistorik!Z84=\"Låg\",1,IF(Riskhistorik!Z84=\"Medel\",2,IF(Riskhistorik!Z84=\"Hög\",3,0))),T82)","v":0},{"$f":"IF(Riskhistorik!AA$2<>\"Datum\",IF(Riskhistorik!AA84=\"Låg\",1,IF(Riskhistorik!AA84=\"Medel\",2,IF(Riskhistorik!AA84=\"Hög\",3,0))),U82)","v":0},{"$f":"IF(Riskhistorik!AA$2<>\"Datum\",IF(Riskhistorik!AB84=\"Låg\",1,IF(Riskhistorik!AB84=\"Medel\",2,IF(Riskhistorik!AB84=\"Hög\",3,0))),V82)","v":0},{"$f":"IF(Riskhistorik!AC$2<>\"Datum\",IF(Riskhistorik!AC84=\"Låg\",1,IF(Riskhistorik!AC84=\"Medel\",2,IF(Riskhistorik!AC84=\"Hög\",3,0))),W82)","v":0},{"$f":"IF(Riskhistorik!AC$2<>\"Datum\",IF(Riskhistorik!AD84=\"Låg\",1,IF(Riskhistorik!AD84=\"Medel\",2,IF(Riskhistorik!AD84=\"Hög\",3,0))),X82)","v":0},{"$f":"IF(Riskhistorik!AE$2<>\"Datum\",IF(Riskhistorik!AE84=\"Låg\",1,IF(Riskhistorik!AE84=\"Medel\",2,IF(Riskhistorik!AE84=\"Hög\",3,0))),Y82)","v":0},{"$f":"IF(Riskhistorik!AE$2<>\"Datum\",IF(Riskhistorik!AF84=\"Låg\",1,IF(Riskhistorik!AF84=\"Medel\",2,IF(Riskhistorik!AF84=\"Hög\",3,0))),Z82)","v":0},{"$f":"IF(Riskhistorik!AG$2<>\"Datum\",IF(Riskhistorik!AG84=\"Låg\",1,IF(Riskhistorik!AG84=\"Medel\",2,IF(Riskhistorik!AG84=\"Hög\",3,0))),AA82)","v":0},{"$f":"IF(Riskhistorik!AG$2<>\"Datum\",IF(Riskhistorik!AH84=\"Låg\",1,IF(Riskhistorik!AH84=\"Medel\",2,IF(Riskhistorik!AH84=\"Hög\",3,0))),AB82)","v":0},{"$f":"IF(Riskhistorik!AI$2<>\"Datum\",IF(Riskhistorik!AI84=\"Låg\",1,IF(Riskhistorik!AI84=\"Medel\",2,IF(Riskhistorik!AI84=\"Hög\",3,0))),AC82)","v":0},{"$f":"IF(Riskhistorik!AI$2<>\"Datum\",IF(Riskhistorik!AJ84=\"Låg\",1,IF(Riskhistorik!AJ84=\"Medel\",2,IF(Riskhistorik!AJ84=\"Hög\",3,0))),AD82)","v":0},{"$f":"IF(Riskhistorik!AK$2<>\"Datum\",IF(Riskhistorik!AK84=\"Låg\",1,IF(Riskhistorik!AK84=\"Medel\",2,IF(Riskhistorik!AK84=\"Hög\",3,0))),AE82)","v":0},{"$f":"IF(Riskhistorik!AK$2<>\"Datum\",IF(Riskhistorik!AL84=\"Låg\",1,IF(Riskhistorik!AL84=\"Medel\",2,IF(Riskhistorik!AL84=\"Hög\",3,0))),AF82)","v":0},{"$f":"IF(Riskhistorik!AM$2<>\"Datum\",IF(Riskhistorik!AM84=\"Låg\",1,IF(Riskhistorik!AM84=\"Medel\",2,IF(Riskhistorik!AM84=\"Hög\",3,0))),AG82)","v":0},{"$f":"IF(Riskhistorik!AM$2<>\"Datum\",IF(Riskhistorik!AN84=\"Låg\",1,IF(Riskhistorik!AN84=\"Medel\",2,IF(Riskhistorik!AN84=\"Hög\",3,0))),AH82)","v":0},{"$f":"IF(Riskhistorik!AO$2<>\"Datum\",IF(Riskhistorik!AO84=\"Låg\",1,IF(Riskhistorik!AO84=\"Medel\",2,IF(Riskhistorik!AO84=\"Hög\",3,0))),AI82)","v":0},{"$f":"IF(Riskhistorik!AO$2<>\"Datum\",IF(Riskhistorik!AP84=\"Låg\",1,IF(Riskhistorik!AP84=\"Medel\",2,IF(Riskhistorik!AP84=\"Hög\",3,0))),AJ82)","v":0},{"$f":"IF(Riskhistorik!AQ$2<>\"Datum\",IF(Riskhistorik!AQ84=\"Låg\",1,IF(Riskhistorik!AQ84=\"Medel\",2,IF(Riskhistorik!AQ84=\"Hög\",3,0))),AK82)","v":0},{"$f":"IF(Riskhistorik!AQ$2<>\"Datum\",IF(Riskhistorik!AR84=\"Låg\",1,IF(Riskhistorik!AR84=\"Medel\",2,IF(Riskhistorik!AR84=\"Hög\",3,0))),AL82)","v":0},0,0,0,0,0,0,0,0,0,0,0,0,0,0,0,0,0,0,0,0]
[{"$f":"IF(Riskhistorik!E85<>\"\",IF(Riskhistorik!E85=\"Låg\",1,IF(Riskhistorik!E85=\"Medel\",2,3)),0)","v":0},{"$f":"IF(Riskhistorik!F85<>\"\",IF(Riskhistorik!F85=\"Låg\",1,IF(Riskhistorik!F85=\"Medel\",2,3)),0)","v":0},{"$f":"IF(Riskhistorik!G$2<>\"Datum\",IF(Riskhistorik!G85=\"Låg\",1,IF(Riskhistorik!G85=\"Medel\",2,IF(Riskhistorik!G85=\"Hög\",3,0))),A83)","v":0},{"$f":"IF(Riskhistorik!G$2<>\"Datum\",IF(Riskhistorik!H85=\"Låg\",1,IF(Riskhistorik!H85=\"Medel\",2,IF(Riskhistorik!H85=\"Hög\",3,0))),B83)","v":0},{"$f":"IF(Riskhistorik!I$2<>\"Datum\",IF(Riskhistorik!I85=\"Låg\",1,IF(Riskhistorik!I85=\"Medel\",2,IF(Riskhistorik!I85=\"Hög\",3,0))),C83)","v":0},{"$f":"IF(Riskhistorik!I$2<>\"Datum\",IF(Riskhistorik!J85=\"Låg\",1,IF(Riskhistorik!J85=\"Medel\",2,IF(Riskhistorik!J85=\"Hög\",3,0))),D83)","v":0},{"$f":"IF(Riskhistorik!K$2<>\"Datum\",IF(Riskhistorik!K85=\"Låg\",1,IF(Riskhistorik!K85=\"Medel\",2,IF(Riskhistorik!K85=\"Hög\",3,0))),E83)","v":0},{"$f":"IF(Riskhistorik!K$2<>\"Datum\",IF(Riskhistorik!L85=\"Låg\",1,IF(Riskhistorik!L85=\"Medel\",2,IF(Riskhistorik!L85=\"Hög\",3,0))),F83)","v":0},{"$f":"IF(Riskhistorik!M$2<>\"Datum\",IF(Riskhistorik!M85=\"Låg\",1,IF(Riskhistorik!M85=\"Medel\",2,IF(Riskhistorik!M85=\"Hög\",3,0))),G83)","v":0},{"$f":"IF(Riskhistorik!M$2<>\"Datum\",IF(Riskhistorik!N85=\"Låg\",1,IF(Riskhistorik!N85=\"Medel\",2,IF(Riskhistorik!N85=\"Hög\",3,0))),H83)","v":0},{"$f":"IF(Riskhistorik!O$2<>\"Datum\",IF(Riskhistorik!O85=\"Låg\",1,IF(Riskhistorik!O85=\"Medel\",2,IF(Riskhistorik!O85=\"Hög\",3,0))),I83)","v":0},{"$f":"IF(Riskhistorik!O$2<>\"Datum\",IF(Riskhistorik!P85=\"Låg\",1,IF(Riskhistorik!P85=\"Medel\",2,IF(Riskhistorik!P85=\"Hög\",3,0))),J83)","v":0},{"$f":"IF(Riskhistorik!Q$2<>\"Datum\",IF(Riskhistorik!Q85=\"Låg\",1,IF(Riskhistorik!Q85=\"Medel\",2,IF(Riskhistorik!Q85=\"Hög\",3,0))),K83)","v":0},{"$f":"IF(Riskhistorik!Q$2<>\"Datum\",IF(Riskhistorik!R85=\"Låg\",1,IF(Riskhistorik!R85=\"Medel\",2,IF(Riskhistorik!R85=\"Hög\",3,0))),L83)","v":0},{"$f":"IF(Riskhistorik!S$2<>\"Datum\",IF(Riskhistorik!S85=\"Låg\",1,IF(Riskhistorik!S85=\"Medel\",2,IF(Riskhistorik!S85=\"Hög\",3,0))),M83)","v":0},{"$f":"IF(Riskhistorik!S$2<>\"Datum\",IF(Riskhistorik!T85=\"Låg\",1,IF(Riskhistorik!T85=\"Medel\",2,IF(Riskhistorik!T85=\"Hög\",3,0))),N83)","v":0},{"$f":"IF(Riskhistorik!U$2<>\"Datum\",IF(Riskhistorik!U85=\"Låg\",1,IF(Riskhistorik!U85=\"Medel\",2,IF(Riskhistorik!U85=\"Hög\",3,0))),O83)","v":0},{"$f":"IF(Riskhistorik!U$2<>\"Datum\",IF(Riskhistorik!V85=\"Låg\",1,IF(Riskhistorik!V85=\"Medel\",2,IF(Riskhistorik!V85=\"Hög\",3,0))),P83)","v":0},{"$f":"IF(Riskhistorik!W$2<>\"Datum\",IF(Riskhistorik!W85=\"Låg\",1,IF(Riskhistorik!W85=\"Medel\",2,IF(Riskhistorik!W85=\"Hög\",3,0))),Q83)","v":0},{"$f":"IF(Riskhistorik!W$2<>\"Datum\",IF(Riskhistorik!X85=\"Låg\",1,IF(Riskhistorik!X85=\"Medel\",2,IF(Riskhistorik!X85=\"Hög\",3,0))),R83)","v":0},{"$f":"IF(Riskhistorik!Y$2<>\"Datum\",IF(Riskhistorik!Y85=\"Låg\",1,IF(Riskhistorik!Y85=\"Medel\",2,IF(Riskhistorik!Y85=\"Hög\",3,0))),S83)","v":0},{"$f":"IF(Riskhistorik!Y$2<>\"Datum\",IF(Riskhistorik!Z85=\"Låg\",1,IF(Riskhistorik!Z85=\"Medel\",2,IF(Riskhistorik!Z85=\"Hög\",3,0))),T83)","v":0},{"$f":"IF(Riskhistorik!AA$2<>\"Datum\",IF(Riskhistorik!AA85=\"Låg\",1,IF(Riskhistorik!AA85=\"Medel\",2,IF(Riskhistorik!AA85=\"Hög\",3,0))),U83)","v":0},{"$f":"IF(Riskhistorik!AA$2<>\"Datum\",IF(Riskhistorik!AB85=\"Låg\",1,IF(Riskhistorik!AB85=\"Medel\",2,IF(Riskhistorik!AB85=\"Hög\",3,0))),V83)","v":0},{"$f":"IF(Riskhistorik!AC$2<>\"Datum\",IF(Riskhistorik!AC85=\"Låg\",1,IF(Riskhistorik!AC85=\"Medel\",2,IF(Riskhistorik!AC85=\"Hög\",3,0))),W83)","v":0},{"$f":"IF(Riskhistorik!AC$2<>\"Datum\",IF(Riskhistorik!AD85=\"Låg\",1,IF(Riskhistorik!AD85=\"Medel\",2,IF(Riskhistorik!AD85=\"Hög\",3,0))),X83)","v":0},{"$f":"IF(Riskhistorik!AE$2<>\"Datum\",IF(Riskhistorik!AE85=\"Låg\",1,IF(Riskhistorik!AE85=\"Medel\",2,IF(Riskhistorik!AE85=\"Hög\",3,0))),Y83)","v":0},{"$f":"IF(Riskhistorik!AE$2<>\"Datum\",IF(Riskhistorik!AF85=\"Låg\",1,IF(Riskhistorik!AF85=\"Medel\",2,IF(Riskhistorik!AF85=\"Hög\",3,0))),Z83)","v":0},{"$f":"IF(Riskhistorik!AG$2<>\"Datum\",IF(Riskhistorik!AG85=\"Låg\",1,IF(Riskhistorik!AG85=\"Medel\",2,IF(Riskhistorik!AG85=\"Hög\",3,0))),AA83)","v":0},{"$f":"IF(Riskhistorik!AG$2<>\"Datum\",IF(Riskhistorik!AH85=\"Låg\",1,IF(Riskhistorik!AH85=\"Medel\",2,IF(Riskhistorik!AH85=\"Hög\",3,0))),AB83)","v":0},{"$f":"IF(Riskhistorik!AI$2<>\"Datum\",IF(Riskhistorik!AI85=\"Låg\",1,IF(Riskhistorik!AI85=\"Medel\",2,IF(Riskhistorik!AI85=\"Hög\",3,0))),AC83)","v":0},{"$f":"IF(Riskhistorik!AI$2<>\"Datum\",IF(Riskhistorik!AJ85=\"Låg\",1,IF(Riskhistorik!AJ85=\"Medel\",2,IF(Riskhistorik!AJ85=\"Hög\",3,0))),AD83)","v":0},{"$f":"IF(Riskhistorik!AK$2<>\"Datum\",IF(Riskhistorik!AK85=\"Låg\",1,IF(Riskhistorik!AK85=\"Medel\",2,IF(Riskhistorik!AK85=\"Hög\",3,0))),AE83)","v":0},{"$f":"IF(Riskhistorik!AK$2<>\"Datum\",IF(Riskhistorik!AL85=\"Låg\",1,IF(Riskhistorik!AL85=\"Medel\",2,IF(Riskhistorik!AL85=\"Hög\",3,0))),AF83)","v":0},{"$f":"IF(Riskhistorik!AM$2<>\"Datum\",IF(Riskhistorik!AM85=\"Låg\",1,IF(Riskhistorik!AM85=\"Medel\",2,IF(Riskhistorik!AM85=\"Hög\",3,0))),AG83)","v":0},{"$f":"IF(Riskhistorik!AM$2<>\"Datum\",IF(Riskhistorik!AN85=\"Låg\",1,IF(Riskhistorik!AN85=\"Medel\",2,IF(Riskhistorik!AN85=\"Hög\",3,0))),AH83)","v":0},{"$f":"IF(Riskhistorik!AO$2<>\"Datum\",IF(Riskhistorik!AO85=\"Låg\",1,IF(Riskhistorik!AO85=\"Medel\",2,IF(Riskhistorik!AO85=\"Hög\",3,0))),AI83)","v":0},{"$f":"IF(Riskhistorik!AO$2<>\"Datum\",IF(Riskhistorik!AP85=\"Låg\",1,IF(Riskhistorik!AP85=\"Medel\",2,IF(Riskhistorik!AP85=\"Hög\",3,0))),AJ83)","v":0},{"$f":"IF(Riskhistorik!AQ$2<>\"Datum\",IF(Riskhistorik!AQ85=\"Låg\",1,IF(Riskhistorik!AQ85=\"Medel\",2,IF(Riskhistorik!AQ85=\"Hög\",3,0))),AK83)","v":0},{"$f":"IF(Riskhistorik!AQ$2<>\"Datum\",IF(Riskhistorik!AR85=\"Låg\",1,IF(Riskhistorik!AR85=\"Medel\",2,IF(Riskhistorik!AR85=\"Hög\",3,0))),AL83)","v":0},0,0,0,0,0,0,0,0,0,0,0,0,0,0,0,0,0,0,0,0]
[{"$f":"IF(Riskhistorik!E86<>\"\",IF(Riskhistorik!E86=\"Låg\",1,IF(Riskhistorik!E86=\"Medel\",2,3)),0)","v":0},{"$f":"IF(Riskhistorik!F86<>\"\",IF(Riskhistorik!F86=\"Låg\",1,IF(Riskhistorik!F86=\"Medel\",2,3)),0)","v":0},{"$f":"IF(Riskhistorik!G$2<>\"Datum\",IF(Riskhistorik!G86=\"Låg\",1,IF(Riskhistorik!G86=\"Medel\",2,IF(Riskhistorik!G86=\"Hög\",3,0))),A84)","v":0},{"$f":"IF(Riskhistorik!G$2<>\"Datum\",IF(Riskhistorik!H86=\"Låg\",1,IF(Riskhistorik!H86=\"Medel\",2,IF(Riskhistorik!H86=\"Hög\",3,0))),B84)","v":0},{"$f":"IF(Riskhistorik!I$2<>\"Datum\",IF(Riskhistorik!I86=\"Låg\",1,IF(Riskhistorik!I86=\"Medel\",2,IF(Riskhistorik!I86=\"Hög\",3,0))),C84)","v":0},{"$f":"IF(Riskhistorik!I$2<>\"Datum\",IF(Riskhistorik!J86=\"Låg\",1,IF(Riskhistorik!J86=\"Medel\",2,IF(Riskhistorik!J86=\"Hög\",3,0))),D84)","v":0},{"$f":"IF(Riskhistorik!K$2<>\"Datum\",IF(Riskhistorik!K86=\"Låg\",1,IF(Riskhistorik!K86=\"Medel\",2,IF(Riskhistorik!K86=\"Hög\",3,0))),E84)","v":0},{"$f":"IF(Riskhistorik!K$2<>\"Datum\",IF(Riskhistorik!L86=\"Låg\",1,IF(Riskhistorik!L86=\"Medel\",2,IF(Riskhistorik!L86=\"Hög\",3,0))),F84)","v":0},{"$f":"IF(Riskhistorik!M$2<>\"Datum\",IF(Riskhistorik!M86=\"Låg\",1,IF(Riskhistorik!M86=\"Medel\",2,IF(Riskhistorik!M86=\"Hög\",3,0))),G84)","v":0},{"$f":"IF(Riskhistorik!M$2<>\"Datum\",IF(Riskhistorik!N86=\"Låg\",1,IF(Riskhistorik!N86=\"Medel\",2,IF(Riskhistorik!N86=\"Hög\",3,0))),H84)","v":0},{"$f":"IF(Riskhistorik!O$2<>\"Datum\",IF(Riskhistorik!O86=\"Låg\",1,IF(Riskhistorik!O86=\"Medel\",2,IF(Riskhistorik!O86=\"Hög\",3,0))),I84)","v":0},{"$f":"IF(Riskhistorik!O$2<>\"Datum\",IF(Riskhistorik!P86=\"Låg\",1,IF(Riskhistorik!P86=\"Medel\",2,IF(Riskhistorik!P86=\"Hög\",3,0))),J84)","v":0},{"$f":"IF(Riskhistorik!Q$2<>\"Datum\",IF(Riskhistorik!Q86=\"Låg\",1,IF(Riskhistorik!Q86=\"Medel\",2,IF(Riskhistorik!Q86=\"Hög\",3,0))),K84)","v":0},{"$f":"IF(Riskhistorik!Q$2<>\"Datum\",IF(Riskhistorik!R86=\"Låg\",1,IF(Riskhistorik!R86=\"Medel\",2,IF(Riskhistorik!R86=\"Hög\",3,0))),L84)","v":0},{"$f":"IF(Riskhistorik!S$2<>\"Datum\",IF(Riskhistorik!S86=\"Låg\",1,IF(Riskhistorik!S86=\"Medel\",2,IF(Riskhistorik!S86=\"Hög\",3,0))),M84)","v":0},{"$f":"IF(Riskhistorik!S$2<>\"Datum\",IF(Riskhistorik!T86=\"Låg\",1,IF(Riskhistorik!T86=\"Medel\",2,IF(Riskhistorik!T86=\"Hög\",3,0))),N84)","v":0},{"$f":"IF(Riskhistorik!U$2<>\"Datum\",IF(Riskhistorik!U86=\"Låg\",1,IF(Riskhistorik!U86=\"Medel\",2,IF(Riskhistorik!U86=\"Hög\",3,0))),O84)","v":0},{"$f":"IF(Riskhistorik!U$2<>\"Datum\",IF(Riskhistorik!V86=\"Låg\",1,IF(Riskhistorik!V86=\"Medel\",2,IF(Riskhistorik!V86=\"Hög\",3,0))),P84)","v":0},{"$f":"IF(Riskhistorik!W$2<>\"Datum\",IF(Riskhistorik!W86=\"Låg\",1,IF(Riskhistorik!W86=\"Medel\",2,IF(Riskhistorik!W86=\"Hög\",3,0))),Q84)","v":0},{"$f":"IF(Riskhistorik!W$2<>\"Datum\",IF(Riskhistorik!X86=\"Låg\",1,IF(Riskhistorik!X86=\"Medel\",2,IF(Riskhistorik!X86=\"Hög\",3,0))),R84)","v":0},{"$f":"IF(Riskhistorik!Y$2<>\"Datum\",IF(Riskhistorik!Y86=\"Låg\",1,IF(Riskhistorik!Y86=\"Medel\",2,IF(Riskhistorik!Y86=\"Hög\",3,0))),S84)","v":0},{"$f":"IF(Riskhistorik!Y$2<>\"Datum\",IF(Riskhistorik!Z86=\"Låg\",1,IF(Riskhistorik!Z86=\"Medel\",2,IF(Riskhistorik!Z86=\"Hög\",3,0))),T84)","v":0},{"$f":"IF(Riskhistorik!AA$2<>\"Datum\",IF(Riskhistorik!AA86=\"Låg\",1,IF(Riskhistorik!AA86=\"Medel\",2,IF(Riskhistorik!AA86=\"Hög\",3,0))),U84)","v":0},{"$f":"IF(Riskhistorik!AA$2<>\"Datum\",IF(Riskhistorik!AB86=\"Låg\",1,IF(Riskhistorik!AB86=\"Medel\",2,IF(Riskhistorik!AB86=\"Hög\",3,0))),V84)","v":0},{"$f":"IF(Riskhistorik!AC$2<>\"Datum\",IF(Riskhistorik!AC86=\"Låg\",1,IF(Riskhistorik!AC86=\"Medel\",2,IF(Riskhistorik!AC86=\"Hög\",3,0))),W84)","v":0},{"$f":"IF(Riskhistorik!AC$2<>\"Datum\",IF(Riskhistorik!AD86=\"Låg\",1,IF(Riskhistorik!AD86=\"Medel\",2,IF(Riskhistorik!AD86=\"Hög\",3,0))),X84)","v":0},{"$f":"IF(Riskhistorik!AE$2<>\"Datum\",IF(Riskhistorik!AE86=\"Låg\",1,IF(Riskhistorik!AE86=\"Medel\",2,IF(Riskhistorik!AE86=\"Hög\",3,0))),Y84)","v":0},{"$f":"IF(Riskhistorik!AE$2<>\"Datum\",IF(Riskhistorik!AF86=\"Låg\",1,IF(Riskhistorik!AF86=\"Medel\",2,IF(Riskhistorik!AF86=\"Hög\",3,0))),Z84)","v":0},{"$f":"IF(Riskhistorik!AG$2<>\"Datum\",IF(Riskhistorik!AG86=\"Låg\",1,IF(Riskhistorik!AG86=\"Medel\",2,IF(Riskhistorik!AG86=\"Hög\",3,0))),AA84)","v":0},{"$f":"IF(Riskhistorik!AG$2<>\"Datum\",IF(Riskhistorik!AH86=\"Låg\",1,IF(Riskhistorik!AH86=\"Medel\",2,IF(Riskhistorik!AH86=\"Hög\",3,0))),AB84)","v":0},{"$f":"IF(Riskhistorik!AI$2<>\"Datum\",IF(Riskhistorik!AI86=\"Låg\",1,IF(Riskhistorik!AI86=\"Medel\",2,IF(Riskhistorik!AI86=\"Hög\",3,0))),AC84)","v":0},{"$f":"IF(Riskhistorik!AI$2<>\"Datum\",IF(Riskhistorik!AJ86=\"Låg\",1,IF(Riskhistorik!AJ86=\"Medel\",2,IF(Riskhistorik!AJ86=\"Hög\",3,0))),AD84)","v":0},{"$f":"IF(Riskhistorik!AK$2<>\"Datum\",IF(Riskhistorik!AK86=\"Låg\",1,IF(Riskhistorik!AK86=\"Medel\",2,IF(Riskhistorik!AK86=\"Hög\",3,0))),AE84)","v":0},{"$f":"IF(Riskhistorik!AK$2<>\"Datum\",IF(Riskhistorik!AL86=\"Låg\",1,IF(Riskhistorik!AL86=\"Medel\",2,IF(Riskhistorik!AL86=\"Hög\",3,0))),AF84)","v":0},{"$f":"IF(Riskhistorik!AM$2<>\"Datum\",IF(Riskhistorik!AM86=\"Låg\",1,IF(Riskhistorik!AM86=\"Medel\",2,IF(Riskhistorik!AM86=\"Hög\",3,0))),AG84)","v":0},{"$f":"IF(Riskhistorik!AM$2<>\"Datum\",IF(Riskhistorik!AN86=\"Låg\",1,IF(Riskhistorik!AN86=\"Medel\",2,IF(Riskhistorik!AN86=\"Hög\",3,0))),AH84)","v":0},{"$f":"IF(Riskhistorik!AO$2<>\"Datum\",IF(Riskhistorik!AO86=\"Låg\",1,IF(Riskhistorik!AO86=\"Medel\",2,IF(Riskhistorik!AO86=\"Hög\",3,0))),AI84)","v":0},{"$f":"IF(Riskhistorik!AO$2<>\"Datum\",IF(Riskhistorik!AP86=\"Låg\",1,IF(Riskhistorik!AP86=\"Medel\",2,IF(Riskhistorik!AP86=\"Hög\",3,0))),AJ84)","v":0},{"$f":"IF(Riskhistorik!AQ$2<>\"Datum\",IF(Riskhistorik!AQ86=\"Låg\",1,IF(Riskhistorik!AQ86=\"Medel\",2,IF(Riskhistorik!AQ86=\"Hög\",3,0))),AK84)","v":0},{"$f":"IF(Riskhistorik!AQ$2<>\"Datum\",IF(Riskhistorik!AR86=\"Låg\",1,IF(Riskhistorik!AR86=\"Medel\",2,IF(Riskhistorik!AR86=\"Hög\",3,0))),AL84)","v":0},0,0,0,0,0,0,0,0,0,0,0,0,0,0,0,0,0,0,0,0]
[{"$f":"IF(Riskhistorik!E87<>\"\",IF(Riskhistorik!E87=\"Låg\",1,IF(Riskhistorik!E87=\"Medel\",2,3)),0)","v":0},{"$f":"IF(Riskhistorik!F87<>\"\",IF(Riskhistorik!F87=\"Låg\",1,IF(Riskhistorik!F87=\"Medel\",2,3)),0)","v":0},{"$f":"IF(Riskhistorik!G$2<>\"Datum\",IF(Riskhistorik!G87=\"Låg\",1,IF(Riskhistorik!G87=\"Medel\",2,IF(Riskhistorik!G87=\"Hög\",3,0))),A85)","v":0},{"$f":"IF(Riskhistorik!G$2<>\"Datum\",IF(Riskhistorik!H87=\"Låg\",1,IF(Riskhistorik!H87=\"Medel\",2,IF(Riskhistorik!H87=\"Hög\",3,0))),B85)","v":0},{"$f":"IF(Riskhistorik!I$2<>\"Datum\",IF(Riskhistorik!I87=\"Låg\",1,IF(Riskhistorik!I87=\"Medel\",2,IF(Riskhistorik!I87=\"Hög\",3,0))),C85)","v":0},{"$f":"IF(Riskhistorik!I$2<>\"Datum\",IF(Riskhistorik!J87=\"Låg\",1,IF(Riskhistorik!J87=\"Medel\",2,IF(Riskhistorik!J87=\"Hög\",3,0))),D85)","v":0},{"$f":"IF(Riskhistorik!K$2<>\"Datum\",IF(Riskhistorik!K87=\"Låg\",1,IF(Riskhistorik!K87=\"Medel\",2,IF(Riskhistorik!K87=\"Hög\",3,0))),E85)","v":0},{"$f":"IF(Riskhistorik!K$2<>\"Datum\",IF(Riskhistorik!L87=\"Låg\",1,IF(Riskhistorik!L87=\"Medel\",2,IF(Riskhistorik!L87=\"Hög\",3,0))),F85)","v":0},{"$f":"IF(Riskhistorik!M$2<>\"Datum\",IF(Riskhistorik!M87=\"Låg\",1,IF(Riskhistorik!M87=\"Medel\",2,IF(Riskhistorik!M87=\"Hög\",3,0))),G85)","v":0},{"$f":"IF(Riskhistorik!M$2<>\"Datum\",IF(Riskhistorik!N87=\"Låg\",1,IF(Riskhistorik!N87=\"Medel\",2,IF(Riskhistorik!N87=\"Hög\",3,0))),H85)","v":0},{"$f":"IF(Riskhistorik!O$2<>\"Datum\",IF(Riskhistorik!O87=\"Låg\",1,IF(Riskhistorik!O87=\"Medel\",2,IF(Riskhistorik!O87=\"Hög\",3,0))),I85)","v":0},{"$f":"IF(Riskhistorik!O$2<>\"Datum\",IF(Riskhistorik!P87=\"Låg\",1,IF(Riskhistorik!P87=\"Medel\",2,IF(Riskhistorik!P87=\"Hög\",3,0))),J85)","v":0},{"$f":"IF(Riskhistorik!Q$2<>\"Datum\",IF(Riskhistorik!Q87=\"Låg\",1,IF(Riskhistorik!Q87=\"Medel\",2,IF(Riskhistorik!Q87=\"Hög\",3,0))),K85)","v":0},{"$f":"IF(Riskhistorik!Q$2<>\"Datum\",IF(Riskhistorik!R87=\"Låg\",1,IF(Riskhistorik!R87=\"Medel\",2,IF(Riskhistorik!R87=\"Hög\",3,0))),L85)","v":0},{"$f":"IF(Riskhistorik!S$2<>\"Datum\",IF(Riskhistorik!S87=\"Låg\",1,IF(Riskhistorik!S87=\"Medel\",2,IF(Riskhistorik!S87=\"Hög\",3,0))),M85)","v":0},{"$f":"IF(Riskhistorik!S$2<>\"Datum\",IF(Riskhistorik!T87=\"Låg\",1,IF(Riskhistorik!T87=\"Medel\",2,IF(Riskhistorik!T87=\"Hög\",3,0))),N85)","v":0},{"$f":"IF(Riskhistorik!U$2<>\"Datum\",IF(Riskhistorik!U87=\"Låg\",1,IF(Riskhistorik!U87=\"Medel\",2,IF(Riskhistorik!U87=\"Hög\",3,0))),O85)","v":0},{"$f":"IF(Riskhistorik!U$2<>\"Datum\",IF(Riskhistorik!V87=\"Låg\",1,IF(Riskhistorik!V87=\"Medel\",2,IF(Riskhistorik!V87=\"Hög\",3,0))),P85)","v":0},{"$f":"IF(Riskhistorik!W$2<>\"Datum\",IF(Riskhistorik!W87=\"Låg\",1,IF(Riskhistorik!W87=\"Medel\",2,IF(Riskhistorik!W87=\"Hög\",3,0))),Q85)","v":0},{"$f":"IF(Riskhistorik!W$2<>\"Datum\",IF(Riskhistorik!X87=\"Låg\",1,IF(Riskhistorik!X87=\"Medel\",2,IF(Riskhistorik!X87=\"Hög\",3,0))),R85)","v":0},{"$f":"IF(Riskhistorik!Y$2<>\"Datum\",IF(Riskhistorik!Y87=\"Låg\",1,IF(Riskhistorik!Y87=\"Medel\",2,IF(Riskhistorik!Y87=\"Hög\",3,0))),S85)","v":0},{"$f":"IF(Riskhistorik!Y$2<>\"Datum\",IF(Riskhistorik!Z87=\"Låg\",1,IF(Riskhistorik!Z87=\"Medel\",2,IF(Riskhistorik!Z87=\"Hög\",3,0))),T85)","v":0},{"$f":"IF(Riskhistorik!AA$2<>\"Datum\",IF(Riskhistorik!AA87=\"Låg\",1,IF(Riskhistorik!AA87=\"Medel\",2,IF(Riskhistorik!AA87=\"Hög\",3,0))),U85)","v":0},{"$f":"IF(Riskhistorik!AA$2<>\"Datum\",IF(Riskhistorik!AB87=\"Låg\",1,IF(Riskhistorik!AB87=\"Medel\",2,IF(Riskhistorik!AB87=\"Hög\",3,0))),V85)","v":0},{"$f":"IF(Riskhistorik!AC$2<>\"Datum\",IF(Riskhistorik!AC87=\"Låg\",1,IF(Riskhistorik!AC87=\"Medel\",2,IF(Riskhistorik!AC87=\"Hög\",3,0))),W85)","v":0},{"$f":"IF(Riskhistorik!AC$2<>\"Datum\",IF(Riskhistorik!AD87=\"Låg\",1,IF(Riskhistorik!AD87=\"Medel\",2,IF(Riskhistorik!AD87=\"Hög\",3,0))),X85)","v":0},{"$f":"IF(Riskhistorik!AE$2<>\"Datum\",IF(Riskhistorik!AE87=\"Låg\",1,IF(Riskhistorik!AE87=\"Medel\",2,IF(Riskhistorik!AE87=\"Hög\",3,0))),Y85)","v":0},{"$f":"IF(Riskhistorik!AE$2<>\"Datum\",IF(Riskhistorik!AF87=\"Låg\",1,IF(Riskhistorik!AF87=\"Medel\",2,IF(Riskhistorik!AF87=\"Hög\",3,0))),Z85)","v":0},{"$f":"IF(Riskhistorik!AG$2<>\"Datum\",IF(Riskhistorik!AG87=\"Låg\",1,IF(Riskhistorik!AG87=\"Medel\",2,IF(Riskhistorik!AG87=\"Hög\",3,0))),AA85)","v":0},{"$f":"IF(Riskhistorik!AG$2<>\"Datum\",IF(Riskhistorik!AH87=\"Låg\",1,IF(Riskhistorik!AH87=\"Medel\",2,IF(Riskhistorik!AH87=\"Hög\",3,0))),AB85)","v":0},{"$f":"IF(Riskhistorik!AI$2<>\"Datum\",IF(Riskhistorik!AI87=\"Låg\",1,IF(Riskhistorik!AI87=\"Medel\",2,IF(Riskhistorik!AI87=\"Hög\",3,0))),AC85)","v":0},{"$f":"IF(Riskhistorik!AI$2<>\"Datum\",IF(Riskhistorik!AJ87=\"Låg\",1,IF(Riskhistorik!AJ87=\"Medel\",2,IF(Riskhistorik!AJ87=\"Hög\",3,0))),AD85)","v":0},{"$f":"IF(Riskhistorik!AK$2<>\"Datum\",IF(Riskhistorik!AK87=\"Låg\",1,IF(Riskhistorik!AK87=\"Medel\",2,IF(Riskhistorik!AK87=\"Hög\",3,0))),AE85)","v":0},{"$f":"IF(Riskhistorik!AK$2<>\"Datum\",IF(Riskhistorik!AL87=\"Låg\",1,IF(Riskhistorik!AL87=\"Medel\",2,IF(Riskhistorik!AL87=\"Hög\",3,0))),AF85)","v":0},{"$f":"IF(Riskhistorik!AM$2<>\"Datum\",IF(Riskhistorik!AM87=\"Låg\",1,IF(Riskhistorik!AM87=\"Medel\",2,IF(Riskhistorik!AM87=\"Hög\",3,0))),AG85)","v":0},{"$f":"IF(Riskhistorik!AM$2<>\"Datum\",IF(Riskhistorik!AN87=\"Låg\",1,IF(Riskhistorik!AN87=\"Medel\",2,IF(Riskhistorik!AN87=\"Hög\",3,0))),AH85)","v":0},{"$f":"IF(Riskhistorik!AO$2<>\"Datum\",IF(Riskhistorik!AO87=\"Låg\",1,IF(Riskhistorik!AO87=\"Medel\",2,IF(Riskhistorik!AO87=\"Hög\",3,0))),AI85)","v":0},{"$f":"IF(Riskhistorik!AO$2<>\"Datum\",IF(Riskhistorik!AP87=\"Låg\",1,IF(Riskhistorik!AP87=\"Medel\",2,IF(Riskhistorik!AP87=\"Hög\",3,0))),AJ85)","v":0},{"$f":"IF(Riskhistorik!AQ$2<>\"Datum\",IF(Riskhistorik!AQ87=\"Låg\",1,IF(Riskhistorik!AQ87=\"Medel\",2,IF(Riskhistorik!AQ87=\"Hög\",3,0))),AK85)","v":0},{"$f":"IF(Riskhistorik!AQ$2<>\"Datum\",IF(Riskhistorik!AR87=\"Låg\",1,IF(Riskhistorik!AR87=\"Medel\",2,IF(Riskhistorik!AR87=\"Hög\",3,0))),AL85)","v":0},0,0,0,0,0,0,0,0,0,0,0,0,0,0,0,0,0,0,0,0]
[{"$f":"IF(Riskhistorik!E88<>\"\",IF(Riskhistorik!E88=\"Låg\",1,IF(Riskhistorik!E88=\"Medel\",2,3)),0)","v":0},{"$f":"IF(Riskhistorik!F88<>\"\",IF(Riskhistorik!F88=\"Låg\",1,IF(Riskhistorik!F88=\"Medel\",2,3)),0)","v":0},{"$f":"IF(Riskhistorik!G$2<>\"Datum\",IF(Riskhistorik!G88=\"Låg\",1,IF(Riskhistorik!G88=\"Medel\",2,IF(Riskhistorik!G88=\"Hög\",3,0))),A86)","v":0},{"$f":"IF(Riskhistorik!G$2<>\"Datum\",IF(Riskhistorik!H88=\"Låg\",1,IF(Riskhistorik!H88=\"Medel\",2,IF(Riskhistorik!H88=\"Hög\",3,0))),B86)","v":0},{"$f":"IF(Riskhistorik!I$2<>\"Datum\",IF(Riskhistorik!I88=\"Låg\",1,IF(Riskhistorik!I88=\"Medel\",2,IF(Riskhistorik!I88=\"Hög\",3,0))),C86)","v":0},{"$f":"IF(Riskhistorik!I$2<>\"Datum\",IF(Riskhistorik!J88=\"Låg\",1,IF(Riskhistorik!J88=\"Medel\",2,IF(Riskhistorik!J88=\"Hög\",3,0))),D86)","v":0},{"$f":"IF(Riskhistorik!K$2<>\"Datum\",IF(Riskhistorik!K88=\"Låg\",1,IF(Riskhistorik!K88=\"Medel\",2,IF(Riskhistorik!K88=\"Hög\",3,0))),E86)","v":0},{"$f":"IF(Riskhistorik!K$2<>\"Datum\",IF(Riskhistorik!L88=\"Låg\",1,IF(Riskhistorik!L88=\"Medel\",2,IF(Riskhistorik!L88=\"Hög\",3,0))),F86)","v":0},{"$f":"IF(Riskhistorik!M$2<>\"Datum\",IF(Riskhistorik!M88=\"Låg\",1,IF(Riskhistorik!M88=\"Medel\",2,IF(Riskhistorik!M88=\"Hög\",3,0))),G86)","v":0},{"$f":"IF(Riskhistorik!M$2<>\"Datum\",IF(Riskhistorik!N88=\"Låg\",1,IF(Riskhistorik!N88=\"Medel\",2,IF(Riskhistorik!N88=\"Hög\",3,0))),H86)","v":0},{"$f":"IF(Riskhistorik!O$2<>\"Datum\",IF(Riskhistorik!O88=\"Låg\",1,IF(Riskhistorik!O88=\"Medel\",2,IF(Riskhistorik!O88=\"Hög\",3,0))),I86)","v":0},{"$f":"IF(Riskhistorik!O$2<>\"Datum\",IF(Riskhistorik!P88=\"Låg\",1,IF(Riskhistorik!P88=\"Medel\",2,IF(Riskhistorik!P88=\"Hög\",3,0))),J86)","v":0},{"$f":"IF(Riskhistorik!Q$2<>\"Datum\",IF(Riskhistorik!Q88=\"Låg\",1,IF(Riskhistorik!Q88=\"Medel\",2,IF(Riskhistorik!Q88=\"Hög\",3,0))),K86)","v":0},{"$f":"IF(Riskhistorik!Q$2<>\"Datum\",IF(Riskhistorik!R88=\"Låg\",1,IF(Riskhistorik!R88=\"Medel\",2,IF(Riskhistorik!R88=\"Hög\",3,0))),L86)","v":0},{"$f":"IF(Riskhistorik!S$2<>\"Datum\",IF(Riskhistorik!S88=\"Låg\",1,IF(Riskhistorik!S88=\"Medel\",2,IF(Riskhistorik!S88=\"Hög\",3,0))),M86)","v":0},{"$f":"IF(Riskhistorik!S$2<>\"Datum\",IF(Riskhistorik!T88=\"Låg\",1,IF(Riskhistorik!T88=\"Medel\",2,IF(Riskhistorik!T88=\"Hög\",3,0))),N86)","v":0},{"$f":"IF(Riskhistorik!U$2<>\"Datum\",IF(Riskhistorik!U88=\"Låg\",1,IF(Riskhistorik!U88=\"Medel\",2,IF(Riskhistorik!U88=\"Hög\",3,0))),O86)","v":0},{"$f":"IF(Riskhistorik!U$2<>\"Datum\",IF(Riskhistorik!V88=\"Låg\",1,IF(Riskhistorik!V88=\"Medel\",2,IF(Riskhistorik!V88=\"Hög\",3,0))),P86)","v":0},{"$f":"IF(Riskhistorik!W$2<>\"Datum\",IF(Riskhistorik!W88=\"Låg\",1,IF(Riskhistorik!W88=\"Medel\",2,IF(Riskhistorik!W88=\"Hög\",3,0))),Q86)","v":0},{"$f":"IF(Riskhistorik!W$2<>\"Datum\",IF(Riskhistorik!X88=\"Låg\",1,IF(Riskhistorik!X88=\"Medel\",2,IF(Riskhistorik!X88=\"Hög\",3,0))),R86)","v":0},{"$f":"IF(Riskhistorik!Y$2<>\"Datum\",IF(Riskhistorik!Y88=\"Låg\",1,IF(Riskhistorik!Y88=\"Medel\",2,IF(Riskhistorik!Y88=\"Hög\",3,0))),S86)","v":0},{"$f":"IF(Riskhistorik!Y$2<>\"Datum\",IF(Riskhistorik!Z88=\"Låg\",1,IF(Riskhistorik!Z88=\"Medel\",2,IF(Riskhistorik!Z88=\"Hög\",3,0))),T86)","v":0},{"$f":"IF(Riskhistorik!AA$2<>\"Datum\",IF(Riskhistorik!AA88=\"Låg\",1,IF(Riskhistorik!AA88=\"Medel\",2,IF(Riskhistorik!AA88=\"Hög\",3,0))),U86)","v":0},{"$f":"IF(Riskhistorik!AA$2<>\"Datum\",IF(Riskhistorik!AB88=\"Låg\",1,IF(Riskhistorik!AB88=\"Medel\",2,IF(Riskhistorik!AB88=\"Hög\",3,0))),V86)","v":0},{"$f":"IF(Riskhistorik!AC$2<>\"Datum\",IF(Riskhistorik!AC88=\"Låg\",1,IF(Riskhistorik!AC88=\"Medel\",2,IF(Riskhistorik!AC88=\"Hög\",3,0))),W86)","v":0},{"$f":"IF(Riskhistorik!AC$2<>\"Datum\",IF(Riskhistorik!AD88=\"Låg\",1,IF(Riskhistorik!AD88=\"Medel\",2,IF(Riskhistorik!AD88=\"Hög\",3,0))),X86)","v":0},{"$f":"IF(Riskhistorik!AE$2<>\"Datum\",IF(Riskhistorik!AE88=\"Låg\",1,IF(Riskhistorik!AE88=\"Medel\",2,IF(Riskhistorik!AE88=\"Hög\",3,0))),Y86)","v":0},{"$f":"IF(Riskhistorik!AE$2<>\"Datum\",IF(Riskhistorik!AF88=\"Låg\",1,IF(Riskhistorik!AF88=\"Medel\",2,IF(Riskhistorik!AF88=\"Hög\",3,0))),Z86)","v":0},{"$f":"IF(Riskhistorik!AG$2<>\"Datum\",IF(Riskhistorik!AG88=\"Låg\",1,IF(Riskhistorik!AG88=\"Medel\",2,IF(Riskhistorik!AG88=\"Hög\",3,0))),AA86)","v":0},{"$f":"IF(Riskhistorik!AG$2<>\"Datum\",IF(Riskhistorik!AH88=\"Låg\",1,IF(Riskhistorik!AH88=\"Medel\",2,IF(Riskhistorik!AH88=\"Hög\",3,0))),AB86)","v":0},{"$f":"IF(Riskhistorik!AI$2<>\"Datum\",IF(Riskhistorik!AI88=\"Låg\",1,IF(Riskhistorik!AI88=\"Medel\",2,IF(Riskhistorik!AI88=\"Hög\",3,0))),AC86)","v":0},{"$f":"IF(Riskhistorik!AI$2<>\"Datum\",IF(Riskhistorik!AJ88=\"Låg\",1,IF(Riskhistorik!AJ88=\"Medel\",2,IF(Riskhistorik!AJ88=\"Hög\",3,0))),AD86)","v":0},{"$f":"IF(Riskhistorik!AK$2<>\"Datum\",IF(Riskhistorik!AK88=\"Låg\",1,IF(Riskhistorik!AK88=\"Medel\",2,IF(Riskhistorik!AK88=\"Hög\",3,0))),AE86)","v":0},{"$f":"IF(Riskhistorik!AK$2<>\"Datum\",IF(Riskhistorik!AL88=\"Låg\",1,IF(Riskhistorik!AL88=\"Medel\",2,IF(Riskhistorik!AL88=\"Hög\",3,0))),AF86)","v":0},{"$f":"IF(Riskhistorik!AM$2<>\"Datum\",IF(Riskhistorik!AM88=\"Låg\",1,IF(Riskhistorik!AM88=\"Medel\",2,IF(Riskhistorik!AM88=\"Hög\",3,0))),AG86)","v":0},{"$f":"IF(Riskhistorik!AM$2<>\"Datum\",IF(Riskhistorik!AN88=\"Låg\",1,IF(Riskhistorik!AN88=\"Medel\",2,IF(Riskhistorik!AN88=\"Hög\",3,0))),AH86)","v":0},{"$f":"IF(Riskhistorik!AO$2<>\"Datum\",IF(Riskhistorik!AO88=\"Låg\",1,IF(Riskhistorik!AO88=\"Medel\",2,IF(Riskhistorik!AO88=\"Hög\",3,0))),AI86)","v":0},{"$f":"IF(Riskhistorik!AO$2<>\"Datum\",IF(Riskhistorik!AP88=\"Låg\",1,IF(Riskhistorik!AP88=\"Medel\",2,IF(Riskhistorik!AP88=\"Hög\",3,0))),AJ86)","v":0},{"$f":"IF(Riskhistorik!AQ$2<>\"Datum\",IF(Riskhistorik!AQ88=\"Låg\",1,IF(Riskhistorik!AQ88=\"Medel\",2,IF(Riskhistorik!AQ88=\"Hög\",3,0))),AK86)","v":0},{"$f":"IF(Riskhistorik!AQ$2<>\"Datum\",IF(Riskhistorik!AR88=\"Låg\",1,IF(Riskhistorik!AR88=\"Medel\",2,IF(Riskhistorik!AR88=\"Hög\",3,0))),AL86)","v":0},0,0,0,0,0,0,0,0,0,0,0,0,0,0,0,0,0,0,0,0]
[{"$f":"IF(Riskhistorik!E89<>\"\",IF(Riskhistorik!E89=\"Låg\",1,IF(Riskhistorik!E89=\"Medel\",2,3)),0)","v":0},{"$f":"IF(Riskhistorik!F89<>\"\",IF(Riskhistorik!F89=\"Låg\",1,IF(Riskhistorik!F89=\"Medel\",2,3)),0)","v":0},{"$f":"IF(Riskhistorik!G$2<>\"Datum\",IF(Riskhistorik!G89=\"Låg\",1,IF(Riskhistorik!G89=\"Medel\",2,IF(Riskhistorik!G89=\"Hög\",3,0))),A87)","v":0},{"$f":"IF(Riskhistorik!G$2<>\"Datum\",IF(Riskhistorik!H89=\"Låg\",1,IF(Riskhistorik!H89=\"Medel\",2,IF(Riskhistorik!H89=\"Hög\",3,0))),B87)","v":0},{"$f":"IF(Riskhistorik!I$2<>\"Datum\",IF(Riskhistorik!I89=\"Låg\",1,IF(Riskhistorik!I89=\"Medel\",2,IF(Riskhistorik!I89=\"Hög\",3,0))),C87)","v":0},{"$f":"IF(Riskhistorik!I$2<>\"Datum\",IF(Riskhistorik!J89=\"Låg\",1,IF(Riskhistorik!J89=\"Medel\",2,IF(Riskhistorik!J89=\"Hög\",3,0))),D87)","v":0},{"$f":"IF(Riskhistorik!K$2<>\"Datum\",IF(Riskhistorik!K89=\"Låg\",1,IF(Riskhistorik!K89=\"Medel\",2,IF(Riskhistorik!K89=\"Hög\",3,0))),E87)","v":0},{"$f":"IF(Riskhistorik!K$2<>\"Datum\",IF(Riskhistorik!L89=\"Låg\",1,IF(Riskhistorik!L89=\"Medel\",2,IF(Riskhistorik!L89=\"Hög\",3,0))),F87)","v":0},{"$f":"IF(Riskhistorik!M$2<>\"Datum\",IF(Riskhistorik!M89=\"Låg\",1,IF(Riskhistorik!M89=\"Medel\",2,IF(Riskhistorik!M89=\"Hög\",3,0))),G87)","v":0},{"$f":"IF(Riskhistorik!M$2<>\"Datum\",IF(Riskhistorik!N89=\"Låg\",1,IF(Riskhistorik!N89=\"Medel\",2,IF(Riskhistorik!N89=\"Hög\",3,0))),H87)","v":0},{"$f":"IF(Riskhistorik!O$2<>\"Datum\",IF(Riskhistorik!O89=\"Låg\",1,IF(Riskhistorik!O89=\"Medel\",2,IF(Riskhistorik!O89=\"Hög\",3,0))),I87)","v":0},{"$f":"IF(Riskhistorik!O$2<>\"Datum\",IF(Riskhistorik!P89=\"Låg\",1,IF(Riskhistorik!P89=\"Medel\",2,IF(Riskhistorik!P89=\"Hög\",3,0))),J87)","v":0},{"$f":"IF(Riskhistorik!Q$2<>\"Datum\",IF(Riskhistorik!Q89=\"Låg\",1,IF(Riskhistorik!Q89=\"Medel\",2,IF(Riskhistorik!Q89=\"Hög\",3,0))),K87)","v":0},{"$f":"IF(Riskhistorik!Q$2<>\"Datum\",IF(Riskhistorik!R89=\"Låg\",1,IF(Riskhistorik!R89=\"Medel\",2,IF(Riskhistorik!R89=\"Hög\",3,0))),L87)","v":0},{"$f":"IF(Riskhistorik!S$2<>\"Datum\",IF(Riskhistorik!S89=\"Låg\",1,IF(Riskhistorik!S89=\"Medel\",2,IF(Riskhistorik!S89=\"Hög\",3,0))),M87)","v":0},{"$f":"IF(Riskhistorik!S$2<>\"Datum\",IF(Riskhistorik!T89=\"Låg\",1,IF(Riskhistorik!T89=\"Medel\",2,IF(Riskhistorik!T89=\"Hög\",3,0))),N87)","v":0},{"$f":"IF(Riskhistorik!U$2<>\"Datum\",IF(Riskhistorik!U89=\"Låg\",1,IF(Riskhistorik!U89=\"Medel\",2,IF(Riskhistorik!U89=\"Hög\",3,0))),O87)","v":0},{"$f":"IF(Riskhistorik!U$2<>\"Datum\",IF(Riskhistorik!V89=\"Låg\",1,IF(Riskhistorik!V89=\"Medel\",2,IF(Riskhistorik!V89=\"Hög\",3,0))),P87)","v":0},{"$f":"IF(Riskhistorik!W$2<>\"Datum\",IF(Riskhistorik!W89=\"Låg\",1,IF(Riskhistorik!W89=\"Medel\",2,IF(Riskhistorik!W89=\"Hög\",3,0))),Q87)","v":0},{"$f":"IF(Riskhistorik!W$2<>\"Datum\",IF(Riskhistorik!X89=\"Låg\",1,IF(Riskhistorik!X89=\"Medel\",2,IF(Riskhistorik!X89=\"Hög\",3,0))),R87)","v":0},{"$f":"IF(Riskhistorik!Y$2<>\"Datum\",IF(Riskhistorik!Y89=\"Låg\",1,IF(Riskhistorik!Y89=\"Medel\",2,IF(Riskhistorik!Y89=\"Hög\",3,0))),S87)","v":0},{"$f":"IF(Riskhistorik!Y$2<>\"Datum\",IF(Riskhistorik!Z89=\"Låg\",1,IF(Riskhistorik!Z89=\"Medel\",2,IF(Riskhistorik!Z89=\"Hög\",3,0))),T87)","v":0},{"$f":"IF(Riskhistorik!AA$2<>\"Datum\",IF(Riskhistorik!AA89=\"Låg\",1,IF(Riskhistorik!AA89=\"Medel\",2,IF(Riskhistorik!AA89=\"Hög\",3,0))),U87)","v":0},{"$f":"IF(Riskhistorik!AA$2<>\"Datum\",IF(Riskhistorik!AB89=\"Låg\",1,IF(Riskhistorik!AB89=\"Medel\",2,IF(Riskhistorik!AB89=\"Hög\",3,0))),V87)","v":0},{"$f":"IF(Riskhistorik!AC$2<>\"Datum\",IF(Riskhistorik!AC89=\"Låg\",1,IF(Riskhistorik!AC89=\"Medel\",2,IF(Riskhistorik!AC89=\"Hög\",3,0))),W87)","v":0},{"$f":"IF(Riskhistorik!AC$2<>\"Datum\",IF(Riskhistorik!AD89=\"Låg\",1,IF(Riskhistorik!AD89=\"Medel\",2,IF(Riskhistorik!AD89=\"Hög\",3,0))),X87)","v":0},{"$f":"IF(Riskhistorik!AE$2<>\"Datum\",IF(Riskhistorik!AE89=\"Låg\",1,IF(Riskhistorik!AE89=\"Medel\",2,IF(Riskhistorik!AE89=\"Hög\",3,0))),Y87)","v":0},{"$f":"IF(Riskhistorik!AE$2<>\"Datum\",IF(Riskhistorik!AF89=\"Låg\",1,IF(Riskhistorik!AF89=\"Medel\",2,IF(Riskhistorik!AF89=\"Hög\",3,0))),Z87)","v":0},{"$f":"IF(Riskhistorik!AG$2<>\"Datum\",IF(Riskhistorik!AG89=\"Låg\",1,IF(Riskhistorik!AG89=\"Medel\",2,IF(Riskhistorik!AG89=\"Hög\",3,0))),AA87)","v":0},{"$f":"IF(Riskhistorik!AG$2<>\"Datum\",IF(Riskhistorik!AH89=\"Låg\",1,IF(Riskhistorik!AH89=\"Medel\",2,IF(Riskhistorik!AH89=\"Hög\",3,0))),AB87)","v":0},{"$f":"IF(Riskhistorik!AI$2<>\"Datum\",IF(Riskhistorik!AI89=\"Låg\",1,IF(Riskhistorik!AI89=\"Medel\",2,IF(Riskhistorik!AI89=\"Hög\",3,0))),AC87)","v":0},{"$f":"IF(Riskhistorik!AI$2<>\"Datum\",IF(Riskhistorik!AJ89=\"Låg\",1,IF(Riskhistorik!AJ89=\"Medel\",2,IF(Riskhistorik!AJ89=\"Hög\",3,0))),AD87)","v":0},{"$f":"IF(Riskhistorik!AK$2<>\"Datum\",IF(Riskhistorik!AK89=\"Låg\",1,IF(Riskhistorik!AK89=\"Medel\",2,IF(Riskhistorik!AK89=\"Hög\",3,0))),AE87)","v":0},{"$f":"IF(Riskhistorik!AK$2<>\"Datum\",IF(Riskhistorik!AL89=\"Låg\",1,IF(Riskhistorik!AL89=\"Medel\",2,IF(Riskhistorik!AL89=\"Hög\",3,0))),AF87)","v":0},{"$f":"IF(Riskhistorik!AM$2<>\"Datum\",IF(Riskhistorik!AM89=\"Låg\",1,IF(Riskhistorik!AM89=\"Medel\",2,IF(Riskhistorik!AM89=\"Hög\",3,0))),AG87)","v":0},{"$f":"IF(Riskhistorik!AM$2<>\"Datum\",IF(Riskhistorik!AN89=\"Låg\",1,IF(Riskhistorik!AN89=\"Medel\",2,IF(Riskhistorik!AN89=\"Hög\",3,0))),AH87)","v":0},{"$f":"IF(Riskhistorik!AO$2<>\"Datum\",IF(Riskhistorik!AO89=\"Låg\",1,IF(Riskhistorik!AO89=\"Medel\",2,IF(Riskhistorik!AO89=\"Hög\",3,0))),AI87)","v":0},{"$f":"IF(Riskhistorik!AO$2<>\"Datum\",IF(Riskhistorik!AP89=\"Låg\",1,IF(Riskhistorik!AP89=\"Medel\",2,IF(Riskhistorik!AP89=\"Hög\",3,0))),AJ87)","v":0},{"$f":"IF(Riskhistorik!AQ$2<>\"Datum\",IF(Riskhistorik!AQ89=\"Låg\",1,IF(Riskhistorik!AQ89=\"Medel\",2,IF(Riskhistorik!AQ89=\"Hög\",3,0))),AK87)","v":0},{"$f":"IF(Riskhistorik!AQ$2<>\"Datum\",IF(Riskhistorik!AR89=\"Låg\",1,IF(Riskhistorik!AR89=\"Medel\",2,IF(Riskhistorik!AR89=\"Hög\",3,0))),AL87)","v":0},0,0,0,0,0,0,0,0,0,0,0,0,0,0,0,0,0,0,0,0]
[{"$f":"IF(Riskhistorik!E90<>\"\",IF(Riskhistorik!E90=\"Låg\",1,IF(Riskhistorik!E90=\"Medel\",2,3)),0)","v":0},{"$f":"IF(Riskhistorik!F90<>\"\",IF(Riskhistorik!F90=\"Låg\",1,IF(Riskhistorik!F90=\"Medel\",2,3)),0)","v":0},{"$f":"IF(Riskhistorik!G$2<>\"Datum\",IF(Riskhistorik!G90=\"Låg\",1,IF(Riskhistorik!G90=\"Medel\",2,IF(Riskhistorik!G90=\"Hög\",3,0))),A88)","v":0},{"$f":"IF(Riskhistorik!G$2<>\"Datum\",IF(Riskhistorik!H90=\"Låg\",1,IF(Riskhistorik!H90=\"Medel\",2,IF(Riskhistorik!H90=\"Hög\",3,0))),B88)","v":0},{"$f":"IF(Riskhistorik!I$2<>\"Datum\",IF(Riskhistorik!I90=\"Låg\",1,IF(Riskhistorik!I90=\"Medel\",2,IF(Riskhistorik!I90=\"Hög\",3,0))),C88)","v":0},{"$f":"IF(Riskhistorik!I$2<>\"Datum\",IF(Riskhistorik!J90=\"Låg\",1,IF(Riskhistorik!J90=\"Medel\",2,IF(Riskhistorik!J90=\"Hög\",3,0))),D88)","v":0},{"$f":"IF(Riskhistorik!K$2<>\"Datum\",IF(Riskhistorik!K90=\"Låg\",1,IF(Riskhistorik!K90=\"Medel\",2,IF(Riskhistorik!K90=\"Hög\",3,0))),E88)","v":0},{"$f":"IF(Riskhistorik!K$2<>\"Datum\",IF(Riskhistorik!L90=\"Låg\",1,IF(Riskhistorik!L90=\"Medel\",2,IF(Riskhistorik!L90=\"Hög\",3,0))),F88)","v":0},{"$f":"IF(Riskhistorik!M$2<>\"Datum\",IF(Riskhistorik!M90=\"Låg\",1,IF(Riskhistorik!M90=\"Medel\",2,IF(Riskhistorik!M90=\"Hög\",3,0))),G88)","v":0},{"$f":"IF(Riskhistorik!M$2<>\"Datum\",IF(Riskhistorik!N90=\"Låg\",1,IF(Riskhistorik!N90=\"Medel\",2,IF(Riskhistorik!N90=\"Hög\",3,0))),H88)","v":0},{"$f":"IF(Riskhistorik!O$2<>\"Datum\",IF(Riskhistorik!O90=\"Låg\",1,IF(Riskhistorik!O90=\"Medel\",2,IF(Riskhistorik!O90=\"Hög\",3,0))),I88)","v":0},{"$f":"IF(Riskhistorik!O$2<>\"Datum\",IF(Riskhistorik!P90=\"Låg\",1,IF(Riskhistorik!P90=\"Medel\",2,IF(Riskhistorik!P90=\"Hög\",3,0))),J88)","v":0},{"$f":"IF(Riskhistorik!Q$2<>\"Datum\",IF(Riskhistorik!Q90=\"Låg\",1,IF(Riskhistorik!Q90=\"Medel\",2,IF(Riskhistorik!Q90=\"Hög\",3,0))),K88)","v":0},{"$f":"IF(Riskhistorik!Q$2<>\"Datum\",IF(Riskhistorik!R90=\"Låg\",1,IF(Riskhistorik!R90=\"Medel\",2,IF(Riskhistorik!R90=\"Hög\",3,0))),L88)","v":0},{"$f":"IF(Riskhistorik!S$2<>\"Datum\",IF(Riskhistorik!S90=\"Låg\",1,IF(Riskhistorik!S90=\"Medel\",2,IF(Riskhistorik!S90=\"Hög\",3,0))),M88)","v":0},{"$f":"IF(Riskhistorik!S$2<>\"Datum\",IF(Riskhistorik!T90=\"Låg\",1,IF(Riskhistorik!T90=\"Medel\",2,IF(Riskhistorik!T90=\"Hög\",3,0))),N88)","v":0},{"$f":"IF(Riskhistorik!U$2<>\"Datum\",IF(Riskhistorik!U90=\"Låg\",1,IF(Riskhistorik!U90=\"Medel\",2,IF(Riskhistorik!U90=\"Hög\",3,0))),O88)","v":0},{"$f":"IF(Riskhistorik!U$2<>\"Datum\",IF(Riskhistorik!V90=\"Låg\",1,IF(Riskhistorik!V90=\"Medel\",2,IF(Riskhistorik!V90=\"Hög\",3,0))),P88)","v":0},{"$f":"IF(Riskhistorik!W$2<>\"Datum\",IF(Riskhistorik!W90=\"Låg\",1,IF(Riskhistorik!W90=\"Medel\",2,IF(Riskhistorik!W90=\"Hög\",3,0))),Q88)","v":0},{"$f":"IF(Riskhistorik!W$2<>\"Datum\",IF(Riskhistorik!X90=\"Låg\",1,IF(Riskhistorik!X90=\"Medel\",2,IF(Riskhistorik!X90=\"Hög\",3,0))),R88)","v":0},{"$f":"IF(Riskhistorik!Y$2<>\"Datum\",IF(Riskhistorik!Y90=\"Låg\",1,IF(Riskhistorik!Y90=\"Medel\",2,IF(Riskhistorik!Y90=\"Hög\",3,0))),S88)","v":0},{"$f":"IF(Riskhistorik!Y$2<>\"Datum\",IF(Riskhistorik!Z90=\"Låg\",1,IF(Riskhistorik!Z90=\"Medel\",2,IF(Riskhistorik!Z90=\"Hög\",3,0))),T88)","v":0},{"$f":"IF(Riskhistorik!AA$2<>\"Datum\",IF(Riskhistorik!AA90=\"Låg\",1,IF(Riskhistorik!AA90=\"Medel\",2,IF(Riskhistorik!AA90=\"Hög\",3,0))),U88)","v":0},{"$f":"IF(Riskhistorik!AA$2<>\"Datum\",IF(Riskhistorik!AB90=\"Låg\",1,IF(Riskhistorik!AB90=\"Medel\",2,IF(Riskhistorik!AB90=\"Hög\",3,0))),V88)","v":0},{"$f":"IF(Riskhistorik!AC$2<>\"Datum\",IF(Riskhistorik!AC90=\"Låg\",1,IF(Riskhistorik!AC90=\"Medel\",2,IF(Riskhistorik!AC90=\"Hög\",3,0))),W88)","v":0},{"$f":"IF(Riskhistorik!AC$2<>\"Datum\",IF(Riskhistorik!AD90=\"Låg\",1,IF(Riskhistorik!AD90=\"Medel\",2,IF(Riskhistorik!AD90=\"Hög\",3,0))),X88)","v":0},{"$f":"IF(Riskhistorik!AE$2<>\"Datum\",IF(Riskhistorik!AE90=\"Låg\",1,IF(Riskhistorik!AE90=\"Medel\",2,IF(Riskhistorik!AE90=\"Hög\",3,0))),Y88)","v":0},{"$f":"IF(Riskhistorik!AE$2<>\"Datum\",IF(Riskhistorik!AF90=\"Låg\",1,IF(Riskhistorik!AF90=\"Medel\",2,IF(Riskhistorik!AF90=\"Hög\",3,0))),Z88)","v":0},{"$f":"IF(Riskhistorik!AG$2<>\"Datum\",IF(Riskhistorik!AG90=\"Låg\",1,IF(Riskhistorik!AG90=\"Medel\",2,IF(Riskhistorik!AG90=\"Hög\",3,0))),AA88)","v":0},{"$f":"IF(Riskhistorik!AG$2<>\"Datum\",IF(Riskhistorik!AH90=\"Låg\",1,IF(Riskhistorik!AH90=\"Medel\",2,IF(Riskhistorik!AH90=\"Hög\",3,0))),AB88)","v":0},{"$f":"IF(Riskhistorik!AI$2<>\"Datum\",IF(Riskhistorik!AI90=\"Låg\",1,IF(Riskhistorik!AI90=\"Medel\",2,IF(Riskhistorik!AI90=\"Hög\",3,0))),AC88)","v":0},{"$f":"IF(Riskhistorik!AI$2<>\"Datum\",IF(Riskhistorik!AJ90=\"Låg\",1,IF(Riskhistorik!AJ90=\"Medel\",2,IF(Riskhistorik!AJ90=\"Hög\",3,0))),AD88)","v":0},{"$f":"IF(Riskhistorik!AK$2<>\"Datum\",IF(Riskhistorik!AK90=\"Låg\",1,IF(Riskhistorik!AK90=\"Medel\",2,IF(Riskhistorik!AK90=\"Hög\",3,0))),AE88)","v":0},{"$f":"IF(Riskhistorik!AK$2<>\"Datum\",IF(Riskhistorik!AL90=\"Låg\",1,IF(Riskhistorik!AL90=\"Medel\",2,IF(Riskhistorik!AL90=\"Hög\",3,0))),AF88)","v":0},{"$f":"IF(Riskhistorik!AM$2<>\"Datum\",IF(Riskhistorik!AM90=\"Låg\",1,IF(Riskhistorik!AM90=\"Medel\",2,IF(Riskhistorik!AM90=\"Hög\",3,0))),AG88)","v":0},{"$f":"IF(Riskhistorik!AM$2<>\"Datum\",IF(Riskhistorik!AN90=\"Låg\",1,IF(Riskhistorik!AN90=\"Medel\",2,IF(Riskhistorik!AN90=\"Hög\",3,0))),AH88)","v":0},{"$f":"IF(Riskhistorik!AO$2<>\"Datum\",IF(Riskhistorik!AO90=\"Låg\",1,IF(Riskhistorik!AO90=\"Medel\",2,IF(Riskhistorik!AO90=\"Hög\",3,0))),AI88)","v":0},{"$f":"IF(Riskhistorik!AO$2<>\"Datum\",IF(Riskhistorik!AP90=\"Låg\",1,IF(Riskhistorik!AP90=\"Medel\",2,IF(Riskhistorik!AP90=\"Hög\",3,0))),AJ88)","v":0},{"$f":"IF(Riskhistorik!AQ$2<>\"Datum\",IF(Riskhistorik!AQ90=\"Låg\",1,IF(Riskhistorik!AQ90=\"Medel\",2,IF(Riskhistorik!AQ90=\"Hög\",3,0))),AK88)","v":0},{"$f":"IF(Riskhistorik!AQ$2<>\"Datum\",IF(Riskhistorik!AR90=\"Låg\",1,IF(Riskhistorik!AR90=\"Medel\",2,IF(Riskhistorik!AR90=\"Hög\",3,0))),AL88)","v":0},0,0,0,0,0,0,0,0,0,0,0,0,0,0,0,0,0,0,0,0]
[{"$f":"IF(Riskhistorik!E91<>\"\",IF(Riskhistorik!E91=\"Låg\",1,IF(Riskhistorik!E91=\"Medel\",2,3)),0)","v":0},{"$f":"IF(Riskhistorik!F91<>\"\",IF(Riskhistorik!F91=\"Låg\",1,IF(Riskhistorik!F91=\"Medel\",2,3)),0)","v":0},{"$f":"IF(Riskhistorik!G$2<>\"Datum\",IF(Riskhistorik!G91=\"Låg\",1,IF(Riskhistorik!G91=\"Medel\",2,IF(Riskhistorik!G91=\"Hög\",3,0))),A89)","v":0},{"$f":"IF(Riskhistorik!G$2<>\"Datum\",IF(Riskhistorik!H91=\"Låg\",1,IF(Riskhistorik!H91=\"Medel\",2,IF(Riskhistorik!H91=\"Hög\",3,0))),B89)","v":0},{"$f":"IF(Riskhistorik!I$2<>\"Datum\",IF(Riskhistorik!I91=\"Låg\",1,IF(Riskhistorik!I91=\"Medel\",2,IF(Riskhistorik!I91=\"Hög\",3,0))),C89)","v":0},{"$f":"IF(Riskhistorik!I$2<>\"Datum\",IF(Riskhistorik!J91=\"Låg\",1,IF(Riskhistorik!J91=\"Medel\",2,IF(Riskhistorik!J91=\"Hög\",3,0))),D89)","v":0},{"$f":"IF(Riskhistorik!K$2<>\"Datum\",IF(Riskhistorik!K91=\"Låg\",1,IF(Riskhistorik!K91=\"Medel\",2,IF(Riskhistorik!K91=\"Hög\",3,0))),E89)","v":0},{"$f":"IF(Riskhistorik!K$2<>\"Datum\",IF(Riskhistorik!L91=\"Låg\",1,IF(Riskhistorik!L91=\"Medel\",2,IF(Riskhistorik!L91=\"Hög\",3,0))),F89)","v":0},{"$f":"IF(Riskhistorik!M$2<>\"Datum\",IF(Riskhistorik!M91=\"Låg\",1,IF(Riskhistorik!M91=\"Medel\",2,IF(Riskhistorik!M91=\"Hög\",3,0))),G89)","v":0},{"$f":"IF(Riskhistorik!M$2<>\"Datum\",IF(Riskhistorik!N91=\"Låg\",1,IF(Riskhistorik!N91=\"Medel\",2,IF(Riskhistorik!N91=\"Hög\",3,0))),H89)","v":0},{"$f":"IF(Riskhistorik!O$2<>\"Datum\",IF(Riskhistorik!O91=\"Låg\",1,IF(Riskhistorik!O91=\"Medel\",2,IF(Riskhistorik!O91=\"Hög\",3,0))),I89)","v":0},{"$f":"IF(Riskhistorik!O$2<>\"Datum\",IF(Riskhistorik!P91=\"Låg\",1,IF(Riskhistorik!P91=\"Medel\",2,IF(Riskhistorik!P91=\"Hög\",3,0))),J89)","v":0},{"$f":"IF(Riskhistorik!Q$2<>\"Datum\",IF(Riskhistorik!Q91=\"Låg\",1,IF(Riskhistorik!Q91=\"Medel\",2,IF(Riskhistorik!Q91=\"Hög\",3,0))),K89)","v":0},{"$f":"IF(Riskhistorik!Q$2<>\"Datum\",IF(Riskhistorik!R91=\"Låg\",1,IF(Riskhistorik!R91=\"Medel\",2,IF(Riskhistorik!R91=\"Hög\",3,0))),L89)","v":0},{"$f":"IF(Riskhistorik!S$2<>\"Datum\",IF(Riskhistorik!S91=\"Låg\",1,IF(Riskhistorik!S91=\"Medel\",2,IF(Riskhistorik!S91=\"Hög\",3,0))),M89)","v":0},{"$f":"IF(Riskhistorik!S$2<>\"Datum\",IF(Riskhistorik!T91=\"Låg\",1,IF(Riskhistorik!T91=\"Medel\",2,IF(Riskhistorik!T91=\"Hög\",3,0))),N89)","v":0},{"$f":"IF(Riskhistorik!U$2<>\"Datum\",IF(Riskhistorik!U91=\"Låg\",1,IF(Riskhistorik!U91=\"Medel\",2,IF(Riskhistorik!U91=\"Hög\",3,0))),O89)","v":0},{"$f":"IF(Riskhistorik!U$2<>\"Datum\",IF(Riskhistorik!V91=\"Låg\",1,IF(Riskhistorik!V91=\"Medel\",2,IF(Riskhistorik!V91=\"Hög\",3,0))),P89)","v":0},{"$f":"IF(Riskhistorik!W$2<>\"Datum\",IF(Riskhistorik!W91=\"Låg\",1,IF(Riskhistorik!W91=\"Medel\",2,IF(Riskhistorik!W91=\"Hög\",3,0))),Q89)","v":0},{"$f":"IF(Riskhistorik!W$2<>\"Datum\",IF(Riskhistorik!X91=\"Låg\",1,IF(Riskhistorik!X91=\"Medel\",2,IF(Riskhistorik!X91=\"Hög\",3,0))),R89)","v":0},{"$f":"IF(Riskhistorik!Y$2<>\"Datum\",IF(Riskhistorik!Y91=\"Låg\",1,IF(Riskhistorik!Y91=\"Medel\",2,IF(Riskhistorik!Y91=\"Hög\",3,0))),S89)","v":0},{"$f":"IF(Riskhistorik!Y$2<>\"Datum\",IF(Riskhistorik!Z91=\"Låg\",1,IF(Riskhistorik!Z91=\"Medel\",2,IF(Riskhistorik!Z91=\"Hög\",3,0))),T89)","v":0},{"$f":"IF(Riskhistorik!AA$2<>\"Datum\",IF(Riskhistorik!AA91=\"Låg\",1,IF(Riskhistorik!AA91=\"Medel\",2,IF(Riskhistorik!AA91=\"Hög\",3,0))),U89)","v":0},{"$f":"IF(Riskhistorik!AA$2<>\"Datum\",IF(Riskhistorik!AB91=\"Låg\",1,IF(Riskhistorik!AB91=\"Medel\",2,IF(Riskhistorik!AB91=\"Hög\",3,0))),V89)","v":0},{"$f":"IF(Riskhistorik!AC$2<>\"Datum\",IF(Riskhistorik!AC91=\"Låg\",1,IF(Riskhistorik!AC91=\"Medel\",2,IF(Riskhistorik!AC91=\"Hög\",3,0))),W89)","v":0},{"$f":"IF(Riskhistorik!AC$2<>\"Datum\",IF(Riskhistorik!AD91=\"Låg\",1,IF(Riskhistorik!AD91=\"Medel\",2,IF(Riskhistorik!AD91=\"Hög\",3,0))),X89)","v":0},{"$f":"IF(Riskhistorik!AE$2<>\"Datum\",IF(Riskhistorik!AE91=\"Låg\",1,IF(Riskhistorik!AE91=\"Medel\",2,IF(Riskhistorik!AE91=\"Hög\",3,0))),Y89)","v":0},{"$f":"IF(Riskhistorik!AE$2<>\"Datum\",IF(Riskhistorik!AF91=\"Låg\",1,IF(Riskhistorik!AF91=\"Medel\",2,IF(Riskhistorik!AF91=\"Hög\",3,0))),Z89)","v":0},{"$f":"IF(Riskhistorik!AG$2<>\"Datum\",IF(Riskhistorik!AG91=\"Låg\",1,IF(Riskhistorik!AG91=\"Medel\",2,IF(Riskhistorik!AG91=\"Hög\",3,0))),AA89)","v":0},{"$f":"IF(Riskhistorik!AG$2<>\"Datum\",IF(Riskhistorik!AH91=\"Låg\",1,IF(Riskhistorik!AH91=\"Medel\",2,IF(Riskhistorik!AH91=\"Hög\",3,0))),AB89)","v":0},{"$f":"IF(Riskhistorik!AI$2<>\"Datum\",IF(Riskhistorik!AI91=\"Låg\",1,IF(Riskhistorik!AI91=\"Medel\",2,IF(Riskhistorik!AI91=\"Hög\",3,0))),AC89)","v":0},{"$f":"IF(Riskhistorik!AI$2<>\"Datum\",IF(Riskhistorik!AJ91=\"Låg\",1,IF(Riskhistorik!AJ91=\"Medel\",2,IF(Riskhistorik!AJ91=\"Hög\",3,0))),AD89)","v":0},{"$f":"IF(Riskhistorik!AK$2<>\"Datum\",IF(Riskhistorik!AK91=\"Låg\",1,IF(Riskhistorik!AK91=\"Medel\",2,IF(Riskhistorik!AK91=\"Hög\",3,0))),AE89)","v":0},{"$f":"IF(Riskhistorik!AK$2<>\"Datum\",IF(Riskhistorik!AL91=\"Låg\",1,IF(Riskhistorik!AL91=\"Medel\",2,IF(Riskhistorik!AL91=\"Hög\",3,0))),AF89)","v":0},{"$f":"IF(Riskhistorik!AM$2<>\"Datum\",IF(Riskhistorik!AM91=\"Låg\",1,IF(Riskhistorik!AM91=\"Medel\",2,IF(Riskhistorik!AM91=\"Hög\",3,0))),AG89)","v":0},{"$f":"IF(Riskhistorik!AM$2<>\"Datum\",IF(Riskhistorik!AN91=\"Låg\",1,IF(Riskhistorik!AN91=\"Medel\",2,IF(Riskhistorik!AN91=\"Hög\",3,0))),AH89)","v":0},{"$f":"IF(Riskhistorik!AO$2<>\"Datum\",IF(Riskhistorik!AO91=\"Låg\",1,IF(Riskhistorik!AO91=\"Medel\",2,IF(Riskhistorik!AO91=\"Hög\",3,0))),AI89)","v":0},{"$f":"IF(Riskhistorik!AO$2<>\"Datum\",IF(Riskhistorik!AP91=\"Låg\",1,IF(Riskhistorik!AP91=\"Medel\",2,IF(Riskhistorik!AP91=\"Hög\",3,0))),AJ89)","v":0},{"$f":"IF(Riskhistorik!AQ$2<>\"Datum\",IF(Riskhistorik!AQ91=\"Låg\",1,IF(Riskhistorik!AQ91=\"Medel\",2,IF(Riskhistorik!AQ91=\"Hög\",3,0))),AK89)","v":0},{"$f":"IF(Riskhistorik!AQ$2<>\"Datum\",IF(Riskhistorik!AR91=\"Låg\",1,IF(Riskhistorik!AR91=\"Medel\",2,IF(Riskhistorik!AR91=\"Hög\",3,0))),AL89)","v":0},0,0,0,0,0,0,0,0,0,0,0,0,0,0,0,0,0,0,0,0]
[{"$f":"IF(Riskhistorik!E92<>\"\",IF(Riskhistorik!E92=\"Låg\",1,IF(Riskhistorik!E92=\"Medel\",2,3)),0)","v":0},{"$f":"IF(Riskhistorik!F92<>\"\",IF(Riskhistorik!F92=\"Låg\",1,IF(Riskhistorik!F92=\"Medel\",2,3)),0)","v":0},{"$f":"IF(Riskhistorik!G$2<>\"Datum\",IF(Riskhistorik!G92=\"Låg\",1,IF(Riskhistorik!G92=\"Medel\",2,IF(Riskhistorik!G92=\"Hög\",3,0))),A90)","v":0},{"$f":"IF(Riskhistorik!G$2<>\"Datum\",IF(Riskhistorik!H92=\"Låg\",1,IF(Riskhistorik!H92=\"Medel\",2,IF(Riskhistorik!H92=\"Hög\",3,0))),B90)","v":0},{"$f":"IF(Riskhistorik!I$2<>\"Datum\",IF(Riskhistorik!I92=\"Låg\",1,IF(Riskhistorik!I92=\"Medel\",2,IF(Riskhistorik!I92=\"Hög\",3,0))),C90)","v":0},{"$f":"IF(Riskhistorik!I$2<>\"Datum\",IF(Riskhistorik!J92=\"Låg\",1,IF(Riskhistorik!J92=\"Medel\",2,IF(Riskhistorik!J92=\"Hög\",3,0))),D90)","v":0},{"$f":"IF(Riskhistorik!K$2<>\"Datum\",IF(Riskhistorik!K92=\"Låg\",1,IF(Riskhistorik!K92=\"Medel\",2,IF(Riskhistorik!K92=\"Hög\",3,0))),E90)","v":0},{"$f":"IF(Riskhistorik!K$2<>\"Datum\",IF(Riskhistorik!L92=\"Låg\",1,IF(Riskhistorik!L92=\"Medel\",2,IF(Riskhistorik!L92=\"Hög\",3,0))),F90)","v":0},{"$f":"IF(Riskhistorik!M$2<>\"Datum\",IF(Riskhistorik!M92=\"Låg\",1,IF(Riskhistorik!M92=\"Medel\",2,IF(Riskhistorik!M92=\"Hög\",3,0))),G90)","v":0},{"$f":"IF(Riskhistorik!M$2<>\"Datum\",IF(Riskhistorik!N92=\"Låg\",1,IF(Riskhistorik!N92=\"Medel\",2,IF(Riskhistorik!N92=\"Hög\",3,0))),H90)","v":0},{"$f":"IF(Riskhistorik!O$2<>\"Datum\",IF(Riskhistorik!O92=\"Låg\",1,IF(Riskhistorik!O92=\"Medel\",2,IF(Riskhistorik!O92=\"Hög\",3,0))),I90)","v":0},{"$f":"IF(Riskhistorik!O$2<>\"Datum\",IF(Riskhistorik!P92=\"Låg\",1,IF(Riskhistorik!P92=\"Medel\",2,IF(Riskhistorik!P92=\"Hög\",3,0))),J90)","v":0},{"$f":"IF(Riskhistorik!Q$2<>\"Datum\",IF(Riskhistorik!Q92=\"Låg\",1,IF(Riskhistorik!Q92=\"Medel\",2,IF(Riskhistorik!Q92=\"Hög\",3,0))),K90)","v":0},{"$f":"IF(Riskhistorik!Q$2<>\"Datum\",IF(Riskhistorik!R92=\"Låg\",1,IF(Riskhistorik!R92=\"Medel\",2,IF(Riskhistorik!R92=\"Hög\",3,0))),L90)","v":0},{"$f":"IF(Riskhistorik!S$2<>\"Datum\",IF(Riskhistorik!S92=\"Låg\",1,IF(Riskhistorik!S92=\"Medel\",2,IF(Riskhistorik!S92=\"Hög\",3,0))),M90)","v":0},{"$f":"IF(Riskhistorik!S$2<>\"Datum\",IF(Riskhistorik!T92=\"Låg\",1,IF(Riskhistorik!T92=\"Medel\",2,IF(Riskhistorik!T92=\"Hög\",3,0))),N90)","v":0},{"$f":"IF(Riskhistorik!U$2<>\"Datum\",IF(Riskhistorik!U92=\"Låg\",1,IF(Riskhistorik!U92=\"Medel\",2,IF(Riskhistorik!U92=\"Hög\",3,0))),O90)","v":0},{"$f":"IF(Riskhistorik!U$2<>\"Datum\",IF(Riskhistorik!V92=\"Låg\",1,IF(Riskhistorik!V92=\"Medel\",2,IF(Riskhistorik!V92=\"Hög\",3,0))),P90)","v":0},{"$f":"IF(Riskhistorik!W$2<>\"Datum\",IF(Riskhistorik!W92=\"Låg\",1,IF(Riskhistorik!W92=\"Medel\",2,IF(Riskhistorik!W92=\"Hög\",3,0))),Q90)","v":0},{"$f":"IF(Riskhistorik!W$2<>\"Datum\",IF(Riskhistorik!X92=\"Låg\",1,IF(Riskhistorik!X92=\"Medel\",2,IF(Riskhistorik!X92=\"Hög\",3,0))),R90)","v":0},{"$f":"IF(Riskhistorik!Y$2<>\"Datum\",IF(Riskhistorik!Y92=\"Låg\",1,IF(Riskhistorik!Y92=\"Medel\",2,IF(Riskhistorik!Y92=\"Hög\",3,0))),S90)","v":0},{"$f":"IF(Riskhistorik!Y$2<>\"Datum\",IF(Riskhistorik!Z92=\"Låg\",1,IF(Riskhistorik!Z92=\"Medel\",2,IF(Riskhistorik!Z92=\"Hög\",3,0))),T90)","v":0},{"$f":"IF(Riskhistorik!AA$2<>\"Datum\",IF(Riskhistorik!AA92=\"Låg\",1,IF(Riskhistorik!AA92=\"Medel\",2,IF(Riskhistorik!AA92=\"Hög\",3,0))),U90)","v":0},{"$f":"IF(Riskhistorik!AA$2<>\"Datum\",IF(Riskhistorik!AB92=\"Låg\",1,IF(Riskhistorik!AB92=\"Medel\",2,IF(Riskhistorik!AB92=\"Hög\",3,0))),V90)","v":0},{"$f":"IF(Riskhistorik!AC$2<>\"Datum\",IF(Riskhistorik!AC92=\"Låg\",1,IF(Riskhistorik!AC92=\"Medel\",2,IF(Riskhistorik!AC92=\"Hög\",3,0))),W90)","v":0},{"$f":"IF(Riskhistorik!AC$2<>\"Datum\",IF(Riskhistorik!AD92=\"Låg\",1,IF(Riskhistorik!AD92=\"Medel\",2,IF(Riskhistorik!AD92=\"Hög\",3,0))),X90)","v":0},{"$f":"IF(Riskhistorik!AE$2<>\"Datum\",IF(Riskhistorik!AE92=\"Låg\",1,IF(Riskhistorik!AE92=\"Medel\",2,IF(Riskhistorik!AE92=\"Hög\",3,0))),Y90)","v":0},{"$f":"IF(Riskhistorik!AE$2<>\"Datum\",IF(Riskhistorik!AF92=\"Låg\",1,IF(Riskhistorik!AF92=\"Medel\",2,IF(Riskhistorik!AF92=\"Hög\",3,0))),Z90)","v":0},{"$f":"IF(Riskhistorik!AG$2<>\"Datum\",IF(Riskhistorik!AG92=\"Låg\",1,IF(Riskhistorik!AG92=\"Medel\",2,IF(Riskhistorik!AG92=\"Hög\",3,0))),AA90)","v":0},{"$f":"IF(Riskhistorik!AG$2<>\"Datum\",IF(Riskhistorik!AH92=\"Låg\",1,IF(Riskhistorik!AH92=\"Medel\",2,IF(Riskhistorik!AH92=\"Hög\",3,0))),AB90)","v":0},{"$f":"IF(Riskhistorik!AI$2<>\"Datum\",IF(Riskhistorik!AI92=\"Låg\",1,IF(Riskhistorik!AI92=\"Medel\",2,IF(Riskhistorik!AI92=\"Hög\",3,0))),AC90)","v":0},{"$f":"IF(Riskhistorik!AI$2<>\"Datum\",IF(Riskhistorik!AJ92=\"Låg\",1,IF(Riskhistorik!AJ92=\"Medel\",2,IF(Riskhistorik!AJ92=\"Hög\",3,0))),AD90)","v":0},{"$f":"IF(Riskhistorik!AK$2<>\"Datum\",IF(Riskhistorik!AK92=\"Låg\",1,IF(Riskhistorik!AK92=\"Medel\",2,IF(Riskhistorik!AK92=\"Hög\",3,0))),AE90)","v":0},{"$f":"IF(Riskhistorik!AK$2<>\"Datum\",IF(Riskhistorik!AL92=\"Låg\",1,IF(Riskhistorik!AL92=\"Medel\",2,IF(Riskhistorik!AL92=\"Hög\",3,0))),AF90)","v":0},{"$f":"IF(Riskhistorik!AM$2<>\"Datum\",IF(Riskhistorik!AM92=\"Låg\",1,IF(Riskhistorik!AM92=\"Medel\",2,IF(Riskhistorik!AM92=\"Hög\",3,0))),AG90)","v":0},{"$f":"IF(Riskhistorik!AM$2<>\"Datum\",IF(Riskhistorik!AN92=\"Låg\",1,IF(Riskhistorik!AN92=\"Medel\",2,IF(Riskhistorik!AN92=\"Hög\",3,0))),AH90)","v":0},{"$f":"IF(Riskhistorik!AO$2<>\"Datum\",IF(Riskhistorik!AO92=\"Låg\",1,IF(Riskhistorik!AO92=\"Medel\",2,IF(Riskhistorik!AO92=\"Hög\",3,0))),AI90)","v":0},{"$f":"IF(Riskhistorik!AO$2<>\"Datum\",IF(Riskhistorik!AP92=\"Låg\",1,IF(Riskhistorik!AP92=\"Medel\",2,IF(Riskhistorik!AP92=\"Hög\",3,0))),AJ90)","v":0},{"$f":"IF(Riskhistorik!AQ$2<>\"Datum\",IF(Riskhistorik!AQ92=\"Låg\",1,IF(Riskhistorik!AQ92=\"Medel\",2,IF(Riskhistorik!AQ92=\"Hög\",3,0))),AK90)","v":0},{"$f":"IF(Riskhistorik!AQ$2<>\"Datum\",IF(Riskhistorik!AR92=\"Låg\",1,IF(Riskhistorik!AR92=\"Medel\",2,IF(Riskhistorik!AR92=\"Hög\",3,0))),AL90)","v":0},0,0,0,0,0,0,0,0,0,0,0,0,0,0,0,0,0,0,0,0]
[{"$f":"IF(Riskhistorik!E93<>\"\",IF(Riskhistorik!E93=\"Låg\",1,IF(Riskhistorik!E93=\"Medel\",2,3)),0)","v":0},{"$f":"IF(Riskhistorik!F93<>\"\",IF(Riskhistorik!F93=\"Låg\",1,IF(Riskhistorik!F93=\"Medel\",2,3)),0)","v":0},{"$f":"IF(Riskhistorik!G$2<>\"Datum\",IF(Riskhistorik!G93=\"Låg\",1,IF(Riskhistorik!G93=\"Medel\",2,IF(Riskhistorik!G93=\"Hög\",3,0))),A91)","v":0},{"$f":"IF(Riskhistorik!G$2<>\"Datum\",IF(Riskhistorik!H93=\"Låg\",1,IF(Riskhistorik!H93=\"Medel\",2,IF(Riskhistorik!H93=\"Hög\",3,0))),B91)","v":0},{"$f":"IF(Riskhistorik!I$2<>\"Datum\",IF(Riskhistorik!I93=\"Låg\",1,IF(Riskhistorik!I93=\"Medel\",2,IF(Riskhistorik!I93=\"Hög\",3,0))),C91)","v":0},{"$f":"IF(Riskhistorik!I$2<>\"Datum\",IF(Riskhistorik!J93=\"Låg\",1,IF(Riskhistorik!J93=\"Medel\",2,IF(Riskhistorik!J93=\"Hög\",3,0))),D91)","v":0},{"$f":"IF(Riskhistorik!K$2<>\"Datum\",IF(Riskhistorik!K93=\"Låg\",1,IF(Riskhistorik!K93=\"Medel\",2,IF(Riskhistorik!K93=\"Hög\",3,0))),E91)","v":0},{"$f":"IF(Riskhistorik!K$2<>\"Datum\",IF(Riskhistorik!L93=\"Låg\",1,IF(Riskhistorik!L93=\"Medel\",2,IF(Riskhistorik!L93=\"Hög\",3,0))),F91)","v":0},{"$f":"IF(Riskhistorik!M$2<>\"Datum\",IF(Riskhistorik!M93=\"Låg\",1,IF(Riskhistorik!M93=\"Medel\",2,IF(Riskhistorik!M93=\"Hög\",3,0))),G91)","v":0},{"$f":"IF(Riskhistorik!M$2<>\"Datum\",IF(Riskhistorik!N93=\"Låg\",1,IF(Riskhistorik!N93=\"Medel\",2,IF(Riskhistorik!N93=\"Hög\",3,0))),H91)","v":0},{"$f":"IF(Riskhistorik!O$2<>\"Datum\",IF(Riskhistorik!O93=\"Låg\",1,IF(Riskhistorik!O93=\"Medel\",2,IF(Riskhistorik!O93=\"Hög\",3,0))),I91)","v":0},{"$f":"IF(Riskhistorik!O$2<>\"Datum\",IF(Riskhistorik!P93=\"Låg\",1,IF(Riskhistorik!P93=\"Medel\",2,IF(Riskhistorik!P93=\"Hög\",3,0))),J91)","v":0},{"$f":"IF(Riskhistorik!Q$2<>\"Datum\",IF(Riskhistorik!Q93=\"Låg\",1,IF(Riskhistorik!Q93=\"Medel\",2,IF(Riskhistorik!Q93=\"Hög\",3,0))),K91)","v":0},{"$f":"IF(Riskhistorik!Q$2<>\"Datum\",IF(Riskhistorik!R93=\"Låg\",1,IF(Riskhistorik!R93=\"Medel\",2,IF(Riskhistorik!R93=\"Hög\",3,0))),L91)","v":0},{"$f":"IF(Riskhistorik!S$2<>\"Datum\",IF(Riskhistorik!S93=\"Låg\",1,IF(Riskhistorik!S93=\"Medel\",2,IF(Riskhistorik!S93=\"Hög\",3,0))),M91)","v":0},{"$f":"IF(Riskhistorik!S$2<>\"Datum\",IF(Riskhistorik!T93=\"Låg\",1,IF(Riskhistorik!T93=\"Medel\",2,IF(Riskhistorik!T93=\"Hög\",3,0))),N91)","v":0},{"$f":"IF(Riskhistorik!U$2<>\"Datum\",IF(Riskhistorik!U93=\"Låg\",1,IF(Riskhistorik!U93=\"Medel\",2,IF(Riskhistorik!U93=\"Hög\",3,0))),O91)","v":0},{"$f":"IF(Riskhistorik!U$2<>\"Datum\",IF(Riskhistorik!V93=\"Låg\",1,IF(Riskhistorik!V93=\"Medel\",2,IF(Riskhistorik!V93=\"Hög\",3,0))),P91)","v":0},{"$f":"IF(Riskhistorik!W$2<>\"Datum\",IF(Riskhistorik!W93=\"Låg\",1,IF(Riskhistorik!W93=\"Medel\",2,IF(Riskhistorik!W93=\"Hög\",3,0))),Q91)","v":0},{"$f":"IF(Riskhistorik!W$2<>\"Datum\",IF(Riskhistorik!X93=\"Låg\",1,IF(Riskhistorik!X93=\"Medel\",2,IF(Riskhistorik!X93=\"Hög\",3,0))),R91)","v":0},{"$f":"IF(Riskhistorik!Y$2<>\"Datum\",IF(Riskhistorik!Y93=\"Låg\",1,IF(Riskhistorik!Y93=\"Medel\",2,IF(Riskhistorik!Y93=\"Hög\",3,0))),S91)","v":0},{"$f":"IF(Riskhistorik!Y$2<>\"Datum\",IF(Riskhistorik!Z93=\"Låg\",1,IF(Riskhistorik!Z93=\"Medel\",2,IF(Riskhistorik!Z93=\"Hög\",3,0))),T91)","v":0},{"$f":"IF(Riskhistorik!AA$2<>\"Datum\",IF(Riskhistorik!AA93=\"Låg\",1,IF(Riskhistorik!AA93=\"Medel\",2,IF(Riskhistorik!AA93=\"Hög\",3,0))),U91)","v":0},{"$f":"IF(Riskhistorik!AA$2<>\"Datum\",IF(Riskhistorik!AB93=\"Låg\",1,IF(Riskhistorik!AB93=\"Medel\",2,IF(Riskhistorik!AB93=\"Hög\",3,0))),V91)","v":0},{"$f":"IF(Riskhistorik!AC$2<>\"Datum\",IF(Riskhistorik!AC93=\"Låg\",1,IF(Riskhistorik!AC93=\"Medel\",2,IF(Riskhistorik!AC93=\"Hög\",3,0))),W91)","v":0},{"$f":"IF(Riskhistorik!AC$2<>\"Datum\",IF(Riskhistorik!AD93=\"Låg\",1,IF(Riskhistorik!AD93=\"Medel\",2,IF(Riskhistorik!AD93=\"Hög\",3,0))),X91)","v":0},{"$f":"IF(Riskhistorik!AE$2<>\"Datum\",IF(Riskhistorik!AE93=\"Låg\",1,IF(Riskhistorik!AE93=\"Medel\",2,IF(Riskhistorik!AE93=\"Hög\",3,0))),Y91)","v":0},{"$f":"IF(Riskhistorik!AE$2<>\"Datum\",IF(Riskhistorik!AF93=\"Låg\",1,IF(Riskhistorik!AF93=\"Medel\",2,IF(Riskhistorik!AF93=\"Hög\",3,0))),Z91)","v":0},{"$f":"IF(Riskhistorik!AG$2<>\"Datum\",IF(Riskhistorik!AG93=\"Låg\",1,IF(Riskhistorik!AG93=\"Medel\",2,IF(Riskhistorik!AG93=\"Hög\",3,0))),AA91)","v":0},{"$f":"IF(Riskhistorik!AG$2<>\"Datum\",IF(Riskhistorik!AH93=\"Låg\",1,IF(Riskhistorik!AH93=\"Medel\",2,IF(Riskhistorik!AH93=\"Hög\",3,0))),AB91)","v":0},{"$f":"IF(Riskhistorik!AI$2<>\"Datum\",IF(Riskhistorik!AI93=\"Låg\",1,IF(Riskhistorik!AI93=\"Medel\",2,IF(Riskhistorik!AI93=\"Hög\",3,0))),AC91)","v":0},{"$f":"IF(Riskhistorik!AI$2<>\"Datum\",IF(Riskhistorik!AJ93=\"Låg\",1,IF(Riskhistorik!AJ93=\"Medel\",2,IF(Riskhistorik!AJ93=\"Hög\",3,0))),AD91)","v":0},{"$f":"IF(Riskhistorik!AK$2<>\"Datum\",IF(Riskhistorik!AK93=\"Låg\",1,IF(Riskhistorik!AK93=\"Medel\",2,IF(Riskhistorik!AK93=\"Hög\",3,0))),AE91)","v":0},{"$f":"IF(Riskhistorik!AK$2<>\"Datum\",IF(Riskhistorik!AL93=\"Låg\",1,IF(Riskhistorik!AL93=\"Medel\",2,IF(Riskhistorik!AL93=\"Hög\",3,0))),AF91)","v":0},{"$f":"IF(Riskhistorik!AM$2<>\"Datum\",IF(Riskhistorik!AM93=\"Låg\",1,IF(Riskhistorik!AM93=\"Medel\",2,IF(Riskhistorik!AM93=\"Hög\",3,0))),AG91)","v":0},{"$f":"IF(Riskhistorik!AM$2<>\"Datum\",IF(Riskhistorik!AN93=\"Låg\",1,IF(Riskhistorik!AN93=\"Medel\",2,IF(Riskhistorik!AN93=\"Hög\",3,0))),AH91)","v":0},{"$f":"IF(Riskhistorik!AO$2<>\"Datum\",IF(Riskhistorik!AO93=\"Låg\",1,IF(Riskhistorik!AO93=\"Medel\",2,IF(Riskhistorik!AO93=\"Hög\",3,0))),AI91)","v":0},{"$f":"IF(Riskhistorik!AO$2<>\"Datum\",IF(Riskhistorik!AP93=\"Låg\",1,IF(Riskhistorik!AP93=\"Medel\",2,IF(Riskhistorik!AP93=\"Hög\",3,0))),AJ91)","v":0},{"$f":"IF(Riskhistorik!AQ$2<>\"Datum\",IF(Riskhistorik!AQ93=\"Låg\",1,IF(Riskhistorik!AQ93=\"Medel\",2,IF(Riskhistorik!AQ93=\"Hög\",3,0))),AK91)","v":0},{"$f":"IF(Riskhistorik!AQ$2<>\"Datum\",IF(Riskhistorik!AR93=\"Låg\",1,IF(Riskhistorik!AR93=\"Medel\",2,IF(Riskhistorik!AR93=\"Hög\",3,0))),AL91)","v":0},0,0,0,0,0,0,0,0,0,0,0,0,0,0,0,0,0,0,0,0]
[{"$f":"IF(Riskhistorik!E94<>\"\",IF(Riskhistorik!E94=\"Låg\",1,IF(Riskhistorik!E94=\"Medel\",2,3)),0)","v":0},{"$f":"IF(Riskhistorik!F94<>\"\",IF(Riskhistorik!F94=\"Låg\",1,IF(Riskhistorik!F94=\"Medel\",2,3)),0)","v":0},{"$f":"IF(Riskhistorik!G$2<>\"Datum\",IF(Riskhistorik!G94=\"Låg\",1,IF(Riskhistorik!G94=\"Medel\",2,IF(Riskhistorik!G94=\"Hög\",3,0))),A92)","v":0},{"$f":"IF(Riskhistorik!G$2<>\"Datum\",IF(Riskhistorik!H94=\"Låg\",1,IF(Riskhistorik!H94=\"Medel\",2,IF(Riskhistorik!H94=\"Hög\",3,0))),B92)","v":0},{"$f":"IF(Riskhistorik!I$2<>\"Datum\",IF(Riskhistorik!I94=\"Låg\",1,IF(Riskhistorik!I94=\"Medel\",2,IF(Riskhistorik!I94=\"Hög\",3,0))),C92)","v":0},{"$f":"IF(Riskhistorik!I$2<>\"Datum\",IF(Riskhistorik!J94=\"Låg\",1,IF(Riskhistorik!J94=\"Medel\",2,IF(Riskhistorik!J94=\"Hög\",3,0))),D92)","v":0},{"$f":"IF(Riskhistorik!K$2<>\"Datum\",IF(Riskhistorik!K94=\"Låg\",1,IF(Riskhistorik!K94=\"Medel\",2,IF(Riskhistorik!K94=\"Hög\",3,0))),E92)","v":0},{"$f":"IF(Riskhistorik!K$2<>\"Datum\",IF(Riskhistorik!L94=\"Låg\",1,IF(Riskhistorik!L94=\"Medel\",2,IF(Riskhistorik!L94=\"Hög\",3,0))),F92)","v":0},{"$f":"IF(Riskhistorik!M$2<>\"Datum\",IF(Riskhistorik!M94=\"Låg\",1,IF(Riskhistorik!M94=\"Medel\",2,IF(Riskhistorik!M94=\"Hög\",3,0))),G92)","v":0},{"$f":"IF(Riskhistorik!M$2<>\"Datum\",IF(Riskhistorik!N94=\"Låg\",1,IF(Riskhistorik!N94=\"Medel\",2,IF(Riskhistorik!N94=\"Hög\",3,0))),H92)","v":0},{"$f":"IF(Riskhistorik!O$2<>\"Datum\",IF(Riskhistorik!O94=\"Låg\",1,IF(Riskhistorik!O94=\"Medel\",2,IF(Riskhistorik!O94=\"Hög\",3,0))),I92)","v":0},{"$f":"IF(Riskhistorik!O$2<>\"Datum\",IF(Riskhistorik!P94=\"Låg\",1,IF(Riskhistorik!P94=\"Medel\",2,IF(Riskhistorik!P94=\"Hög\",3,0))),J92)","v":0},{"$f":"IF(Riskhistorik!Q$2<>\"Datum\",IF(Riskhistorik!Q94=\"Låg\",1,IF(Riskhistorik!Q94=\"Medel\",2,IF(Riskhistorik!Q94=\"Hög\",3,0))),K92)","v":0},{"$f":"IF(Riskhistorik!Q$2<>\"Datum\",IF(Riskhistorik!R94=\"Låg\",1,IF(Riskhistorik!R94=\"Medel\",2,IF(Riskhistorik!R94=\"Hög\",3,0))),L92)","v":0},{"$f":"IF(Riskhistorik!S$2<>\"Datum\",IF(Riskhistorik!S94=\"Låg\",1,IF(Riskhistorik!S94=\"Medel\",2,IF(Riskhistorik!S94=\"Hög\",3,0))),M92)","v":0},{"$f":"IF(Riskhistorik!S$2<>\"Datum\",IF(Riskhistorik!T94=\"Låg\",1,IF(Riskhistorik!T94=\"Medel\",2,IF(Riskhistorik!T94=\"Hög\",3,0))),N92)","v":0},{"$f":"IF(Riskhistorik!U$2<>\"Datum\",IF(Riskhistorik!U94=\"Låg\",1,IF(Riskhistorik!U94=\"Medel\",2,IF(Riskhistorik!U94=\"Hög\",3,0))),O92)","v":0},{"$f":"IF(Riskhistorik!U$2<>\"Datum\",IF(Riskhistorik!V94=\"Låg\",1,IF(Riskhistorik!V94=\"Medel\",2,IF(Riskhistorik!V94=\"Hög\",3,0))),P92)","v":0},{"$f":"IF(Riskhistorik!W$2<>\"Datum\",IF(Riskhistorik!W94=\"Låg\",1,IF(Riskhistorik!W94=\"Medel\",2,IF(Riskhistorik!W94=\"Hög\",3,0))),Q92)","v":0},{"$f":"IF(Riskhistorik!W$2<>\"Datum\",IF(Riskhistorik!X94=\"Låg\",1,IF(Riskhistorik!X94=\"Medel\",2,IF(Riskhistorik!X94=\"Hög\",3,0))),R92)","v":0},{"$f":"IF(Riskhistorik!Y$2<>\"Datum\",IF(Riskhistorik!Y94=\"Låg\",1,IF(Riskhistorik!Y94=\"Medel\",2,IF(Riskhistorik!Y94=\"Hög\",3,0))),S92)","v":0},{"$f":"IF(Riskhistorik!Y$2<>\"Datum\",IF(Riskhistorik!Z94=\"Låg\",1,IF(Riskhistorik!Z94=\"Medel\",2,IF(Riskhistorik!Z94=\"Hög\",3,0))),T92)","v":0},{"$f":"IF(Riskhistorik!AA$2<>\"Datum\",IF(Riskhistorik!AA94=\"Låg\",1,IF(Riskhistorik!AA94=\"Medel\",2,IF(Riskhistorik!AA94=\"Hög\",3,0))),U92)","v":0},{"$f":"IF(Riskhistorik!AA$2<>\"Datum\",IF(Riskhistorik!AB94=\"Låg\",1,IF(Riskhistorik!AB94=\"Medel\",2,IF(Riskhistorik!AB94=\"Hög\",3,0))),V92)","v":0},{"$f":"IF(Riskhistorik!AC$2<>\"Datum\",IF(Riskhistorik!AC94=\"Låg\",1,IF(Riskhistorik!AC94=\"Medel\",2,IF(Riskhistorik!AC94=\"Hög\",3,0))),W92)","v":0},{"$f":"IF(Riskhistorik!AC$2<>\"Datum\",IF(Riskhistorik!AD94=\"Låg\",1,IF(Riskhistorik!AD94=\"Medel\",2,IF(Riskhistorik!AD94=\"Hög\",3,0))),X92)","v":0},{"$f":"IF(Riskhistorik!AE$2<>\"Datum\",IF(Riskhistorik!AE94=\"Låg\",1,IF(Riskhistorik!AE94=\"Medel\",2,IF(Riskhistorik!AE94=\"Hög\",3,0))),Y92)","v":0},{"$f":"IF(Riskhistorik!AE$2<>\"Datum\",IF(Riskhistorik!AF94=\"Låg\",1,IF(Riskhistorik!AF94=\"Medel\",2,IF(Riskhistorik!AF94=\"Hög\",3,0))),Z92)","v":0},{"$f":"IF(Riskhistorik!AG$2<>\"Datum\",IF(Riskhistorik!AG94=\"Låg\",1,IF(Riskhistorik!AG94=\"Medel\",2,IF(Riskhistorik!AG94=\"Hög\",3,0))),AA92)","v":0},{"$f":"IF(Riskhistorik!AG$2<>\"Datum\",IF(Riskhistorik!AH94=\"Låg\",1,IF(Riskhistorik!AH94=\"Medel\",2,IF(Riskhistorik!AH94=\"Hög\",3,0))),AB92)","v":0},{"$f":"IF(Riskhistorik!AI$2<>\"Datum\",IF(Riskhistorik!AI94=\"Låg\",1,IF(Riskhistorik!AI94=\"Medel\",2,IF(Riskhistorik!AI94=\"Hög\",3,0))),AC92)","v":0},{"$f":"IF(Riskhistorik!AI$2<>\"Datum\",IF(Riskhistorik!AJ94=\"Låg\",1,IF(Riskhistorik!AJ94=\"Medel\",2,IF(Riskhistorik!AJ94=\"Hög\",3,0))),AD92)","v":0},{"$f":"IF(Riskhistorik!AK$2<>\"Datum\",IF(Riskhistorik!AK94=\"Låg\",1,IF(Riskhistorik!AK94=\"Medel\",2,IF(Riskhistorik!AK94=\"Hög\",3,0))),AE92)","v":0},{"$f":"IF(Riskhistorik!AK$2<>\"Datum\",IF(Riskhistorik!AL94=\"Låg\",1,IF(Riskhistorik!AL94=\"Medel\",2,IF(Riskhistorik!AL94=\"Hög\",3,0))),AF92)","v":0},{"$f":"IF(Riskhistorik!AM$2<>\"Datum\",IF(Riskhistorik!AM94=\"Låg\",1,IF(Riskhistorik!AM94=\"Medel\",2,IF(Riskhistorik!AM94=\"Hög\",3,0))),AG92)","v":0},{"$f":"IF(Riskhistorik!AM$2<>\"Datum\",IF(Riskhistorik!AN94=\"Låg\",1,IF(Riskhistorik!AN94=\"Medel\",2,IF(Riskhistorik!AN94=\"Hög\",3,0))),AH92)","v":0},{"$f":"IF(Riskhistorik!AO$2<>\"Datum\",IF(Riskhistorik!AO94=\"Låg\",1,IF(Riskhistorik!AO94=\"Medel\",2,IF(Riskhistorik!AO94=\"Hög\",3,0))),AI92)","v":0},{"$f":"IF(Riskhistorik!AO$2<>\"Datum\",IF(Riskhistorik!AP94=\"Låg\",1,IF(Riskhistorik!AP94=\"Medel\",2,IF(Riskhistorik!AP94=\"Hög\",3,0))),AJ92)","v":0},{"$f":"IF(Riskhistorik!AQ$2<>\"Datum\",IF(Riskhistorik!AQ94=\"Låg\",1,IF(Riskhistorik!AQ94=\"Medel\",2,IF(Riskhistorik!AQ94=\"Hög\",3,0))),AK92)","v":0},{"$f":"IF(Riskhistorik!AQ$2<>\"Datum\",IF(Riskhistorik!AR94=\"Låg\",1,IF(Riskhistorik!AR94=\"Medel\",2,IF(Riskhistorik!AR94=\"Hög\",3,0))),AL92)","v":0},0,0,0,0,0,0,0,0,0,0,0,0,0,0,0,0,0,0,0,0]
[{"$f":"IF(Riskhistorik!E95<>\"\",IF(Riskhistorik!E95=\"Låg\",1,IF(Riskhistorik!E95=\"Medel\",2,3)),0)","v":0},{"$f":"IF(Riskhistorik!F95<>\"\",IF(Riskhistorik!F95=\"Låg\",1,IF(Riskhistorik!F95=\"Medel\",2,3)),0)","v":0},{"$f":"IF(Riskhistorik!G$2<>\"Datum\",IF(Riskhistorik!G95=\"Låg\",1,IF(Riskhistorik!G95=\"Medel\",2,IF(Riskhistorik!G95=\"Hög\",3,0))),A93)","v":0},{"$f":"IF(Riskhistorik!G$2<>\"Datum\",IF(Riskhistorik!H95=\"Låg\",1,IF(Riskhistorik!H95=\"Medel\",2,IF(Riskhistorik!H95=\"Hög\",3,0))),B93)","v":0},{"$f":"IF(Riskhistorik!I$2<>\"Datum\",IF(Riskhistorik!I95=\"Låg\",1,IF(Riskhistorik!I95=\"Medel\",2,IF(Riskhistorik!I95=\"Hög\",3,0))),C93)","v":0},{"$f":"IF(Riskhistorik!I$2<>\"Datum\",IF(Riskhistorik!J95=\"Låg\",1,IF(Riskhistorik!J95=\"Medel\",2,IF(Riskhistorik!J95=\"Hög\",3,0))),D93)","v":0},{"$f":"IF(Riskhistorik!K$2<>\"Datum\",IF(Riskhistorik!K95=\"Låg\",1,IF(Riskhistorik!K95=\"Medel\",2,IF(Riskhistorik!K95=\"Hög\",3,0))),E93)","v":0},{"$f":"IF(Riskhistorik!K$2<>\"Datum\",IF(Riskhistorik!L95=\"Låg\",1,IF(Riskhistorik!L95=\"Medel\",2,IF(Riskhistorik!L95=\"Hög\",3,0))),F93)","v":0},{"$f":"IF(Riskhistorik!M$2<>\"Datum\",IF(Riskhistorik!M95=\"Låg\",1,IF(Riskhistorik!M95=\"Medel\",2,IF(Riskhistorik!M95=\"Hög\",3,0))),G93)","v":0},{"$f":"IF(Riskhistorik!M$2<>\"Datum\",IF(Riskhistorik!N95=\"Låg\",1,IF(Riskhistorik!N95=\"Medel\",2,IF(Riskhistorik!N95=\"Hög\",3,0))),H93)","v":0},{"$f":"IF(Riskhistorik!O$2<>\"Datum\",IF(Riskhistorik!O95=\"Låg\",1,IF(Riskhistorik!O95=\"Medel\",2,IF(Riskhistorik!O95=\"Hög\",3,0))),I93)","v":0},{"$f":"IF(Riskhistorik!O$2<>\"Datum\",IF(Riskhistorik!P95=\"Låg\",1,IF(Riskhistorik!P95=\"Medel\",2,IF(Riskhistorik!P95=\"Hög\",3,0))),J93)","v":0},{"$f":"IF(Riskhistorik!Q$2<>\"Datum\",IF(Riskhistorik!Q95=\"Låg\",1,IF(Riskhistorik!Q95=\"Medel\",2,IF(Riskhistorik!Q95=\"Hög\",3,0))),K93)","v":0},{"$f":"IF(Riskhistorik!Q$2<>\"Datum\",IF(Riskhistorik!R95=\"Låg\",1,IF(Riskhistorik!R95=\"Medel\",2,IF(Riskhistorik!R95=\"Hög\",3,0))),L93)","v":0},{"$f":"IF(Riskhistorik!S$2<>\"Datum\",IF(Riskhistorik!S95=\"Låg\",1,IF(Riskhistorik!S95=\"Medel\",2,IF(Riskhistorik!S95=\"Hög\",3,0))),M93)","v":0},{"$f":"IF(Riskhistorik!S$2<>\"Datum\",IF(Riskhistorik!T95=\"Låg\",1,IF(Riskhistorik!T95=\"Medel\",2,IF(Riskhistorik!T95=\"Hög\",3,0))),N93)","v":0},{"$f":"IF(Riskhistorik!U$2<>\"Datum\",IF(Riskhistorik!U95=\"Låg\",1,IF(Riskhistorik!U95=\"Medel\",2,IF(Riskhistorik!U95=\"Hög\",3,0))),O93)","v":0},{"$f":"IF(Riskhistorik!U$2<>\"Datum\",IF(Riskhistorik!V95=\"Låg\",1,IF(Riskhistorik!V95=\"Medel\",2,IF(Riskhistorik!V95=\"Hög\",3,0))),P93)","v":0},{"$f":"IF(Riskhistorik!W$2<>\"Datum\",IF(Riskhistorik!W95=\"Låg\",1,IF(Riskhistorik!W95=\"Medel\",2,IF(Riskhistorik!W95=\"Hög\",3,0))),Q93)","v":0},{"$f":"IF(Riskhistorik!W$2<>\"Datum\",IF(Riskhistorik!X95=\"Låg\",1,IF(Riskhistorik!X95=\"Medel\",2,IF(Riskhistorik!X95=\"Hög\",3,0))),R93)","v":0},{"$f":"IF(Riskhistorik!Y$2<>\"Datum\",IF(Riskhistorik!Y95=\"Låg\",1,IF(Riskhistorik!Y95=\"Medel\",2,IF(Riskhistorik!Y95=\"Hög\",3,0))),S93)","v":0},{"$f":"IF(Riskhistorik!Y$2<>\"Datum\",IF(Riskhistorik!Z95=\"Låg\",1,IF(Riskhistorik!Z95=\"Medel\",2,IF(Riskhistorik!Z95=\"Hög\",3,0))),T93)","v":0},{"$f":"IF(Riskhistorik!AA$2<>\"Datum\",IF(Riskhistorik!AA95=\"Låg\",1,IF(Riskhistorik!AA95=\"Medel\",2,IF(Riskhistorik!AA95=\"Hög\",3,0))),U93)","v":0},{"$f":"IF(Riskhistorik!AA$2<>\"Datum\",IF(Riskhistorik!AB95=\"Låg\",1,IF(Riskhistorik!AB95=\"Medel\",2,IF(Riskhistorik!AB95=\"Hög\",3,0))),V93)","v":0},{"$f":"IF(Riskhistorik!AC$2<>\"Datum\",IF(Riskhistorik!AC95=\"Låg\",1,IF(Riskhistorik!AC95=\"Medel\",2,IF(Riskhistorik!AC95=\"Hög\",3,0))),W93)","v":0},{"$f":"IF(Riskhistorik!AC$2<>\"Datum\",IF(Riskhistorik!AD95=\"Låg\",1,IF(Riskhistorik!AD95=\"Medel\",2,IF(Riskhistorik!AD95=\"Hög\",3,0))),X93)","v":0},{"$f":"IF(Riskhistorik!AE$2<>\"Datum\",IF(Riskhistorik!AE95=\"Låg\",1,IF(Riskhistorik!AE95=\"Medel\",2,IF(Riskhistorik!AE95=\"Hög\",3,0))),Y93)","v":0},{"$f":"IF(Riskhistorik!AE$2<>\"Datum\",IF(Riskhistorik!AF95=\"Låg\",1,IF(Riskhistorik!AF95=\"Medel\",2,IF(Riskhistorik!AF95=\"Hög\",3,0))),Z93)","v":0},{"$f":"IF(Riskhistorik!AG$2<>\"Datum\",IF(Riskhistorik!AG95=\"Låg\",1,IF(Riskhistorik!AG95=\"Medel\",2,IF(Riskhistorik!AG95=\"Hög\",3,0))),AA93)","v":0},{"$f":"IF(Riskhistorik!AG$2<>\"Datum\",IF(Riskhistorik!AH95=\"Låg\",1,IF(Riskhistorik!AH95=\"Medel\",2,IF(Riskhistorik!AH95=\"Hög\",3,0))),AB93)","v":0},{"$f":"IF(Riskhistorik!AI$2<>\"Datum\",IF(Riskhistorik!AI95=\"Låg\",1,IF(Riskhistorik!AI95=\"Medel\",2,IF(Riskhistorik!AI95=\"Hög\",3,0))),AC93)","v":0},{"$f":"IF(Riskhistorik!AI$2<>\"Datum\",IF(Riskhistorik!AJ95=\"Låg\",1,IF(Riskhistorik!AJ95=\"Medel\",2,IF(Riskhistorik!AJ95=\"Hög\",3,0))),AD93)","v":0},{"$f":"IF(Riskhistorik!AK$2<>\"Datum\",IF(Riskhistorik!AK95=\"Låg\",1,IF(Riskhistorik!AK95=\"Medel\",2,IF(Riskhistorik!AK95=\"Hög\",3,0))),AE93)","v":0},{"$f":"IF(Riskhistorik!AK$2<>\"Datum\",IF(Riskhistorik!AL95=\"Låg\",1,IF(Riskhistorik!AL95=\"Medel\",2,IF(Riskhistorik!AL95=\"Hög\",3,0))),AF93)","v":0},{"$f":"IF(Riskhistorik!AM$2<>\"Datum\",IF(Riskhistorik!AM95=\"Låg\",1,IF(Riskhistorik!AM95=\"Medel\",2,IF(Riskhistorik!AM95=\"Hög\",3,0))),AG93)","v":0},{"$f":"IF(Riskhistorik!AM$2<>\"Datum\",IF(Riskhistorik!AN95=\"Låg\",1,IF(Riskhistorik!AN95=\"Medel\",2,IF(Riskhistorik!AN95=\"Hög\",3,0))),AH93)","v":0},{"$f":"IF(Riskhistorik!AO$2<>\"Datum\",IF(Riskhistorik!AO95=\"Låg\",1,IF(Riskhistorik!AO95=\"Medel\",2,IF(Riskhistorik!AO95=\"Hög\",3,0))),AI93)","v":0},{"$f":"IF(Riskhistorik!AO$2<>\"Datum\",IF(Riskhistorik!AP95=\"Låg\",1,IF(Riskhistorik!AP95=\"Medel\",2,IF(Riskhistorik!AP95=\"Hög\",3,0))),AJ93)","v":0},{"$f":"IF(Riskhistorik!AQ$2<>\"Datum\",IF(Riskhistorik!AQ95=\"Låg\",1,IF(Riskhistorik!AQ95=\"Medel\",2,IF(Riskhistorik!AQ95=\"Hög\",3,0))),AK93)","v":0},{"$f":"IF(Riskhistorik!AQ$2<>\"Datum\",IF(Riskhistorik!AR95=\"Låg\",1,IF(Riskhistorik!AR95=\"Medel\",2,IF(Riskhistorik!AR95=\"Hög\",3,0))),AL93)","v":0},0,0,0,0,0,0,0,0,0,0,0,0,0,0,0,0,0,0,0,0]
[{"$f":"IF(Riskhistorik!E96<>\"\",IF(Riskhistorik!E96=\"Låg\",1,IF(Riskhistorik!E96=\"Medel\",2,3)),0)","v":0},{"$f":"IF(Riskhistorik!F96<>\"\",IF(Riskhistorik!F96=\"Låg\",1,IF(Riskhistorik!F96=\"Medel\",2,3)),0)","v":0},{"$f":"IF(Riskhistorik!G$2<>\"Datum\",IF(Riskhistorik!G96=\"Låg\",1,IF(Riskhistorik!G96=\"Medel\",2,IF(Riskhistorik!G96=\"Hög\",3,0))),A94)","v":0},{"$f":"IF(Riskhistorik!G$2<>\"Datum\",IF(Riskhistorik!H96=\"Låg\",1,IF(Riskhistorik!H96=\"Medel\",2,IF(Riskhistorik!H96=\"Hög\",3,0))),B94)","v":0},{"$f":"IF(Riskhistorik!I$2<>\"Datum\",IF(Riskhistorik!I96=\"Låg\",1,IF(Riskhistorik!I96=\"Medel\",2,IF(Riskhistorik!I96=\"Hög\",3,0))),C94)","v":0},{"$f":"IF(Riskhistorik!I$2<>\"Datum\",IF(Riskhistorik!J96=\"Låg\",1,IF(Riskhistorik!J96=\"Medel\",2,IF(Riskhistorik!J96=\"Hög\",3,0))),D94)","v":0},{"$f":"IF(Riskhistorik!K$2<>\"Datum\",IF(Riskhistorik!K96=\"Låg\",1,IF(Riskhistorik!K96=\"Medel\",2,IF(Riskhistorik!K96=\"Hög\",3,0))),E94)","v":0},{"$f":"IF(Riskhistorik!K$2<>\"Datum\",IF(Riskhistorik!L96=\"Låg\",1,IF(Riskhistorik!L96=\"Medel\",2,IF(Riskhistorik!L96=\"Hög\",3,0))),F94)","v":0},{"$f":"IF(Riskhistorik!M$2<>\"Datum\",IF(Riskhistorik!M96=\"Låg\",1,IF(Riskhistorik!M96=\"Medel\",2,IF(Riskhistorik!M96=\"Hög\",3,0))),G94)","v":0},{"$f":"IF(Riskhistorik!M$2<>\"Datum\",IF(Riskhistorik!N96=\"Låg\",1,IF(Riskhistorik!N96=\"Medel\",2,IF(Riskhistorik!N96=\"Hög\",3,0))),H94)","v":0},{"$f":"IF(Riskhistorik!O$2<>\"Datum\",IF(Riskhistorik!O96=\"Låg\",1,IF(Riskhistorik!O96=\"Medel\",2,IF(Riskhistorik!O96=\"Hög\",3,0))),I94)","v":0},{"$f":"IF(Riskhistorik!O$2<>\"Datum\",IF(Riskhistorik!P96=\"Låg\",1,IF(Riskhistorik!P96=\"Medel\",2,IF(Riskhistorik!P96=\"Hög\",3,0))),J94)","v":0},{"$f":"IF(Riskhistorik!Q$2<>\"Datum\",IF(Riskhistorik!Q96=\"Låg\",1,IF(Riskhistorik!Q96=\"Medel\",2,IF(Riskhistorik!Q96=\"Hög\",3,0))),K94)","v":0},{"$f":"IF(Riskhistorik!Q$2<>\"Datum\",IF(Riskhistorik!R96=\"Låg\",1,IF(Riskhistorik!R96=\"Medel\",2,IF(Riskhistorik!R96=\"Hög\",3,0))),L94)","v":0},{"$f":"IF(Riskhistorik!S$2<>\"Datum\",IF(Riskhistorik!S96=\"Låg\",1,IF(Riskhistorik!S96=\"Medel\",2,IF(Riskhistorik!S96=\"Hög\",3,0))),M94)","v":0},{"$f":"IF(Riskhistorik!S$2<>\"Datum\",IF(Riskhistorik!T96=\"Låg\",1,IF(Riskhistorik!T96=\"Medel\",2,IF(Riskhistorik!T96=\"Hög\",3,0))),N94)","v":0},{"$f":"IF(Riskhistorik!U$2<>\"Datum\",IF(Riskhistorik!U96=\"Låg\",1,IF(Riskhistorik!U96=\"Medel\",2,IF(Riskhistorik!U96=\"Hög\",3,0))),O94)","v":0},{"$f":"IF(Riskhistorik!U$2<>\"Datum\",IF(Riskhistorik!V96=\"Låg\",1,IF(Riskhistorik!V96=\"Medel\",2,IF(Riskhistorik!V96=\"Hög\",3,0))),P94)","v":0},{"$f":"IF(Riskhistorik!W$2<>\"Datum\",IF(Riskhistorik!W96=\"Låg\",1,IF(Riskhistorik!W96=\"Medel\",2,IF(Riskhistorik!W96=\"Hög\",3,0))),Q94)","v":0},{"$f":"IF(Riskhistorik!W$2<>\"Datum\",IF(Riskhistorik!X96=\"Låg\",1,IF(Riskhistorik!X96=\"Medel\",2,IF(Riskhistorik!X96=\"Hög\",3,0))),R94)","v":0},{"$f":"IF(Riskhistorik!Y$2<>\"Datum\",IF(Riskhistorik!Y96=\"Låg\",1,IF(Riskhistorik!Y96=\"Medel\",2,IF(Riskhistorik!Y96=\"Hög\",3,0))),S94)","v":0},{"$f":"IF(Riskhistorik!Y$2<>\"Datum\",IF(Riskhistorik!Z96=\"Låg\",1,IF(Riskhistorik!Z96=\"Medel\",2,IF(Riskhistorik!Z96=\"Hög\",3,0))),T94)","v":0},{"$f":"IF(Riskhistorik!AA$2<>\"Datum\",IF(Riskhistorik!AA96=\"Låg\",1,IF(Riskhistorik!AA96=\"Medel\",2,IF(Riskhistorik!AA96=\"Hög\",3,0))),U94)","v":0},{"$f":"IF(Riskhistorik!AA$2<>\"Datum\",IF(Riskhistorik!AB96=\"Låg\",1,IF(Riskhistorik!AB96=\"Medel\",2,IF(Riskhistorik!AB96=\"Hög\",3,0))),V94)","v":0},{"$f":"IF(Riskhistorik!AC$2<>\"Datum\",IF(Riskhistorik!AC96=\"Låg\",1,IF(Riskhistorik!AC96=\"Medel\",2,IF(Riskhistorik!AC96=\"Hög\",3,0))),W94)","v":0},{"$f":"IF(Riskhistorik!AC$2<>\"Datum\",IF(Riskhistorik!AD96=\"Låg\",1,IF(Riskhistorik!AD96=\"Medel\",2,IF(Riskhistorik!AD96=\"Hög\",3,0))),X94)","v":0},{"$f":"IF(Riskhistorik!AE$2<>\"Datum\",IF(Riskhistorik!AE96=\"Låg\",1,IF(Riskhistorik!AE96=\"Medel\",2,IF(Riskhistorik!AE96=\"Hög\",3,0))),Y94)","v":0},{"$f":"IF(Riskhistorik!AE$2<>\"Datum\",IF(Riskhistorik!AF96=\"Låg\",1,IF(Riskhistorik!AF96=\"Medel\",2,IF(Riskhistorik!AF96=\"Hög\",3,0))),Z94)","v":0},{"$f":"IF(Riskhistorik!AG$2<>\"Datum\",IF(Riskhistorik!AG96=\"Låg\",1,IF(Riskhistorik!AG96=\"Medel\",2,IF(Riskhistorik!AG96=\"Hög\",3,0))),AA94)","v":0},{"$f":"IF(Riskhistorik!AG$2<>\"Datum\",IF(Riskhistorik!AH96=\"Låg\",1,IF(Riskhistorik!AH96=\"Medel\",2,IF(Riskhistorik!AH96=\"Hög\",3,0))),AB94)","v":0},{"$f":"IF(Riskhistorik!AI$2<>\"Datum\",IF(Riskhistorik!AI96=\"Låg\",1,IF(Riskhistorik!AI96=\"Medel\",2,IF(Riskhistorik!AI96=\"Hög\",3,0))),AC94)","v":0},{"$f":"IF(Riskhistorik!AI$2<>\"Datum\",IF(Riskhistorik!AJ96=\"Låg\",1,IF(Riskhistorik!AJ96=\"Medel\",2,IF(Riskhistorik!AJ96=\"Hög\",3,0))),AD94)","v":0},{"$f":"IF(Riskhistorik!AK$2<>\"Datum\",IF(Riskhistorik!AK96=\"Låg\",1,IF(Riskhistorik!AK96=\"Medel\",2,IF(Riskhistorik!AK96=\"Hög\",3,0))),AE94)","v":0},{"$f":"IF(Riskhistorik!AK$2<>\"Datum\",IF(Riskhistorik!AL96=\"Låg\",1,IF(Riskhistorik!AL96=\"Medel\",2,IF(Riskhistorik!AL96=\"Hög\",3,0))),AF94)","v":0},{"$f":"IF(Riskhistorik!AM$2<>\"Datum\",IF(Riskhistorik!AM96=\"Låg\",1,IF(Riskhistorik!AM96=\"Medel\",2,IF(Riskhistorik!AM96=\"Hög\",3,0))),AG94)","v":0},{"$f":"IF(Riskhistorik!AM$2<>\"Datum\",IF(Riskhistorik!AN96=\"Låg\",1,IF(Riskhistorik!AN96=\"Medel\",2,IF(Riskhistorik!AN96=\"Hög\",3,0))),AH94)","v":0},{"$f":"IF(Riskhistorik!AO$2<>\"Datum\",IF(Riskhistorik!AO96=\"Låg\",1,IF(Riskhistorik!AO96=\"Medel\",2,IF(Riskhistorik!AO96=\"Hög\",3,0))),AI94)","v":0},{"$f":"IF(Riskhistorik!AO$2<>\"Datum\",IF(Riskhistorik!AP96=\"Låg\",1,IF(Riskhistorik!AP96=\"Medel\",2,IF(Riskhistorik!AP96=\"Hög\",3,0))),AJ94)","v":0},{"$f":"IF(Riskhistorik!AQ$2<>\"Datum\",IF(Riskhistorik!AQ96=\"Låg\",1,IF(Riskhistorik!AQ96=\"Medel\",2,IF(Riskhistorik!AQ96=\"Hög\",3,0))),AK94)","v":0},{"$f":"IF(Riskhistorik!AQ$2<>\"Datum\",IF(Riskhistorik!AR96=\"Låg\",1,IF(Riskhistorik!AR96=\"Medel\",2,IF(Riskhistorik!AR96=\"Hög\",3,0))),AL94)","v":0},{"$f":"A94*B94","v":0},{"$f":"C94*D94","v":0},{"$f":"E94*F94","v":0},{"$f":"G94*H94","v":0},{"$f":"I94*J94","v":0},{"$f":"K94*L94","v":0},{"$f":"M94*N94","v":0},{"$f":"O94*P94","v":0},{"$f":"Q94*R94","v":0},{"$f":"S94*T94","v":0},{"$f":"U94*V94","v":0},{"$f":"W94*X94","v":0},{"$f":"Y94*Z94","v":0},{"$f":"AA94*AB94","v":0},{"$f":"AC94*AD94","v":0},{"$f":"AE94*AF94","v":0},{"$f":"AG94*AH94","v":0},{"$f":"AI94*AJ94","v":0},{"$f":"AK94*AL94","v":0},{"$f":"AM94*AN94","v":0}]
[{"$f":"IF(Riskhistorik!E97<>\"\",IF(Riskhistorik!E97=\"Låg\",1,IF(Riskhistorik!E97=\"Medel\",2,3)),0)","v":0},{"$f":"IF(Riskhistorik!F97<>\"\",IF(Riskhistorik!F97=\"Låg\",1,IF(Riskhistorik!F97=\"Medel\",2,3)),0)","v":0},{"$f":"IF(Riskhistorik!G$2<>\"Datum\",IF(Riskhistorik!G97=\"Låg\",1,IF(Riskhistorik!G97=\"Medel\",2,IF(Riskhistorik!G97=\"Hög\",3,0))),A95)","v":0},{"$f":"IF(Riskhistorik!G$2<>\"Datum\",IF(Riskhistorik!H97=\"Låg\",1,IF(Riskhistorik!H97=\"Medel\",2,IF(Riskhistorik!H97=\"Hög\",3,0))),B95)","v":0},{"$f":"IF(Riskhistorik!I$2<>\"Datum\",IF(Riskhistorik!I97=\"Låg\",1,IF(Riskhistorik!I97=\"Medel\",2,IF(Riskhistorik!I97=\"Hög\",3,0))),C95)","v":0},{"$f":"IF(Riskhistorik!I$2<>\"Datum\",IF(Riskhistorik!J97=\"Låg\",1,IF(Riskhistorik!J97=\"Medel\",2,IF(Riskhistorik!J97=\"Hög\",3,0))),D95)","v":0},{"$f":"IF(Riskhistorik!K$2<>\"Datum\",IF(Riskhistorik!K97=\"Låg\",1,IF(Riskhistorik!K97=\"Medel\",2,IF(Riskhistorik!K97=\"Hög\",3,0))),E95)","v":0},{"$f":"IF(Riskhistorik!K$2<>\"Datum\",IF(Riskhistorik!L97=\"Låg\",1,IF(Riskhistorik!L97=\"Medel\",2,IF(Riskhistorik!L97=\"Hög\",3,0))),F95)","v":0},{"$f":"IF(Riskhistorik!M$2<>\"Datum\",IF(Riskhistorik!M97=\"Låg\",1,IF(Riskhistorik!M97=\"Medel\",2,IF(Riskhistorik!M97=\"Hög\",3,0))),G95)","v":0},{"$f":"IF(Riskhistorik!M$2<>\"Datum\",IF(Riskhistorik!N97=\"Låg\",1,IF(Riskhistorik!N97=\"Medel\",2,IF(Riskhistorik!N97=\"Hög\",3,0))),H95)","v":0},{"$f":"IF(Riskhistorik!O$2<>\"Datum\",IF(Riskhistorik!O97=\"Låg\",1,IF(Riskhistorik!O97=\"Medel\",2,IF(Riskhistorik!O97=\"Hög\",3,0))),I95)","v":0},{"$f":"IF(Riskhistorik!O$2<>\"Datum\",IF(Riskhistorik!P97=\"Låg\",1,IF(Riskhistorik!P97=\"Medel\",2,IF(Riskhistorik!P97=\"Hög\",3,0))),J95)","v":0},{"$f":"IF(Riskhistorik!Q$2<>\"Datum\",IF(Riskhistorik!Q97=\"Låg\",1,IF(Riskhistorik!Q97=\"Medel\",2,IF(Riskhistorik!Q97=\"Hög\",3,0))),K95)","v":0},{"$f":"IF(Riskhistorik!Q$2<>\"Datum\",IF(Riskhistorik!R97=\"Låg\",1,IF(Riskhistorik!R97=\"Medel\",2,IF(Riskhistorik!R97=\"Hög\",3,0))),L95)","v":0},{"$f":"IF(Riskhistorik!S$2<>\"Datum\",IF(Riskhistorik!S97=\"Låg\",1,IF(Riskhistorik!S97=\"Medel\",2,IF(Riskhistorik!S97=\"Hög\",3,0))),M95)","v":0},{"$f":"IF(Riskhistorik!S$2<>\"Datum\",IF(Riskhistorik!T97=\"Låg\",1,IF(Riskhistorik!T97=\"Medel\",2,IF(Riskhistorik!T97=\"Hög\",3,0))),N95)","v":0},{"$f":"IF(Riskhistorik!U$2<>\"Datum\",IF(Riskhistorik!U97=\"Låg\",1,IF(Riskhistorik!U97=\"Medel\",2,IF(Riskhistorik!U97=\"Hög\",3,0))),O95)","v":0},{"$f":"IF(Riskhistorik!U$2<>\"Datum\",IF(Riskhistorik!V97=\"Låg\",1,IF(Riskhistorik!V97=\"Medel\",2,IF(Riskhistorik!V97=\"Hög\",3,0))),P95)","v":0},{"$f":"IF(Riskhistorik!W$2<>\"Datum\",IF(Riskhistorik!W97=\"Låg\",1,IF(Riskhistorik!W97=\"Medel\",2,IF(Riskhistorik!W97=\"Hög\",3,0))),Q95)","v":0},{"$f":"IF(Riskhistorik!W$2<>\"Datum\",IF(Riskhistorik!X97=\"Låg\",1,IF(Riskhistorik!X97=\"Medel\",2,IF(Riskhistorik!X97=\"Hög\",3,0))),R95)","v":0},{"$f":"IF(Riskhistorik!Y$2<>\"Datum\",IF(Riskhistorik!Y97=\"Låg\",1,IF(Riskhistorik!Y97=\"Medel\",2,IF(Riskhistorik!Y97=\"Hög\",3,0))),S95)","v":0},{"$f":"IF(Riskhistorik!Y$2<>\"Datum\",IF(Riskhistorik!Z97=\"Låg\",1,IF(Riskhistorik!Z97=\"Medel\",2,IF(Riskhistorik!Z97=\"Hög\",3,0))),T95)","v":0},{"$f":"IF(Riskhistorik!AA$2<>\"Datum\",IF(Riskhistorik!AA97=\"Låg\",1,IF(Riskhistorik!AA97=\"Medel\",2,IF(Riskhistorik!AA97=\"Hög\",3,0))),U95)","v":0},{"$f":"IF(Riskhistorik!AA$2<>\"Datum\",IF(Riskhistorik!AB97=\"Låg\",1,IF(Riskhistorik!AB97=\"Medel\",2,IF(Riskhistorik!AB97=\"Hög\",3,0))),V95)","v":0},{"$f":"IF(Riskhistorik!AC$2<>\"Datum\",IF(Riskhistorik!AC97=\"Låg\",1,IF(Riskhistorik!AC97=\"Medel\",2,IF(Riskhistorik!AC97=\"Hög\",3,0))),W95)","v":0},{"$f":"IF(Riskhistorik!AC$2<>\"Datum\",IF(Riskhistorik!AD97=\"Låg\",1,IF(Riskhistorik!AD97=\"Medel\",2,IF(Riskhistorik!AD97=\"Hög\",3,0))),X95)","v":0},{"$f":"IF(Riskhistorik!AE$2<>\"Datum\",IF(Riskhistorik!AE97=\"Låg\",1,IF(Riskhistorik!AE97=\"Medel\",2,IF(Riskhistorik!AE97=\"Hög\",3,0))),Y95)","v":0},{"$f":"IF(Riskhistorik!AE$2<>\"Datum\",IF(Riskhistorik!AF97=\"Låg\",1,IF(Riskhistorik!AF97=\"Medel\",2,IF(Riskhistorik!AF97=\"Hög\",3,0))),Z95)","v":0},{"$f":"IF(Riskhistorik!AG$2<>\"Datum\",IF(Riskhistorik!AG97=\"Låg\",1,IF(Riskhistorik!AG97=\"Medel\",2,IF(Riskhistorik!AG97=\"Hög\",3,0))),AA95)","v":0},{"$f":"IF(Riskhistorik!AG$2<>\"Datum\",IF(Riskhistorik!AH97=\"Låg\",1,IF(Riskhistorik!AH97=\"Medel\",2,IF(Riskhistorik!AH97=\"Hög\",3,0))),AB95)","v":0},{"$f":"IF(Riskhistorik!AI$2<>\"Datum\",IF(Riskhistorik!AI97=\"Låg\",1,IF(Riskhistorik!AI97=\"Medel\",2,IF(Riskhistorik!AI97=\"Hög\",3,0))),AC95)","v":0},{"$f":"IF(Riskhistorik!AI$2<>\"Datum\",IF(Riskhistorik!AJ97=\"Låg\",1,IF(Riskhistorik!AJ97=\"Medel\",2,IF(Riskhistorik!AJ97=\"Hög\",3,0))),AD95)","v":0},{"$f":"IF(Riskhistorik!AK$2<>\"Datum\",IF(Riskhistorik!AK97=\"Låg\",1,IF(Riskhistorik!AK97=\"Medel\",2,IF(Riskhistorik!AK97=\"Hög\",3,0))),AE95)","v":0},{"$f":"IF(Riskhistorik!AK$2<>\"Datum\",IF(Riskhistorik!AL97=\"Låg\",1,IF(Riskhistorik!AL97=\"Medel\",2,IF(Riskhistorik!AL97=\"Hög\",3,0))),AF95)","v":0},{"$f":"IF(Riskhistorik!AM$2<>\"Datum\",IF(Riskhistorik!AM97=\"Låg\",1,IF(Riskhistorik!AM97=\"Medel\",2,IF(Riskhistorik!AM97=\"Hög\",3,0))),AG95)","v":0},{"$f":"IF(Riskhistorik!AM$2<>\"Datum\",IF(Riskhistorik!AN97=\"Låg\",1,IF(Riskhistorik!AN97=\"Medel\",2,IF(Riskhistorik!AN97=\"Hög\",3,0))),AH95)","v":0},{"$f":"IF(Riskhistorik!AO$2<>\"Datum\",IF(Riskhistorik!AO97=\"Låg\",1,IF(Riskhistorik!AO97=\"Medel\",2,IF(Riskhistorik!AO97=\"Hög\",3,0))),AI95)","v":0},{"$f":"IF(Riskhistorik!AO$2<>\"Datum\",IF(Riskhistorik!AP97=\"Låg\",1,IF(Riskhistorik!AP97=\"Medel\",2,IF(Riskhistorik!AP97=\"Hög\",3,0))),AJ95)","v":0},{"$f":"IF(Riskhistorik!AQ$2<>\"Datum\",IF(Riskhistorik!AQ97=\"Låg\",1,IF(Riskhistorik!AQ97=\"Medel\",2,IF(Riskhistorik!AQ97=\"Hög\",3,0))),AK95)","v":0},{"$f":"IF(Riskhistorik!AQ$2<>\"Datum\",IF(Riskhistorik!AR97=\"Låg\",1,IF(Riskhistorik!AR97=\"Medel\",2,IF(Riskhistorik!AR97=\"Hög\",3,0))),AL95)","v":0},0,0,0,0,0,0,0,0,0,0,0,0,0,0,0,0,0,0,0,0]
[{"$f":"IF(Riskhistorik!E98<>\"\",IF(Riskhistorik!E98=\"Låg\",1,IF(Riskhistorik!E98=\"Medel\",2,3)),0)","v":0},{"$f":"IF(Riskhistorik!F98<>\"\",IF(Riskhistorik!F98=\"Låg\",1,IF(Riskhistorik!F98=\"Medel\",2,3)),0)","v":0},{"$f":"IF(Riskhistorik!G$2<>\"Datum\",IF(Riskhistorik!G98=\"Låg\",1,IF(Riskhistorik!G98=\"Medel\",2,IF(Riskhistorik!G98=\"Hög\",3,0))),A96)","v":0},{"$f":"IF(Riskhistorik!G$2<>\"Datum\",IF(Riskhistorik!H98=\"Låg\",1,IF(Riskhistorik!H98=\"Medel\",2,IF(Riskhistorik!H98=\"Hög\",3,0))),B96)","v":0},{"$f":"IF(Riskhistorik!I$2<>\"Datum\",IF(Riskhistorik!I98=\"Låg\",1,IF(Riskhistorik!I98=\"Medel\",2,IF(Riskhistorik!I98=\"Hög\",3,0))),C96)","v":0},{"$f":"IF(Riskhistorik!I$2<>\"Datum\",IF(Riskhistorik!J98=\"Låg\",1,IF(Riskhistorik!J98=\"Medel\",2,IF(Riskhistorik!J98=\"Hög\",3,0))),D96)","v":0},{"$f":"IF(Riskhistorik!K$2<>\"Datum\",IF(Riskhistorik!K98=\"Låg\",1,IF(Riskhistorik!K98=\"Medel\",2,IF(Riskhistorik!K98=\"Hög\",3,0))),E96)","v":0},{"$f":"IF(Riskhistorik!K$2<>\"Datum\",IF(Riskhistorik!L98=\"Låg\",1,IF(Riskhistorik!L98=\"Medel\",2,IF(Riskhistorik!L98=\"Hög\",3,0))),F96)","v":0},{"$f":"IF(Riskhistorik!M$2<>\"Datum\",IF(Riskhistorik!M98=\"Låg\",1,IF(Riskhistorik!M98=\"Medel\",2,IF(Riskhistorik!M98=\"Hög\",3,0))),G96)","v":0},{"$f":"IF(Riskhistorik!M$2<>\"Datum\",IF(Riskhistorik!N98=\"Låg\",1,IF(Riskhistorik!N98=\"Medel\",2,IF(Riskhistorik!N98=\"Hög\",3,0))),H96)","v":0},{"$f":"IF(Riskhistorik!O$2<>\"Datum\",IF(Riskhistorik!O98=\"Låg\",1,IF(Riskhistorik!O98=\"Medel\",2,IF(Riskhistorik!O98=\"Hög\",3,0))),I96)","v":0},{"$f":"IF(Riskhistorik!O$2<>\"Datum\",IF(Riskhistorik!P98=\"Låg\",1,IF(Riskhistorik!P98=\"Medel\",2,IF(Riskhistorik!P98=\"Hög\",3,0))),J96)","v":0},{"$f":"IF(Riskhistorik!Q$2<>\"Datum\",IF(Riskhistorik!Q98=\"Låg\",1,IF(Riskhistorik!Q98=\"Medel\",2,IF(Riskhistorik!Q98=\"Hög\",3,0))),K96)","v":0},{"$f":"IF(Riskhistorik!Q$2<>\"Datum\",IF(Riskhistorik!R98=\"Låg\",1,IF(Riskhistorik!R98=\"Medel\",2,IF(Riskhistorik!R98=\"Hög\",3,0))),L96)","v":0},{"$f":"IF(Riskhistorik!S$2<>\"Datum\",IF(Riskhistorik!S98=\"Låg\",1,IF(Riskhistorik!S98=\"Medel\",2,IF(Riskhistorik!S98=\"Hög\",3,0))),M96)","v":0},{"$f":"IF(Riskhistorik!S$2<>\"Datum\",IF(Riskhistorik!T98=\"Låg\",1,IF(Riskhistorik!T98=\"Medel\",2,IF(Riskhistorik!T98=\"Hög\",3,0))),N96)","v":0},{"$f":"IF(Riskhistorik!U$2<>\"Datum\",IF(Riskhistorik!U98=\"Låg\",1,IF(Riskhistorik!U98=\"Medel\",2,IF(Riskhistorik!U98=\"Hög\",3,0))),O96)","v":0},{"$f":"IF(Riskhistorik!U$2<>\"Datum\",IF(Riskhistorik!V98=\"Låg\",1,IF(Riskhistorik!V98=\"Medel\",2,IF(Riskhistorik!V98=\"Hög\",3,0))),P96)","v":0},{"$f":"IF(Riskhistorik!W$2<>\"Datum\",IF(Riskhistorik!W98=\"Låg\",1,IF(Riskhistorik!W98=\"Medel\",2,IF(Riskhistorik!W98=\"Hög\",3,0))),Q96)","v":0},{"$f":"IF(Riskhistorik!W$2<>\"Datum\",IF(Riskhistorik!X98=\"Låg\",1,IF(Riskhistorik!X98=\"Medel\",2,IF(Riskhistorik!X98=\"Hög\",3,0))),R96)","v":0},{"$f":"IF(Riskhistorik!Y$2<>\"Datum\",IF(Riskhistorik!Y98=\"Låg\",1,IF(Riskhistorik!Y98=\"Medel\",2,IF(Riskhistorik!Y98=\"Hög\",3,0))),S96)","v":0},{"$f":"IF(Riskhistorik!Y$2<>\"Datum\",IF(Riskhistorik!Z98=\"Låg\",1,IF(Riskhistorik!Z98=\"Medel\",2,IF(Riskhistorik!Z98=\"Hög\",3,0))),T96)","v":0},{"$f":"IF(Riskhistorik!AA$2<>\"Datum\",IF(Riskhistorik!AA98=\"Låg\",1,IF(Riskhistorik!AA98=\"Medel\",2,IF(Riskhistorik!AA98=\"Hög\",3,0))),U96)","v":0},{"$f":"IF(Riskhistorik!AA$2<>\"Datum\",IF(Riskhistorik!AB98=\"Låg\",1,IF(Riskhistorik!AB98=\"Medel\",2,IF(Riskhistorik!AB98=\"Hög\",3,0))),V96)","v":0},{"$f":"IF(Riskhistorik!AC$2<>\"Datum\",IF(Riskhistorik!AC98=\"Låg\",1,IF(Riskhistorik!AC98=\"Medel\",2,IF(Riskhistorik!AC98=\"Hög\",3,0))),W96)","v":0},{"$f":"IF(Riskhistorik!AC$2<>\"Datum\",IF(Riskhistorik!AD98=\"Låg\",1,IF(Riskhistorik!AD98=\"Medel\",2,IF(Riskhistorik!AD98=\"Hög\",3,0))),X96)","v":0},{"$f":"IF(Riskhistorik!AE$2<>\"Datum\",IF(Riskhistorik!AE98=\"Låg\",1,IF(Riskhistorik!AE98=\"Medel\",2,IF(Riskhistorik!AE98=\"Hög\",3,0))),Y96)","v":0},{"$f":"IF(Riskhistorik!AE$2<>\"Datum\",IF(Riskhistorik!AF98=\"Låg\",1,IF(Riskhistorik!AF98=\"Medel\",2,IF(Riskhistorik!AF98=\"Hög\",3,0))),Z96)","v":0},{"$f":"IF(Riskhistorik!AG$2<>\"Datum\",IF(Riskhistorik!AG98=\"Låg\",1,IF(Riskhistorik!AG98=\"Medel\",2,IF(Riskhistorik!AG98=\"Hög\",3,0))),AA96)","v":0},{"$f":"IF(Riskhistorik!AG$2<>\"Datum\",IF(Riskhistorik!AH98=\"Låg\",1,IF(Riskhistorik!AH98=\"Medel\",2,IF(Riskhistorik!AH98=\"Hög\",3,0))),AB96)","v":0},{"$f":"IF(Riskhistorik!AI$2<>\"Datum\",IF(Riskhistorik!AI98=\"Låg\",1,IF(Riskhistorik!AI98=\"Medel\",2,IF(Riskhistorik!AI98=\"Hög\",3,0))),AC96)","v":0},{"$f":"IF(Riskhistorik!AI$2<>\"Datum\",IF(Riskhistorik!AJ98=\"Låg\",1,IF(Riskhistorik!AJ98=\"Medel\",2,IF(Riskhistorik!AJ98=\"Hög\",3,0))),AD96)","v":0},{"$f":"IF(Riskhistorik!AK$2<>\"Datum\",IF(Riskhistorik!AK98=\"Låg\",1,IF(Riskhistorik!AK98=\"Medel\",2,IF(Riskhistorik!AK98=\"Hög\",3,0))),AE96)","v":0},{"$f":"IF(Riskhistorik!AK$2<>\"Datum\",IF(Riskhistorik!AL98=\"Låg\",1,IF(Riskhistorik!AL98=\"Medel\",2,IF(Riskhistorik!AL98=\"Hög\",3,0))),AF96)","v":0},{"$f":"IF(Riskhistorik!AM$2<>\"Datum\",IF(Riskhistorik!AM98=\"Låg\",1,IF(Riskhistorik!AM98=\"Medel\",2,IF(Riskhistorik!AM98=\"Hög\",3,0))),AG96)","v":0},{"$f":"IF(Riskhistorik!AM$2<>\"Datum\",IF(Riskhistorik!AN98=\"Låg\",1,IF(Riskhistorik!AN98=\"Medel\",2,IF(Riskhistorik!AN98=\"Hög\",3,0))),AH96)","v":0},{"$f":"IF(Riskhistorik!AO$2<>\"Datum\",IF(Riskhistorik!AO98=\"Låg\",1,IF(Riskhistorik!AO98=\"Medel\",2,IF(Riskhistorik!AO98=\"Hög\",3,0))),AI96)","v":0},{"$f":"IF(Riskhistorik!AO$2<>\"Datum\",IF(Riskhistorik!AP98=\"Låg\",1,IF(Riskhistorik!AP98=\"Medel\",2,IF(Riskhistorik!AP98=\"Hög\",3,0))),AJ96)","v":0},{"$f":"IF(Riskhistorik!AQ$2<>\"Datum\",IF(Riskhistorik!AQ98=\"Låg\",1,IF(Riskhistorik!AQ98=\"Medel\",2,IF(Riskhistorik!AQ98=\"Hög\",3,0))),AK96)","v":0},{"$f":"IF(Riskhistorik!AQ$2<>\"Datum\",IF(Riskhistorik!AR98=\"Låg\",1,IF(Riskhistorik!AR98=\"Medel\",2,IF(Riskhistorik!AR98=\"Hög\",3,0))),AL96)","v":0},0,0,0,0,0,0,0,0,0,0,0,0,0,0,0,0,0,0,0,0]
[{"$f":"IF(Riskhistorik!E99<>\"\",IF(Riskhistorik!E99=\"Låg\",1,IF(Riskhistorik!E99=\"Medel\",2,3)),0)","v":0},{"$f":"IF(Riskhistorik!F99<>\"\",IF(Riskhistorik!F99=\"Låg\",1,IF(Riskhistorik!F99=\"Medel\",2,3)),0)","v":0},{"$f":"IF(Riskhistorik!G$2<>\"Datum\",IF(Riskhistorik!G99=\"Låg\",1,IF(Riskhistorik!G99=\"Medel\",2,IF(Riskhistorik!G99=\"Hög\",3,0))),A97)","v":0},{"$f":"IF(Riskhistorik!G$2<>\"Datum\",IF(Riskhistorik!H99=\"Låg\",1,IF(Riskhistorik!H99=\"Medel\",2,IF(Riskhistorik!H99=\"Hög\",3,0))),B97)","v":0},{"$f":"IF(Riskhistorik!I$2<>\"Datum\",IF(Riskhistorik!I99=\"Låg\",1,IF(Riskhistorik!I99=\"Medel\",2,IF(Riskhistorik!I99=\"Hög\",3,0))),C97)","v":0},{"$f":"IF(Riskhistorik!I$2<>\"Datum\",IF(Riskhistorik!J99=\"Låg\",1,IF(Riskhistorik!J99=\"Medel\",2,IF(Riskhistorik!J99=\"Hög\",3,0))),D97)","v":0},{"$f":"IF(Riskhistorik!K$2<>\"Datum\",IF(Riskhistorik!K99=\"Låg\",1,IF(Riskhistorik!K99=\"Medel\",2,IF(Riskhistorik!K99=\"Hög\",3,0))),E97)","v":0},{"$f":"IF(Riskhistorik!K$2<>\"Datum\",IF(Riskhistorik!L99=\"Låg\",1,IF(Riskhistorik!L99=\"Medel\",2,IF(Riskhistorik!L99=\"Hög\",3,0))),F97)","v":0},{"$f":"IF(Riskhistorik!M$2<>\"Datum\",IF(Riskhistorik!M99=\"Låg\",1,IF(Riskhistorik!M99=\"Medel\",2,IF(Riskhistorik!M99=\"Hög\",3,0))),G97)","v":0},{"$f":"IF(Riskhistorik!M$2<>\"Datum\",IF(Riskhistorik!N99=\"Låg\",1,IF(Riskhistorik!N99=\"Medel\",2,IF(Riskhistorik!N99=\"Hög\",3,0))),H97)","v":0},{"$f":"IF(Riskhistorik!O$2<>\"Datum\",IF(Riskhistorik!O99=\"Låg\",1,IF(Riskhistorik!O99=\"Medel\",2,IF(Riskhistorik!O99=\"Hög\",3,0))),I97)","v":0},{"$f":"IF(Riskhistorik!O$2<>\"Datum\",IF(Riskhistorik!P99=\"Låg\",1,IF(Riskhistorik!P99=\"Medel\",2,IF(Riskhistorik!P99=\"Hög\",3,0))),J97)","v":0},{"$f":"IF(Riskhistorik!Q$2<>\"Datum\",IF(Riskhistorik!Q99=\"Låg\",1,IF(Riskhistorik!Q99=\"Medel\",2,IF(Riskhistorik!Q99=\"Hög\",3,0))),K97)","v":0},{"$f":"IF(Riskhistorik!Q$2<>\"Datum\",IF(Riskhistorik!R99=\"Låg\",1,IF(Riskhistorik!R99=\"Medel\",2,IF(Riskhistorik!R99=\"Hög\",3,0))),L97)","v":0},{"$f":"IF(Riskhistorik!S$2<>\"Datum\",IF(Riskhistorik!S99=\"Låg\",1,IF(Riskhistorik!S99=\"Medel\",2,IF(Riskhistorik!S99=\"Hög\",3,0))),M97)","v":0},{"$f":"IF(Riskhistorik!S$2<>\"Datum\",IF(Riskhistorik!T99=\"Låg\",1,IF(Riskhistorik!T99=\"Medel\",2,IF(Riskhistorik!T99=\"Hög\",3,0))),N97)","v":0},{"$f":"IF(Riskhistorik!U$2<>\"Datum\",IF(Riskhistorik!U99=\"Låg\",1,IF(Riskhistorik!U99=\"Medel\",2,IF(Riskhistorik!U99=\"Hög\",3,0))),O97)","v":0},{"$f":"IF(Riskhistorik!U$2<>\"Datum\",IF(Riskhistorik!V99=\"Låg\",1,IF(Riskhistorik!V99=\"Medel\",2,IF(Riskhistorik!V99=\"Hög\",3,0))),P97)","v":0},{"$f":"IF(Riskhistorik!W$2<>\"Datum\",IF(Riskhistorik!W99=\"Låg\",1,IF(Riskhistorik!W99=\"Medel\",2,IF(Riskhistorik!W99=\"Hög\",3,0))),Q97)","v":0},{"$f":"IF(Riskhistorik!W$2<>\"Datum\",IF(Riskhistorik!X99=\"Låg\",1,IF(Riskhistorik!X99=\"Medel\",2,IF(Riskhistorik!X99=\"Hög\",3,0))),R97)","v":0},{"$f":"IF(Riskhistorik!Y$2<>\"Datum\",IF(Riskhistorik!Y99=\"Låg\",1,IF(Riskhistorik!Y99=\"Medel\",2,IF(Riskhistorik!Y99=\"Hög\",3,0))),S97)","v":0},{"$f":"IF(Riskhistorik!Y$2<>\"Datum\",IF(Riskhistorik!Z99=\"Låg\",1,IF(Riskhistorik!Z99=\"Medel\",2,IF(Riskhistorik!Z99=\"Hög\",3,0))),T97)","v":0},{"$f":"IF(Riskhistorik!AA$2<>\"Datum\",IF(Riskhistorik!AA99=\"Låg\",1,IF(Riskhistorik!AA99=\"Medel\",2,IF(Riskhistorik!AA99=\"Hög\",3,0))),U97)","v":0},{"$f":"IF(Riskhistorik!AA$2<>\"Datum\",IF(Riskhistorik!AB99=\"Låg\",1,IF(Riskhistorik!AB99=\"Medel\",2,IF(Riskhistorik!AB99=\"Hög\",3,0))),V97)","v":0},{"$f":"IF(Riskhistorik!AC$2<>\"Datum\",IF(Riskhistorik!AC99=\"Låg\",1,IF(Riskhistorik!AC99=\"Medel\",2,IF(Riskhistorik!AC99=\"Hög\",3,0))),W97)","v":0},{"$f":"IF(Riskhistorik!AC$2<>\"Datum\",IF(Riskhistorik!AD99=\"Låg\",1,IF(Riskhistorik!AD99=\"Medel\",2,IF(Riskhistorik!AD99=\"Hög\",3,0))),X97)","v":0},{"$f":"IF(Riskhistorik!AE$2<>\"Datum\",IF(Riskhistorik!AE99=\"Låg\",1,IF(Riskhistorik!AE99=\"Medel\",2,IF(Riskhistorik!AE99=\"Hög\",3,0))),Y97)","v":0},{"$f":"IF(Riskhistorik!AE$2<>\"Datum\",IF(Riskhistorik!AF99=\"Låg\",1,IF(Riskhistorik!AF99=\"Medel\",2,IF(Riskhistorik!AF99=\"Hög\",3,0))),Z97)","v":0},{"$f":"IF(Riskhistorik!AG$2<>\"Datum\",IF(Riskhistorik!AG99=\"Låg\",1,IF(Riskhistorik!AG99=\"Medel\",2,IF(Riskhistorik!AG99=\"Hög\",3,0))),AA97)","v":0},{"$f":"IF(Riskhistorik!AG$2<>\"Datum\",IF(Riskhistorik!AH99=\"Låg\",1,IF(Riskhistorik!AH99=\"Medel\",2,IF(Riskhistorik!AH99=\"Hög\",3,0))),AB97)","v":0},{"$f":"IF(Riskhistorik!AI$2<>\"Datum\",IF(Riskhistorik!AI99=\"Låg\",1,IF(Riskhistorik!AI99=\"Medel\",2,IF(Riskhistorik!AI99=\"Hög\",3,0))),AC97)","v":0},{"$f":"IF(Riskhistorik!AI$2<>\"Datum\",IF(Riskhistorik!AJ99=\"Låg\",1,IF(Riskhistorik!AJ99=\"Medel\",2,IF(Riskhistorik!AJ99=\"Hög\",3,0))),AD97)","v":0},{"$f":"IF(Riskhistorik!AK$2<>\"Datum\",IF(Riskhistorik!AK99=\"Låg\",1,IF(Riskhistorik!AK99=\"Medel\",2,IF(Riskhistorik!AK99=\"Hög\",3,0))),AE97)","v":0},{"$f":"IF(Riskhistorik!AK$2<>\"Datum\",IF(Riskhistorik!AL99=\"Låg\",1,IF(Riskhistorik!AL99=\"Medel\",2,IF(Riskhistorik!AL99=\"Hög\",3,0))),AF97)","v":0},{"$f":"IF(Riskhistorik!AM$2<>\"Datum\",IF(Riskhistorik!AM99=\"Låg\",1,IF(Riskhistorik!AM99=\"Medel\",2,IF(Riskhistorik!AM99=\"Hög\",3,0))),AG97)","v":0},{"$f":"IF(Riskhistorik!AM$2<>\"Datum\",IF(Riskhistorik!AN99=\"Låg\",1,IF(Riskhistorik!AN99=\"Medel\",2,IF(Riskhistorik!AN99=\"Hög\",3,0))),AH97)","v":0},{"$f":"IF(Riskhistorik!AO$2<>\"Datum\",IF(Riskhistorik!AO99=\"Låg\",1,IF(Riskhistorik!AO99=\"Medel\",2,IF(Riskhistorik!AO99=\"Hög\",3,0))),AI97)","v":0},{"$f":"IF(Riskhistorik!AO$2<>\"Datum\",IF(Riskhistorik!AP99=\"Låg\",1,IF(Riskhistorik!AP99=\"Medel\",2,IF(Riskhistorik!AP99=\"Hög\",3,0))),AJ97)","v":0},{"$f":"IF(Riskhistorik!AQ$2<>\"Datum\",IF(Riskhistorik!AQ99=\"Låg\",1,IF(Riskhistorik!AQ99=\"Medel\",2,IF(Riskhistorik!AQ99=\"Hög\",3,0))),AK97)","v":0},{"$f":"IF(Riskhistorik!AQ$2<>\"Datum\",IF(Riskhistorik!AR99=\"Låg\",1,IF(Riskhistorik!AR99=\"Medel\",2,IF(Riskhistorik!AR99=\"Hög\",3,0))),AL97)","v":0},0,0,0,0,0,0,0,0,0,0,0,0,0,0,0,0,0,0,0,0]
[{"$f":"IF(Riskhistorik!E100<>\"\",IF(Riskhistorik!E100=\"Låg\",1,IF(Riskhistorik!E100=\"Medel\",2,3)),0)","v":0},{"$f":"IF(Riskhistorik!F100<>\"\",IF(Riskhistorik!F100=\"Låg\",1,IF(Riskhistorik!F100=\"Medel\",2,3)),0)","v":0},{"$f":"IF(Riskhistorik!G$2<>\"Datum\",IF(Riskhistorik!G100=\"Låg\",1,IF(Riskhistorik!G100=\"Medel\",2,IF(Riskhistorik!G100=\"Hög\",3,0))),A98)","v":0},{"$f":"IF(Riskhistorik!G$2<>\"Datum\",IF(Riskhistorik!H100=\"Låg\",1,IF(Riskhistorik!H100=\"Medel\",2,IF(Riskhistorik!H100=\"Hög\",3,0))),B98)","v":0},{"$f":"IF(Riskhistorik!I$2<>\"Datum\",IF(Riskhistorik!I100=\"Låg\",1,IF(Riskhistorik!I100=\"Medel\",2,IF(Riskhistorik!I100=\"Hög\",3,0))),C98)","v":0},{"$f":"IF(Riskhistorik!I$2<>\"Datum\",IF(Riskhistorik!J100=\"Låg\",1,IF(Riskhistorik!J100=\"Medel\",2,IF(Riskhistorik!J100=\"Hög\",3,0))),D98)","v":0},{"$f":"IF(Riskhistorik!K$2<>\"Datum\",IF(Riskhistorik!K100=\"Låg\",1,IF(Riskhistorik!K100=\"Medel\",2,IF(Riskhistorik!K100=\"Hög\",3,0))),E98)","v":0},{"$f":"IF(Riskhistorik!K$2<>\"Datum\",IF(Riskhistorik!L100=\"Låg\",1,IF(Riskhistorik!L100=\"Medel\",2,IF(Riskhistorik!L100=\"Hög\",3,0))),F98)","v":0},{"$f":"IF(Riskhistorik!M$2<>\"Datum\",IF(Riskhistorik!M100=\"Låg\",1,IF(Riskhistorik!M100=\"Medel\",2,IF(Riskhistorik!M100=\"Hög\",3,0))),G98)","v":0},{"$f":"IF(Riskhistorik!M$2<>\"Datum\",IF(Riskhistorik!N100=\"Låg\",1,IF(Riskhistorik!N100=\"Medel\",2,IF(Riskhistorik!N100=\"Hög\",3,0))),H98)","v":0},{"$f":"IF(Riskhistorik!O$2<>\"Datum\",IF(Riskhistorik!O100=\"Låg\",1,IF(Riskhistorik!O100=\"Medel\",2,IF(Riskhistorik!O100=\"Hög\",3,0))),I98)","v":0},{"$f":"IF(Riskhistorik!O$2<>\"Datum\",IF(Riskhistorik!P100=\"Låg\",1,IF(Riskhistorik!P100=\"Medel\",2,IF(Riskhistorik!P100=\"Hög\",3,0))),J98)","v":0},{"$f":"IF(Riskhistorik!Q$2<>\"Datum\",IF(Riskhistorik!Q100=\"Låg\",1,IF(Riskhistorik!Q100=\"Medel\",2,IF(Riskhistorik!Q100=\"Hög\",3,0))),K98)","v":0},{"$f":"IF(Riskhistorik!Q$2<>\"Datum\",IF(Riskhistorik!R100=\"Låg\",1,IF(Riskhistorik!R100=\"Medel\",2,IF(Riskhistorik!R100=\"Hög\",3,0))),L98)","v":0},{"$f":"IF(Riskhistorik!S$2<>\"Datum\",IF(Riskhistorik!S100=\"Låg\",1,IF(Riskhistorik!S100=\"Medel\",2,IF(Riskhistorik!S100=\"Hög\",3,0))),M98)","v":0},{"$f":"IF(Riskhistorik!S$2<>\"Datum\",IF(Riskhistorik!T100=\"Låg\",1,IF(Riskhistorik!T100=\"Medel\",2,IF(Riskhistorik!T100=\"Hög\",3,0))),N98)","v":0},{"$f":"IF(Riskhistorik!U$2<>\"Datum\",IF(Riskhistorik!U100=\"Låg\",1,IF(Riskhistorik!U100=\"Medel\",2,IF(Riskhistorik!U100=\"Hög\",3,0))),O98)","v":0},{"$f":"IF(Riskhistorik!U$2<>\"Datum\",IF(Riskhistorik!V100=\"Låg\",1,IF(Riskhistorik!V100=\"Medel\",2,IF(Riskhistorik!V100=\"Hög\",3,0))),P98)","v":0},{"$f":"IF(Riskhistorik!W$2<>\"Datum\",IF(Riskhistorik!W100=\"Låg\",1,IF(Riskhistorik!W100=\"Medel\",2,IF(Riskhistorik!W100=\"Hög\",3,0))),Q98)","v":0},{"$f":"IF(Riskhistorik!W$2<>\"Datum\",IF(Riskhistorik!X100=\"Låg\",1,IF(Riskhistorik!X100=\"Medel\",2,IF(Riskhistorik!X100=\"Hög\",3,0))),R98)","v":0},{"$f":"IF(Riskhistorik!Y$2<>\"Datum\",IF(Riskhistorik!Y100=\"Låg\",1,IF(Riskhistorik!Y100=\"Medel\",2,IF(Riskhistorik!Y100=\"Hög\",3,0))),S98)","v":0},{"$f":"IF(Riskhistorik!Y$2<>\"Datum\",IF(Riskhistorik!Z100=\"Låg\",1,IF(Riskhistorik!Z100=\"Medel\",2,IF(Riskhistorik!Z100=\"Hög\",3,0))),T98)","v":0},{"$f":"IF(Riskhistorik!AA$2<>\"Datum\",IF(Riskhistorik!AA100=\"Låg\",1,IF(Riskhistorik!AA100=\"Medel\",2,IF(Riskhistorik!AA100=\"Hög\",3,0))),U98)","v":0},{"$f":"IF(Riskhistorik!AA$2<>\"Datum\",IF(Riskhistorik!AB100=\"Låg\",1,IF(Riskhistorik!AB100=\"Medel\",2,IF(Riskhistorik!AB100=\"Hög\",3,0))),V98)","v":0},{"$f":"IF(Riskhistorik!AC$2<>\"Datum\",IF(Riskhistorik!AC100=\"Låg\",1,IF(Riskhistorik!AC100=\"Medel\",2,IF(Riskhistorik!AC100=\"Hög\",3,0))),W98)","v":0},{"$f":"IF(Riskhistorik!AC$2<>\"Datum\",IF(Riskhistorik!AD100=\"Låg\",1,IF(Riskhistorik!AD100=\"Medel\",2,IF(Riskhistorik!AD100=\"Hög\",3,0))),X98)","v":0},{"$f":"IF(Riskhistorik!AE$2<>\"Datum\",IF(Riskhistorik!AE100=\"Låg\",1,IF(Riskhistorik!AE100=\"Medel\",2,IF(Riskhistorik!AE100=\"Hög\",3,0))),Y98)","v":0},{"$f":"IF(Riskhistorik!AE$2<>\"Datum\",IF(Riskhistorik!AF100=\"Låg\",1,IF(Riskhistorik!AF100=\"Medel\",2,IF(Riskhistorik!AF100=\"Hög\",3,0))),Z98)","v":0},{"$f":"IF(Riskhistorik!AG$2<>\"Datum\",IF(Riskhistorik!AG100=\"Låg\",1,IF(Riskhistorik!AG100=\"Medel\",2,IF(Riskhistorik!AG100=\"Hög\",3,0))),AA98)","v":0},{"$f":"IF(Riskhistorik!AG$2<>\"Datum\",IF(Riskhistorik!AH100=\"Låg\",1,IF(Riskhistorik!AH100=\"Medel\",2,IF(Riskhistorik!AH100=\"Hög\",3,0))),AB98)","v":0},{"$f":"IF(Riskhistorik!AI$2<>\"Datum\",IF(Riskhistorik!AI100=\"Låg\",1,IF(Riskhistorik!AI100=\"Medel\",2,IF(Riskhistorik!AI100=\"Hög\",3,0))),AC98)","v":0},{"$f":"IF(Riskhistorik!AI$2<>\"Datum\",IF(Riskhistorik!AJ100=\"Låg\",1,IF(Riskhistorik!AJ100=\"Medel\",2,IF(Riskhistorik!AJ100=\"Hög\",3,0))),AD98)","v":0},{"$f":"IF(Riskhistorik!AK$2<>\"Datum\",IF(Riskhistorik!AK100=\"Låg\",1,IF(Riskhistorik!AK100=\"Medel\",2,IF(Riskhistorik!AK100=\"Hög\",3,0))),AE98)","v":0},{"$f":"IF(Riskhistorik!AK$2<>\"Datum\",IF(Riskhistorik!AL100=\"Låg\",1,IF(Riskhistorik!AL100=\"Medel\",2,IF(Riskhistorik!AL100=\"Hög\",3,0))),AF98)","v":0},{"$f":"IF(Riskhistorik!AM$2<>\"Datum\",IF(Riskhistorik!AM100=\"Låg\",1,IF(Riskhistorik!AM100=\"Medel\",2,IF(Riskhistorik!AM100=\"Hög\",3,0))),AG98)","v":0},{"$f":"IF(Riskhistorik!AM$2<>\"Datum\",IF(Riskhistorik!AN100=\"Låg\",1,IF(Riskhistorik!AN100=\"Medel\",2,IF(Riskhistorik!AN100=\"Hög\",3,0))),AH98)","v":0},{"$f":"IF(Riskhistorik!AO$2<>\"Datum\",IF(Riskhistorik!AO100=\"Låg\",1,IF(Riskhistorik!AO100=\"Medel\",2,IF(Riskhistorik!AO100=\"Hög\",3,0))),AI98)","v":0},{"$f":"IF(Riskhistorik!AO$2<>\"Datum\",IF(Riskhistorik!AP100=\"Låg\",1,IF(Riskhistorik!AP100=\"Medel\",2,IF(Riskhistorik!AP100=\"Hög\",3,0))),AJ98)","v":0},{"$f":"IF(Riskhistorik!AQ$2<>\"Datum\",IF(Riskhistorik!AQ100=\"Låg\",1,IF(Riskhistorik!AQ100=\"Medel\",2,IF(Riskhistorik!AQ100=\"Hög\",3,0))),AK98)","v":0},{"$f":"IF(Riskhistorik!AQ$2<>\"Datum\",IF(Riskhistorik!AR100=\"Låg\",1,IF(Riskhistorik!AR100=\"Medel\",2,IF(Riskhistorik!AR100=\"Hög\",3,0))),AL98)","v":0},0,0,0,0,0,0,0,0,0,0,0,0,0,0,0,0,0,0,0,0]
[null,null,null,null,null,null,null,null,{"$f":"IF(Riskhistorik!M$2<>\"Datum\",IF(Riskhistorik!M101=\"Låg\",1,IF(Riskhistorik!M101=\"Medel\",2,IF(Riskhistorik!M101=\"Hög\",3,0))),G99)","v":0},{"$f":"IF(Riskhistorik!M$2<>\"Datum\",IF(Riskhistorik!N101=\"Låg\",1,IF(Riskhistorik!N101=\"Medel\",2,IF(Riskhistorik!N101=\"Hög\",3,0))),H99)","v":0},{"$f":"IF(Riskhistorik!O$2<>\"Datum\",IF(Riskhistorik!O101=\"Låg\",1,IF(Riskhistorik!O101=\"Medel\",2,IF(Riskhistorik!O101=\"Hög\",3,0))),I99)","v":0},{"$f":"IF(Riskhistorik!O$2<>\"Datum\",IF(Riskhistorik!P101=\"Låg\",1,IF(Riskhistorik!P101=\"Medel\",2,IF(Riskhistorik!P101=\"Hög\",3,0))),J99)","v":0},{"$f":"IF(Riskhistorik!Q$2<>\"Datum\",IF(Riskhistorik!Q101=\"Låg\",1,IF(Riskhistorik!Q101=\"Medel\",2,IF(Riskhistorik!Q101=\"Hög\",3,0))),K99)","v":0},{"$f":"IF(Riskhistorik!Q$2<>\"Datum\",IF(Riskhistorik!R101=\"Låg\",1,IF(Riskhistorik!R101=\"Medel\",2,IF(Riskhistorik!R101=\"Hög\",3,0))),L99)","v":0},{"$f":"IF(Riskhistorik!S$2<>\"Datum\",IF(Riskhistorik!S101=\"Låg\",1,IF(Riskhistorik!S101=\"Medel\",2,IF(Riskhistorik!S101=\"Hög\",3,0))),M99)","v":0},{"$f":"IF(Riskhistorik!S$2<>\"Datum\",IF(Riskhistorik!T101=\"Låg\",1,IF(Riskhistorik!T101=\"Medel\",2,IF(Riskhistorik!T101=\"Hög\",3,0))),N99)","v":0},{"$f":"IF(Riskhistorik!U$2<>\"Datum\",IF(Riskhistorik!U101=\"Låg\",1,IF(Riskhistorik!U101=\"Medel\",2,IF(Riskhistorik!U101=\"Hög\",3,0))),O99)","v":0},{"$f":"IF(Riskhistorik!U$2<>\"Datum\",IF(Riskhistorik!V101=\"Låg\",1,IF(Riskhistorik!V101=\"Medel\",2,IF(Riskhistorik!V101=\"Hög\",3,0))),P99)","v":0},{"$f":"IF(Riskhistorik!W$2<>\"Datum\",IF(Riskhistorik!W101=\"Låg\",1,IF(Riskhistorik!W101=\"Medel\",2,IF(Riskhistorik!W101=\"Hög\",3,0))),Q99)","v":0},{"$f":"IF(Riskhistorik!W$2<>\"Datum\",IF(Riskhistorik!X101=\"Låg\",1,IF(Riskhistorik!X101=\"Medel\",2,IF(Riskhistorik!X101=\"Hög\",3,0))),R99)","v":0},{"$f":"IF(Riskhistorik!Y$2<>\"Datum\",IF(Riskhistorik!Y101=\"Låg\",1,IF(Riskhistorik!Y101=\"Medel\",2,IF(Riskhistorik!Y101=\"Hög\",3,0))),S99)","v":0},{"$f":"IF(Riskhistorik!Y$2<>\"Datum\",IF(Riskhistorik!Z101=\"Låg\",1,IF(Riskhistorik!Z101=\"Medel\",2,IF(Riskhistorik!Z101=\"Hög\",3,0))),T99)","v":0},{"$f":"IF(Riskhistorik!AA$2<>\"Datum\",IF(Riskhistorik!AA101=\"Låg\",1,IF(Riskhistorik!AA101=\"Medel\",2,IF(Riskhistorik!AA101=\"Hög\",3,0))),U99)","v":0},{"$f":"IF(Riskhistorik!AA$2<>\"Datum\",IF(Riskhistorik!AB101=\"Låg\",1,IF(Riskhistorik!AB101=\"Medel\",2,IF(Riskhistorik!AB101=\"Hög\",3,0))),V99)","v":0},{"$f":"IF(Riskhistorik!AC$2<>\"Datum\",IF(Riskhistorik!AC101=\"Låg\",1,IF(Riskhistorik!AC101=\"Medel\",2,IF(Riskhistorik!AC101=\"Hög\",3,0))),W99)","v":0},{"$f":"IF(Riskhistorik!AC$2<>\"Datum\",IF(Riskhistorik!AD101=\"Låg\",1,IF(Riskhistorik!AD101=\"Medel\",2,IF(Riskhistorik!AD101=\"Hög\",3,0))),X99)","v":0},{"$f":"IF(Riskhistorik!AE$2<>\"Datum\",IF(Riskhistorik!AE101=\"Låg\",1,IF(Riskhistorik!AE101=\"Medel\",2,IF(Riskhistorik!AE101=\"Hög\",3,0))),Y99)","v":0},{"$f":"IF(Riskhistorik!AE$2<>\"Datum\",IF(Riskhistorik!AF101=\"Låg\",1,IF(Riskhistorik!AF101=\"Medel\",2,IF(Riskhistorik!AF101=\"Hög\",3,0))),Z99)","v":0},{"$f":"IF(Riskhistorik!AG$2<>\"Datum\",IF(Riskhistorik!AG101=\"Låg\",1,IF(Riskhistorik!AG101=\"Medel\",2,IF(Riskhistorik!AG101=\"Hög\",3,0))),AA99)","v":0},{"$f":"IF(Riskhistorik!AG$2<>\"Datum\",IF(Riskhistorik!AH101=\"Låg\",1,IF(Riskhistorik!AH101=\"Medel\",2,IF(Riskhistorik!AH101=\"Hög\",3,0))),AB99)","v":0},{"$f":"IF(Riskhistorik!AI$2<>\"Datum\",IF(Riskhistorik!AI101=\"Låg\",1,IF(Riskhistorik!AI101=\"Medel\",2,IF(Riskhistorik!AI101=\"Hög\",3,0))),AC99)","v":0},{"$f":"IF(Riskhistorik!AI$2<>\"Datum\",IF(Riskhistorik!AJ101=\"Låg\",1,IF(Riskhistorik!AJ101=\"Medel\",2,IF(Riskhistorik!AJ101=\"Hög\",3,0))),AD99)","v":0},{"$f":"IF(Riskhistorik!AK$2<>\"Datum\",IF(Riskhistorik!AK101=\"Låg\",1,IF(Riskhistorik!AK101=\"Medel\",2,IF(Riskhistorik!AK101=\"Hög\",3,0))),AE99)","v":0},{"$f":"IF(Riskhistorik!AK$2<>\"Datum\",IF(Riskhistorik!AL101=\"Låg\",1,IF(Riskhistorik!AL101=\"Medel\",2,IF(Riskhistorik!AL101=\"Hög\",3,0))),AF99)","v":0},{"$f":"IF(Riskhistorik!AM$2<>\"Datum\",IF(Riskhistorik!AM101=\"Låg\",1,IF(Riskhistorik!AM101=\"Medel\",2,IF(Riskhistorik!AM101=\"Hög\",3,0))),AG99)","v":0},{"$f":"IF(Riskhistorik!AM$2<>\"Datum\",IF(Riskhistorik!AN101=\"Låg\",1,IF(Riskhistorik!AN101=\"Medel\",2,IF(Riskhistorik!AN101=\"Hög\",3,0))),AH99)","v":0},{"$f":"IF(Riskhistorik!AO$2<>\"Datum\",IF(Riskhistorik!AO101=\"Låg\",1,IF(Riskhistorik!AO101=\"Medel\",2,IF(Riskhistorik!AO101=\"Hög\",3,0))),AI99)","v":0},{"$f":"IF(Riskhistorik!AO$2<>\"Datum\",IF(Riskhistorik!AP101=\"Låg\",1,IF(Riskhistorik!AP101=\"Medel\",2,IF(Riskhistorik!AP101=\"Hög\",3,0))),AJ99)","v":0},{"$f":"IF(Riskhistorik!AQ$2<>\"Datum\",IF(Riskhistorik!AQ101=\"Låg\",1,IF(Riskhistorik!AQ101=\"Medel\",2,IF(Riskhistorik!AQ101=\"Hög\",3,0))),AK99)","v":0},{"$f":"IF(Riskhistorik!AQ$2<>\"Datum\",IF(Riskhistorik!AR101=\"Låg\",1,IF(Riskhistorik!AR101=\"Medel\",2,IF(Riskhistorik!AR101=\"Hög\",3,0))),AL99)","v":0},0,0,0,0,0,0,0,0,0,0,0,0,0,0,0,0,0,0,0,0]
[null,null,null,null,null,null,null,null,{"$f":"IF(Riskhistorik!M$2<>\"Datum\",IF(Riskhistorik!M102=\"Låg\",1,IF(Riskhistorik!M102=\"Medel\",2,IF(Riskhistorik!M102=\"Hög\",3,0))),G100)","v":0},{"$f":"IF(Riskhistorik!M$2<>\"Datum\",IF(Riskhistorik!N102=\"Låg\",1,IF(Riskhistorik!N102=\"Medel\",2,IF(Riskhistorik!N102=\"Hög\",3,0))),H100)","v":0},{"$f":"IF(Riskhistorik!O$2<>\"Datum\",IF(Riskhistorik!O102=\"Låg\",1,IF(Riskhistorik!O102=\"Medel\",2,IF(Riskhistorik!O102=\"Hög\",3,0))),I100)","v":0},{"$f":"IF(Riskhistorik!O$2<>\"Datum\",IF(Riskhistorik!P102=\"Låg\",1,IF(Riskhistorik!P102=\"Medel\",2,IF(Riskhistorik!P102=\"Hög\",3,0))),J100)","v":0},{"$f":"IF(Riskhistorik!Q$2<>\"Datum\",IF(Riskhistorik!Q102=\"Låg\",1,IF(Riskhistorik!Q102=\"Medel\",2,IF(Riskhistorik!Q102=\"Hög\",3,0))),K100)","v":0},{"$f":"IF(Riskhistorik!Q$2<>\"Datum\",IF(Riskhistorik!R102=\"Låg\",1,IF(Riskhistorik!R102=\"Medel\",2,IF(Riskhistorik!R102=\"Hög\",3,0))),L100)","v":0},{"$f":"IF(Riskhistorik!S$2<>\"Datum\",IF(Riskhistorik!S102=\"Låg\",1,IF(Riskhistorik!S102=\"Medel\",2,IF(Riskhistorik!S102=\"Hög\",3,0))),M100)","v":0},{"$f":"IF(Riskhistorik!S$2<>\"Datum\",IF(Riskhistorik!T102=\"Låg\",1,IF(Riskhistorik!T102=\"Medel\",2,IF(Riskhistorik!T102=\"Hög\",3,0))),N100)","v":0},{"$f":"IF(Riskhistorik!U$2<>\"Datum\",IF(Riskhistorik!U102=\"Låg\",1,IF(Riskhistorik!U102=\"Medel\",2,IF(Riskhistorik!U102=\"Hög\",3,0))),O100)","v":0},{"$f":"IF(Riskhistorik!U$2<>\"Datum\",IF(Riskhistorik!V102=\"Låg\",1,IF(Riskhistorik!V102=\"Medel\",2,IF(Riskhistorik!V102=\"Hög\",3,0))),P100)","v":0},{"$f":"IF(Riskhistorik!W$2<>\"Datum\",IF(Riskhistorik!W102=\"Låg\",1,IF(Riskhistorik!W102=\"Medel\",2,IF(Riskhistorik!W102=\"Hög\",3,0))),Q100)","v":0},{"$f":"IF(Riskhistorik!W$2<>\"Datum\",IF(Riskhistorik!X102=\"Låg\",1,IF(Riskhistorik!X102=\"Medel\",2,IF(Riskhistorik!X102=\"Hög\",3,0))),R100)","v":0},{"$f":"IF(Riskhistorik!Y$2<>\"Datum\",IF(Riskhistorik!Y102=\"Låg\",1,IF(Riskhistorik!Y102=\"Medel\",2,IF(Riskhistorik!Y102=\"Hög\",3,0))),S100)","v":0},{"$f":"IF(Riskhistorik!Y$2<>\"Datum\",IF(Riskhistorik!Z102=\"Låg\",1,IF(Riskhistorik!Z102=\"Medel\",2,IF(Riskhistorik!Z102=\"Hög\",3,0))),T100)","v":0},{"$f":"IF(Riskhistorik!AA$2<>\"Datum\",IF(Riskhistorik!AA102=\"Låg\",1,IF(Riskhistorik!AA102=\"Medel\",2,IF(Riskhistorik!AA102=\"Hög\",3,0))),U100)","v":0},{"$f":"IF(Riskhistorik!AA$2<>\"Datum\",IF(Riskhistorik!AB102=\"Låg\",1,IF(Riskhistorik!AB102=\"Medel\",2,IF(Riskhistorik!AB102=\"Hög\",3,0))),V100)","v":0},{"$f":"IF(Riskhistorik!AC$2<>\"Datum\",IF(Riskhistorik!AC102=\"Låg\",1,IF(Riskhistorik!AC102=\"Medel\",2,IF(Riskhistorik!AC102=\"Hög\",3,0))),W100)","v":0},{"$f":"IF(Riskhistorik!AC$2<>\"Datum\",IF(Riskhistorik!AD102=\"Låg\",1,IF(Riskhistorik!AD102=\"Medel\",2,IF(Riskhistorik!AD102=\"Hög\",3,0))),X100)","v":0},{"$f":"IF(Riskhistorik!AE$2<>\"Datum\",IF(Riskhistorik!AE102=\"Låg\",1,IF(Riskhistorik!AE102=\"Medel\",2,IF(Riskhistorik!AE102=\"Hög\",3,0))),Y100)","v":0},{"$f":"IF(Riskhistorik!AE$2<>\"Datum\",IF(Riskhistorik!AF102=\"Låg\",1,IF(Riskhistorik!AF102=\"Medel\",2,IF(Riskhistorik!AF102=\"Hög\",3,0))),Z100)","v":0},{"$f":"IF(Riskhistorik!AG$2<>\"Datum\",IF(Riskhistorik!AG102=\"Låg\",1,IF(Riskhistorik!AG102=\"Medel\",2,IF(Riskhistorik!AG102=\"Hög\",3,0))),AA100)","v":0},{"$f":"IF(Riskhistorik!AG$2<>\"Datum\",IF(Riskhistorik!AH102=\"Låg\",1,IF(Riskhistorik!AH102=\"Medel\",2,IF(Riskhistorik!AH102=\"Hög\",3,0))),AB100)","v":0},{"$f":"IF(Riskhistorik!AI$2<>\"Datum\",IF(Riskhistorik!AI102=\"Låg\",1,IF(Riskhistorik!AI102=\"Medel\",2,IF(Riskhistorik!AI102=\"Hög\",3,0))),AC100)","v":0},{"$f":"IF(Riskhistorik!AI$2<>\"Datum\",IF(Riskhistorik!AJ102=\"Låg\",1,IF(Riskhistorik!AJ102=\"Medel\",2,IF(Riskhistorik!AJ102=\"Hög\",3,0))),AD100)","v":0},{"$f":"IF(Riskhistorik!AK$2<>\"Datum\",IF(Riskhistorik!AK102=\"Låg\",1,IF(Riskhistorik!AK102=\"Medel\",2,IF(Riskhistorik!AK102=\"Hög\",3,0))),AE100)","v":0},{"$f":"IF(Riskhistorik!AK$2<>\"Datum\",IF(Riskhistorik!AL102=\"Låg\",1,IF(Riskhistorik!AL102=\"Medel\",2,IF(Riskhistorik!AL102=\"Hög\",3,0))),AF100)","v":0},{"$f":"IF(Riskhistorik!AM$2<>\"Datum\",IF(Riskhistorik!AM102=\"Låg\",1,IF(Riskhistorik!AM102=\"Medel\",2,IF(Riskhistorik!AM102=\"Hög\",3,0))),AG100)","v":0},{"$f":"IF(Riskhistorik!AM$2<>\"Datum\",IF(Riskhistorik!AN102=\"Låg\",1,IF(Riskhistorik!AN102=\"Medel\",2,IF(Riskhistorik!AN102=\"Hög\",3,0))),AH100)","v":0},{"$f":"IF(Riskhistorik!AO$2<>\"Datum\",IF(Riskhistorik!AO102=\"Låg\",1,IF(Riskhistorik!AO102=\"Medel\",2,IF(Riskhistorik!AO102=\"Hög\",3,0))),AI100)","v":0},{"$f":"IF(Riskhistorik!AO$2<>\"Datum\",IF(Riskhistorik!AP102=\"Låg\",1,IF(Riskhistorik!AP102=\"Medel\",2,IF(Riskhistorik!AP102=\"Hög\",3,0))),AJ100)","v":0},{"$f":"IF(Riskhistorik!AQ$2<>\"Datum\",IF(Riskhistorik!AQ102=\"Låg\",1,IF(Riskhistorik!AQ102=\"Medel\",2,IF(Riskhistorik!AQ102=\"Hög\",3,0))),AK100)","v":0},{"$f":"IF(Riskhistorik!AQ$2<>\"Datum\",IF(Riskhistorik!AR102=\"Låg\",1,IF(Riskhistorik!AR102=\"Medel\",2,IF(Riskhistorik!AR102=\"Hög\",3,0))),AL100)","v":0},0,0,0,0,0,0,0,0,0,0,0,0,0,0,0,0,0,0,0,0]
[null,null,null,null,null,null,null,null,{"$f":"IF(Riskhistorik!M$2<>\"Datum\",IF(Riskhistorik!M103=\"Låg\",1,IF(Riskhistorik!M103=\"Medel\",2,IF(Riskhistorik!M103=\"Hög\",3,0))),G101)","v":0},{"$f":"IF(Riskhistorik!M$2<>\"Datum\",IF(Riskhistorik!N103=\"Låg\",1,IF(Riskhistorik!N103=\"Medel\",2,IF(Riskhistorik!N103=\"Hög\",3,0))),H101)","v":0},{"$f":"IF(Riskhistorik!O$2<>\"Datum\",IF(Riskhistorik!O103=\"Låg\",1,IF(Riskhistorik!O103=\"Medel\",2,IF(Riskhistorik!O103=\"Hög\",3,0))),I101)","v":0},{"$f":"IF(Riskhistorik!O$2<>\"Datum\",IF(Riskhistorik!P103=\"Låg\",1,IF(Riskhistorik!P103=\"Medel\",2,IF(Riskhistorik!P103=\"Hög\",3,0))),J101)","v":0},{"$f":"IF(Riskhistorik!Q$2<>\"Datum\",IF(Riskhistorik!Q103=\"Låg\",1,IF(Riskhistorik!Q103=\"Medel\",2,IF(Riskhistorik!Q103=\"Hög\",3,0))),K101)","v":0},{"$f":"IF(Riskhistorik!Q$2<>\"Datum\",IF(Riskhistorik!R103=\"Låg\",1,IF(Riskhistorik!R103=\"Medel\",2,IF(Riskhistorik!R103=\"Hög\",3,0))),L101)","v":0},{"$f":"IF(Riskhistorik!S$2<>\"Datum\",IF(Riskhistorik!S103=\"Låg\",1,IF(Riskhistorik!S103=\"Medel\",2,IF(Riskhistorik!S103=\"Hög\",3,0))),M101)","v":0},{"$f":"IF(Riskhistorik!S$2<>\"Datum\",IF(Riskhistorik!T103=\"Låg\",1,IF(Riskhistorik!T103=\"Medel\",2,IF(Riskhistorik!T103=\"Hög\",3,0))),N101)","v":0},{"$f":"IF(Riskhistorik!U$2<>\"Datum\",IF(Riskhistorik!U103=\"Låg\",1,IF(Riskhistorik!U103=\"Medel\",2,IF(Riskhistorik!U103=\"Hög\",3,0))),O101)","v":0},{"$f":"IF(Riskhistorik!U$2<>\"Datum\",IF(Riskhistorik!V103=\"Låg\",1,IF(Riskhistorik!V103=\"Medel\",2,IF(Riskhistorik!V103=\"Hög\",3,0))),P101)","v":0},{"$f":"IF(Riskhistorik!W$2<>\"Datum\",IF(Riskhistorik!W103=\"Låg\",1,IF(Riskhistorik!W103=\"Medel\",2,IF(Riskhistorik!W103=\"Hög\",3,0))),Q101)","v":0},{"$f":"IF(Riskhistorik!W$2<>\"Datum\",IF(Riskhistorik!X103=\"Låg\",1,IF(Riskhistorik!X103=\"Medel\",2,IF(Riskhistorik!X103=\"Hög\",3,0))),R101)","v":0},{"$f":"IF(Riskhistorik!Y$2<>\"Datum\",IF(Riskhistorik!Y103=\"Låg\",1,IF(Riskhistorik!Y103=\"Medel\",2,IF(Riskhistorik!Y103=\"Hög\",3,0))),S101)","v":0},{"$f":"IF(Riskhistorik!Y$2<>\"Datum\",IF(Riskhistorik!Z103=\"Låg\",1,IF(Riskhistorik!Z103=\"Medel\",2,IF(Riskhistorik!Z103=\"Hög\",3,0))),T101)","v":0},{"$f":"IF(Riskhistorik!AA$2<>\"Datum\",IF(Riskhistorik!AA103=\"Låg\",1,IF(Riskhistorik!AA103=\"Medel\",2,IF(Riskhistorik!AA103=\"Hög\",3,0))),U101)","v":0},{"$f":"IF(Riskhistorik!AA$2<>\"Datum\",IF(Riskhistorik!AB103=\"Låg\",1,IF(Riskhistorik!AB103=\"Medel\",2,IF(Riskhistorik!AB103=\"Hög\",3,0))),V101)","v":0},{"$f":"IF(Riskhistorik!AC$2<>\"Datum\",IF(Riskhistorik!AC103=\"Låg\",1,IF(Riskhistorik!AC103=\"Medel\",2,IF(Riskhistorik!AC103=\"Hög\",3,0))),W101)","v":0},{"$f":"IF(Riskhistorik!AC$2<>\"Datum\",IF(Riskhistorik!AD103=\"Låg\",1,IF(Riskhistorik!AD103=\"Medel\",2,IF(Riskhistorik!AD103=\"Hög\",3,0))),X101)","v":0},{"$f":"IF(Riskhistorik!AE$2<>\"Datum\",IF(Riskhistorik!AE103=\"Låg\",1,IF(Riskhistorik!AE103=\"Medel\",2,IF(Riskhistorik!AE103=\"Hög\",3,0))),Y101)","v":0},{"$f":"IF(Riskhistorik!AE$2<>\"Datum\",IF(Riskhistorik!AF103=\"Låg\",1,IF(Riskhistorik!AF103=\"Medel\",2,IF(Riskhistorik!AF103=\"Hög\",3,0))),Z101)","v":0},{"$f":"IF(Riskhistorik!AG$2<>\"Datum\",IF(Riskhistorik!AG103=\"Låg\",1,IF(Riskhistorik!AG103=\"Medel\",2,IF(Riskhistorik!AG103=\"Hög\",3,0))),AA101)","v":0},{"$f":"IF(Riskhistorik!AG$2<>\"Datum\",IF(Riskhistorik!AH103=\"Låg\",1,IF(Riskhistorik!AH103=\"Medel\",2,IF(Riskhistorik!AH103=\"Hög\",3,0))),AB101)","v":0},{"$f":"IF(Riskhistorik!AI$2<>\"Datum\",IF(Riskhistorik!AI103=\"Låg\",1,IF(Riskhistorik!AI103=\"Medel\",2,IF(Riskhistorik!AI103=\"Hög\",3,0))),AC101)","v":0},{"$f":"IF(Riskhistorik!AI$2<>\"Datum\",IF(Riskhistorik!AJ103=\"Låg\",1,IF(Riskhistorik!AJ103=\"Medel\",2,IF(Riskhistorik!AJ103=\"Hög\",3,0))),AD101)","v":0},{"$f":"IF(Riskhistorik!AK$2<>\"Datum\",IF(Riskhistorik!AK103=\"Låg\",1,IF(Riskhistorik!AK103=\"Medel\",2,IF(Riskhistorik!AK103=\"Hög\",3,0))),AE101)","v":0},{"$f":"IF(Riskhistorik!AK$2<>\"Datum\",IF(Riskhistorik!AL103=\"Låg\",1,IF(Riskhistorik!AL103=\"Medel\",2,IF(Riskhistorik!AL103=\"Hög\",3,0))),AF101)","v":0},{"$f":"IF(Riskhistorik!AM$2<>\"Datum\",IF(Riskhistorik!AM103=\"Låg\",1,IF(Riskhistorik!AM103=\"Medel\",2,IF(Riskhistorik!AM103=\"Hög\",3,0))),AG101)","v":0},{"$f":"IF(Riskhistorik!AM$2<>\"Datum\",IF(Riskhistorik!AN103=\"Låg\",1,IF(Riskhistorik!AN103=\"Medel\",2,IF(Riskhistorik!AN103=\"Hög\",3,0))),AH101)","v":0},{"$f":"IF(Riskhistorik!AO$2<>\"Datum\",IF(Riskhistorik!AO103=\"Låg\",1,IF(Riskhistorik!AO103=\"Medel\",2,IF(Riskhistorik!AO103=\"Hög\",3,0))),AI101)","v":0},{"$f":"IF(Riskhistorik!AO$2<>\"Datum\",IF(Riskhistorik!AP103=\"Låg\",1,IF(Riskhistorik!AP103=\"Medel\",2,IF(Riskhistorik!AP103=\"Hög\",3,0))),AJ101)","v":0},{"$f":"IF(Riskhistorik!AQ$2<>\"Datum\",IF(Riskhistorik!AQ103=\"Låg\",1,IF(Riskhistorik!AQ103=\"Medel\",2,IF(Riskhistorik!AQ103=\"Hög\",3,0))),AK101)","v":0},{"$f":"IF(Riskhistorik!AQ$2<>\"Datum\",IF(Riskhistorik!AR103=\"Låg\",1,IF(Riskhistorik!AR103=\"Medel\",2,IF(Riskhistorik!AR103=\"Hög\",3,0))),AL101)","v":0},0,0,0,0,0,0,0,0,0,0,0,0,0,0,0,0,0,0,0,0]
[null,null,null,null,null,null,null,null,{"$f":"IF(Riskhistorik!M$2<>\"Datum\",IF(Riskhistorik!M104=\"Låg\",1,IF(Riskhistorik!M104=\"Medel\",2,IF(Riskhistorik!M104=\"Hög\",3,0))),G102)","v":0},{"$f":"IF(Riskhistorik!M$2<>\"Datum\",IF(Riskhistorik!N104=\"Låg\",1,IF(Riskhistorik!N104=\"Medel\",2,IF(Riskhistorik!N104=\"Hög\",3,0))),H102)","v":0},{"$f":"IF(Riskhistorik!O$2<>\"Datum\",IF(Riskhistorik!O104=\"Låg\",1,IF(Riskhistorik!O104=\"Medel\",2,IF(Riskhistorik!O104=\"Hög\",3,0))),I102)","v":0},{"$f":"IF(Riskhistorik!O$2<>\"Datum\",IF(Riskhistorik!P104=\"Låg\",1,IF(Riskhistorik!P104=\"Medel\",2,IF(Riskhistorik!P104=\"Hög\",3,0))),J102)","v":0},{"$f":"IF(Riskhistorik!Q$2<>\"Datum\",IF(Riskhistorik!Q104=\"Låg\",1,IF(Riskhistorik!Q104=\"Medel\",2,IF(Riskhistorik!Q104=\"Hög\",3,0))),K102)","v":0},{"$f":"IF(Riskhistorik!Q$2<>\"Datum\",IF(Riskhistorik!R104=\"Låg\",1,IF(Riskhistorik!R104=\"Medel\",2,IF(Riskhistorik!R104=\"Hög\",3,0))),L102)","v":0},{"$f":"IF(Riskhistorik!S$2<>\"Datum\",IF(Riskhistorik!S104=\"Låg\",1,IF(Riskhistorik!S104=\"Medel\",2,IF(Riskhistorik!S104=\"Hög\",3,0))),M102)","v":0},{"$f":"IF(Riskhistorik!S$2<>\"Datum\",IF(Riskhistorik!T104=\"Låg\",1,IF(Riskhistorik!T104=\"Medel\",2,IF(Riskhistorik!T104=\"Hög\",3,0))),N102)","v":0},{"$f":"IF(Riskhistorik!U$2<>\"Datum\",IF(Riskhistorik!U104=\"Låg\",1,IF(Riskhistorik!U104=\"Medel\",2,IF(Riskhistorik!U104=\"Hög\",3,0))),O102)","v":0},{"$f":"IF(Riskhistorik!U$2<>\"Datum\",IF(Riskhistorik!V104=\"Låg\",1,IF(Riskhistorik!V104=\"Medel\",2,IF(Riskhistorik!V104=\"Hög\",3,0))),P102)","v":0},{"$f":"IF(Riskhistorik!W$2<>\"Datum\",IF(Riskhistorik!W104=\"Låg\",1,IF(Riskhistorik!W104=\"Medel\",2,IF(Riskhistorik!W104=\"Hög\",3,0))),Q102)","v":0},{"$f":"IF(Riskhistorik!W$2<>\"Datum\",IF(Riskhistorik!X104=\"Låg\",1,IF(Riskhistorik!X104=\"Medel\",2,IF(Riskhistorik!X104=\"Hög\",3,0))),R102)","v":0},{"$f":"IF(Riskhistorik!Y$2<>\"Datum\",IF(Riskhistorik!Y104=\"Låg\",1,IF(Riskhistorik!Y104=\"Medel\",2,IF(Riskhistorik!Y104=\"Hög\",3,0))),S102)","v":0},{"$f":"IF(Riskhistorik!Y$2<>\"Datum\",IF(Riskhistorik!Z104=\"Låg\",1,IF(Riskhistorik!Z104=\"Medel\",2,IF(Riskhistorik!Z104=\"Hög\",3,0))),T102)","v":0},{"$f":"IF(Riskhistorik!AA$2<>\"Datum\",IF(Riskhistorik!AA104=\"Låg\",1,IF(Riskhistorik!AA104=\"Medel\",2,IF(Riskhistorik!AA104=\"Hög\",3,0))),U102)","v":0},{"$f":"IF(Riskhistorik!AA$2<>\"Datum\",IF(Riskhistorik!AB104=\"Låg\",1,IF(Riskhistorik!AB104=\"Medel\",2,IF(Riskhistorik!AB104=\"Hög\",3,0))),V102)","v":0},{"$f":"IF(Riskhistorik!AC$2<>\"Datum\",IF(Riskhistorik!AC104=\"Låg\",1,IF(Riskhistorik!AC104=\"Medel\",2,IF(Riskhistorik!AC104=\"Hög\",3,0))),W102)","v":0},{"$f":"IF(Riskhistorik!AC$2<>\"Datum\",IF(Riskhistorik!AD104=\"Låg\",1,IF(Riskhistorik!AD104=\"Medel\",2,IF(Riskhistorik!AD104=\"Hög\",3,0))),X102)","v":0},{"$f":"IF(Riskhistorik!AE$2<>\"Datum\",IF(Riskhistorik!AE104=\"Låg\",1,IF(Riskhistorik!AE104=\"Medel\",2,IF(Riskhistorik!AE104=\"Hög\",3,0))),Y102)","v":0},{"$f":"IF(Riskhistorik!AE$2<>\"Datum\",IF(Riskhistorik!AF104=\"Låg\",1,IF(Riskhistorik!AF104=\"Medel\",2,IF(Riskhistorik!AF104=\"Hög\",3,0))),Z102)","v":0},{"$f":"IF(Riskhistorik!AG$2<>\"Datum\",IF(Riskhistorik!AG104=\"Låg\",1,IF(Riskhistorik!AG104=\"Medel\",2,IF(Riskhistorik!AG104=\"Hög\",3,0))),AA102)","v":0},{"$f":"IF(Riskhistorik!AG$2<>\"Datum\",IF(Riskhistorik!AH104=\"Låg\",1,IF(Riskhistorik!AH104=\"Medel\",2,IF(Riskhistorik!AH104=\"Hög\",3,0))),AB102)","v":0},{"$f":"IF(Riskhistorik!AI$2<>\"Datum\",IF(Riskhistorik!AI104=\"Låg\",1,IF(Riskhistorik!AI104=\"Medel\",2,IF(Riskhistorik!AI104=\"Hög\",3,0))),AC102)","v":0},{"$f":"IF(Riskhistorik!AI$2<>\"Datum\",IF(Riskhistorik!AJ104=\"Låg\",1,IF(Riskhistorik!AJ104=\"Medel\",2,IF(Riskhistorik!AJ104=\"Hög\",3,0))),AD102)","v":0},{"$f":"IF(Riskhistorik!AK$2<>\"Datum\",IF(Riskhistorik!AK104=\"Låg\",1,IF(Riskhistorik!AK104=\"Medel\",2,IF(Riskhistorik!AK104=\"Hög\",3,0))),AE102)","v":0},{"$f":"IF(Riskhistorik!AK$2<>\"Datum\",IF(Riskhistorik!AL104=\"Låg\",1,IF(Riskhistorik!AL104=\"Medel\",2,IF(Riskhistorik!AL104=\"Hög\",3,0))),AF102)","v":0},{"$f":"IF(Riskhistorik!AM$2<>\"Datum\",IF(Riskhistorik!AM104=\"Låg\",1,IF(Riskhistorik!AM104=\"Medel\",2,IF(Riskhistorik!AM104=\"Hög\",3,0))),AG102)","v":0},{"$f":"IF(Riskhistorik!AM$2<>\"Datum\",IF(Riskhistorik!AN104=\"Låg\",1,IF(Riskhistorik!AN104=\"Medel\",2,IF(Riskhistorik!AN104=\"Hög\",3,0))),AH102)","v":0},{"$f":"IF(Riskhistorik!AO$2<>\"Datum\",IF(Riskhistorik!AO104=\"Låg\",1,IF(Riskhistorik!AO104=\"Medel\",2,IF(Riskhistorik!AO104=\"Hög\",3,0))),AI102)","v":0},{"$f":"IF(Riskhistorik!AO$2<>\"Datum\",IF(Riskhistorik!AP104=\"Låg\",1,IF(Riskhistorik!AP104=\"Medel\",2,IF(Riskhistorik!AP104=\"Hög\",3,0))),AJ102)","v":0},{"$f":"IF(Riskhistorik!AQ$2<>\"Datum\",IF(Riskhistorik!AQ104=\"Låg\",1,IF(Riskhistorik!AQ104=\"Medel\",2,IF(Riskhistorik!AQ104=\"Hög\",3,0))),AK102)","v":0},{"$f":"IF(Riskhistorik!AQ$2<>\"Datum\",IF(Riskhistorik!AR104=\"Låg\",1,IF(Riskhistorik!AR104=\"Medel\",2,IF(Riskhistorik!AR104=\"Hög\",3,0))),AL102)","v":0},0,0,0,0,0,0,0,0,0,0,0,0,0,0,0,0,0,0,0,0]
[null,null,null,null,null,null,null,null,{"$f":"IF(Riskhistorik!M$2<>\"Datum\",IF(Riskhistorik!M105=\"Låg\",1,IF(Riskhistorik!M105=\"Medel\",2,IF(Riskhistorik!M105=\"Hög\",3,0))),G103)","v":0},{"$f":"IF(Riskhistorik!M$2<>\"Datum\",IF(Riskhistorik!N105=\"Låg\",1,IF(Riskhistorik!N105=\"Medel\",2,IF(Riskhistorik!N105=\"Hög\",3,0))),H103)","v":0},{"$f":"IF(Riskhistorik!O$2<>\"Datum\",IF(Riskhistorik!O105=\"Låg\",1,IF(Riskhistorik!O105=\"Medel\",2,IF(Riskhistorik!O105=\"Hög\",3,0))),I103)","v":0},{"$f":"IF(Riskhistorik!O$2<>\"Datum\",IF(Riskhistorik!P105=\"Låg\",1,IF(Riskhistorik!P105=\"Medel\",2,IF(Riskhistorik!P105=\"Hög\",3,0))),J103)","v":0},{"$f":"IF(Riskhistorik!Q$2<>\"Datum\",IF(Riskhistorik!Q105=\"Låg\",1,IF(Riskhistorik!Q105=\"Medel\",2,IF(Riskhistorik!Q105=\"Hög\",3,0))),K103)","v":0},{"$f":"IF(Riskhistorik!Q$2<>\"Datum\",IF(Riskhistorik!R105=\"Låg\",1,IF(Riskhistorik!R105=\"Medel\",2,IF(Riskhistorik!R105=\"Hög\",3,0))),L103)","v":0},{"$f":"IF(Riskhistorik!S$2<>\"Datum\",IF(Riskhistorik!S105=\"Låg\",1,IF(Riskhistorik!S105=\"Medel\",2,IF(Riskhistorik!S105=\"Hög\",3,0))),M103)","v":0},{"$f":"IF(Riskhistorik!S$2<>\"Datum\",IF(Riskhistorik!T105=\"Låg\",1,IF(Riskhistorik!T105=\"Medel\",2,IF(Riskhistorik!T105=\"Hög\",3,0))),N103)","v":0},{"$f":"IF(Riskhistorik!U$2<>\"Datum\",IF(Riskhistorik!U105=\"Låg\",1,IF(Riskhistorik!U105=\"Medel\",2,IF(Riskhistorik!U105=\"Hög\",3,0))),O103)","v":0},{"$f":"IF(Riskhistorik!U$2<>\"Datum\",IF(Riskhistorik!V105=\"Låg\",1,IF(Riskhistorik!V105=\"Medel\",2,IF(Riskhistorik!V105=\"Hög\",3,0))),P103)","v":0},{"$f":"IF(Riskhistorik!W$2<>\"Datum\",IF(Riskhistorik!W105=\"Låg\",1,IF(Riskhistorik!W105=\"Medel\",2,IF(Riskhistorik!W105=\"Hög\",3,0))),Q103)","v":0},{"$f":"IF(Riskhistorik!W$2<>\"Datum\",IF(Riskhistorik!X105=\"Låg\",1,IF(Riskhistorik!X105=\"Medel\",2,IF(Riskhistorik!X105=\"Hög\",3,0))),R103)","v":0},{"$f":"IF(Riskhistorik!Y$2<>\"Datum\",IF(Riskhistorik!Y105=\"Låg\",1,IF(Riskhistorik!Y105=\"Medel\",2,IF(Riskhistorik!Y105=\"Hög\",3,0))),S103)","v":0},{"$f":"IF(Riskhistorik!Y$2<>\"Datum\",IF(Riskhistorik!Z105=\"Låg\",1,IF(Riskhistorik!Z105=\"Medel\",2,IF(Riskhistorik!Z105=\"Hög\",3,0))),T103)","v":0},{"$f":"IF(Riskhistorik!AA$2<>\"Datum\",IF(Riskhistorik!AA105=\"Låg\",1,IF(Riskhistorik!AA105=\"Medel\",2,IF(Riskhistorik!AA105=\"Hög\",3,0))),U103)","v":0},{"$f":"IF(Riskhistorik!AA$2<>\"Datum\",IF(Riskhistorik!AB105=\"Låg\",1,IF(Riskhistorik!AB105=\"Medel\",2,IF(Riskhistorik!AB105=\"Hög\",3,0))),V103)","v":0},{"$f":"IF(Riskhistorik!AC$2<>\"Datum\",IF(Riskhistorik!AC105=\"Låg\",1,IF(Riskhistorik!AC105=\"Medel\",2,IF(Riskhistorik!AC105=\"Hög\",3,0))),W103)","v":0},{"$f":"IF(Riskhistorik!AC$2<>\"Datum\",IF(Riskhistorik!AD105=\"Låg\",1,IF(Riskhistorik!AD105=\"Medel\",2,IF(Riskhistorik!AD105=\"Hög\",3,0))),X103)","v":0},{"$f":"IF(Riskhistorik!AE$2<>\"Datum\",IF(Riskhistorik!AE105=\"Låg\",1,IF(Riskhistorik!AE105=\"Medel\",2,IF(Riskhistorik!AE105=\"Hög\",3,0))),Y103)","v":0},{"$f":"IF(Riskhistorik!AE$2<>\"Datum\",IF(Riskhistorik!AF105=\"Låg\",1,IF(Riskhistorik!AF105=\"Medel\",2,IF(Riskhistorik!AF105=\"Hög\",3,0))),Z103)","v":0},{"$f":"IF(Riskhistorik!AG$2<>\"Datum\",IF(Riskhistorik!AG105=\"Låg\",1,IF(Riskhistorik!AG105=\"Medel\",2,IF(Riskhistorik!AG105=\"Hög\",3,0))),AA103)","v":0},{"$f":"IF(Riskhistorik!AG$2<>\"Datum\",IF(Riskhistorik!AH105=\"Låg\",1,IF(Riskhistorik!AH105=\"Medel\",2,IF(Riskhistorik!AH105=\"Hög\",3,0))),AB103)","v":0},{"$f":"IF(Riskhistorik!AI$2<>\"Datum\",IF(Riskhistorik!AI105=\"Låg\",1,IF(Riskhistorik!AI105=\"Medel\",2,IF(Riskhistorik!AI105=\"Hög\",3,0))),AC103)","v":0},{"$f":"IF(Riskhistorik!AI$2<>\"Datum\",IF(Riskhistorik!AJ105=\"Låg\",1,IF(Riskhistorik!AJ105=\"Medel\",2,IF(Riskhistorik!AJ105=\"Hög\",3,0))),AD103)","v":0},{"$f":"IF(Riskhistorik!AK$2<>\"Datum\",IF(Riskhistorik!AK105=\"Låg\",1,IF(Riskhistorik!AK105=\"Medel\",2,IF(Riskhistorik!AK105=\"Hög\",3,0))),AE103)","v":0},{"$f":"IF(Riskhistorik!AK$2<>\"Datum\",IF(Riskhistorik!AL105=\"Låg\",1,IF(Riskhistorik!AL105=\"Medel\",2,IF(Riskhistorik!AL105=\"Hög\",3,0))),AF103)","v":0},{"$f":"IF(Riskhistorik!AM$2<>\"Datum\",IF(Riskhistorik!AM105=\"Låg\",1,IF(Riskhistorik!AM105=\"Medel\",2,IF(Riskhistorik!AM105=\"Hög\",3,0))),AG103)","v":0},{"$f":"IF(Riskhistorik!AM$2<>\"Datum\",IF(Riskhistorik!AN105=\"Låg\",1,IF(Riskhistorik!AN105=\"Medel\",2,IF(Riskhistorik!AN105=\"Hög\",3,0))),AH103)","v":0},{"$f":"IF(Riskhistorik!AO$2<>\"Datum\",IF(Riskhistorik!AO105=\"Låg\",1,IF(Riskhistorik!AO105=\"Medel\",2,IF(Riskhistorik!AO105=\"Hög\",3,0))),AI103)","v":0},{"$f":"IF(Riskhistorik!AO$2<>\"Datum\",IF(Riskhistorik!AP105=\"Låg\",1,IF(Riskhistorik!AP105=\"Medel\",2,IF(Riskhistorik!AP105=\"Hög\",3,0))),AJ103)","v":0},{"$f":"IF(Riskhistorik!AQ$2<>\"Datum\",IF(Riskhistorik!AQ105=\"Låg\",1,IF(Riskhistorik!AQ105=\"Medel\",2,IF(Riskhistorik!AQ105=\"Hög\",3,0))),AK103)","v":0},{"$f":"IF(Riskhistorik!AQ$2<>\"Datum\",IF(Riskhistorik!AR105=\"Låg\",1,IF(Riskhistorik!AR105=\"Medel\",2,IF(Riskhistorik!AR105=\"Hög\",3,0))),AL103)","v":0},0,0,0,0,0,0,0,0,0,0,0,0,0,0,0,0,0,0,0,0]
[null,null,null,null,null,null,null,null,{"$f":"IF(Riskhistorik!M$2<>\"Datum\",IF(Riskhistorik!M106=\"Låg\",1,IF(Riskhistorik!M106=\"Medel\",2,IF(Riskhistorik!M106=\"Hög\",3,0))),G104)","v":0},{"$f":"IF(Riskhistorik!M$2<>\"Datum\",IF(Riskhistorik!N106=\"Låg\",1,IF(Riskhistorik!N106=\"Medel\",2,IF(Riskhistorik!N106=\"Hög\",3,0))),H104)","v":0},{"$f":"IF(Riskhistorik!O$2<>\"Datum\",IF(Riskhistorik!O106=\"Låg\",1,IF(Riskhistorik!O106=\"Medel\",2,IF(Riskhistorik!O106=\"Hög\",3,0))),I104)","v":0},{"$f":"IF(Riskhistorik!O$2<>\"Datum\",IF(Riskhistorik!P106=\"Låg\",1,IF(Riskhistorik!P106=\"Medel\",2,IF(Riskhistorik!P106=\"Hög\",3,0))),J104)","v":0},{"$f":"IF(Riskhistorik!Q$2<>\"Datum\",IF(Riskhistorik!Q106=\"Låg\",1,IF(Riskhistorik!Q106=\"Medel\",2,IF(Riskhistorik!Q106=\"Hög\",3,0))),K104)","v":0},{"$f":"IF(Riskhistorik!Q$2<>\"Datum\",IF(Riskhistorik!R106=\"Låg\",1,IF(Riskhistorik!R106=\"Medel\",2,IF(Riskhistorik!R106=\"Hög\",3,0))),L104)","v":0},{"$f":"IF(Riskhistorik!S$2<>\"Datum\",IF(Riskhistorik!S106=\"Låg\",1,IF(Riskhistorik!S106=\"Medel\",2,IF(Riskhistorik!S106=\"Hög\",3,0))),M104)","v":0},{"$f":"IF(Riskhistorik!S$2<>\"Datum\",IF(Riskhistorik!T106=\"Låg\",1,IF(Riskhistorik!T106=\"Medel\",2,IF(Riskhistorik!T106=\"Hög\",3,0))),N104)","v":0},{"$f":"IF(Riskhistorik!U$2<>\"Datum\",IF(Riskhistorik!U106=\"Låg\",1,IF(Riskhistorik!U106=\"Medel\",2,IF(Riskhistorik!U106=\"Hög\",3,0))),O104)","v":0},{"$f":"IF(Riskhistorik!U$2<>\"Datum\",IF(Riskhistorik!V106=\"Låg\",1,IF(Riskhistorik!V106=\"Medel\",2,IF(Riskhistorik!V106=\"Hög\",3,0))),P104)","v":0},{"$f":"IF(Riskhistorik!W$2<>\"Datum\",IF(Riskhistorik!W106=\"Låg\",1,IF(Riskhistorik!W106=\"Medel\",2,IF(Riskhistorik!W106=\"Hög\",3,0))),Q104)","v":0},{"$f":"IF(Riskhistorik!W$2<>\"Datum\",IF(Riskhistorik!X106=\"Låg\",1,IF(Riskhistorik!X106=\"Medel\",2,IF(Riskhistorik!X106=\"Hög\",3,0))),R104)","v":0},{"$f":"IF(Riskhistorik!Y$2<>\"Datum\",IF(Riskhistorik!Y106=\"Låg\",1,IF(Riskhistorik!Y106=\"Medel\",2,IF(Riskhistorik!Y106=\"Hög\",3,0))),S104)","v":0},{"$f":"IF(Riskhistorik!Y$2<>\"Datum\",IF(Riskhistorik!Z106=\"Låg\",1,IF(Riskhistorik!Z106=\"Medel\",2,IF(Riskhistorik!Z106=\"Hög\",3,0))),T104)","v":0},{"$f":"IF(Riskhistorik!AA$2<>\"Datum\",IF(Riskhistorik!AA106=\"Låg\",1,IF(Riskhistorik!AA106=\"Medel\",2,IF(Riskhistorik!AA106=\"Hög\",3,0))),U104)","v":0},{"$f":"IF(Riskhistorik!AA$2<>\"Datum\",IF(Riskhistorik!AB106=\"Låg\",1,IF(Riskhistorik!AB106=\"Medel\",2,IF(Riskhistorik!AB106=\"Hög\",3,0))),V104)","v":0},{"$f":"IF(Riskhistorik!AC$2<>\"Datum\",IF(Riskhistorik!AC106=\"Låg\",1,IF(Riskhistorik!AC106=\"Medel\",2,IF(Riskhistorik!AC106=\"Hög\",3,0))),W104)","v":0},{"$f":"IF(Riskhistorik!AC$2<>\"Datum\",IF(Riskhistorik!AD106=\"Låg\",1,IF(Riskhistorik!AD106=\"Medel\",2,IF(Riskhistorik!AD106=\"Hög\",3,0))),X104)","v":0},{"$f":"IF(Riskhistorik!AE$2<>\"Datum\",IF(Riskhistorik!AE106=\"Låg\",1,IF(Riskhistorik!AE106=\"Medel\",2,IF(Riskhistorik!AE106=\"Hög\",3,0))),Y104)","v":0},{"$f":"IF(Riskhistorik!AE$2<>\"Datum\",IF(Riskhistorik!AF106=\"Låg\",1,IF(Riskhistorik!AF106=\"Medel\",2,IF(Riskhistorik!AF106=\"Hög\",3,0))),Z104)","v":0},{"$f":"IF(Riskhistorik!AG$2<>\"Datum\",IF(Riskhistorik!AG106=\"Låg\",1,IF(Riskhistorik!AG106=\"Medel\",2,IF(Riskhistorik!AG106=\"Hög\",3,0))),AA104)","v":0},{"$f":"IF(Riskhistorik!AG$2<>\"Datum\",IF(Riskhistorik!AH106=\"Låg\",1,IF(Riskhistorik!AH106=\"Medel\",2,IF(Riskhistorik!AH106=\"Hög\",3,0))),AB104)","v":0},{"$f":"IF(Riskhistorik!AI$2<>\"Datum\",IF(Riskhistorik!AI106=\"Låg\",1,IF(Riskhistorik!AI106=\"Medel\",2,IF(Riskhistorik!AI106=\"Hög\",3,0))),AC104)","v":0},{"$f":"IF(Riskhistorik!AI$2<>\"Datum\",IF(Riskhistorik!AJ106=\"Låg\",1,IF(Riskhistorik!AJ106=\"Medel\",2,IF(Riskhistorik!AJ106=\"Hög\",3,0))),AD104)","v":0},{"$f":"IF(Riskhistorik!AK$2<>\"Datum\",IF(Riskhistorik!AK106=\"Låg\",1,IF(Riskhistorik!AK106=\"Medel\",2,IF(Riskhistorik!AK106=\"Hög\",3,0))),AE104)","v":0},{"$f":"IF(Riskhistorik!AK$2<>\"Datum\",IF(Riskhistorik!AL106=\"Låg\",1,IF(Riskhistorik!AL106=\"Medel\",2,IF(Riskhistorik!AL106=\"Hög\",3,0))),AF104)","v":0},{"$f":"IF(Riskhistorik!AM$2<>\"Datum\",IF(Riskhistorik!AM106=\"Låg\",1,IF(Riskhistorik!AM106=\"Medel\",2,IF(Riskhistorik!AM106=\"Hög\",3,0))),AG104)","v":0},{"$f":"IF(Riskhistorik!AM$2<>\"Datum\",IF(Riskhistorik!AN106=\"Låg\",1,IF(Riskhistorik!AN106=\"Medel\",2,IF(Riskhistorik!AN106=\"Hög\",3,0))),AH104)","v":0},{"$f":"IF(Riskhistorik!AO$2<>\"Datum\",IF(Riskhistorik!AO106=\"Låg\",1,IF(Riskhistorik!AO106=\"Medel\",2,IF(Riskhistorik!AO106=\"Hög\",3,0))),AI104)","v":0},{"$f":"IF(Riskhistorik!AO$2<>\"Datum\",IF(Riskhistorik!AP106=\"Låg\",1,IF(Riskhistorik!AP106=\"Medel\",2,IF(Riskhistorik!AP106=\"Hög\",3,0))),AJ104)","v":0},{"$f":"IF(Riskhistorik!AQ$2<>\"Datum\",IF(Riskhistorik!AQ106=\"Låg\",1,IF(Riskhistorik!AQ106=\"Medel\",2,IF(Riskhistorik!AQ106=\"Hög\",3,0))),AK104)","v":0},{"$f":"IF(Riskhistorik!AQ$2<>\"Datum\",IF(Riskhistorik!AR106=\"Låg\",1,IF(Riskhistorik!AR106=\"Medel\",2,IF(Riskhistorik!AR106=\"Hög\",3,0))),AL104)","v":0},0,0,0,0,0,0,0,0,0,0,0,0,0,0,0,0,0,0,0,0]
[null,null,null,null,null,null,null,null,{"$f":"IF(Riskhistorik!M$2<>\"Datum\",IF(Riskhistorik!M107=\"Låg\",1,IF(Riskhistorik!M107=\"Medel\",2,IF(Riskhistorik!M107=\"Hög\",3,0))),G105)","v":0},{"$f":"IF(Riskhistorik!M$2<>\"Datum\",IF(Riskhistorik!N107=\"Låg\",1,IF(Riskhistorik!N107=\"Medel\",2,IF(Riskhistorik!N107=\"Hög\",3,0))),H105)","v":0},{"$f":"IF(Riskhistorik!O$2<>\"Datum\",IF(Riskhistorik!O107=\"Låg\",1,IF(Riskhistorik!O107=\"Medel\",2,IF(Riskhistorik!O107=\"Hög\",3,0))),I105)","v":0},{"$f":"IF(Riskhistorik!O$2<>\"Datum\",IF(Riskhistorik!P107=\"Låg\",1,IF(Riskhistorik!P107=\"Medel\",2,IF(Riskhistorik!P107=\"Hög\",3,0))),J105)","v":0},{"$f":"IF(Riskhistorik!Q$2<>\"Datum\",IF(Riskhistorik!Q107=\"Låg\",1,IF(Riskhistorik!Q107=\"Medel\",2,IF(Riskhistorik!Q107=\"Hög\",3,0))),K105)","v":0},{"$f":"IF(Riskhistorik!Q$2<>\"Datum\",IF(Riskhistorik!R107=\"Låg\",1,IF(Riskhistorik!R107=\"Medel\",2,IF(Riskhistorik!R107=\"Hög\",3,0))),L105)","v":0},{"$f":"IF(Riskhistorik!S$2<>\"Datum\",IF(Riskhistorik!S107=\"Låg\",1,IF(Riskhistorik!S107=\"Medel\",2,IF(Riskhistorik!S107=\"Hög\",3,0))),M105)","v":0},{"$f":"IF(Riskhistorik!S$2<>\"Datum\",IF(Riskhistorik!T107=\"Låg\",1,IF(Riskhistorik!T107=\"Medel\",2,IF(Riskhistorik!T107=\"Hög\",3,0))),N105)","v":0},{"$f":"IF(Riskhistorik!U$2<>\"Datum\",IF(Riskhistorik!U107=\"Låg\",1,IF(Riskhistorik!U107=\"Medel\",2,IF(Riskhistorik!U107=\"Hög\",3,0))),O105)","v":0},{"$f":"IF(Riskhistorik!U$2<>\"Datum\",IF(Riskhistorik!V107=\"Låg\",1,IF(Riskhistorik!V107=\"Medel\",2,IF(Riskhistorik!V107=\"Hög\",3,0))),P105)","v":0},{"$f":"IF(Riskhistorik!W$2<>\"Datum\",IF(Riskhistorik!W107=\"Låg\",1,IF(Riskhistorik!W107=\"Medel\",2,IF(Riskhistorik!W107=\"Hög\",3,0))),Q105)","v":0},{"$f":"IF(Riskhistorik!W$2<>\"Datum\",IF(Riskhistorik!X107=\"Låg\",1,IF(Riskhistorik!X107=\"Medel\",2,IF(Riskhistorik!X107=\"Hög\",3,0))),R105)","v":0},{"$f":"IF(Riskhistorik!Y$2<>\"Datum\",IF(Riskhistorik!Y107=\"Låg\",1,IF(Riskhistorik!Y107=\"Medel\",2,IF(Riskhistorik!Y107=\"Hög\",3,0))),S105)","v":0},{"$f":"IF(Riskhistorik!Y$2<>\"Datum\",IF(Riskhistorik!Z107=\"Låg\",1,IF(Riskhistorik!Z107=\"Medel\",2,IF(Riskhistorik!Z107=\"Hög\",3,0))),T105)","v":0},{"$f":"IF(Riskhistorik!AA$2<>\"Datum\",IF(Riskhistorik!AA107=\"Låg\",1,IF(Riskhistorik!AA107=\"Medel\",2,IF(Riskhistorik!AA107=\"Hög\",3,0))),U105)","v":0},{"$f":"IF(Riskhistorik!AA$2<>\"Datum\",IF(Riskhistorik!AB107=\"Låg\",1,IF(Riskhistorik!AB107=\"Medel\",2,IF(Riskhistorik!AB107=\"Hög\",3,0))),V105)","v":0},{"$f":"IF(Riskhistorik!AC$2<>\"Datum\",IF(Riskhistorik!AC107=\"Låg\",1,IF(Riskhistorik!AC107=\"Medel\",2,IF(Riskhistorik!AC107=\"Hög\",3,0))),W105)","v":0},{"$f":"IF(Riskhistorik!AC$2<>\"Datum\",IF(Riskhistorik!AD107=\"Låg\",1,IF(Riskhistorik!AD107=\"Medel\",2,IF(Riskhistorik!AD107=\"Hög\",3,0))),X105)","v":0},{"$f":"IF(Riskhistorik!AE$2<>\"Datum\",IF(Riskhistorik!AE107=\"Låg\",1,IF(Riskhistorik!AE107=\"Medel\",2,IF(Riskhistorik!AE107=\"Hög\",3,0))),Y105)","v":0},{"$f":"IF(Riskhistorik!AE$2<>\"Datum\",IF(Riskhistorik!AF107=\"Låg\",1,IF(Riskhistorik!AF107=\"Medel\",2,IF(Riskhistorik!AF107=\"Hög\",3,0))),Z105)","v":0},{"$f":"IF(Riskhistorik!AG$2<>\"Datum\",IF(Riskhistorik!AG107=\"Låg\",1,IF(Riskhistorik!AG107=\"Medel\",2,IF(Riskhistorik!AG107=\"Hög\",3,0))),AA105)","v":0},{"$f":"IF(Riskhistorik!AG$2<>\"Datum\",IF(Riskhistorik!AH107=\"Låg\",1,IF(Riskhistorik!AH107=\"Medel\",2,IF(Riskhistorik!AH107=\"Hög\",3,0))),AB105)","v":0},{"$f":"IF(Riskhistorik!AI$2<>\"Datum\",IF(Riskhistorik!AI107=\"Låg\",1,IF(Riskhistorik!AI107=\"Medel\",2,IF(Riskhistorik!AI107=\"Hög\",3,0))),AC105)","v":0},{"$f":"IF(Riskhistorik!AI$2<>\"Datum\",IF(Riskhistorik!AJ107=\"Låg\",1,IF(Riskhistorik!AJ107=\"Medel\",2,IF(Riskhistorik!AJ107=\"Hög\",3,0))),AD105)","v":0},{"$f":"IF(Riskhistorik!AK$2<>\"Datum\",IF(Riskhistorik!AK107=\"Låg\",1,IF(Riskhistorik!AK107=\"Medel\",2,IF(Riskhistorik!AK107=\"Hög\",3,0))),AE105)","v":0},{"$f":"IF(Riskhistorik!AK$2<>\"Datum\",IF(Riskhistorik!AL107=\"Låg\",1,IF(Riskhistorik!AL107=\"Medel\",2,IF(Riskhistorik!AL107=\"Hög\",3,0))),AF105)","v":0},{"$f":"IF(Riskhistorik!AM$2<>\"Datum\",IF(Riskhistorik!AM107=\"Låg\",1,IF(Riskhistorik!AM107=\"Medel\",2,IF(Riskhistorik!AM107=\"Hög\",3,0))),AG105)","v":0},{"$f":"IF(Riskhistorik!AM$2<>\"Datum\",IF(Riskhistorik!AN107=\"Låg\",1,IF(Riskhistorik!AN107=\"Medel\",2,IF(Riskhistorik!AN107=\"Hög\",3,0))),AH105)","v":0},{"$f":"IF(Riskhistorik!AO$2<>\"Datum\",IF(Riskhistorik!AO107=\"Låg\",1,IF(Riskhistorik!AO107=\"Medel\",2,IF(Riskhistorik!AO107=\"Hög\",3,0))),AI105)","v":0},{"$f":"IF(Riskhistorik!AO$2<>\"Datum\",IF(Riskhistorik!AP107=\"Låg\",1,IF(Riskhistorik!AP107=\"Medel\",2,IF(Riskhistorik!AP107=\"Hög\",3,0))),AJ105)","v":0},{"$f":"IF(Riskhistorik!AQ$2<>\"Datum\",IF(Riskhistorik!AQ107=\"Låg\",1,IF(Riskhistorik!AQ107=\"Medel\",2,IF(Riskhistorik!AQ107=\"Hög\",3,0))),AK105)","v":0},{"$f":"IF(Riskhistorik!AQ$2<>\"Datum\",IF(Riskhistorik!AR107=\"Låg\",1,IF(Riskhistorik!AR107=\"Medel\",2,IF(Riskhistorik!AR107=\"Hög\",3,0))),AL105)","v":0},0,0,0,0,0,0,0,0,0,0,0,0,0,0,0,0,0,0,0,0]
[null,null,null,null,null,null,null,null,{"$f":"IF(Riskhistorik!M$2<>\"Datum\",IF(Riskhistorik!M108=\"Låg\",1,IF(Riskhistorik!M108=\"Medel\",2,IF(Riskhistorik!M108=\"Hög\",3,0))),G106)","v":0},{"$f":"IF(Riskhistorik!M$2<>\"Datum\",IF(Riskhistorik!N108=\"Låg\",1,IF(Riskhistorik!N108=\"Medel\",2,IF(Riskhistorik!N108=\"Hög\",3,0))),H106)","v":0},{"$f":"IF(Riskhistorik!O$2<>\"Datum\",IF(Riskhistorik!O108=\"Låg\",1,IF(Riskhistorik!O108=\"Medel\",2,IF(Riskhistorik!O108=\"Hög\",3,0))),I106)","v":0},{"$f":"IF(Riskhistorik!O$2<>\"Datum\",IF(Riskhistorik!P108=\"Låg\",1,IF(Riskhistorik!P108=\"Medel\",2,IF(Riskhistorik!P108=\"Hög\",3,0))),J106)","v":0},{"$f":"IF(Riskhistorik!Q$2<>\"Datum\",IF(Riskhistorik!Q108=\"Låg\",1,IF(Riskhistorik!Q108=\"Medel\",2,IF(Riskhistorik!Q108=\"Hög\",3,0))),K106)","v":0},{"$f":"IF(Riskhistorik!Q$2<>\"Datum\",IF(Riskhistorik!R108=\"Låg\",1,IF(Riskhistorik!R108=\"Medel\",2,IF(Riskhistorik!R108=\"Hög\",3,0))),L106)","v":0},{"$f":"IF(Riskhistorik!S$2<>\"Datum\",IF(Riskhistorik!S108=\"Låg\",1,IF(Riskhistorik!S108=\"Medel\",2,IF(Riskhistorik!S108=\"Hög\",3,0))),M106)","v":0},{"$f":"IF(Riskhistorik!S$2<>\"Datum\",IF(Riskhistorik!T108=\"Låg\",1,IF(Riskhistorik!T108=\"Medel\",2,IF(Riskhistorik!T108=\"Hög\",3,0))),N106)","v":0},{"$f":"IF(Riskhistorik!U$2<>\"Datum\",IF(Riskhistorik!U108=\"Låg\",1,IF(Riskhistorik!U108=\"Medel\",2,IF(Riskhistorik!U108=\"Hög\",3,0))),O106)","v":0},{"$f":"IF(Riskhistorik!U$2<>\"Datum\",IF(Riskhistorik!V108=\"Låg\",1,IF(Riskhistorik!V108=\"Medel\",2,IF(Riskhistorik!V108=\"Hög\",3,0))),P106)","v":0},{"$f":"IF(Riskhistorik!W$2<>\"Datum\",IF(Riskhistorik!W108=\"Låg\",1,IF(Riskhistorik!W108=\"Medel\",2,IF(Riskhistorik!W108=\"Hög\",3,0))),Q106)","v":0},{"$f":"IF(Riskhistorik!W$2<>\"Datum\",IF(Riskhistorik!X108=\"Låg\",1,IF(Riskhistorik!X108=\"Medel\",2,IF(Riskhistorik!X108=\"Hög\",3,0))),R106)","v":0},{"$f":"IF(Riskhistorik!Y$2<>\"Datum\",IF(Riskhistorik!Y108=\"Låg\",1,IF(Riskhistorik!Y108=\"Medel\",2,IF(Riskhistorik!Y108=\"Hög\",3,0))),S106)","v":0},{"$f":"IF(Riskhistorik!Y$2<>\"Datum\",IF(Riskhistorik!Z108=\"Låg\",1,IF(Riskhistorik!Z108=\"Medel\",2,IF(Riskhistorik!Z108=\"Hög\",3,0))),T106)","v":0},{"$f":"IF(Riskhistorik!AA$2<>\"Datum\",IF(Riskhistorik!AA108=\"Låg\",1,IF(Riskhistorik!AA108=\"Medel\",2,IF(Riskhistorik!AA108=\"Hög\",3,0))),U106)","v":0},{"$f":"IF(Riskhistorik!AA$2<>\"Datum\",IF(Riskhistorik!AB108=\"Låg\",1,IF(Riskhistorik!AB108=\"Medel\",2,IF(Riskhistorik!AB108=\"Hög\",3,0))),V106)","v":0},{"$f":"IF(Riskhistorik!AC$2<>\"Datum\",IF(Riskhistorik!AC108=\"Låg\",1,IF(Riskhistorik!AC108=\"Medel\",2,IF(Riskhistorik!AC108=\"Hög\",3,0))),W106)","v":0},{"$f":"IF(Riskhistorik!AC$2<>\"Datum\",IF(Riskhistorik!AD108=\"Låg\",1,IF(Riskhistorik!AD108=\"Medel\",2,IF(Riskhistorik!AD108=\"Hög\",3,0))),X106)","v":0},{"$f":"IF(Riskhistorik!AE$2<>\"Datum\",IF(Riskhistorik!AE108=\"Låg\",1,IF(Riskhistorik!AE108=\"Medel\",2,IF(Riskhistorik!AE108=\"Hög\",3,0))),Y106)","v":0},{"$f":"IF(Riskhistorik!AE$2<>\"Datum\",IF(Riskhistorik!AF108=\"Låg\",1,IF(Riskhistorik!AF108=\"Medel\",2,IF(Riskhistorik!AF108=\"Hög\",3,0))),Z106)","v":0},{"$f":"IF(Riskhistorik!AG$2<>\"Datum\",IF(Riskhistorik!AG108=\"Låg\",1,IF(Riskhistorik!AG108=\"Medel\",2,IF(Riskhistorik!AG108=\"Hög\",3,0))),AA106)","v":0},{"$f":"IF(Riskhistorik!AG$2<>\"Datum\",IF(Riskhistorik!AH108=\"Låg\",1,IF(Riskhistorik!AH108=\"Medel\",2,IF(Riskhistorik!AH108=\"Hög\",3,0))),AB106)","v":0},{"$f":"IF(Riskhistorik!AI$2<>\"Datum\",IF(Riskhistorik!AI108=\"Låg\",1,IF(Riskhistorik!AI108=\"Medel\",2,IF(Riskhistorik!AI108=\"Hög\",3,0))),AC106)","v":0},{"$f":"IF(Riskhistorik!AI$2<>\"Datum\",IF(Riskhistorik!AJ108=\"Låg\",1,IF(Riskhistorik!AJ108=\"Medel\",2,IF(Riskhistorik!AJ108=\"Hög\",3,0))),AD106)","v":0},{"$f":"IF(Riskhistorik!AK$2<>\"Datum\",IF(Riskhistorik!AK108=\"Låg\",1,IF(Riskhistorik!AK108=\"Medel\",2,IF(Riskhistorik!AK108=\"Hög\",3,0))),AE106)","v":0},{"$f":"IF(Riskhistorik!AK$2<>\"Datum\",IF(Riskhistorik!AL108=\"Låg\",1,IF(Riskhistorik!AL108=\"Medel\",2,IF(Riskhistorik!AL108=\"Hög\",3,0))),AF106)","v":0},{"$f":"IF(Riskhistorik!AM$2<>\"Datum\",IF(Riskhistorik!AM108=\"Låg\",1,IF(Riskhistorik!AM108=\"Medel\",2,IF(Riskhistorik!AM108=\"Hög\",3,0))),AG106)","v":0},{"$f":"IF(Riskhistorik!AM$2<>\"Datum\",IF(Riskhistorik!AN108=\"Låg\",1,IF(Riskhistorik!AN108=\"Medel\",2,IF(Riskhistorik!AN108=\"Hög\",3,0))),AH106)","v":0},{"$f":"IF(Riskhistorik!AO$2<>\"Datum\",IF(Riskhistorik!AO108=\"Låg\",1,IF(Riskhistorik!AO108=\"Medel\",2,IF(Riskhistorik!AO108=\"Hög\",3,0))),AI106)","v":0},{"$f":"IF(Riskhistorik!AO$2<>\"Datum\",IF(Riskhistorik!AP108=\"Låg\",1,IF(Riskhistorik!AP108=\"Medel\",2,IF(Riskhistorik!AP108=\"Hög\",3,0))),AJ106)","v":0},{"$f":"IF(Riskhistorik!AQ$2<>\"Datum\",IF(Riskhistorik!AQ108=\"Låg\",1,IF(Riskhistorik!AQ108=\"Medel\",2,IF(Riskhistorik!AQ108=\"Hög\",3,0))),AK106)","v":0},{"$f":"IF(Riskhistorik!AQ$2<>\"Datum\",IF(Riskhistorik!AR108=\"Låg\",1,IF(Riskhistorik!AR108=\"Medel\",2,IF(Riskhistorik!AR108=\"Hög\",3,0))),AL106)","v":0},0,0,0,0,0,0,0,0,0,0,0,0,0,0,0,0,0,0,0,0]
[null,null,null,null,null,null,null,null,{"$f":"IF(Riskhistorik!M$2<>\"Datum\",IF(Riskhistorik!M109=\"Låg\",1,IF(Riskhistorik!M109=\"Medel\",2,IF(Riskhistorik!M109=\"Hög\",3,0))),G107)","v":0},{"$f":"IF(Riskhistorik!M$2<>\"Datum\",IF(Riskhistorik!N109=\"Låg\",1,IF(Riskhistorik!N109=\"Medel\",2,IF(Riskhistorik!N109=\"Hög\",3,0))),H107)","v":0},{"$f":"IF(Riskhistorik!O$2<>\"Datum\",IF(Riskhistorik!O109=\"Låg\",1,IF(Riskhistorik!O109=\"Medel\",2,IF(Riskhistorik!O109=\"Hög\",3,0))),I107)","v":0},{"$f":"IF(Riskhistorik!O$2<>\"Datum\",IF(Riskhistorik!P109=\"Låg\",1,IF(Riskhistorik!P109=\"Medel\",2,IF(Riskhistorik!P109=\"Hög\",3,0))),J107)","v":0},{"$f":"IF(Riskhistorik!Q$2<>\"Datum\",IF(Riskhistorik!Q109=\"Låg\",1,IF(Riskhistorik!Q109=\"Medel\",2,IF(Riskhistorik!Q109=\"Hög\",3,0))),K107)","v":0},{"$f":"IF(Riskhistorik!Q$2<>\"Datum\",IF(Riskhistorik!R109=\"Låg\",1,IF(Riskhistorik!R109=\"Medel\",2,IF(Riskhistorik!R109=\"Hög\",3,0))),L107)","v":0},{"$f":"IF(Riskhistorik!S$2<>\"Datum\",IF(Riskhistorik!S109=\"Låg\",1,IF(Riskhistorik!S109=\"Medel\",2,IF(Riskhistorik!S109=\"Hög\",3,0))),M107)","v":0},{"$f":"IF(Riskhistorik!S$2<>\"Datum\",IF(Riskhistorik!T109=\"Låg\",1,IF(Riskhistorik!T109=\"Medel\",2,IF(Riskhistorik!T109=\"Hög\",3,0))),N107)","v":0},{"$f":"IF(Riskhistorik!U$2<>\"Datum\",IF(Riskhistorik!U109=\"Låg\",1,IF(Riskhistorik!U109=\"Medel\",2,IF(Riskhistorik!U109=\"Hög\",3,0))),O107)","v":0},{"$f":"IF(Riskhistorik!U$2<>\"Datum\",IF(Riskhistorik!V109=\"Låg\",1,IF(Riskhistorik!V109=\"Medel\",2,IF(Riskhistorik!V109=\"Hög\",3,0))),P107)","v":0},{"$f":"IF(Riskhistorik!W$2<>\"Datum\",IF(Riskhistorik!W109=\"Låg\",1,IF(Riskhistorik!W109=\"Medel\",2,IF(Riskhistorik!W109=\"Hög\",3,0))),Q107)","v":0},{"$f":"IF(Riskhistorik!W$2<>\"Datum\",IF(Riskhistorik!X109=\"Låg\",1,IF(Riskhistorik!X109=\"Medel\",2,IF(Riskhistorik!X109=\"Hög\",3,0))),R107)","v":0},{"$f":"IF(Riskhistorik!Y$2<>\"Datum\",IF(Riskhistorik!Y109=\"Låg\",1,IF(Riskhistorik!Y109=\"Medel\",2,IF(Riskhistorik!Y109=\"Hög\",3,0))),S107)","v":0},{"$f":"IF(Riskhistorik!Y$2<>\"Datum\",IF(Riskhistorik!Z109=\"Låg\",1,IF(Riskhistorik!Z109=\"Medel\",2,IF(Riskhistorik!Z109=\"Hög\",3,0))),T107)","v":0},{"$f":"IF(Riskhistorik!AA$2<>\"Datum\",IF(Riskhistorik!AA109=\"Låg\",1,IF(Riskhistorik!AA109=\"Medel\",2,IF(Riskhistorik!AA109=\"Hög\",3,0))),U107)","v":0},{"$f":"IF(Riskhistorik!AA$2<>\"Datum\",IF(Riskhistorik!AB109=\"Låg\",1,IF(Riskhistorik!AB109=\"Medel\",2,IF(Riskhistorik!AB109=\"Hög\",3,0))),V107)","v":0},{"$f":"IF(Riskhistorik!AC$2<>\"Datum\",IF(Riskhistorik!AC109=\"Låg\",1,IF(Riskhistorik!AC109=\"Medel\",2,IF(Riskhistorik!AC109=\"Hög\",3,0))),W107)","v":0},{"$f":"IF(Riskhistorik!AC$2<>\"Datum\",IF(Riskhistorik!AD109=\"Låg\",1,IF(Riskhistorik!AD109=\"Medel\",2,IF(Riskhistorik!AD109=\"Hög\",3,0))),X107)","v":0},{"$f":"IF(Riskhistorik!AE$2<>\"Datum\",IF(Riskhistorik!AE109=\"Låg\",1,IF(Riskhistorik!AE109=\"Medel\",2,IF(Riskhistorik!AE109=\"Hög\",3,0))),Y107)","v":0},{"$f":"IF(Riskhistorik!AE$2<>\"Datum\",IF(Riskhistorik!AF109=\"Låg\",1,IF(Riskhistorik!AF109=\"Medel\",2,IF(Riskhistorik!AF109=\"Hög\",3,0))),Z107)","v":0},{"$f":"IF(Riskhistorik!AG$2<>\"Datum\",IF(Riskhistorik!AG109=\"Låg\",1,IF(Riskhistorik!AG109=\"Medel\",2,IF(Riskhistorik!AG109=\"Hög\",3,0))),AA107)","v":0},{"$f":"IF(Riskhistorik!AG$2<>\"Datum\",IF(Riskhistorik!AH109=\"Låg\",1,IF(Riskhistorik!AH109=\"Medel\",2,IF(Riskhistorik!AH109=\"Hög\",3,0))),AB107)","v":0},{"$f":"IF(Riskhistorik!AI$2<>\"Datum\",IF(Riskhistorik!AI109=\"Låg\",1,IF(Riskhistorik!AI109=\"Medel\",2,IF(Riskhistorik!AI109=\"Hög\",3,0))),AC107)","v":0},{"$f":"IF(Riskhistorik!AI$2<>\"Datum\",IF(Riskhistorik!AJ109=\"Låg\",1,IF(Riskhistorik!AJ109=\"Medel\",2,IF(Riskhistorik!AJ109=\"Hög\",3,0))),AD107)","v":0},{"$f":"IF(Riskhistorik!AK$2<>\"Datum\",IF(Riskhistorik!AK109=\"Låg\",1,IF(Riskhistorik!AK109=\"Medel\",2,IF(Riskhistorik!AK109=\"Hög\",3,0))),AE107)","v":0},{"$f":"IF(Riskhistorik!AK$2<>\"Datum\",IF(Riskhistorik!AL109=\"Låg\",1,IF(Riskhistorik!AL109=\"Medel\",2,IF(Riskhistorik!AL109=\"Hög\",3,0))),AF107)","v":0},{"$f":"IF(Riskhistorik!AM$2<>\"Datum\",IF(Riskhistorik!AM109=\"Låg\",1,IF(Riskhistorik!AM109=\"Medel\",2,IF(Riskhistorik!AM109=\"Hög\",3,0))),AG107)","v":0},{"$f":"IF(Riskhistorik!AM$2<>\"Datum\",IF(Riskhistorik!AN109=\"Låg\",1,IF(Riskhistorik!AN109=\"Medel\",2,IF(Riskhistorik!AN109=\"Hög\",3,0))),AH107)","v":0},{"$f":"IF(Riskhistorik!AO$2<>\"Datum\",IF(Riskhistorik!AO109=\"Låg\",1,IF(Riskhistorik!AO109=\"Medel\",2,IF(Riskhistorik!AO109=\"Hög\",3,0))),AI107)","v":0},{"$f":"IF(Riskhistorik!AO$2<>\"Datum\",IF(Riskhistorik!AP109=\"Låg\",1,IF(Riskhistorik!AP109=\"Medel\",2,IF(Riskhistorik!AP109=\"Hög\",3,0))),AJ107)","v":0},{"$f":"IF(Riskhistorik!AQ$2<>\"Datum\",IF(Riskhistorik!AQ109=\"Låg\",1,IF(Riskhistorik!AQ109=\"Medel\",2,IF(Riskhistorik!AQ109=\"Hög\",3,0))),AK107)","v":0},{"$f":"IF(Riskhistorik!AQ$2<>\"Datum\",IF(Riskhistorik!AR109=\"Låg\",1,IF(Riskhistorik!AR109=\"Medel\",2,IF(Riskhistorik!AR109=\"Hög\",3,0))),AL107)","v":0},0,0,0,0,0,0,0,0,0,0,0,0,0,0,0,0,0,0,0,0]
[null,null,null,null,null,null,null,null,{"$f":"IF(Riskhistorik!M$2<>\"Datum\",IF(Riskhistorik!M110=\"Låg\",1,IF(Riskhistorik!M110=\"Medel\",2,IF(Riskhistorik!M110=\"Hög\",3,0))),G108)","v":0},{"$f":"IF(Riskhistorik!M$2<>\"Datum\",IF(Riskhistorik!N110=\"Låg\",1,IF(Riskhistorik!N110=\"Medel\",2,IF(Riskhistorik!N110=\"Hög\",3,0))),H108)","v":0},{"$f":"IF(Riskhistorik!O$2<>\"Datum\",IF(Riskhistorik!O110=\"Låg\",1,IF(Riskhistorik!O110=\"Medel\",2,IF(Riskhistorik!O110=\"Hög\",3,0))),I108)","v":0},{"$f":"IF(Riskhistorik!O$2<>\"Datum\",IF(Riskhistorik!P110=\"Låg\",1,IF(Riskhistorik!P110=\"Medel\",2,IF(Riskhistorik!P110=\"Hög\",3,0))),J108)","v":0},{"$f":"IF(Riskhistorik!Q$2<>\"Datum\",IF(Riskhistorik!Q110=\"Låg\",1,IF(Riskhistorik!Q110=\"Medel\",2,IF(Riskhistorik!Q110=\"Hög\",3,0))),K108)","v":0},{"$f":"IF(Riskhistorik!Q$2<>\"Datum\",IF(Riskhistorik!R110=\"Låg\",1,IF(Riskhistorik!R110=\"Medel\",2,IF(Riskhistorik!R110=\"Hög\",3,0))),L108)","v":0},{"$f":"IF(Riskhistorik!S$2<>\"Datum\",IF(Riskhistorik!S110=\"Låg\",1,IF(Riskhistorik!S110=\"Medel\",2,IF(Riskhistorik!S110=\"Hög\",3,0))),M108)","v":0},{"$f":"IF(Riskhistorik!S$2<>\"Datum\",IF(Riskhistorik!T110=\"Låg\",1,IF(Riskhistorik!T110=\"Medel\",2,IF(Riskhistorik!T110=\"Hög\",3,0))),N108)","v":0},{"$f":"IF(Riskhistorik!U$2<>\"Datum\",IF(Riskhistorik!U110=\"Låg\",1,IF(Riskhistorik!U110=\"Medel\",2,IF(Riskhistorik!U110=\"Hög\",3,0))),O108)","v":0},{"$f":"IF(Riskhistorik!U$2<>\"Datum\",IF(Riskhistorik!V110=\"Låg\",1,IF(Riskhistorik!V110=\"Medel\",2,IF(Riskhistorik!V110=\"Hög\",3,0))),P108)","v":0},{"$f":"IF(Riskhistorik!W$2<>\"Datum\",IF(Riskhistorik!W110=\"Låg\",1,IF(Riskhistorik!W110=\"Medel\",2,IF(Riskhistorik!W110=\"Hög\",3,0))),Q108)","v":0},{"$f":"IF(Riskhistorik!W$2<>\"Datum\",IF(Riskhistorik!X110=\"Låg\",1,IF(Riskhistorik!X110=\"Medel\",2,IF(Riskhistorik!X110=\"Hög\",3,0))),R108)","v":0},{"$f":"IF(Riskhistorik!Y$2<>\"Datum\",IF(Riskhistorik!Y110=\"Låg\",1,IF(Riskhistorik!Y110=\"Medel\",2,IF(Riskhistorik!Y110=\"Hög\",3,0))),S108)","v":0},{"$f":"IF(Riskhistorik!Y$2<>\"Datum\",IF(Riskhistorik!Z110=\"Låg\",1,IF(Riskhistorik!Z110=\"Medel\",2,IF(Riskhistorik!Z110=\"Hög\",3,0))),T108)","v":0},{"$f":"IF(Riskhistorik!AA$2<>\"Datum\",IF(Riskhistorik!AA110=\"Låg\",1,IF(Riskhistorik!AA110=\"Medel\",2,IF(Riskhistorik!AA110=\"Hög\",3,0))),U108)","v":0},{"$f":"IF(Riskhistorik!AA$2<>\"Datum\",IF(Riskhistorik!AB110=\"Låg\",1,IF(Riskhistorik!AB110=\"Medel\",2,IF(Riskhistorik!AB110=\"Hög\",3,0))),V108)","v":0},{"$f":"IF(Riskhistorik!AC$2<>\"Datum\",IF(Riskhistorik!AC110=\"Låg\",1,IF(Riskhistorik!AC110=\"Medel\",2,IF(Riskhistorik!AC110=\"Hög\",3,0))),W108)","v":0},{"$f":"IF(Riskhistorik!AC$2<>\"Datum\",IF(Riskhistorik!AD110=\"Låg\",1,IF(Riskhistorik!AD110=\"Medel\",2,IF(Riskhistorik!AD110=\"Hög\",3,0))),X108)","v":0},{"$f":"IF(Riskhistorik!AE$2<>\"Datum\",IF(Riskhistorik!AE110=\"Låg\",1,IF(Riskhistorik!AE110=\"Medel\",2,IF(Riskhistorik!AE110=\"Hög\",3,0))),Y108)","v":0},{"$f":"IF(Riskhistorik!AE$2<>\"Datum\",IF(Riskhistorik!AF110=\"Låg\",1,IF(Riskhistorik!AF110=\"Medel\",2,IF(Riskhistorik!AF110=\"Hög\",3,0))),Z108)","v":0},{"$f":"IF(Riskhistorik!AG$2<>\"Datum\",IF(Riskhistorik!AG110=\"Låg\",1,IF(Riskhistorik!AG110=\"Medel\",2,IF(Riskhistorik!AG110=\"Hög\",3,0))),AA108)","v":0},{"$f":"IF(Riskhistorik!AG$2<>\"Datum\",IF(Riskhistorik!AH110=\"Låg\",1,IF(Riskhistorik!AH110=\"Medel\",2,IF(Riskhistorik!AH110=\"Hög\",3,0))),AB108)","v":0},{"$f":"IF(Riskhistorik!AI$2<>\"Datum\",IF(Riskhistorik!AI110=\"Låg\",1,IF(Riskhistorik!AI110=\"Medel\",2,IF(Riskhistorik!AI110=\"Hög\",3,0))),AC108)","v":0},{"$f":"IF(Riskhistorik!AI$2<>\"Datum\",IF(Riskhistorik!AJ110=\"Låg\",1,IF(Riskhistorik!AJ110=\"Medel\",2,IF(Riskhistorik!AJ110=\"Hög\",3,0))),AD108)","v":0},{"$f":"IF(Riskhistorik!AK$2<>\"Datum\",IF(Riskhistorik!AK110=\"Låg\",1,IF(Riskhistorik!AK110=\"Medel\",2,IF(Riskhistorik!AK110=\"Hög\",3,0))),AE108)","v":0},{"$f":"IF(Riskhistorik!AK$2<>\"Datum\",IF(Riskhistorik!AL110=\"Låg\",1,IF(Riskhistorik!AL110=\"Medel\",2,IF(Riskhistorik!AL110=\"Hög\",3,0))),AF108)","v":0},{"$f":"IF(Riskhistorik!AM$2<>\"Datum\",IF(Riskhistorik!AM110=\"Låg\",1,IF(Riskhistorik!AM110=\"Medel\",2,IF(Riskhistorik!AM110=\"Hög\",3,0))),AG108)","v":0},{"$f":"IF(Riskhistorik!AM$2<>\"Datum\",IF(Riskhistorik!AN110=\"Låg\",1,IF(Riskhistorik!AN110=\"Medel\",2,IF(Riskhistorik!AN110=\"Hög\",3,0))),AH108)","v":0},{"$f":"IF(Riskhistorik!AO$2<>\"Datum\",IF(Riskhistorik!AO110=\"Låg\",1,IF(Riskhistorik!AO110=\"Medel\",2,IF(Riskhistorik!AO110=\"Hög\",3,0))),AI108)","v":0},{"$f":"IF(Riskhistorik!AO$2<>\"Datum\",IF(Riskhistorik!AP110=\"Låg\",1,IF(Riskhistorik!AP110=\"Medel\",2,IF(Riskhistorik!AP110=\"Hög\",3,0))),AJ108)","v":0},{"$f":"IF(Riskhistorik!AQ$2<>\"Datum\",IF(Riskhistorik!AQ110=\"Låg\",1,IF(Riskhistorik!AQ110=\"Medel\",2,IF(Riskhistorik!AQ110=\"Hög\",3,0))),AK108)","v":0},{"$f":"IF(Riskhistorik!AQ$2<>\"Datum\",IF(Riskhistorik!AR110=\"Låg\",1,IF(Riskhistorik!AR110=\"Medel\",2,IF(Riskhistorik!AR110=\"Hög\",3,0))),AL108)","v":0},0,0,0,0,0,0,0,0,0,0,0,0,0,0,0,0,0,0,0,0]
[null,null,null,null,null,null,null,null,{"$f":"IF(Riskhistorik!M$2<>\"Datum\",IF(Riskhistorik!M111=\"Låg\",1,IF(Riskhistorik!M111=\"Medel\",2,IF(Riskhistorik!M111=\"Hög\",3,0))),G109)","v":0},{"$f":"IF(Riskhistorik!M$2<>\"Datum\",IF(Riskhistorik!N111=\"Låg\",1,IF(Riskhistorik!N111=\"Medel\",2,IF(Riskhistorik!N111=\"Hög\",3,0))),H109)","v":0},{"$f":"IF(Riskhistorik!O$2<>\"Datum\",IF(Riskhistorik!O111=\"Låg\",1,IF(Riskhistorik!O111=\"Medel\",2,IF(Riskhistorik!O111=\"Hög\",3,0))),I109)","v":0},{"$f":"IF(Riskhistorik!O$2<>\"Datum\",IF(Riskhistorik!P111=\"Låg\",1,IF(Riskhistorik!P111=\"Medel\",2,IF(Riskhistorik!P111=\"Hög\",3,0))),J109)","v":0},{"$f":"IF(Riskhistorik!Q$2<>\"Datum\",IF(Riskhistorik!Q111=\"Låg\",1,IF(Riskhistorik!Q111=\"Medel\",2,IF(Riskhistorik!Q111=\"Hög\",3,0))),K109)","v":0},{"$f":"IF(Riskhistorik!Q$2<>\"Datum\",IF(Riskhistorik!R111=\"Låg\",1,IF(Riskhistorik!R111=\"Medel\",2,IF(Riskhistorik!R111=\"Hög\",3,0))),L109)","v":0},{"$f":"IF(Riskhistorik!S$2<>\"Datum\",IF(Riskhistorik!S111=\"Låg\",1,IF(Riskhistorik!S111=\"Medel\",2,IF(Riskhistorik!S111=\"Hög\",3,0))),M109)","v":0},{"$f":"IF(Riskhistorik!S$2<>\"Datum\",IF(Riskhistorik!T111=\"Låg\",1,IF(Riskhistorik!T111=\"Medel\",2,IF(Riskhistorik!T111=\"Hög\",3,0))),N109)","v":0},{"$f":"IF(Riskhistorik!U$2<>\"Datum\",IF(Riskhistorik!U111=\"Låg\",1,IF(Riskhistorik!U111=\"Medel\",2,IF(Riskhistorik!U111=\"Hög\",3,0))),O109)","v":0},{"$f":"IF(Riskhistorik!U$2<>\"Datum\",IF(Riskhistorik!V111=\"Låg\",1,IF(Riskhistorik!V111=\"Medel\",2,IF(Riskhistorik!V111=\"Hög\",3,0))),P109)","v":0},{"$f":"IF(Riskhistorik!W$2<>\"Datum\",IF(Riskhistorik!W111=\"Låg\",1,IF(Riskhistorik!W111=\"Medel\",2,IF(Riskhistorik!W111=\"Hög\",3,0))),Q109)","v":0},{"$f":"IF(Riskhistorik!W$2<>\"Datum\",IF(Riskhistorik!X111=\"Låg\",1,IF(Riskhistorik!X111=\"Medel\",2,IF(Riskhistorik!X111=\"Hög\",3,0))),R109)","v":0},{"$f":"IF(Riskhistorik!Y$2<>\"Datum\",IF(Riskhistorik!Y111=\"Låg\",1,IF(Riskhistorik!Y111=\"Medel\",2,IF(Riskhistorik!Y111=\"Hög\",3,0))),S109)","v":0},{"$f":"IF(Riskhistorik!Y$2<>\"Datum\",IF(Riskhistorik!Z111=\"Låg\",1,IF(Riskhistorik!Z111=\"Medel\",2,IF(Riskhistorik!Z111=\"Hög\",3,0))),T109)","v":0},{"$f":"IF(Riskhistorik!AA$2<>\"Datum\",IF(Riskhistorik!AA111=\"Låg\",1,IF(Riskhistorik!AA111=\"Medel\",2,IF(Riskhistorik!AA111=\"Hög\",3,0))),U109)","v":0},{"$f":"IF(Riskhistorik!AA$2<>\"Datum\",IF(Riskhistorik!AB111=\"Låg\",1,IF(Riskhistorik!AB111=\"Medel\",2,IF(Riskhistorik!AB111=\"Hög\",3,0))),V109)","v":0},{"$f":"IF(Riskhistorik!AC$2<>\"Datum\",IF(Riskhistorik!AC111=\"Låg\",1,IF(Riskhistorik!AC111=\"Medel\",2,IF(Riskhistorik!AC111=\"Hög\",3,0))),W109)","v":0},{"$f":"IF(Riskhistorik!AC$2<>\"Datum\",IF(Riskhistorik!AD111=\"Låg\",1,IF(Riskhistorik!AD111=\"Medel\",2,IF(Riskhistorik!AD111=\"Hög\",3,0))),X109)","v":0},{"$f":"IF(Riskhistorik!AE$2<>\"Datum\",IF(Riskhistorik!AE111=\"Låg\",1,IF(Riskhistorik!AE111=\"Medel\",2,IF(Riskhistorik!AE111=\"Hög\",3,0))),Y109)","v":0},{"$f":"IF(Riskhistorik!AE$2<>\"Datum\",IF(Riskhistorik!AF111=\"Låg\",1,IF(Riskhistorik!AF111=\"Medel\",2,IF(Riskhistorik!AF111=\"Hög\",3,0))),Z109)","v":0},{"$f":"IF(Riskhistorik!AG$2<>\"Datum\",IF(Riskhistorik!AG111=\"Låg\",1,IF(Riskhistorik!AG111=\"Medel\",2,IF(Riskhistorik!AG111=\"Hög\",3,0))),AA109)","v":0},{"$f":"IF(Riskhistorik!AG$2<>\"Datum\",IF(Riskhistorik!AH111=\"Låg\",1,IF(Riskhistorik!AH111=\"Medel\",2,IF(Riskhistorik!AH111=\"Hög\",3,0))),AB109)","v":0},{"$f":"IF(Riskhistorik!AI$2<>\"Datum\",IF(Riskhistorik!AI111=\"Låg\",1,IF(Riskhistorik!AI111=\"Medel\",2,IF(Riskhistorik!AI111=\"Hög\",3,0))),AC109)","v":0},{"$f":"IF(Riskhistorik!AI$2<>\"Datum\",IF(Riskhistorik!AJ111=\"Låg\",1,IF(Riskhistorik!AJ111=\"Medel\",2,IF(Riskhistorik!AJ111=\"Hög\",3,0))),AD109)","v":0},{"$f":"IF(Riskhistorik!AK$2<>\"Datum\",IF(Riskhistorik!AK111=\"Låg\",1,IF(Riskhistorik!AK111=\"Medel\",2,IF(Riskhistorik!AK111=\"Hög\",3,0))),AE109)","v":0},{"$f":"IF(Riskhistorik!AK$2<>\"Datum\",IF(Riskhistorik!AL111=\"Låg\",1,IF(Riskhistorik!AL111=\"Medel\",2,IF(Riskhistorik!AL111=\"Hög\",3,0))),AF109)","v":0},{"$f":"IF(Riskhistorik!AM$2<>\"Datum\",IF(Riskhistorik!AM111=\"Låg\",1,IF(Riskhistorik!AM111=\"Medel\",2,IF(Riskhistorik!AM111=\"Hög\",3,0))),AG109)","v":0},{"$f":"IF(Riskhistorik!AM$2<>\"Datum\",IF(Riskhistorik!AN111=\"Låg\",1,IF(Riskhistorik!AN111=\"Medel\",2,IF(Riskhistorik!AN111=\"Hög\",3,0))),AH109)","v":0},{"$f":"IF(Riskhistorik!AO$2<>\"Datum\",IF(Riskhistorik!AO111=\"Låg\",1,IF(Riskhistorik!AO111=\"Medel\",2,IF(Riskhistorik!AO111=\"Hög\",3,0))),AI109)","v":0},{"$f":"IF(Riskhistorik!AO$2<>\"Datum\",IF(Riskhistorik!AP111=\"Låg\",1,IF(Riskhistorik!AP111=\"Medel\",2,IF(Riskhistorik!AP111=\"Hög\",3,0))),AJ109)","v":0},{"$f":"IF(Riskhistorik!AQ$2<>\"Datum\",IF(Riskhistorik!AQ111=\"Låg\",1,IF(Riskhistorik!AQ111=\"Medel\",2,IF(Riskhistorik!AQ111=\"Hög\",3,0))),AK109)","v":0},{"$f":"IF(Riskhistorik!AQ$2<>\"Datum\",IF(Riskhistorik!AR111=\"Låg\",1,IF(Riskhistorik!AR111=\"Medel\",2,IF(Riskhistorik!AR111=\"Hög\",3,0))),AL109)","v":0},0,0,0,0,0,0,0,0,0,0,0,0,0,0,0,0,0,0,0,0]
[null,null,null,null,null,null,null,null,{"$f":"IF(Riskhistorik!M$2<>\"Datum\",IF(Riskhistorik!M112=\"Låg\",1,IF(Riskhistorik!M112=\"Medel\",2,IF(Riskhistorik!M112=\"Hög\",3,0))),G110)","v":0},{"$f":"IF(Riskhistorik!M$2<>\"Datum\",IF(Riskhistorik!N112=\"Låg\",1,IF(Riskhistorik!N112=\"Medel\",2,IF(Riskhistorik!N112=\"Hög\",3,0))),H110)","v":0},{"$f":"IF(Riskhistorik!O$2<>\"Datum\",IF(Riskhistorik!O112=\"Låg\",1,IF(Riskhistorik!O112=\"Medel\",2,IF(Riskhistorik!O112=\"Hög\",3,0))),I110)","v":0},{"$f":"IF(Riskhistorik!O$2<>\"Datum\",IF(Riskhistorik!P112=\"Låg\",1,IF(Riskhistorik!P112=\"Medel\",2,IF(Riskhistorik!P112=\"Hög\",3,0))),J110)","v":0},{"$f":"IF(Riskhistorik!Q$2<>\"Datum\",IF(Riskhistorik!Q112=\"Låg\",1,IF(Riskhistorik!Q112=\"Medel\",2,IF(Riskhistorik!Q112=\"Hög\",3,0))),K110)","v":0},{"$f":"IF(Riskhistorik!Q$2<>\"Datum\",IF(Riskhistorik!R112=\"Låg\",1,IF(Riskhistorik!R112=\"Medel\",2,IF(Riskhistorik!R112=\"Hög\",3,0))),L110)","v":0},{"$f":"IF(Riskhistorik!S$2<>\"Datum\",IF(Riskhistorik!S112=\"Låg\",1,IF(Riskhistorik!S112=\"Medel\",2,IF(Riskhistorik!S112=\"Hög\",3,0))),M110)","v":0},{"$f":"IF(Riskhistorik!S$2<>\"Datum\",IF(Riskhistorik!T112=\"Låg\",1,IF(Riskhistorik!T112=\"Medel\",2,IF(Riskhistorik!T112=\"Hög\",3,0))),N110)","v":0},{"$f":"IF(Riskhistorik!U$2<>\"Datum\",IF(Riskhistorik!U112=\"Låg\",1,IF(Riskhistorik!U112=\"Medel\",2,IF(Riskhistorik!U112=\"Hög\",3,0))),O110)","v":0},{"$f":"IF(Riskhistorik!U$2<>\"Datum\",IF(Riskhistorik!V112=\"Låg\",1,IF(Riskhistorik!V112=\"Medel\",2,IF(Riskhistorik!V112=\"Hög\",3,0))),P110)","v":0},{"$f":"IF(Riskhistorik!W$2<>\"Datum\",IF(Riskhistorik!W112=\"Låg\",1,IF(Riskhistorik!W112=\"Medel\",2,IF(Riskhistorik!W112=\"Hög\",3,0))),Q110)","v":0},{"$f":"IF(Riskhistorik!W$2<>\"Datum\",IF(Riskhistorik!X112=\"Låg\",1,IF(Riskhistorik!X112=\"Medel\",2,IF(Riskhistorik!X112=\"Hög\",3,0))),R110)","v":0},{"$f":"IF(Riskhistorik!Y$2<>\"Datum\",IF(Riskhistorik!Y112=\"Låg\",1,IF(Riskhistorik!Y112=\"Medel\",2,IF(Riskhistorik!Y112=\"Hög\",3,0))),S110)","v":0},{"$f":"IF(Riskhistorik!Y$2<>\"Datum\",IF(Riskhistorik!Z112=\"Låg\",1,IF(Riskhistorik!Z112=\"Medel\",2,IF(Riskhistorik!Z112=\"Hög\",3,0))),T110)","v":0},{"$f":"IF(Riskhistorik!AA$2<>\"Datum\",IF(Riskhistorik!AA112=\"Låg\",1,IF(Riskhistorik!AA112=\"Medel\",2,IF(Riskhistorik!AA112=\"Hög\",3,0))),U110)","v":0},{"$f":"IF(Riskhistorik!AA$2<>\"Datum\",IF(Riskhistorik!AB112=\"Låg\",1,IF(Riskhistorik!AB112=\"Medel\",2,IF(Riskhistorik!AB112=\"Hög\",3,0))),V110)","v":0},{"$f":"IF(Riskhistorik!AC$2<>\"Datum\",IF(Riskhistorik!AC112=\"Låg\",1,IF(Riskhistorik!AC112=\"Medel\",2,IF(Riskhistorik!AC112=\"Hög\",3,0))),W110)","v":0},{"$f":"IF(Riskhistorik!AC$2<>\"Datum\",IF(Riskhistorik!AD112=\"Låg\",1,IF(Riskhistorik!AD112=\"Medel\",2,IF(Riskhistorik!AD112=\"Hög\",3,0))),X110)","v":0},{"$f":"IF(Riskhistorik!AE$2<>\"Datum\",IF(Riskhistorik!AE112=\"Låg\",1,IF(Riskhistorik!AE112=\"Medel\",2,IF(Riskhistorik!AE112=\"Hög\",3,0))),Y110)","v":0},{"$f":"IF(Riskhistorik!AE$2<>\"Datum\",IF(Riskhistorik!AF112=\"Låg\",1,IF(Riskhistorik!AF112=\"Medel\",2,IF(Riskhistorik!AF112=\"Hög\",3,0))),Z110)","v":0},{"$f":"IF(Riskhistorik!AG$2<>\"Datum\",IF(Riskhistorik!AG112=\"Låg\",1,IF(Riskhistorik!AG112=\"Medel\",2,IF(Riskhistorik!AG112=\"Hög\",3,0))),AA110)","v":0},{"$f":"IF(Riskhistorik!AG$2<>\"Datum\",IF(Riskhistorik!AH112=\"Låg\",1,IF(Riskhistorik!AH112=\"Medel\",2,IF(Riskhistorik!AH112=\"Hög\",3,0))),AB110)","v":0},{"$f":"IF(Riskhistorik!AI$2<>\"Datum\",IF(Riskhistorik!AI112=\"Låg\",1,IF(Riskhistorik!AI112=\"Medel\",2,IF(Riskhistorik!AI112=\"Hög\",3,0))),AC110)","v":0},{"$f":"IF(Riskhistorik!AI$2<>\"Datum\",IF(Riskhistorik!AJ112=\"Låg\",1,IF(Riskhistorik!AJ112=\"Medel\",2,IF(Riskhistorik!AJ112=\"Hög\",3,0))),AD110)","v":0},{"$f":"IF(Riskhistorik!AK$2<>\"Datum\",IF(Riskhistorik!AK112=\"Låg\",1,IF(Riskhistorik!AK112=\"Medel\",2,IF(Riskhistorik!AK112=\"Hög\",3,0))),AE110)","v":0},{"$f":"IF(Riskhistorik!AK$2<>\"Datum\",IF(Riskhistorik!AL112=\"Låg\",1,IF(Riskhistorik!AL112=\"Medel\",2,IF(Riskhistorik!AL112=\"Hög\",3,0))),AF110)","v":0},{"$f":"IF(Riskhistorik!AM$2<>\"Datum\",IF(Riskhistorik!AM112=\"Låg\",1,IF(Riskhistorik!AM112=\"Medel\",2,IF(Riskhistorik!AM112=\"Hög\",3,0))),AG110)","v":0},{"$f":"IF(Riskhistorik!AM$2<>\"Datum\",IF(Riskhistorik!AN112=\"Låg\",1,IF(Riskhistorik!AN112=\"Medel\",2,IF(Riskhistorik!AN112=\"Hög\",3,0))),AH110)","v":0},{"$f":"IF(Riskhistorik!AO$2<>\"Datum\",IF(Riskhistorik!AO112=\"Låg\",1,IF(Riskhistorik!AO112=\"Medel\",2,IF(Riskhistorik!AO112=\"Hög\",3,0))),AI110)","v":0},{"$f":"IF(Riskhistorik!AO$2<>\"Datum\",IF(Riskhistorik!AP112=\"Låg\",1,IF(Riskhistorik!AP112=\"Medel\",2,IF(Riskhistorik!AP112=\"Hög\",3,0))),AJ110)","v":0},{"$f":"IF(Riskhistorik!AQ$2<>\"Datum\",IF(Riskhistorik!AQ112=\"Låg\",1,IF(Riskhistorik!AQ112=\"Medel\",2,IF(Riskhistorik!AQ112=\"Hög\",3,0))),AK110)","v":0},{"$f":"IF(Riskhistorik!AQ$2<>\"Datum\",IF(Riskhistorik!AR112=\"Låg\",1,IF(Riskhistorik!AR112=\"Medel\",2,IF(Riskhistorik!AR112=\"Hög\",3,0))),AL110)","v":0},0,0,0,0,0,0,0,0,0,0,0,0,0,0,0,0,0,0,0,0]
[null,null,null,null,null,null,null,null,{"$f":"IF(Riskhistorik!M$2<>\"Datum\",IF(Riskhistorik!M113=\"Låg\",1,IF(Riskhistorik!M113=\"Medel\",2,IF(Riskhistorik!M113=\"Hög\",3,0))),G111)","v":0},{"$f":"IF(Riskhistorik!M$2<>\"Datum\",IF(Riskhistorik!N113=\"Låg\",1,IF(Riskhistorik!N113=\"Medel\",2,IF(Riskhistorik!N113=\"Hög\",3,0))),H111)","v":0},{"$f":"IF(Riskhistorik!O$2<>\"Datum\",IF(Riskhistorik!O113=\"Låg\",1,IF(Riskhistorik!O113=\"Medel\",2,IF(Riskhistorik!O113=\"Hög\",3,0))),I111)","v":0},{"$f":"IF(Riskhistorik!O$2<>\"Datum\",IF(Riskhistorik!P113=\"Låg\",1,IF(Riskhistorik!P113=\"Medel\",2,IF(Riskhistorik!P113=\"Hög\",3,0))),J111)","v":0},{"$f":"IF(Riskhistorik!Q$2<>\"Datum\",IF(Riskhistorik!Q113=\"Låg\",1,IF(Riskhistorik!Q113=\"Medel\",2,IF(Riskhistorik!Q113=\"Hög\",3,0))),K111)","v":0},{"$f":"IF(Riskhistorik!Q$2<>\"Datum\",IF(Riskhistorik!R113=\"Låg\",1,IF(Riskhistorik!R113=\"Medel\",2,IF(Riskhistorik!R113=\"Hög\",3,0))),L111)","v":0},{"$f":"IF(Riskhistorik!S$2<>\"Datum\",IF(Riskhistorik!S113=\"Låg\",1,IF(Riskhistorik!S113=\"Medel\",2,IF(Riskhistorik!S113=\"Hög\",3,0))),M111)","v":0},{"$f":"IF(Riskhistorik!S$2<>\"Datum\",IF(Riskhistorik!T113=\"Låg\",1,IF(Riskhistorik!T113=\"Medel\",2,IF(Riskhistorik!T113=\"Hög\",3,0))),N111)","v":0},{"$f":"IF(Riskhistorik!U$2<>\"Datum\",IF(Riskhistorik!U113=\"Låg\",1,IF(Riskhistorik!U113=\"Medel\",2,IF(Riskhistorik!U113=\"Hög\",3,0))),O111)","v":0},{"$f":"IF(Riskhistorik!U$2<>\"Datum\",IF(Riskhistorik!V113=\"Låg\",1,IF(Riskhistorik!V113=\"Medel\",2,IF(Riskhistorik!V113=\"Hög\",3,0))),P111)","v":0},{"$f":"IF(Riskhistorik!W$2<>\"Datum\",IF(Riskhistorik!W113=\"Låg\",1,IF(Riskhistorik!W113=\"Medel\",2,IF(Riskhistorik!W113=\"Hög\",3,0))),Q111)","v":0},{"$f":"IF(Riskhistorik!W$2<>\"Datum\",IF(Riskhistorik!X113=\"Låg\",1,IF(Riskhistorik!X113=\"Medel\",2,IF(Riskhistorik!X113=\"Hög\",3,0))),R111)","v":0},{"$f":"IF(Riskhistorik!Y$2<>\"Datum\",IF(Riskhistorik!Y113=\"Låg\",1,IF(Riskhistorik!Y113=\"Medel\",2,IF(Riskhistorik!Y113=\"Hög\",3,0))),S111)","v":0},{"$f":"IF(Riskhistorik!Y$2<>\"Datum\",IF(Riskhistorik!Z113=\"Låg\",1,IF(Riskhistorik!Z113=\"Medel\",2,IF(Riskhistorik!Z113=\"Hög\",3,0))),T111)","v":0},{"$f":"IF(Riskhistorik!AA$2<>\"Datum\",IF(Riskhistorik!AA113=\"Låg\",1,IF(Riskhistorik!AA113=\"Medel\",2,IF(Riskhistorik!AA113=\"Hög\",3,0))),U111)","v":0},{"$f":"IF(Riskhistorik!AA$2<>\"Datum\",IF(Riskhistorik!AB113=\"Låg\",1,IF(Riskhistorik!AB113=\"Medel\",2,IF(Riskhistorik!AB113=\"Hög\",3,0))),V111)","v":0},{"$f":"IF(Riskhistorik!AC$2<>\"Datum\",IF(Riskhistorik!AC113=\"Låg\",1,IF(Riskhistorik!AC113=\"Medel\",2,IF(Riskhistorik!AC113=\"Hög\",3,0))),W111)","v":0},{"$f":"IF(Riskhistorik!AC$2<>\"Datum\",IF(Riskhistorik!AD113=\"Låg\",1,IF(Riskhistorik!AD113=\"Medel\",2,IF(Riskhistorik!AD113=\"Hög\",3,0))),X111)","v":0},{"$f":"IF(Riskhistorik!AE$2<>\"Datum\",IF(Riskhistorik!AE113=\"Låg\",1,IF(Riskhistorik!AE113=\"Medel\",2,IF(Riskhistorik!AE113=\"Hög\",3,0))),Y111)","v":0},{"$f":"IF(Riskhistorik!AE$2<>\"Datum\",IF(Riskhistorik!AF113=\"Låg\",1,IF(Riskhistorik!AF113=\"Medel\",2,IF(Riskhistorik!AF113=\"Hög\",3,0))),Z111)","v":0},{"$f":"IF(Riskhistorik!AG$2<>\"Datum\",IF(Riskhistorik!AG113=\"Låg\",1,IF(Riskhistorik!AG113=\"Medel\",2,IF(Riskhistorik!AG113=\"Hög\",3,0))),AA111)","v":0},{"$f":"IF(Riskhistorik!AG$2<>\"Datum\",IF(Riskhistorik!AH113=\"Låg\",1,IF(Riskhistorik!AH113=\"Medel\",2,IF(Riskhistorik!AH113=\"Hög\",3,0))),AB111)","v":0},{"$f":"IF(Riskhistorik!AI$2<>\"Datum\",IF(Riskhistorik!AI113=\"Låg\",1,IF(Riskhistorik!AI113=\"Medel\",2,IF(Riskhistorik!AI113=\"Hög\",3,0))),AC111)","v":0},{"$f":"IF(Riskhistorik!AI$2<>\"Datum\",IF(Riskhistorik!AJ113=\"Låg\",1,IF(Riskhistorik!AJ113=\"Medel\",2,IF(Riskhistorik!AJ113=\"Hög\",3,0))),AD111)","v":0},{"$f":"IF(Riskhistorik!AK$2<>\"Datum\",IF(Riskhistorik!AK113=\"Låg\",1,IF(Riskhistorik!AK113=\"Medel\",2,IF(Riskhistorik!AK113=\"Hög\",3,0))),AE111)","v":0},{"$f":"IF(Riskhistorik!AK$2<>\"Datum\",IF(Riskhistorik!AL113=\"Låg\",1,IF(Riskhistorik!AL113=\"Medel\",2,IF(Riskhistorik!AL113=\"Hög\",3,0))),AF111)","v":0},{"$f":"IF(Riskhistorik!AM$2<>\"Datum\",IF(Riskhistorik!AM113=\"Låg\",1,IF(Riskhistorik!AM113=\"Medel\",2,IF(Riskhistorik!AM113=\"Hög\",3,0))),AG111)","v":0},{"$f":"IF(Riskhistorik!AM$2<>\"Datum\",IF(Riskhistorik!AN113=\"Låg\",1,IF(Riskhistorik!AN113=\"Medel\",2,IF(Riskhistorik!AN113=\"Hög\",3,0))),AH111)","v":0},{"$f":"IF(Riskhistorik!AO$2<>\"Datum\",IF(Riskhistorik!AO113=\"Låg\",1,IF(Riskhistorik!AO113=\"Medel\",2,IF(Riskhistorik!AO113=\"Hög\",3,0))),AI111)","v":0},{"$f":"IF(Riskhistorik!AO$2<>\"Datum\",IF(Riskhistorik!AP113=\"Låg\",1,IF(Riskhistorik!AP113=\"Medel\",2,IF(Riskhistorik!AP113=\"Hög\",3,0))),AJ111)","v":0},{"$f":"IF(Riskhistorik!AQ$2<>\"Datum\",IF(Riskhistorik!AQ113=\"Låg\",1,IF(Riskhistorik!AQ113=\"Medel\",2,IF(Riskhistorik!AQ113=\"Hög\",3,0))),AK111)","v":0},{"$f":"IF(Riskhistorik!AQ$2<>\"Datum\",IF(Riskhistorik!AR113=\"Låg\",1,IF(Riskhistorik!AR113=\"Medel\",2,IF(Riskhistorik!AR113=\"Hög\",3,0))),AL111)","v":0},0,0,0,0,0,0,0,0,0,0,0,0,0,0,0,0,0,0,0,0]
[null,null,null,null,null,null,null,null,{"$f":"IF(Riskhistorik!M$2<>\"Datum\",IF(Riskhistorik!M114=\"Låg\",1,IF(Riskhistorik!M114=\"Medel\",2,IF(Riskhistorik!M114=\"Hög\",3,0))),G112)","v":0},{"$f":"IF(Riskhistorik!M$2<>\"Datum\",IF(Riskhistorik!N114=\"Låg\",1,IF(Riskhistorik!N114=\"Medel\",2,IF(Riskhistorik!N114=\"Hög\",3,0))),H112)","v":0},{"$f":"IF(Riskhistorik!O$2<>\"Datum\",IF(Riskhistorik!O114=\"Låg\",1,IF(Riskhistorik!O114=\"Medel\",2,IF(Riskhistorik!O114=\"Hög\",3,0))),I112)","v":0},{"$f":"IF(Riskhistorik!O$2<>\"Datum\",IF(Riskhistorik!P114=\"Låg\",1,IF(Riskhistorik!P114=\"Medel\",2,IF(Riskhistorik!P114=\"Hög\",3,0))),J112)","v":0},{"$f":"IF(Riskhistorik!Q$2<>\"Datum\",IF(Riskhistorik!Q114=\"Låg\",1,IF(Riskhistorik!Q114=\"Medel\",2,IF(Riskhistorik!Q114=\"Hög\",3,0))),K112)","v":0},{"$f":"IF(Riskhistorik!Q$2<>\"Datum\",IF(Riskhistorik!R114=\"Låg\",1,IF(Riskhistorik!R114=\"Medel\",2,IF(Riskhistorik!R114=\"Hög\",3,0))),L112)","v":0},{"$f":"IF(Riskhistorik!S$2<>\"Datum\",IF(Riskhistorik!S114=\"Låg\",1,IF(Riskhistorik!S114=\"Medel\",2,IF(Riskhistorik!S114=\"Hög\",3,0))),M112)","v":0},{"$f":"IF(Riskhistorik!S$2<>\"Datum\",IF(Riskhistorik!T114=\"Låg\",1,IF(Riskhistorik!T114=\"Medel\",2,IF(Riskhistorik!T114=\"Hög\",3,0))),N112)","v":0},{"$f":"IF(Riskhistorik!U$2<>\"Datum\",IF(Riskhistorik!U114=\"Låg\",1,IF(Riskhistorik!U114=\"Medel\",2,IF(Riskhistorik!U114=\"Hög\",3,0))),O112)","v":0},{"$f":"IF(Riskhistorik!U$2<>\"Datum\",IF(Riskhistorik!V114=\"Låg\",1,IF(Riskhistorik!V114=\"Medel\",2,IF(Riskhistorik!V114=\"Hög\",3,0))),P112)","v":0},{"$f":"IF(Riskhistorik!W$2<>\"Datum\",IF(Riskhistorik!W114=\"Låg\",1,IF(Riskhistorik!W114=\"Medel\",2,IF(Riskhistorik!W114=\"Hög\",3,0))),Q112)","v":0},{"$f":"IF(Riskhistorik!W$2<>\"Datum\",IF(Riskhistorik!X114=\"Låg\",1,IF(Riskhistorik!X114=\"Medel\",2,IF(Riskhistorik!X114=\"Hög\",3,0))),R112)","v":0},{"$f":"IF(Riskhistorik!Y$2<>\"Datum\",IF(Riskhistorik!Y114=\"Låg\",1,IF(Riskhistorik!Y114=\"Medel\",2,IF(Riskhistorik!Y114=\"Hög\",3,0))),S112)","v":0},{"$f":"IF(Riskhistorik!Y$2<>\"Datum\",IF(Riskhistorik!Z114=\"Låg\",1,IF(Riskhistorik!Z114=\"Medel\",2,IF(Riskhistorik!Z114=\"Hög\",3,0))),T112)","v":0},{"$f":"IF(Riskhistorik!AA$2<>\"Datum\",IF(Riskhistorik!AA114=\"Låg\",1,IF(Riskhistorik!AA114=\"Medel\",2,IF(Riskhistorik!AA114=\"Hög\",3,0))),U112)","v":0},{"$f":"IF(Riskhistorik!AA$2<>\"Datum\",IF(Riskhistorik!AB114=\"Låg\",1,IF(Riskhistorik!AB114=\"Medel\",2,IF(Riskhistorik!AB114=\"Hög\",3,0))),V112)","v":0},{"$f":"IF(Riskhistorik!AC$2<>\"Datum\",IF(Riskhistorik!AC114=\"Låg\",1,IF(Riskhistorik!AC114=\"Medel\",2,IF(Riskhistorik!AC114=\"Hög\",3,0))),W112)","v":0},{"$f":"IF(Riskhistorik!AC$2<>\"Datum\",IF(Riskhistorik!AD114=\"Låg\",1,IF(Riskhistorik!AD114=\"Medel\",2,IF(Riskhistorik!AD114=\"Hög\",3,0))),X112)","v":0},{"$f":"IF(Riskhistorik!AE$2<>\"Datum\",IF(Riskhistorik!AE114=\"Låg\",1,IF(Riskhistorik!AE114=\"Medel\",2,IF(Riskhistorik!AE114=\"Hög\",3,0))),Y112)","v":0},{"$f":"IF(Riskhistorik!AE$2<>\"Datum\",IF(Riskhistorik!AF114=\"Låg\",1,IF(Riskhistorik!AF114=\"Medel\",2,IF(Riskhistorik!AF114=\"Hög\",3,0))),Z112)","v":0},{"$f":"IF(Riskhistorik!AG$2<>\"Datum\",IF(Riskhistorik!AG114=\"Låg\",1,IF(Riskhistorik!AG114=\"Medel\",2,IF(Riskhistorik!AG114=\"Hög\",3,0))),AA112)","v":0},{"$f":"IF(Riskhistorik!AG$2<>\"Datum\",IF(Riskhistorik!AH114=\"Låg\",1,IF(Riskhistorik!AH114=\"Medel\",2,IF(Riskhistorik!AH114=\"Hög\",3,0))),AB112)","v":0},{"$f":"IF(Riskhistorik!AI$2<>\"Datum\",IF(Riskhistorik!AI114=\"Låg\",1,IF(Riskhistorik!AI114=\"Medel\",2,IF(Riskhistorik!AI114=\"Hög\",3,0))),AC112)","v":0},{"$f":"IF(Riskhistorik!AI$2<>\"Datum\",IF(Riskhistorik!AJ114=\"Låg\",1,IF(Riskhistorik!AJ114=\"Medel\",2,IF(Riskhistorik!AJ114=\"Hög\",3,0))),AD112)","v":0},{"$f":"IF(Riskhistorik!AK$2<>\"Datum\",IF(Riskhistorik!AK114=\"Låg\",1,IF(Riskhistorik!AK114=\"Medel\",2,IF(Riskhistorik!AK114=\"Hög\",3,0))),AE112)","v":0},{"$f":"IF(Riskhistorik!AK$2<>\"Datum\",IF(Riskhistorik!AL114=\"Låg\",1,IF(Riskhistorik!AL114=\"Medel\",2,IF(Riskhistorik!AL114=\"Hög\",3,0))),AF112)","v":0},{"$f":"IF(Riskhistorik!AM$2<>\"Datum\",IF(Riskhistorik!AM114=\"Låg\",1,IF(Riskhistorik!AM114=\"Medel\",2,IF(Riskhistorik!AM114=\"Hög\",3,0))),AG112)","v":0},{"$f":"IF(Riskhistorik!AM$2<>\"Datum\",IF(Riskhistorik!AN114=\"Låg\",1,IF(Riskhistorik!AN114=\"Medel\",2,IF(Riskhistorik!AN114=\"Hög\",3,0))),AH112)","v":0},{"$f":"IF(Riskhistorik!AO$2<>\"Datum\",IF(Riskhistorik!AO114=\"Låg\",1,IF(Riskhistorik!AO114=\"Medel\",2,IF(Riskhistorik!AO114=\"Hög\",3,0))),AI112)","v":0},{"$f":"IF(Riskhistorik!AO$2<>\"Datum\",IF(Riskhistorik!AP114=\"Låg\",1,IF(Riskhistorik!AP114=\"Medel\",2,IF(Riskhistorik!AP114=\"Hög\",3,0))),AJ112)","v":0},{"$f":"IF(Riskhistorik!AQ$2<>\"Datum\",IF(Riskhistorik!AQ114=\"Låg\",1,IF(Riskhistorik!AQ114=\"Medel\",2,IF(Riskhistorik!AQ114=\"Hög\",3,0))),AK112)","v":0},{"$f":"IF(Riskhistorik!AQ$2<>\"Datum\",IF(Riskhistorik!AR114=\"Låg\",1,IF(Riskhistorik!AR114=\"Medel\",2,IF(Riskhistorik!AR114=\"Hög\",3,0))),AL112)","v":0},0,0,0,0,0,0,0,0,0,0,0,0,0,0,0,0,0,0,0,0]
[null,null,null,null,null,null,null,null,{"$f":"IF(Riskhistorik!M$2<>\"Datum\",IF(Riskhistorik!M115=\"Låg\",1,IF(Riskhistorik!M115=\"Medel\",2,IF(Riskhistorik!M115=\"Hög\",3,0))),G113)","v":0},{"$f":"IF(Riskhistorik!M$2<>\"Datum\",IF(Riskhistorik!N115=\"Låg\",1,IF(Riskhistorik!N115=\"Medel\",2,IF(Riskhistorik!N115=\"Hög\",3,0))),H113)","v":0},{"$f":"IF(Riskhistorik!O$2<>\"Datum\",IF(Riskhistorik!O115=\"Låg\",1,IF(Riskhistorik!O115=\"Medel\",2,IF(Riskhistorik!O115=\"Hög\",3,0))),I113)","v":0},{"$f":"IF(Riskhistorik!O$2<>\"Datum\",IF(Riskhistorik!P115=\"Låg\",1,IF(Riskhistorik!P115=\"Medel\",2,IF(Riskhistorik!P115=\"Hög\",3,0))),J113)","v":0},{"$f":"IF(Riskhistorik!Q$2<>\"Datum\",IF(Riskhistorik!Q115=\"Låg\",1,IF(Riskhistorik!Q115=\"Medel\",2,IF(Riskhistorik!Q115=\"Hög\",3,0))),K113)","v":0},{"$f":"IF(Riskhistorik!Q$2<>\"Datum\",IF(Riskhistorik!R115=\"Låg\",1,IF(Riskhistorik!R115=\"Medel\",2,IF(Riskhistorik!R115=\"Hög\",3,0))),L113)","v":0},{"$f":"IF(Riskhistorik!S$2<>\"Datum\",IF(Riskhistorik!S115=\"Låg\",1,IF(Riskhistorik!S115=\"Medel\",2,IF(Riskhistorik!S115=\"Hög\",3,0))),M113)","v":0},{"$f":"IF(Riskhistorik!S$2<>\"Datum\",IF(Riskhistorik!T115=\"Låg\",1,IF(Riskhistorik!T115=\"Medel\",2,IF(Riskhistorik!T115=\"Hög\",3,0))),N113)","v":0},{"$f":"IF(Riskhistorik!U$2<>\"Datum\",IF(Riskhistorik!U115=\"Låg\",1,IF(Riskhistorik!U115=\"Medel\",2,IF(Riskhistorik!U115=\"Hög\",3,0))),O113)","v":0},{"$f":"IF(Riskhistorik!U$2<>\"Datum\",IF(Riskhistorik!V115=\"Låg\",1,IF(Riskhistorik!V115=\"Medel\",2,IF(Riskhistorik!V115=\"Hög\",3,0))),P113)","v":0},{"$f":"IF(Riskhistorik!W$2<>\"Datum\",IF(Riskhistorik!W115=\"Låg\",1,IF(Riskhistorik!W115=\"Medel\",2,IF(Riskhistorik!W115=\"Hög\",3,0))),Q113)","v":0},{"$f":"IF(Riskhistorik!W$2<>\"Datum\",IF(Riskhistorik!X115=\"Låg\",1,IF(Riskhistorik!X115=\"Medel\",2,IF(Riskhistorik!X115=\"Hög\",3,0))),R113)","v":0},{"$f":"IF(Riskhistorik!Y$2<>\"Datum\",IF(Riskhistorik!Y115=\"Låg\",1,IF(Riskhistorik!Y115=\"Medel\",2,IF(Riskhistorik!Y115=\"Hög\",3,0))),S113)","v":0},{"$f":"IF(Riskhistorik!Y$2<>\"Datum\",IF(Riskhistorik!Z115=\"Låg\",1,IF(Riskhistorik!Z115=\"Medel\",2,IF(Riskhistorik!Z115=\"Hög\",3,0))),T113)","v":0},{"$f":"IF(Riskhistorik!AA$2<>\"Datum\",IF(Riskhistorik!AA115=\"Låg\",1,IF(Riskhistorik!AA115=\"Medel\",2,IF(Riskhistorik!AA115=\"Hög\",3,0))),U113)","v":0},{"$f":"IF(Riskhistorik!AA$2<>\"Datum\",IF(Riskhistorik!AB115=\"Låg\",1,IF(Riskhistorik!AB115=\"Medel\",2,IF(Riskhistorik!AB115=\"Hög\",3,0))),V113)","v":0},{"$f":"IF(Riskhistorik!AC$2<>\"Datum\",IF(Riskhistorik!AC115=\"Låg\",1,IF(Riskhistorik!AC115=\"Medel\",2,IF(Riskhistorik!AC115=\"Hög\",3,0))),W113)","v":0},{"$f":"IF(Riskhistorik!AC$2<>\"Datum\",IF(Riskhistorik!AD115=\"Låg\",1,IF(Riskhistorik!AD115=\"Medel\",2,IF(Riskhistorik!AD115=\"Hög\",3,0))),X113)","v":0},{"$f":"IF(Riskhistorik!AE$2<>\"Datum\",IF(Riskhistorik!AE115=\"Låg\",1,IF(Riskhistorik!AE115=\"Medel\",2,IF(Riskhistorik!AE115=\"Hög\",3,0))),Y113)","v":0},{"$f":"IF(Riskhistorik!AE$2<>\"Datum\",IF(Riskhistorik!AF115=\"Låg\",1,IF(Riskhistorik!AF115=\"Medel\",2,IF(Riskhistorik!AF115=\"Hög\",3,0))),Z113)","v":0},{"$f":"IF(Riskhistorik!AG$2<>\"Datum\",IF(Riskhistorik!AG115=\"Låg\",1,IF(Riskhistorik!AG115=\"Medel\",2,IF(Riskhistorik!AG115=\"Hög\",3,0))),AA113)","v":0},{"$f":"IF(Riskhistorik!AG$2<>\"Datum\",IF(Riskhistorik!AH115=\"Låg\",1,IF(Riskhistorik!AH115=\"Medel\",2,IF(Riskhistorik!AH115=\"Hög\",3,0))),AB113)","v":0},{"$f":"IF(Riskhistorik!AI$2<>\"Datum\",IF(Riskhistorik!AI115=\"Låg\",1,IF(Riskhistorik!AI115=\"Medel\",2,IF(Riskhistorik!AI115=\"Hög\",3,0))),AC113)","v":0},{"$f":"IF(Riskhistorik!AI$2<>\"Datum\",IF(Riskhistorik!AJ115=\"Låg\",1,IF(Riskhistorik!AJ115=\"Medel\",2,IF(Riskhistorik!AJ115=\"Hög\",3,0))),AD113)","v":0},{"$f":"IF(Riskhistorik!AK$2<>\"Datum\",IF(Riskhistorik!AK115=\"Låg\",1,IF(Riskhistorik!AK115=\"Medel\",2,IF(Riskhistorik!AK115=\"Hög\",3,0))),AE113)","v":0},{"$f":"IF(Riskhistorik!AK$2<>\"Datum\",IF(Riskhistorik!AL115=\"Låg\",1,IF(Riskhistorik!AL115=\"Medel\",2,IF(Riskhistorik!AL115=\"Hög\",3,0))),AF113)","v":0},{"$f":"IF(Riskhistorik!AM$2<>\"Datum\",IF(Riskhistorik!AM115=\"Låg\",1,IF(Riskhistorik!AM115=\"Medel\",2,IF(Riskhistorik!AM115=\"Hög\",3,0))),AG113)","v":0},{"$f":"IF(Riskhistorik!AM$2<>\"Datum\",IF(Riskhistorik!AN115=\"Låg\",1,IF(Riskhistorik!AN115=\"Medel\",2,IF(Riskhistorik!AN115=\"Hög\",3,0))),AH113)","v":0},{"$f":"IF(Riskhistorik!AO$2<>\"Datum\",IF(Riskhistorik!AO115=\"Låg\",1,IF(Riskhistorik!AO115=\"Medel\",2,IF(Riskhistorik!AO115=\"Hög\",3,0))),AI113)","v":0},{"$f":"IF(Riskhistorik!AO$2<>\"Datum\",IF(Riskhistorik!AP115=\"Låg\",1,IF(Riskhistorik!AP115=\"Medel\",2,IF(Riskhistorik!AP115=\"Hög\",3,0))),AJ113)","v":0},{"$f":"IF(Riskhistorik!AQ$2<>\"Datum\",IF(Riskhistorik!AQ115=\"Låg\",1,IF(Riskhistorik!AQ115=\"Medel\",2,IF(Riskhistorik!AQ115=\"Hög\",3,0))),AK113)","v":0},{"$f":"IF(Riskhistorik!AQ$2<>\"Datum\",IF(Riskhistorik!AR115=\"Låg\",1,IF(Riskhistorik!AR115=\"Medel\",2,IF(Riskhistorik!AR115=\"Hög\",3,0))),AL113)","v":0},0,0,0,0,0,0,0,0,0,0,0,0,0,0,0,0,0,0,0,0]
[null,null,null,null,null,null,null,null,{"$f":"IF(Riskhistorik!M$2<>\"Datum\",IF(Riskhistorik!M116=\"Låg\",1,IF(Riskhistorik!M116=\"Medel\",2,IF(Riskhistorik!M116=\"Hög\",3,0))),G114)","v":0},{"$f":"IF(Riskhistorik!M$2<>\"Datum\",IF(Riskhistorik!N116=\"Låg\",1,IF(Riskhistorik!N116=\"Medel\",2,IF(Riskhistorik!N116=\"Hög\",3,0))),H114)","v":0},{"$f":"IF(Riskhistorik!O$2<>\"Datum\",IF(Riskhistorik!O116=\"Låg\",1,IF(Riskhistorik!O116=\"Medel\",2,IF(Riskhistorik!O116=\"Hög\",3,0))),I114)","v":0},{"$f":"IF(Riskhistorik!O$2<>\"Datum\",IF(Riskhistorik!P116=\"Låg\",1,IF(Riskhistorik!P116=\"Medel\",2,IF(Riskhistorik!P116=\"Hög\",3,0))),J114)","v":0},{"$f":"IF(Riskhistorik!Q$2<>\"Datum\",IF(Riskhistorik!Q116=\"Låg\",1,IF(Riskhistorik!Q116=\"Medel\",2,IF(Riskhistorik!Q116=\"Hög\",3,0))),K114)","v":0},{"$f":"IF(Riskhistorik!Q$2<>\"Datum\",IF(Riskhistorik!R116=\"Låg\",1,IF(Riskhistorik!R116=\"Medel\",2,IF(Riskhistorik!R116=\"Hög\",3,0))),L114)","v":0},{"$f":"IF(Riskhistorik!S$2<>\"Datum\",IF(Riskhistorik!S116=\"Låg\",1,IF(Riskhistorik!S116=\"Medel\",2,IF(Riskhistorik!S116=\"Hög\",3,0))),M114)","v":0},{"$f":"IF(Riskhistorik!S$2<>\"Datum\",IF(Riskhistorik!T116=\"Låg\",1,IF(Riskhistorik!T116=\"Medel\",2,IF(Riskhistorik!T116=\"Hög\",3,0))),N114)","v":0},{"$f":"IF(Riskhistorik!U$2<>\"Datum\",IF(Riskhistorik!U116=\"Låg\",1,IF(Riskhistorik!U116=\"Medel\",2,IF(Riskhistorik!U116=\"Hög\",3,0))),O114)","v":0},{"$f":"IF(Riskhistorik!U$2<>\"Datum\",IF(Riskhistorik!V116=\"Låg\",1,IF(Riskhistorik!V116=\"Medel\",2,IF(Riskhistorik!V116=\"Hög\",3,0))),P114)","v":0},{"$f":"IF(Riskhistorik!W$2<>\"Datum\",IF(Riskhistorik!W116=\"Låg\",1,IF(Riskhistorik!W116=\"Medel\",2,IF(Riskhistorik!W116=\"Hög\",3,0))),Q114)","v":0},{"$f":"IF(Riskhistorik!W$2<>\"Datum\",IF(Riskhistorik!X116=\"Låg\",1,IF(Riskhistorik!X116=\"Medel\",2,IF(Riskhistorik!X116=\"Hög\",3,0))),R114)","v":0},{"$f":"IF(Riskhistorik!Y$2<>\"Datum\",IF(Riskhistorik!Y116=\"Låg\",1,IF(Riskhistorik!Y116=\"Medel\",2,IF(Riskhistorik!Y116=\"Hög\",3,0))),S114)","v":0},{"$f":"IF(Riskhistorik!Y$2<>\"Datum\",IF(Riskhistorik!Z116=\"Låg\",1,IF(Riskhistorik!Z116=\"Medel\",2,IF(Riskhistorik!Z116=\"Hög\",3,0))),T114)","v":0},{"$f":"IF(Riskhistorik!AA$2<>\"Datum\",IF(Riskhistorik!AA116=\"Låg\",1,IF(Riskhistorik!AA116=\"Medel\",2,IF(Riskhistorik!AA116=\"Hög\",3,0))),U114)","v":0},{"$f":"IF(Riskhistorik!AA$2<>\"Datum\",IF(Riskhistorik!AB116=\"Låg\",1,IF(Riskhistorik!AB116=\"Medel\",2,IF(Riskhistorik!AB116=\"Hög\",3,0))),V114)","v":0},{"$f":"IF(Riskhistorik!AC$2<>\"Datum\",IF(Riskhistorik!AC116=\"Låg\",1,IF(Riskhistorik!AC116=\"Medel\",2,IF(Riskhistorik!AC116=\"Hög\",3,0))),W114)","v":0},{"$f":"IF(Riskhistorik!AC$2<>\"Datum\",IF(Riskhistorik!AD116=\"Låg\",1,IF(Riskhistorik!AD116=\"Medel\",2,IF(Riskhistorik!AD116=\"Hög\",3,0))),X114)","v":0},{"$f":"IF(Riskhistorik!AE$2<>\"Datum\",IF(Riskhistorik!AE116=\"Låg\",1,IF(Riskhistorik!AE116=\"Medel\",2,IF(Riskhistorik!AE116=\"Hög\",3,0))),Y114)","v":0},{"$f":"IF(Riskhistorik!AE$2<>\"Datum\",IF(Riskhistorik!AF116=\"Låg\",1,IF(Riskhistorik!AF116=\"Medel\",2,IF(Riskhistorik!AF116=\"Hög\",3,0))),Z114)","v":0},{"$f":"IF(Riskhistorik!AG$2<>\"Datum\",IF(Riskhistorik!AG116=\"Låg\",1,IF(Riskhistorik!AG116=\"Medel\",2,IF(Riskhistorik!AG116=\"Hög\",3,0))),AA114)","v":0},{"$f":"IF(Riskhistorik!AG$2<>\"Datum\",IF(Riskhistorik!AH116=\"Låg\",1,IF(Riskhistorik!AH116=\"Medel\",2,IF(Riskhistorik!AH116=\"Hög\",3,0))),AB114)","v":0},{"$f":"IF(Riskhistorik!AI$2<>\"Datum\",IF(Riskhistorik!AI116=\"Låg\",1,IF(Riskhistorik!AI116=\"Medel\",2,IF(Riskhistorik!AI116=\"Hög\",3,0))),AC114)","v":0},{"$f":"IF(Riskhistorik!AI$2<>\"Datum\",IF(Riskhistorik!AJ116=\"Låg\",1,IF(Riskhistorik!AJ116=\"Medel\",2,IF(Riskhistorik!AJ116=\"Hög\",3,0))),AD114)","v":0},{"$f":"IF(Riskhistorik!AK$2<>\"Datum\",IF(Riskhistorik!AK116=\"Låg\",1,IF(Riskhistorik!AK116=\"Medel\",2,IF(Riskhistorik!AK116=\"Hög\",3,0))),AE114)","v":0},{"$f":"IF(Riskhistorik!AK$2<>\"Datum\",IF(Riskhistorik!AL116=\"Låg\",1,IF(Riskhistorik!AL116=\"Medel\",2,IF(Riskhistorik!AL116=\"Hög\",3,0))),AF114)","v":0},{"$f":"IF(Riskhistorik!AM$2<>\"Datum\",IF(Riskhistorik!AM116=\"Låg\",1,IF(Riskhistorik!AM116=\"Medel\",2,IF(Riskhistorik!AM116=\"Hög\",3,0))),AG114)","v":0},{"$f":"IF(Riskhistorik!AM$2<>\"Datum\",IF(Riskhistorik!AN116=\"Låg\",1,IF(Riskhistorik!AN116=\"Medel\",2,IF(Riskhistorik!AN116=\"Hög\",3,0))),AH114)","v":0},{"$f":"IF(Riskhistorik!AO$2<>\"Datum\",IF(Riskhistorik!AO116=\"Låg\",1,IF(Riskhistorik!AO116=\"Medel\",2,IF(Riskhistorik!AO116=\"Hög\",3,0))),AI114)","v":0},{"$f":"IF(Riskhistorik!AO$2<>\"Datum\",IF(Riskhistorik!AP116=\"Låg\",1,IF(Riskhistorik!AP116=\"Medel\",2,IF(Riskhistorik!AP116=\"Hög\",3,0))),AJ114)","v":0},{"$f":"IF(Riskhistorik!AQ$2<>\"Datum\",IF(Riskhistorik!AQ116=\"Låg\",1,IF(Riskhistorik!AQ116=\"Medel\",2,IF(Riskhistorik!AQ116=\"Hög\",3,0))),AK114)","v":0},{"$f":"IF(Riskhistorik!AQ$2<>\"Datum\",IF(Riskhistorik!AR116=\"Låg\",1,IF(Riskhistorik!AR116=\"Medel\",2,IF(Riskhistorik!AR116=\"Hög\",3,0))),AL114)","v":0},0,0,0,0,0,0,0,0,0,0,0,0,0,0,0,0,0,0,0,0]
[null,null,null,null,null,null,null,null,{"$f":"IF(Riskhistorik!M$2<>\"Datum\",IF(Riskhistorik!M117=\"Låg\",1,IF(Riskhistorik!M117=\"Medel\",2,IF(Riskhistorik!M117=\"Hög\",3,0))),G115)","v":0},{"$f":"IF(Riskhistorik!M$2<>\"Datum\",IF(Riskhistorik!N117=\"Låg\",1,IF(Riskhistorik!N117=\"Medel\",2,IF(Riskhistorik!N117=\"Hög\",3,0))),H115)","v":0},{"$f":"IF(Riskhistorik!O$2<>\"Datum\",IF(Riskhistorik!O117=\"Låg\",1,IF(Riskhistorik!O117=\"Medel\",2,IF(Riskhistorik!O117=\"Hög\",3,0))),I115)","v":0},{"$f":"IF(Riskhistorik!O$2<>\"Datum\",IF(Riskhistorik!P117=\"Låg\",1,IF(Riskhistorik!P117=\"Medel\",2,IF(Riskhistorik!P117=\"Hög\",3,0))),J115)","v":0},{"$f":"IF(Riskhistorik!Q$2<>\"Datum\",IF(Riskhistorik!Q117=\"Låg\",1,IF(Riskhistorik!Q117=\"Medel\",2,IF(Riskhistorik!Q117=\"Hög\",3,0))),K115)","v":0},{"$f":"IF(Riskhistorik!Q$2<>\"Datum\",IF(Riskhistorik!R117=\"Låg\",1,IF(Riskhistorik!R117=\"Medel\",2,IF(Riskhistorik!R117=\"Hög\",3,0))),L115)","v":0},{"$f":"IF(Riskhistorik!S$2<>\"Datum\",IF(Riskhistorik!S117=\"Låg\",1,IF(Riskhistorik!S117=\"Medel\",2,IF(Riskhistorik!S117=\"Hög\",3,0))),M115)","v":0},{"$f":"IF(Riskhistorik!S$2<>\"Datum\",IF(Riskhistorik!T117=\"Låg\",1,IF(Riskhistorik!T117=\"Medel\",2,IF(Riskhistorik!T117=\"Hög\",3,0))),N115)","v":0},{"$f":"IF(Riskhistorik!U$2<>\"Datum\",IF(Riskhistorik!U117=\"Låg\",1,IF(Riskhistorik!U117=\"Medel\",2,IF(Riskhistorik!U117=\"Hög\",3,0))),O115)","v":0},{"$f":"IF(Riskhistorik!U$2<>\"Datum\",IF(Riskhistorik!V117=\"Låg\",1,IF(Riskhistorik!V117=\"Medel\",2,IF(Riskhistorik!V117=\"Hög\",3,0))),P115)","v":0},{"$f":"IF(Riskhistorik!W$2<>\"Datum\",IF(Riskhistorik!W117=\"Låg\",1,IF(Riskhistorik!W117=\"Medel\",2,IF(Riskhistorik!W117=\"Hög\",3,0))),Q115)","v":0},{"$f":"IF(Riskhistorik!W$2<>\"Datum\",IF(Riskhistorik!X117=\"Låg\",1,IF(Riskhistorik!X117=\"Medel\",2,IF(Riskhistorik!X117=\"Hög\",3,0))),R115)","v":0},{"$f":"IF(Riskhistorik!Y$2<>\"Datum\",IF(Riskhistorik!Y117=\"Låg\",1,IF(Riskhistorik!Y117=\"Medel\",2,IF(Riskhistorik!Y117=\"Hög\",3,0))),S115)","v":0},{"$f":"IF(Riskhistorik!Y$2<>\"Datum\",IF(Riskhistorik!Z117=\"Låg\",1,IF(Riskhistorik!Z117=\"Medel\",2,IF(Riskhistorik!Z117=\"Hög\",3,0))),T115)","v":0},{"$f":"IF(Riskhistorik!AA$2<>\"Datum\",IF(Riskhistorik!AA117=\"Låg\",1,IF(Riskhistorik!AA117=\"Medel\",2,IF(Riskhistorik!AA117=\"Hög\",3,0))),U115)","v":0},{"$f":"IF(Riskhistorik!AA$2<>\"Datum\",IF(Riskhistorik!AB117=\"Låg\",1,IF(Riskhistorik!AB117=\"Medel\",2,IF(Riskhistorik!AB117=\"Hög\",3,0))),V115)","v":0},{"$f":"IF(Riskhistorik!AC$2<>\"Datum\",IF(Riskhistorik!AC117=\"Låg\",1,IF(Riskhistorik!AC117=\"Medel\",2,IF(Riskhistorik!AC117=\"Hög\",3,0))),W115)","v":0},{"$f":"IF(Riskhistorik!AC$2<>\"Datum\",IF(Riskhistorik!AD117=\"Låg\",1,IF(Riskhistorik!AD117=\"Medel\",2,IF(Riskhistorik!AD117=\"Hög\",3,0))),X115)","v":0},{"$f":"IF(Riskhistorik!AE$2<>\"Datum\",IF(Riskhistorik!AE117=\"Låg\",1,IF(Riskhistorik!AE117=\"Medel\",2,IF(Riskhistorik!AE117=\"Hög\",3,0))),Y115)","v":0},{"$f":"IF(Riskhistorik!AE$2<>\"Datum\",IF(Riskhistorik!AF117=\"Låg\",1,IF(Riskhistorik!AF117=\"Medel\",2,IF(Riskhistorik!AF117=\"Hög\",3,0))),Z115)","v":0},{"$f":"IF(Riskhistorik!AG$2<>\"Datum\",IF(Riskhistorik!AG117=\"Låg\",1,IF(Riskhistorik!AG117=\"Medel\",2,IF(Riskhistorik!AG117=\"Hög\",3,0))),AA115)","v":0},{"$f":"IF(Riskhistorik!AG$2<>\"Datum\",IF(Riskhistorik!AH117=\"Låg\",1,IF(Riskhistorik!AH117=\"Medel\",2,IF(Riskhistorik!AH117=\"Hög\",3,0))),AB115)","v":0},{"$f":"IF(Riskhistorik!AI$2<>\"Datum\",IF(Riskhistorik!AI117=\"Låg\",1,IF(Riskhistorik!AI117=\"Medel\",2,IF(Riskhistorik!AI117=\"Hög\",3,0))),AC115)","v":0},{"$f":"IF(Riskhistorik!AI$2<>\"Datum\",IF(Riskhistorik!AJ117=\"Låg\",1,IF(Riskhistorik!AJ117=\"Medel\",2,IF(Riskhistorik!AJ117=\"Hög\",3,0))),AD115)","v":0},{"$f":"IF(Riskhistorik!AK$2<>\"Datum\",IF(Riskhistorik!AK117=\"Låg\",1,IF(Riskhistorik!AK117=\"Medel\",2,IF(Riskhistorik!AK117=\"Hög\",3,0))),AE115)","v":0},{"$f":"IF(Riskhistorik!AK$2<>\"Datum\",IF(Riskhistorik!AL117=\"Låg\",1,IF(Riskhistorik!AL117=\"Medel\",2,IF(Riskhistorik!AL117=\"Hög\",3,0))),AF115)","v":0},{"$f":"IF(Riskhistorik!AM$2<>\"Datum\",IF(Riskhistorik!AM117=\"Låg\",1,IF(Riskhistorik!AM117=\"Medel\",2,IF(Riskhistorik!AM117=\"Hög\",3,0))),AG115)","v":0},{"$f":"IF(Riskhistorik!AM$2<>\"Datum\",IF(Riskhistorik!AN117=\"Låg\",1,IF(Riskhistorik!AN117=\"Medel\",2,IF(Riskhistorik!AN117=\"Hög\",3,0))),AH115)","v":0},{"$f":"IF(Riskhistorik!AO$2<>\"Datum\",IF(Riskhistorik!AO117=\"Låg\",1,IF(Riskhistorik!AO117=\"Medel\",2,IF(Riskhistorik!AO117=\"Hög\",3,0))),AI115)","v":0},{"$f":"IF(Riskhistorik!AO$2<>\"Datum\",IF(Riskhistorik!AP117=\"Låg\",1,IF(Riskhistorik!AP117=\"Medel\",2,IF(Riskhistorik!AP117=\"Hög\",3,0))),AJ115)","v":0},{"$f":"IF(Riskhistorik!AQ$2<>\"Datum\",IF(Riskhistorik!AQ117=\"Låg\",1,IF(Riskhistorik!AQ117=\"Medel\",2,IF(Riskhistorik!AQ117=\"Hög\",3,0))),AK115)","v":0},{"$f":"IF(Riskhistorik!AQ$2<>\"Datum\",IF(Riskhistorik!AR117=\"Låg\",1,IF(Riskhistorik!AR117=\"Medel\",2,IF(Riskhistorik!AR117=\"Hög\",3,0))),AL115)","v":0},0,0,0,0,0,0,0,0,0,0,0,0,0,0,0,0,0,0,0,0]
[null,null,null,null,null,null,null,null,{"$f":"IF(Riskhistorik!M$2<>\"Datum\",IF(Riskhistorik!M118=\"Låg\",1,IF(Riskhistorik!M118=\"Medel\",2,IF(Riskhistorik!M118=\"Hög\",3,0))),G116)","v":0},{"$f":"IF(Riskhistorik!M$2<>\"Datum\",IF(Riskhistorik!N118=\"Låg\",1,IF(Riskhistorik!N118=\"Medel\",2,IF(Riskhistorik!N118=\"Hög\",3,0))),H116)","v":0},{"$f":"IF(Riskhistorik!O$2<>\"Datum\",IF(Riskhistorik!O118=\"Låg\",1,IF(Riskhistorik!O118=\"Medel\",2,IF(Riskhistorik!O118=\"Hög\",3,0))),I116)","v":0},{"$f":"IF(Riskhistorik!O$2<>\"Datum\",IF(Riskhistorik!P118=\"Låg\",1,IF(Riskhistorik!P118=\"Medel\",2,IF(Riskhistorik!P118=\"Hög\",3,0))),J116)","v":0},{"$f":"IF(Riskhistorik!Q$2<>\"Datum\",IF(Riskhistorik!Q118=\"Låg\",1,IF(Riskhistorik!Q118=\"Medel\",2,IF(Riskhistorik!Q118=\"Hög\",3,0))),K116)","v":0},{"$f":"IF(Riskhistorik!Q$2<>\"Datum\",IF(Riskhistorik!R118=\"Låg\",1,IF(Riskhistorik!R118=\"Medel\",2,IF(Riskhistorik!R118=\"Hög\",3,0))),L116)","v":0},{"$f":"IF(Riskhistorik!S$2<>\"Datum\",IF(Riskhistorik!S118=\"Låg\",1,IF(Riskhistorik!S118=\"Medel\",2,IF(Riskhistorik!S118=\"Hög\",3,0))),M116)","v":0},{"$f":"IF(Riskhistorik!S$2<>\"Datum\",IF(Riskhistorik!T118=\"Låg\",1,IF(Riskhistorik!T118=\"Medel\",2,IF(Riskhistorik!T118=\"Hög\",3,0))),N116)","v":0},{"$f":"IF(Riskhistorik!U$2<>\"Datum\",IF(Riskhistorik!U118=\"Låg\",1,IF(Riskhistorik!U118=\"Medel\",2,IF(Riskhistorik!U118=\"Hög\",3,0))),O116)","v":0},{"$f":"IF(Riskhistorik!U$2<>\"Datum\",IF(Riskhistorik!V118=\"Låg\",1,IF(Riskhistorik!V118=\"Medel\",2,IF(Riskhistorik!V118=\"Hög\",3,0))),P116)","v":0},{"$f":"IF(Riskhistorik!W$2<>\"Datum\",IF(Riskhistorik!W118=\"Låg\",1,IF(Riskhistorik!W118=\"Medel\",2,IF(Riskhistorik!W118=\"Hög\",3,0))),Q116)","v":0},{"$f":"IF(Riskhistorik!W$2<>\"Datum\",IF(Riskhistorik!X118=\"Låg\",1,IF(Riskhistorik!X118=\"Medel\",2,IF(Riskhistorik!X118=\"Hög\",3,0))),R116)","v":0},{"$f":"IF(Riskhistorik!Y$2<>\"Datum\",IF(Riskhistorik!Y118=\"Låg\",1,IF(Riskhistorik!Y118=\"Medel\",2,IF(Riskhistorik!Y118=\"Hög\",3,0))),S116)","v":0},{"$f":"IF(Riskhistorik!Y$2<>\"Datum\",IF(Riskhistorik!Z118=\"Låg\",1,IF(Riskhistorik!Z118=\"Medel\",2,IF(Riskhistorik!Z118=\"Hög\",3,0))),T116)","v":0},{"$f":"IF(Riskhistorik!AA$2<>\"Datum\",IF(Riskhistorik!AA118=\"Låg\",1,IF(Riskhistorik!AA118=\"Medel\",2,IF(Riskhistorik!AA118=\"Hög\",3,0))),U116)","v":0},{"$f":"IF(Riskhistorik!AA$2<>\"Datum\",IF(Riskhistorik!AB118=\"Låg\",1,IF(Riskhistorik!AB118=\"Medel\",2,IF(Riskhistorik!AB118=\"Hög\",3,0))),V116)","v":0},{"$f":"IF(Riskhistorik!AC$2<>\"Datum\",IF(Riskhistorik!AC118=\"Låg\",1,IF(Riskhistorik!AC118=\"Medel\",2,IF(Riskhistorik!AC118=\"Hög\",3,0))),W116)","v":0},{"$f":"IF(Riskhistorik!AC$2<>\"Datum\",IF(Riskhistorik!AD118=\"Låg\",1,IF(Riskhistorik!AD118=\"Medel\",2,IF(Riskhistorik!AD118=\"Hög\",3,0))),X116)","v":0},{"$f":"IF(Riskhistorik!AE$2<>\"Datum\",IF(Riskhistorik!AE118=\"Låg\",1,IF(Riskhistorik!AE118=\"Medel\",2,IF(Riskhistorik!AE118=\"Hög\",3,0))),Y116)","v":0},{"$f":"IF(Riskhistorik!AE$2<>\"Datum\",IF(Riskhistorik!AF118=\"Låg\",1,IF(Riskhistorik!AF118=\"Medel\",2,IF(Riskhistorik!AF118=\"Hög\",3,0))),Z116)","v":0},{"$f":"IF(Riskhistorik!AG$2<>\"Datum\",IF(Riskhistorik!AG118=\"Låg\",1,IF(Riskhistorik!AG118=\"Medel\",2,IF(Riskhistorik!AG118=\"Hög\",3,0))),AA116)","v":0},{"$f":"IF(Riskhistorik!AG$2<>\"Datum\",IF(Riskhistorik!AH118=\"Låg\",1,IF(Riskhistorik!AH118=\"Medel\",2,IF(Riskhistorik!AH118=\"Hög\",3,0))),AB116)","v":0},{"$f":"IF(Riskhistorik!AI$2<>\"Datum\",IF(Riskhistorik!AI118=\"Låg\",1,IF(Riskhistorik!AI118=\"Medel\",2,IF(Riskhistorik!AI118=\"Hög\",3,0))),AC116)","v":0},{"$f":"IF(Riskhistorik!AI$2<>\"Datum\",IF(Riskhistorik!AJ118=\"Låg\",1,IF(Riskhistorik!AJ118=\"Medel\",2,IF(Riskhistorik!AJ118=\"Hög\",3,0))),AD116)","v":0},{"$f":"IF(Riskhistorik!AK$2<>\"Datum\",IF(Riskhistorik!AK118=\"Låg\",1,IF(Riskhistorik!AK118=\"Medel\",2,IF(Riskhistorik!AK118=\"Hög\",3,0))),AE116)","v":0},{"$f":"IF(Riskhistorik!AK$2<>\"Datum\",IF(Riskhistorik!AL118=\"Låg\",1,IF(Riskhistorik!AL118=\"Medel\",2,IF(Riskhistorik!AL118=\"Hög\",3,0))),AF116)","v":0},{"$f":"IF(Riskhistorik!AM$2<>\"Datum\",IF(Riskhistorik!AM118=\"Låg\",1,IF(Riskhistorik!AM118=\"Medel\",2,IF(Riskhistorik!AM118=\"Hög\",3,0))),AG116)","v":0},{"$f":"IF(Riskhistorik!AM$2<>\"Datum\",IF(Riskhistorik!AN118=\"Låg\",1,IF(Riskhistorik!AN118=\"Medel\",2,IF(Riskhistorik!AN118=\"Hög\",3,0))),AH116)","v":0},{"$f":"IF(Riskhistorik!AO$2<>\"Datum\",IF(Riskhistorik!AO118=\"Låg\",1,IF(Riskhistorik!AO118=\"Medel\",2,IF(Riskhistorik!AO118=\"Hög\",3,0))),AI116)","v":0},{"$f":"IF(Riskhistorik!AO$2<>\"Datum\",IF(Riskhistorik!AP118=\"Låg\",1,IF(Riskhistorik!AP118=\"Medel\",2,IF(Riskhistorik!AP118=\"Hög\",3,0))),AJ116)","v":0},{"$f":"IF(Riskhistorik!AQ$2<>\"Datum\",IF(Riskhistorik!AQ118=\"Låg\",1,IF(Riskhistorik!AQ118=\"Medel\",2,IF(Riskhistorik!AQ118=\"Hög\",3,0))),AK116)","v":0},{"$f":"IF(Riskhistorik!AQ$2<>\"Datum\",IF(Riskhistorik!AR118=\"Låg\",1,IF(Riskhistorik!AR118=\"Medel\",2,IF(Riskhistorik!AR118=\"Hög\",3,0))),AL116)","v":0},0,0,0,0,0,0,0,0,0,0,0,0,0,0,0,0,0,0,0,0]
[null,null,null,null,null,null,null,null,{"$f":"IF(Riskhistorik!M$2<>\"Datum\",IF(Riskhistorik!M119=\"Låg\",1,IF(Riskhistorik!M119=\"Medel\",2,IF(Riskhistorik!M119=\"Hög\",3,0))),G117)","v":0},{"$f":"IF(Riskhistorik!M$2<>\"Datum\",IF(Riskhistorik!N119=\"Låg\",1,IF(Riskhistorik!N119=\"Medel\",2,IF(Riskhistorik!N119=\"Hög\",3,0))),H117)","v":0},{"$f":"IF(Riskhistorik!O$2<>\"Datum\",IF(Riskhistorik!O119=\"Låg\",1,IF(Riskhistorik!O119=\"Medel\",2,IF(Riskhistorik!O119=\"Hög\",3,0))),I117)","v":0},{"$f":"IF(Riskhistorik!O$2<>\"Datum\",IF(Riskhistorik!P119=\"Låg\",1,IF(Riskhistorik!P119=\"Medel\",2,IF(Riskhistorik!P119=\"Hög\",3,0))),J117)","v":0},{"$f":"IF(Riskhistorik!Q$2<>\"Datum\",IF(Riskhistorik!Q119=\"Låg\",1,IF(Riskhistorik!Q119=\"Medel\",2,IF(Riskhistorik!Q119=\"Hög\",3,0))),K117)","v":0},{"$f":"IF(Riskhistorik!Q$2<>\"Datum\",IF(Riskhistorik!R119=\"Låg\",1,IF(Riskhistorik!R119=\"Medel\",2,IF(Riskhistorik!R119=\"Hög\",3,0))),L117)","v":0},{"$f":"IF(Riskhistorik!S$2<>\"Datum\",IF(Riskhistorik!S119=\"Låg\",1,IF(Riskhistorik!S119=\"Medel\",2,IF(Riskhistorik!S119=\"Hög\",3,0))),M117)","v":0},{"$f":"IF(Riskhistorik!S$2<>\"Datum\",IF(Riskhistorik!T119=\"Låg\",1,IF(Riskhistorik!T119=\"Medel\",2,IF(Riskhistorik!T119=\"Hög\",3,0))),N117)","v":0},{"$f":"IF(Riskhistorik!U$2<>\"Datum\",IF(Riskhistorik!U119=\"Låg\",1,IF(Riskhistorik!U119=\"Medel\",2,IF(Riskhistorik!U119=\"Hög\",3,0))),O117)","v":0},{"$f":"IF(Riskhistorik!U$2<>\"Datum\",IF(Riskhistorik!V119=\"Låg\",1,IF(Riskhistorik!V119=\"Medel\",2,IF(Riskhistorik!V119=\"Hög\",3,0))),P117)","v":0},{"$f":"IF(Riskhistorik!W$2<>\"Datum\",IF(Riskhistorik!W119=\"Låg\",1,IF(Riskhistorik!W119=\"Medel\",2,IF(Riskhistorik!W119=\"Hög\",3,0))),Q117)","v":0},{"$f":"IF(Riskhistorik!W$2<>\"Datum\",IF(Riskhistorik!X119=\"Låg\",1,IF(Riskhistorik!X119=\"Medel\",2,IF(Riskhistorik!X119=\"Hög\",3,0))),R117)","v":0},{"$f":"IF(Riskhistorik!Y$2<>\"Datum\",IF(Riskhistorik!Y119=\"Låg\",1,IF(Riskhistorik!Y119=\"Medel\",2,IF(Riskhistorik!Y119=\"Hög\",3,0))),S117)","v":0},{"$f":"IF(Riskhistorik!Y$2<>\"Datum\",IF(Riskhistorik!Z119=\"Låg\",1,IF(Riskhistorik!Z119=\"Medel\",2,IF(Riskhistorik!Z119=\"Hög\",3,0))),T117)","v":0},{"$f":"IF(Riskhistorik!AA$2<>\"Datum\",IF(Riskhistorik!AA119=\"Låg\",1,IF(Riskhistorik!AA119=\"Medel\",2,IF(Riskhistorik!AA119=\"Hög\",3,0))),U117)","v":0},{"$f":"IF(Riskhistorik!AA$2<>\"Datum\",IF(Riskhistorik!AB119=\"Låg\",1,IF(Riskhistorik!AB119=\"Medel\",2,IF(Riskhistorik!AB119=\"Hög\",3,0))),V117)","v":0},{"$f":"IF(Riskhistorik!AC$2<>\"Datum\",IF(Riskhistorik!AC119=\"Låg\",1,IF(Riskhistorik!AC119=\"Medel\",2,IF(Riskhistorik!AC119=\"Hög\",3,0))),W117)","v":0},{"$f":"IF(Riskhistorik!AC$2<>\"Datum\",IF(Riskhistorik!AD119=\"Låg\",1,IF(Riskhistorik!AD119=\"Medel\",2,IF(Riskhistorik!AD119=\"Hög\",3,0))),X117)","v":0},{"$f":"IF(Riskhistorik!AE$2<>\"Datum\",IF(Riskhistorik!AE119=\"Låg\",1,IF(Riskhistorik!AE119=\"Medel\",2,IF(Riskhistorik!AE119=\"Hög\",3,0))),Y117)","v":0},{"$f":"IF(Riskhistorik!AE$2<>\"Datum\",IF(Riskhistorik!AF119=\"Låg\",1,IF(Riskhistorik!AF119=\"Medel\",2,IF(Riskhistorik!AF119=\"Hög\",3,0))),Z117)","v":0},{"$f":"IF(Riskhistorik!AG$2<>\"Datum\",IF(Riskhistorik!AG119=\"Låg\",1,IF(Riskhistorik!AG119=\"Medel\",2,IF(Riskhistorik!AG119=\"Hög\",3,0))),AA117)","v":0},{"$f":"IF(Riskhistorik!AG$2<>\"Datum\",IF(Riskhistorik!AH119=\"Låg\",1,IF(Riskhistorik!AH119=\"Medel\",2,IF(Riskhistorik!AH119=\"Hög\",3,0))),AB117)","v":0},{"$f":"IF(Riskhistorik!AI$2<>\"Datum\",IF(Riskhistorik!AI119=\"Låg\",1,IF(Riskhistorik!AI119=\"Medel\",2,IF(Riskhistorik!AI119=\"Hög\",3,0))),AC117)","v":0},{"$f":"IF(Riskhistorik!AI$2<>\"Datum\",IF(Riskhistorik!AJ119=\"Låg\",1,IF(Riskhistorik!AJ119=\"Medel\",2,IF(Riskhistorik!AJ119=\"Hög\",3,0))),AD117)","v":0},{"$f":"IF(Riskhistorik!AK$2<>\"Datum\",IF(Riskhistorik!AK119=\"Låg\",1,IF(Riskhistorik!AK119=\"Medel\",2,IF(Riskhistorik!AK119=\"Hög\",3,0))),AE117)","v":0},{"$f":"IF(Riskhistorik!AK$2<>\"Datum\",IF(Riskhistorik!AL119=\"Låg\",1,IF(Riskhistorik!AL119=\"Medel\",2,IF(Riskhistorik!AL119=\"Hög\",3,0))),AF117)","v":0},{"$f":"IF(Riskhistorik!AM$2<>\"Datum\",IF(Riskhistorik!AM119=\"Låg\",1,IF(Riskhistorik!AM119=\"Medel\",2,IF(Riskhistorik!AM119=\"Hög\",3,0))),AG117)","v":0},{"$f":"IF(Riskhistorik!AM$2<>\"Datum\",IF(Riskhistorik!AN119=\"Låg\",1,IF(Riskhistorik!AN119=\"Medel\",2,IF(Riskhistorik!AN119=\"Hög\",3,0))),AH117)","v":0},{"$f":"IF(Riskhistorik!AO$2<>\"Datum\",IF(Riskhistorik!AO119=\"Låg\",1,IF(Riskhistorik!AO119=\"Medel\",2,IF(Riskhistorik!AO119=\"Hög\",3,0))),AI117)","v":0},{"$f":"IF(Riskhistorik!AO$2<>\"Datum\",IF(Riskhistorik!AP119=\"Låg\",1,IF(Riskhistorik!AP119=\"Medel\",2,IF(Riskhistorik!AP119=\"Hög\",3,0))),AJ117)","v":0},{"$f":"IF(Riskhistorik!AQ$2<>\"Datum\",IF(Riskhistorik!AQ119=\"Låg\",1,IF(Riskhistorik!AQ119=\"Medel\",2,IF(Riskhistorik!AQ119=\"Hög\",3,0))),AK117)","v":0},{"$f":"IF(Riskhistorik!AQ$2<>\"Datum\",IF(Riskhistorik!AR119=\"Låg\",1,IF(Riskhistorik!AR119=\"Medel\",2,IF(Riskhistorik!AR119=\"Hög\",3,0))),AL117)","v":0},0,0,0,0,0,0,0,0,0,0,0,0,0,0,0,0,0,0,0,0]
[null,null,null,null,null,null,null,null,{"$f":"IF(Riskhistorik!M$2<>\"Datum\",IF(Riskhistorik!M120=\"Låg\",1,IF(Riskhistorik!M120=\"Medel\",2,IF(Riskhistorik!M120=\"Hög\",3,0))),G118)","v":0},{"$f":"IF(Riskhistorik!M$2<>\"Datum\",IF(Riskhistorik!N120=\"Låg\",1,IF(Riskhistorik!N120=\"Medel\",2,IF(Riskhistorik!N120=\"Hög\",3,0))),H118)","v":0},{"$f":"IF(Riskhistorik!O$2<>\"Datum\",IF(Riskhistorik!O120=\"Låg\",1,IF(Riskhistorik!O120=\"Medel\",2,IF(Riskhistorik!O120=\"Hög\",3,0))),I118)","v":0},{"$f":"IF(Riskhistorik!O$2<>\"Datum\",IF(Riskhistorik!P120=\"Låg\",1,IF(Riskhistorik!P120=\"Medel\",2,IF(Riskhistorik!P120=\"Hög\",3,0))),J118)","v":0},{"$f":"IF(Riskhistorik!Q$2<>\"Datum\",IF(Riskhistorik!Q120=\"Låg\",1,IF(Riskhistorik!Q120=\"Medel\",2,IF(Riskhistorik!Q120=\"Hög\",3,0))),K118)","v":0},{"$f":"IF(Riskhistorik!Q$2<>\"Datum\",IF(Riskhistorik!R120=\"Låg\",1,IF(Riskhistorik!R120=\"Medel\",2,IF(Riskhistorik!R120=\"Hög\",3,0))),L118)","v":0},{"$f":"IF(Riskhistorik!S$2<>\"Datum\",IF(Riskhistorik!S120=\"Låg\",1,IF(Riskhistorik!S120=\"Medel\",2,IF(Riskhistorik!S120=\"Hög\",3,0))),M118)","v":0},{"$f":"IF(Riskhistorik!S$2<>\"Datum\",IF(Riskhistorik!T120=\"Låg\",1,IF(Riskhistorik!T120=\"Medel\",2,IF(Riskhistorik!T120=\"Hög\",3,0))),N118)","v":0},{"$f":"IF(Riskhistorik!U$2<>\"Datum\",IF(Riskhistorik!U120=\"Låg\",1,IF(Riskhistorik!U120=\"Medel\",2,IF(Riskhistorik!U120=\"Hög\",3,0))),O118)","v":0},{"$f":"IF(Riskhistorik!U$2<>\"Datum\",IF(Riskhistorik!V120=\"Låg\",1,IF(Riskhistorik!V120=\"Medel\",2,IF(Riskhistorik!V120=\"Hög\",3,0))),P118)","v":0},{"$f":"IF(Riskhistorik!W$2<>\"Datum\",IF(Riskhistorik!W120=\"Låg\",1,IF(Riskhistorik!W120=\"Medel\",2,IF(Riskhistorik!W120=\"Hög\",3,0))),Q118)","v":0},{"$f":"IF(Riskhistorik!W$2<>\"Datum\",IF(Riskhistorik!X120=\"Låg\",1,IF(Riskhistorik!X120=\"Medel\",2,IF(Riskhistorik!X120=\"Hög\",3,0))),R118)","v":0},{"$f":"IF(Riskhistorik!Y$2<>\"Datum\",IF(Riskhistorik!Y120=\"Låg\",1,IF(Riskhistorik!Y120=\"Medel\",2,IF(Riskhistorik!Y120=\"Hög\",3,0))),S118)","v":0},{"$f":"IF(Riskhistorik!Y$2<>\"Datum\",IF(Riskhistorik!Z120=\"Låg\",1,IF(Riskhistorik!Z120=\"Medel\",2,IF(Riskhistorik!Z120=\"Hög\",3,0))),T118)","v":0},{"$f":"IF(Riskhistorik!AA$2<>\"Datum\",IF(Riskhistorik!AA120=\"Låg\",1,IF(Riskhistorik!AA120=\"Medel\",2,IF(Riskhistorik!AA120=\"Hög\",3,0))),U118)","v":0},{"$f":"IF(Riskhistorik!AA$2<>\"Datum\",IF(Riskhistorik!AB120=\"Låg\",1,IF(Riskhistorik!AB120=\"Medel\",2,IF(Riskhistorik!AB120=\"Hög\",3,0))),V118)","v":0},{"$f":"IF(Riskhistorik!AC$2<>\"Datum\",IF(Riskhistorik!AC120=\"Låg\",1,IF(Riskhistorik!AC120=\"Medel\",2,IF(Riskhistorik!AC120=\"Hög\",3,0))),W118)","v":0},{"$f":"IF(Riskhistorik!AC$2<>\"Datum\",IF(Riskhistorik!AD120=\"Låg\",1,IF(Riskhistorik!AD120=\"Medel\",2,IF(Riskhistorik!AD120=\"Hög\",3,0))),X118)","v":0},{"$f":"IF(Riskhistorik!AE$2<>\"Datum\",IF(Riskhistorik!AE120=\"Låg\",1,IF(Riskhistorik!AE120=\"Medel\",2,IF(Riskhistorik!AE120=\"Hög\",3,0))),Y118)","v":0},{"$f":"IF(Riskhistorik!AE$2<>\"Datum\",IF(Riskhistorik!AF120=\"Låg\",1,IF(Riskhistorik!AF120=\"Medel\",2,IF(Riskhistorik!AF120=\"Hög\",3,0))),Z118)","v":0},{"$f":"IF(Riskhistorik!AG$2<>\"Datum\",IF(Riskhistorik!AG120=\"Låg\",1,IF(Riskhistorik!AG120=\"Medel\",2,IF(Riskhistorik!AG120=\"Hög\",3,0))),AA118)","v":0},{"$f":"IF(Riskhistorik!AG$2<>\"Datum\",IF(Riskhistorik!AH120=\"Låg\",1,IF(Riskhistorik!AH120=\"Medel\",2,IF(Riskhistorik!AH120=\"Hög\",3,0))),AB118)","v":0},{"$f":"IF(Riskhistorik!AI$2<>\"Datum\",IF(Riskhistorik!AI120=\"Låg\",1,IF(Riskhistorik!AI120=\"Medel\",2,IF(Riskhistorik!AI120=\"Hög\",3,0))),AC118)","v":0},{"$f":"IF(Riskhistorik!AI$2<>\"Datum\",IF(Riskhistorik!AJ120=\"Låg\",1,IF(Riskhistorik!AJ120=\"Medel\",2,IF(Riskhistorik!AJ120=\"Hög\",3,0))),AD118)","v":0},{"$f":"IF(Riskhistorik!AK$2<>\"Datum\",IF(Riskhistorik!AK120=\"Låg\",1,IF(Riskhistorik!AK120=\"Medel\",2,IF(Riskhistorik!AK120=\"Hög\",3,0))),AE118)","v":0},{"$f":"IF(Riskhistorik!AK$2<>\"Datum\",IF(Riskhistorik!AL120=\"Låg\",1,IF(Riskhistorik!AL120=\"Medel\",2,IF(Riskhistorik!AL120=\"Hög\",3,0))),AF118)","v":0},{"$f":"IF(Riskhistorik!AM$2<>\"Datum\",IF(Riskhistorik!AM120=\"Låg\",1,IF(Riskhistorik!AM120=\"Medel\",2,IF(Riskhistorik!AM120=\"Hög\",3,0))),AG118)","v":0},{"$f":"IF(Riskhistorik!AM$2<>\"Datum\",IF(Riskhistorik!AN120=\"Låg\",1,IF(Riskhistorik!AN120=\"Medel\",2,IF(Riskhistorik!AN120=\"Hög\",3,0))),AH118)","v":0},{"$f":"IF(Riskhistorik!AO$2<>\"Datum\",IF(Riskhistorik!AO120=\"Låg\",1,IF(Riskhistorik!AO120=\"Medel\",2,IF(Riskhistorik!AO120=\"Hög\",3,0))),AI118)","v":0},{"$f":"IF(Riskhistorik!AO$2<>\"Datum\",IF(Riskhistorik!AP120=\"Låg\",1,IF(Riskhistorik!AP120=\"Medel\",2,IF(Riskhistorik!AP120=\"Hög\",3,0))),AJ118)","v":0},{"$f":"IF(Riskhistorik!AQ$2<>\"Datum\",IF(Riskhistorik!AQ120=\"Låg\",1,IF(Riskhistorik!AQ120=\"Medel\",2,IF(Riskhistorik!AQ120=\"Hög\",3,0))),AK118)","v":0},{"$f":"IF(Riskhistorik!AQ$2<>\"Datum\",IF(Riskhistorik!AR120=\"Låg\",1,IF(Riskhistorik!AR120=\"Medel\",2,IF(Riskhistorik!AR120=\"Hög\",3,0))),AL118)","v":0},0,0,0,0,0,0,0,0,0,0,0,0,0,0,0,0,0,0,0,0]
[null,null,null,null,null,null,null,null,{"$f":"IF(Riskhistorik!M$2<>\"Datum\",IF(Riskhistorik!M121=\"Låg\",1,IF(Riskhistorik!M121=\"Medel\",2,IF(Riskhistorik!M121=\"Hög\",3,0))),G119)","v":0},{"$f":"IF(Riskhistorik!M$2<>\"Datum\",IF(Riskhistorik!N121=\"Låg\",1,IF(Riskhistorik!N121=\"Medel\",2,IF(Riskhistorik!N121=\"Hög\",3,0))),H119)","v":0},{"$f":"IF(Riskhistorik!O$2<>\"Datum\",IF(Riskhistorik!O121=\"Låg\",1,IF(Riskhistorik!O121=\"Medel\",2,IF(Riskhistorik!O121=\"Hög\",3,0))),I119)","v":0},{"$f":"IF(Riskhistorik!O$2<>\"Datum\",IF(Riskhistorik!P121=\"Låg\",1,IF(Riskhistorik!P121=\"Medel\",2,IF(Riskhistorik!P121=\"Hög\",3,0))),J119)","v":0},{"$f":"IF(Riskhistorik!Q$2<>\"Datum\",IF(Riskhistorik!Q121=\"Låg\",1,IF(Riskhistorik!Q121=\"Medel\",2,IF(Riskhistorik!Q121=\"Hög\",3,0))),K119)","v":0},{"$f":"IF(Riskhistorik!Q$2<>\"Datum\",IF(Riskhistorik!R121=\"Låg\",1,IF(Riskhistorik!R121=\"Medel\",2,IF(Riskhistorik!R121=\"Hög\",3,0))),L119)","v":0},{"$f":"IF(Riskhistorik!S$2<>\"Datum\",IF(Riskhistorik!S121=\"Låg\",1,IF(Riskhistorik!S121=\"Medel\",2,IF(Riskhistorik!S121=\"Hög\",3,0))),M119)","v":0},{"$f":"IF(Riskhistorik!S$2<>\"Datum\",IF(Riskhistorik!T121=\"Låg\",1,IF(Riskhistorik!T121=\"Medel\",2,IF(Riskhistorik!T121=\"Hög\",3,0))),N119)","v":0},{"$f":"IF(Riskhistorik!U$2<>\"Datum\",IF(Riskhistorik!U121=\"Låg\",1,IF(Riskhistorik!U121=\"Medel\",2,IF(Riskhistorik!U121=\"Hög\",3,0))),O119)","v":0},{"$f":"IF(Riskhistorik!U$2<>\"Datum\",IF(Riskhistorik!V121=\"Låg\",1,IF(Riskhistorik!V121=\"Medel\",2,IF(Riskhistorik!V121=\"Hög\",3,0))),P119)","v":0},{"$f":"IF(Riskhistorik!W$2<>\"Datum\",IF(Riskhistorik!W121=\"Låg\",1,IF(Riskhistorik!W121=\"Medel\",2,IF(Riskhistorik!W121=\"Hög\",3,0))),Q119)","v":0},{"$f":"IF(Riskhistorik!W$2<>\"Datum\",IF(Riskhistorik!X121=\"Låg\",1,IF(Riskhistorik!X121=\"Medel\",2,IF(Riskhistorik!X121=\"Hög\",3,0))),R119)","v":0},{"$f":"IF(Riskhistorik!Y$2<>\"Datum\",IF(Riskhistorik!Y121=\"Låg\",1,IF(Riskhistorik!Y121=\"Medel\",2,IF(Riskhistorik!Y121=\"Hög\",3,0))),S119)","v":0},{"$f":"IF(Riskhistorik!Y$2<>\"Datum\",IF(Riskhistorik!Z121=\"Låg\",1,IF(Riskhistorik!Z121=\"Medel\",2,IF(Riskhistorik!Z121=\"Hög\",3,0))),T119)","v":0},{"$f":"IF(Riskhistorik!AA$2<>\"Datum\",IF(Riskhistorik!AA121=\"Låg\",1,IF(Riskhistorik!AA121=\"Medel\",2,IF(Riskhistorik!AA121=\"Hög\",3,0))),U119)","v":0},{"$f":"IF(Riskhistorik!AA$2<>\"Datum\",IF(Riskhistorik!AB121=\"Låg\",1,IF(Riskhistorik!AB121=\"Medel\",2,IF(Riskhistorik!AB121=\"Hög\",3,0))),V119)","v":0},{"$f":"IF(Riskhistorik!AC$2<>\"Datum\",IF(Riskhistorik!AC121=\"Låg\",1,IF(Riskhistorik!AC121=\"Medel\",2,IF(Riskhistorik!AC121=\"Hög\",3,0))),W119)","v":0},{"$f":"IF(Riskhistorik!AC$2<>\"Datum\",IF(Riskhistorik!AD121=\"Låg\",1,IF(Riskhistorik!AD121=\"Medel\",2,IF(Riskhistorik!AD121=\"Hög\",3,0))),X119)","v":0},{"$f":"IF(Riskhistorik!AE$2<>\"Datum\",IF(Riskhistorik!AE121=\"Låg\",1,IF(Riskhistorik!AE121=\"Medel\",2,IF(Riskhistorik!AE121=\"Hög\",3,0))),Y119)","v":0},{"$f":"IF(Riskhistorik!AE$2<>\"Datum\",IF(Riskhistorik!AF121=\"Låg\",1,IF(Riskhistorik!AF121=\"Medel\",2,IF(Riskhistorik!AF121=\"Hög\",3,0))),Z119)","v":0},{"$f":"IF(Riskhistorik!AG$2<>\"Datum\",IF(Riskhistorik!AG121=\"Låg\",1,IF(Riskhistorik!AG121=\"Medel\",2,IF(Riskhistorik!AG121=\"Hög\",3,0))),AA119)","v":0},{"$f":"IF(Riskhistorik!AG$2<>\"Datum\",IF(Riskhistorik!AH121=\"Låg\",1,IF(Riskhistorik!AH121=\"Medel\",2,IF(Riskhistorik!AH121=\"Hög\",3,0))),AB119)","v":0},{"$f":"IF(Riskhistorik!AI$2<>\"Datum\",IF(Riskhistorik!AI121=\"Låg\",1,IF(Riskhistorik!AI121=\"Medel\",2,IF(Riskhistorik!AI121=\"Hög\",3,0))),AC119)","v":0},{"$f":"IF(Riskhistorik!AI$2<>\"Datum\",IF(Riskhistorik!AJ121=\"Låg\",1,IF(Riskhistorik!AJ121=\"Medel\",2,IF(Riskhistorik!AJ121=\"Hög\",3,0))),AD119)","v":0},{"$f":"IF(Riskhistorik!AK$2<>\"Datum\",IF(Riskhistorik!AK121=\"Låg\",1,IF(Riskhistorik!AK121=\"Medel\",2,IF(Riskhistorik!AK121=\"Hög\",3,0))),AE119)","v":0},{"$f":"IF(Riskhistorik!AK$2<>\"Datum\",IF(Riskhistorik!AL121=\"Låg\",1,IF(Riskhistorik!AL121=\"Medel\",2,IF(Riskhistorik!AL121=\"Hög\",3,0))),AF119)","v":0},{"$f":"IF(Riskhistorik!AM$2<>\"Datum\",IF(Riskhistorik!AM121=\"Låg\",1,IF(Riskhistorik!AM121=\"Medel\",2,IF(Riskhistorik!AM121=\"Hög\",3,0))),AG119)","v":0},{"$f":"IF(Riskhistorik!AM$2<>\"Datum\",IF(Riskhistorik!AN121=\"Låg\",1,IF(Riskhistorik!AN121=\"Medel\",2,IF(Riskhistorik!AN121=\"Hög\",3,0))),AH119)","v":0},{"$f":"IF(Riskhistorik!AO$2<>\"Datum\",IF(Riskhistorik!AO121=\"Låg\",1,IF(Riskhistorik!AO121=\"Medel\",2,IF(Riskhistorik!AO121=\"Hög\",3,0))),AI119)","v":0},{"$f":"IF(Riskhistorik!AO$2<>\"Datum\",IF(Riskhistorik!AP121=\"Låg\",1,IF(Riskhistorik!AP121=\"Medel\",2,IF(Riskhistorik!AP121=\"Hög\",3,0))),AJ119)","v":0},{"$f":"IF(Riskhistorik!AQ$2<>\"Datum\",IF(Riskhistorik!AQ121=\"Låg\",1,IF(Riskhistorik!AQ121=\"Medel\",2,IF(Riskhistorik!AQ121=\"Hög\",3,0))),AK119)","v":0},{"$f":"IF(Riskhistorik!AQ$2<>\"Datum\",IF(Riskhistorik!AR121=\"Låg\",1,IF(Riskhistorik!AR121=\"Medel\",2,IF(Riskhistorik!AR121=\"Hög\",3,0))),AL119)","v":0},0,0,0,0,0,0,0,0,0,0,0,0,0,0,0,0,0,0,0,0]
[null,null,null,null,null,null,null,null,{"$f":"IF(Riskhistorik!M$2<>\"Datum\",IF(Riskhistorik!M122=\"Låg\",1,IF(Riskhistorik!M122=\"Medel\",2,IF(Riskhistorik!M122=\"Hög\",3,0))),G120)","v":0},{"$f":"IF(Riskhistorik!M$2<>\"Datum\",IF(Riskhistorik!N122=\"Låg\",1,IF(Riskhistorik!N122=\"Medel\",2,IF(Riskhistorik!N122=\"Hög\",3,0))),H120)","v":0},{"$f":"IF(Riskhistorik!O$2<>\"Datum\",IF(Riskhistorik!O122=\"Låg\",1,IF(Riskhistorik!O122=\"Medel\",2,IF(Riskhistorik!O122=\"Hög\",3,0))),I120)","v":0},{"$f":"IF(Riskhistorik!O$2<>\"Datum\",IF(Riskhistorik!P122=\"Låg\",1,IF(Riskhistorik!P122=\"Medel\",2,IF(Riskhistorik!P122=\"Hög\",3,0))),J120)","v":0},{"$f":"IF(Riskhistorik!Q$2<>\"Datum\",IF(Riskhistorik!Q122=\"Låg\",1,IF(Riskhistorik!Q122=\"Medel\",2,IF(Riskhistorik!Q122=\"Hög\",3,0))),K120)","v":0},{"$f":"IF(Riskhistorik!Q$2<>\"Datum\",IF(Riskhistorik!R122=\"Låg\",1,IF(Riskhistorik!R122=\"Medel\",2,IF(Riskhistorik!R122=\"Hög\",3,0))),L120)","v":0},{"$f":"IF(Riskhistorik!S$2<>\"Datum\",IF(Riskhistorik!S122=\"Låg\",1,IF(Riskhistorik!S122=\"Medel\",2,IF(Riskhistorik!S122=\"Hög\",3,0))),M120)","v":0},{"$f":"IF(Riskhistorik!S$2<>\"Datum\",IF(Riskhistorik!T122=\"Låg\",1,IF(Riskhistorik!T122=\"Medel\",2,IF(Riskhistorik!T122=\"Hög\",3,0))),N120)","v":0},{"$f":"IF(Riskhistorik!U$2<>\"Datum\",IF(Riskhistorik!U122=\"Låg\",1,IF(Riskhistorik!U122=\"Medel\",2,IF(Riskhistorik!U122=\"Hög\",3,0))),O120)","v":0},{"$f":"IF(Riskhistorik!U$2<>\"Datum\",IF(Riskhistorik!V122=\"Låg\",1,IF(Riskhistorik!V122=\"Medel\",2,IF(Riskhistorik!V122=\"Hög\",3,0))),P120)","v":0},{"$f":"IF(Riskhistorik!W$2<>\"Datum\",IF(Riskhistorik!W122=\"Låg\",1,IF(Riskhistorik!W122=\"Medel\",2,IF(Riskhistorik!W122=\"Hög\",3,0))),Q120)","v":0},{"$f":"IF(Riskhistorik!W$2<>\"Datum\",IF(Riskhistorik!X122=\"Låg\",1,IF(Riskhistorik!X122=\"Medel\",2,IF(Riskhistorik!X122=\"Hög\",3,0))),R120)","v":0},{"$f":"IF(Riskhistorik!Y$2<>\"Datum\",IF(Riskhistorik!Y122=\"Låg\",1,IF(Riskhistorik!Y122=\"Medel\",2,IF(Riskhistorik!Y122=\"Hög\",3,0))),S120)","v":0},{"$f":"IF(Riskhistorik!Y$2<>\"Datum\",IF(Riskhistorik!Z122=\"Låg\",1,IF(Riskhistorik!Z122=\"Medel\",2,IF(Riskhistorik!Z122=\"Hög\",3,0))),T120)","v":0},{"$f":"IF(Riskhistorik!AA$2<>\"Datum\",IF(Riskhistorik!AA122=\"Låg\",1,IF(Riskhistorik!AA122=\"Medel\",2,IF(Riskhistorik!AA122=\"Hög\",3,0))),U120)","v":0},{"$f":"IF(Riskhistorik!AA$2<>\"Datum\",IF(Riskhistorik!AB122=\"Låg\",1,IF(Riskhistorik!AB122=\"Medel\",2,IF(Riskhistorik!AB122=\"Hög\",3,0))),V120)","v":0},{"$f":"IF(Riskhistorik!AC$2<>\"Datum\",IF(Riskhistorik!AC122=\"Låg\",1,IF(Riskhistorik!AC122=\"Medel\",2,IF(Riskhistorik!AC122=\"Hög\",3,0))),W120)","v":0},{"$f":"IF(Riskhistorik!AC$2<>\"Datum\",IF(Riskhistorik!AD122=\"Låg\",1,IF(Riskhistorik!AD122=\"Medel\",2,IF(Riskhistorik!AD122=\"Hög\",3,0))),X120)","v":0},{"$f":"IF(Riskhistorik!AE$2<>\"Datum\",IF(Riskhistorik!AE122=\"Låg\",1,IF(Riskhistorik!AE122=\"Medel\",2,IF(Riskhistorik!AE122=\"Hög\",3,0))),Y120)","v":0},{"$f":"IF(Riskhistorik!AE$2<>\"Datum\",IF(Riskhistorik!AF122=\"Låg\",1,IF(Riskhistorik!AF122=\"Medel\",2,IF(Riskhistorik!AF122=\"Hög\",3,0))),Z120)","v":0},{"$f":"IF(Riskhistorik!AG$2<>\"Datum\",IF(Riskhistorik!AG122=\"Låg\",1,IF(Riskhistorik!AG122=\"Medel\",2,IF(Riskhistorik!AG122=\"Hög\",3,0))),AA120)","v":0},{"$f":"IF(Riskhistorik!AG$2<>\"Datum\",IF(Riskhistorik!AH122=\"Låg\",1,IF(Riskhistorik!AH122=\"Medel\",2,IF(Riskhistorik!AH122=\"Hög\",3,0))),AB120)","v":0},{"$f":"IF(Riskhistorik!AI$2<>\"Datum\",IF(Riskhistorik!AI122=\"Låg\",1,IF(Riskhistorik!AI122=\"Medel\",2,IF(Riskhistorik!AI122=\"Hög\",3,0))),AC120)","v":0},{"$f":"IF(Riskhistorik!AI$2<>\"Datum\",IF(Riskhistorik!AJ122=\"Låg\",1,IF(Riskhistorik!AJ122=\"Medel\",2,IF(Riskhistorik!AJ122=\"Hög\",3,0))),AD120)","v":0},{"$f":"IF(Riskhistorik!AK$2<>\"Datum\",IF(Riskhistorik!AK122=\"Låg\",1,IF(Riskhistorik!AK122=\"Medel\",2,IF(Riskhistorik!AK122=\"Hög\",3,0))),AE120)","v":0},{"$f":"IF(Riskhistorik!AK$2<>\"Datum\",IF(Riskhistorik!AL122=\"Låg\",1,IF(Riskhistorik!AL122=\"Medel\",2,IF(Riskhistorik!AL122=\"Hög\",3,0))),AF120)","v":0},{"$f":"IF(Riskhistorik!AM$2<>\"Datum\",IF(Riskhistorik!AM122=\"Låg\",1,IF(Riskhistorik!AM122=\"Medel\",2,IF(Riskhistorik!AM122=\"Hög\",3,0))),AG120)","v":0},{"$f":"IF(Riskhistorik!AM$2<>\"Datum\",IF(Riskhistorik!AN122=\"Låg\",1,IF(Riskhistorik!AN122=\"Medel\",2,IF(Riskhistorik!AN122=\"Hög\",3,0))),AH120)","v":0},{"$f":"IF(Riskhistorik!AO$2<>\"Datum\",IF(Riskhistorik!AO122=\"Låg\",1,IF(Riskhistorik!AO122=\"Medel\",2,IF(Riskhistorik!AO122=\"Hög\",3,0))),AI120)","v":0},{"$f":"IF(Riskhistorik!AO$2<>\"Datum\",IF(Riskhistorik!AP122=\"Låg\",1,IF(Riskhistorik!AP122=\"Medel\",2,IF(Riskhistorik!AP122=\"Hög\",3,0))),AJ120)","v":0},{"$f":"IF(Riskhistorik!AQ$2<>\"Datum\",IF(Riskhistorik!AQ122=\"Låg\",1,IF(Riskhistorik!AQ122=\"Medel\",2,IF(Riskhistorik!AQ122=\"Hög\",3,0))),AK120)","v":0},{"$f":"IF(Riskhistorik!AQ$2<>\"Datum\",IF(Riskhistorik!AR122=\"Låg\",1,IF(Riskhistorik!AR122=\"Medel\",2,IF(Riskhistorik!AR122=\"Hög\",3,0))),AL120)","v":0},0,0,0,0,0,0,0,0,0,0,0,0,0,0,0,0,0,0,0,0]
[null,null,null,null,null,null,null,null,{"$f":"IF(Riskhistorik!M$2<>\"Datum\",IF(Riskhistorik!M123=\"Låg\",1,IF(Riskhistorik!M123=\"Medel\",2,IF(Riskhistorik!M123=\"Hög\",3,0))),G121)","v":0},{"$f":"IF(Riskhistorik!M$2<>\"Datum\",IF(Riskhistorik!N123=\"Låg\",1,IF(Riskhistorik!N123=\"Medel\",2,IF(Riskhistorik!N123=\"Hög\",3,0))),H121)","v":0},{"$f":"IF(Riskhistorik!O$2<>\"Datum\",IF(Riskhistorik!O123=\"Låg\",1,IF(Riskhistorik!O123=\"Medel\",2,IF(Riskhistorik!O123=\"Hög\",3,0))),I121)","v":0},{"$f":"IF(Riskhistorik!O$2<>\"Datum\",IF(Riskhistorik!P123=\"Låg\",1,IF(Riskhistorik!P123=\"Medel\",2,IF(Riskhistorik!P123=\"Hög\",3,0))),J121)","v":0},{"$f":"IF(Riskhistorik!Q$2<>\"Datum\",IF(Riskhistorik!Q123=\"Låg\",1,IF(Riskhistorik!Q123=\"Medel\",2,IF(Riskhistorik!Q123=\"Hög\",3,0))),K121)","v":0},{"$f":"IF(Riskhistorik!Q$2<>\"Datum\",IF(Riskhistorik!R123=\"Låg\",1,IF(Riskhistorik!R123=\"Medel\",2,IF(Riskhistorik!R123=\"Hög\",3,0))),L121)","v":0},{"$f":"IF(Riskhistorik!S$2<>\"Datum\",IF(Riskhistorik!S123=\"Låg\",1,IF(Riskhistorik!S123=\"Medel\",2,IF(Riskhistorik!S123=\"Hög\",3,0))),M121)","v":0},{"$f":"IF(Riskhistorik!S$2<>\"Datum\",IF(Riskhistorik!T123=\"Låg\",1,IF(Riskhistorik!T123=\"Medel\",2,IF(Riskhistorik!T123=\"Hög\",3,0))),N121)","v":0},{"$f":"IF(Riskhistorik!U$2<>\"Datum\",IF(Riskhistorik!U123=\"Låg\",1,IF(Riskhistorik!U123=\"Medel\",2,IF(Riskhistorik!U123=\"Hög\",3,0))),O121)","v":0},{"$f":"IF(Riskhistorik!U$2<>\"Datum\",IF(Riskhistorik!V123=\"Låg\",1,IF(Riskhistorik!V123=\"Medel\",2,IF(Riskhistorik!V123=\"Hög\",3,0))),P121)","v":0},{"$f":"IF(Riskhistorik!W$2<>\"Datum\",IF(Riskhistorik!W123=\"Låg\",1,IF(Riskhistorik!W123=\"Medel\",2,IF(Riskhistorik!W123=\"Hög\",3,0))),Q121)","v":0},{"$f":"IF(Riskhistorik!W$2<>\"Datum\",IF(Riskhistorik!X123=\"Låg\",1,IF(Riskhistorik!X123=\"Medel\",2,IF(Riskhistorik!X123=\"Hög\",3,0))),R121)","v":0},{"$f":"IF(Riskhistorik!Y$2<>\"Datum\",IF(Riskhistorik!Y123=\"Låg\",1,IF(Riskhistorik!Y123=\"Medel\",2,IF(Riskhistorik!Y123=\"Hög\",3,0))),S121)","v":0},{"$f":"IF(Riskhistorik!Y$2<>\"Datum\",IF(Riskhistorik!Z123=\"Låg\",1,IF(Riskhistorik!Z123=\"Medel\",2,IF(Riskhistorik!Z123=\"Hög\",3,0))),T121)","v":0},{"$f":"IF(Riskhistorik!AA$2<>\"Datum\",IF(Riskhistorik!AA123=\"Låg\",1,IF(Riskhistorik!AA123=\"Medel\",2,IF(Riskhistorik!AA123=\"Hög\",3,0))),U121)","v":0},{"$f":"IF(Riskhistorik!AA$2<>\"Datum\",IF(Riskhistorik!AB123=\"Låg\",1,IF(Riskhistorik!AB123=\"Medel\",2,IF(Riskhistorik!AB123=\"Hög\",3,0))),V121)","v":0},{"$f":"IF(Riskhistorik!AC$2<>\"Datum\",IF(Riskhistorik!AC123=\"Låg\",1,IF(Riskhistorik!AC123=\"Medel\",2,IF(Riskhistorik!AC123=\"Hög\",3,0))),W121)","v":0},{"$f":"IF(Riskhistorik!AC$2<>\"Datum\",IF(Riskhistorik!AD123=\"Låg\",1,IF(Riskhistorik!AD123=\"Medel\",2,IF(Riskhistorik!AD123=\"Hög\",3,0))),X121)","v":0},{"$f":"IF(Riskhistorik!AE$2<>\"Datum\",IF(Riskhistorik!AE123=\"Låg\",1,IF(Riskhistorik!AE123=\"Medel\",2,IF(Riskhistorik!AE123=\"Hög\",3,0))),Y121)","v":0},{"$f":"IF(Riskhistorik!AE$2<>\"Datum\",IF(Riskhistorik!AF123=\"Låg\",1,IF(Riskhistorik!AF123=\"Medel\",2,IF(Riskhistorik!AF123=\"Hög\",3,0))),Z121)","v":0},{"$f":"IF(Riskhistorik!AG$2<>\"Datum\",IF(Riskhistorik!AG123=\"Låg\",1,IF(Riskhistorik!AG123=\"Medel\",2,IF(Riskhistorik!AG123=\"Hög\",3,0))),AA121)","v":0},{"$f":"IF(Riskhistorik!AG$2<>\"Datum\",IF(Riskhistorik!AH123=\"Låg\",1,IF(Riskhistorik!AH123=\"Medel\",2,IF(Riskhistorik!AH123=\"Hög\",3,0))),AB121)","v":0},{"$f":"IF(Riskhistorik!AI$2<>\"Datum\",IF(Riskhistorik!AI123=\"Låg\",1,IF(Riskhistorik!AI123=\"Medel\",2,IF(Riskhistorik!AI123=\"Hög\",3,0))),AC121)","v":0},{"$f":"IF(Riskhistorik!AI$2<>\"Datum\",IF(Riskhistorik!AJ123=\"Låg\",1,IF(Riskhistorik!AJ123=\"Medel\",2,IF(Riskhistorik!AJ123=\"Hög\",3,0))),AD121)","v":0},{"$f":"IF(Riskhistorik!AK$2<>\"Datum\",IF(Riskhistorik!AK123=\"Låg\",1,IF(Riskhistorik!AK123=\"Medel\",2,IF(Riskhistorik!AK123=\"Hög\",3,0))),AE121)","v":0},{"$f":"IF(Riskhistorik!AK$2<>\"Datum\",IF(Riskhistorik!AL123=\"Låg\",1,IF(Riskhistorik!AL123=\"Medel\",2,IF(Riskhistorik!AL123=\"Hög\",3,0))),AF121)","v":0},{"$f":"IF(Riskhistorik!AM$2<>\"Datum\",IF(Riskhistorik!AM123=\"Låg\",1,IF(Riskhistorik!AM123=\"Medel\",2,IF(Riskhistorik!AM123=\"Hög\",3,0))),AG121)","v":0},{"$f":"IF(Riskhistorik!AM$2<>\"Datum\",IF(Riskhistorik!AN123=\"Låg\",1,IF(Riskhistorik!AN123=\"Medel\",2,IF(Riskhistorik!AN123=\"Hög\",3,0))),AH121)","v":0},{"$f":"IF(Riskhistorik!AO$2<>\"Datum\",IF(Riskhistorik!AO123=\"Låg\",1,IF(Riskhistorik!AO123=\"Medel\",2,IF(Riskhistorik!AO123=\"Hög\",3,0))),AI121)","v":0},{"$f":"IF(Riskhistorik!AO$2<>\"Datum\",IF(Riskhistorik!AP123=\"Låg\",1,IF(Riskhistorik!AP123=\"Medel\",2,IF(Riskhistorik!AP123=\"Hög\",3,0))),AJ121)","v":0},{"$f":"IF(Riskhistorik!AQ$2<>\"Datum\",IF(Riskhistorik!AQ123=\"Låg\",1,IF(Riskhistorik!AQ123=\"Medel\",2,IF(Riskhistorik!AQ123=\"Hög\",3,0))),AK121)","v":0},{"$f":"IF(Riskhistorik!AQ$2<>\"Datum\",IF(Riskhistorik!AR123=\"Låg\",1,IF(Riskhistorik!AR123=\"Medel\",2,IF(Riskhistorik!AR123=\"Hög\",3,0))),AL121)","v":0},0,0,0,0,0,0,0,0,0,0,0,0,0,0,0,0,0,0,0,0]
[null,null,null,null,null,null,null,null,{"$f":"IF(Riskhistorik!M$2<>\"Datum\",IF(Riskhistorik!M124=\"Låg\",1,IF(Riskhistorik!M124=\"Medel\",2,IF(Riskhistorik!M124=\"Hög\",3,0))),G122)","v":0},{"$f":"IF(Riskhistorik!M$2<>\"Datum\",IF(Riskhistorik!N124=\"Låg\",1,IF(Riskhistorik!N124=\"Medel\",2,IF(Riskhistorik!N124=\"Hög\",3,0))),H122)","v":0},{"$f":"IF(Riskhistorik!O$2<>\"Datum\",IF(Riskhistorik!O124=\"Låg\",1,IF(Riskhistorik!O124=\"Medel\",2,IF(Riskhistorik!O124=\"Hög\",3,0))),I122)","v":0},{"$f":"IF(Riskhistorik!O$2<>\"Datum\",IF(Riskhistorik!P124=\"Låg\",1,IF(Riskhistorik!P124=\"Medel\",2,IF(Riskhistorik!P124=\"Hög\",3,0))),J122)","v":0},{"$f":"IF(Riskhistorik!Q$2<>\"Datum\",IF(Riskhistorik!Q124=\"Låg\",1,IF(Riskhistorik!Q124=\"Medel\",2,IF(Riskhistorik!Q124=\"Hög\",3,0))),K122)","v":0},{"$f":"IF(Riskhistorik!Q$2<>\"Datum\",IF(Riskhistorik!R124=\"Låg\",1,IF(Riskhistorik!R124=\"Medel\",2,IF(Riskhistorik!R124=\"Hög\",3,0))),L122)","v":0},{"$f":"IF(Riskhistorik!S$2<>\"Datum\",IF(Riskhistorik!S124=\"Låg\",1,IF(Riskhistorik!S124=\"Medel\",2,IF(Riskhistorik!S124=\"Hög\",3,0))),M122)","v":0},{"$f":"IF(Riskhistorik!S$2<>\"Datum\",IF(Riskhistorik!T124=\"Låg\",1,IF(Riskhistorik!T124=\"Medel\",2,IF(Riskhistorik!T124=\"Hög\",3,0))),N122)","v":0},{"$f":"IF(Riskhistorik!U$2<>\"Datum\",IF(Riskhistorik!U124=\"Låg\",1,IF(Riskhistorik!U124=\"Medel\",2,IF(Riskhistorik!U124=\"Hög\",3,0))),O122)","v":0},{"$f":"IF(Riskhistorik!U$2<>\"Datum\",IF(Riskhistorik!V124=\"Låg\",1,IF(Riskhistorik!V124=\"Medel\",2,IF(Riskhistorik!V124=\"Hög\",3,0))),P122)","v":0},{"$f":"IF(Riskhistorik!W$2<>\"Datum\",IF(Riskhistorik!W124=\"Låg\",1,IF(Riskhistorik!W124=\"Medel\",2,IF(Riskhistorik!W124=\"Hög\",3,0))),Q122)","v":0},{"$f":"IF(Riskhistorik!W$2<>\"Datum\",IF(Riskhistorik!X124=\"Låg\",1,IF(Riskhistorik!X124=\"Medel\",2,IF(Riskhistorik!X124=\"Hög\",3,0))),R122)","v":0},{"$f":"IF(Riskhistorik!Y$2<>\"Datum\",IF(Riskhistorik!Y124=\"Låg\",1,IF(Riskhistorik!Y124=\"Medel\",2,IF(Riskhistorik!Y124=\"Hög\",3,0))),S122)","v":0},{"$f":"IF(Riskhistorik!Y$2<>\"Datum\",IF(Riskhistorik!Z124=\"Låg\",1,IF(Riskhistorik!Z124=\"Medel\",2,IF(Riskhistorik!Z124=\"Hög\",3,0))),T122)","v":0},{"$f":"IF(Riskhistorik!AA$2<>\"Datum\",IF(Riskhistorik!AA124=\"Låg\",1,IF(Riskhistorik!AA124=\"Medel\",2,IF(Riskhistorik!AA124=\"Hög\",3,0))),U122)","v":0},{"$f":"IF(Riskhistorik!AA$2<>\"Datum\",IF(Riskhistorik!AB124=\"Låg\",1,IF(Riskhistorik!AB124=\"Medel\",2,IF(Riskhistorik!AB124=\"Hög\",3,0))),V122)","v":0},{"$f":"IF(Riskhistorik!AC$2<>\"Datum\",IF(Riskhistorik!AC124=\"Låg\",1,IF(Riskhistorik!AC124=\"Medel\",2,IF(Riskhistorik!AC124=\"Hög\",3,0))),W122)","v":0},{"$f":"IF(Riskhistorik!AC$2<>\"Datum\",IF(Riskhistorik!AD124=\"Låg\",1,IF(Riskhistorik!AD124=\"Medel\",2,IF(Riskhistorik!AD124=\"Hög\",3,0))),X122)","v":0},{"$f":"IF(Riskhistorik!AE$2<>\"Datum\",IF(Riskhistorik!AE124=\"Låg\",1,IF(Riskhistorik!AE124=\"Medel\",2,IF(Riskhistorik!AE124=\"Hög\",3,0))),Y122)","v":0},{"$f":"IF(Riskhistorik!AE$2<>\"Datum\",IF(Riskhistorik!AF124=\"Låg\",1,IF(Riskhistorik!AF124=\"Medel\",2,IF(Riskhistorik!AF124=\"Hög\",3,0))),Z122)","v":0},{"$f":"IF(Riskhistorik!AG$2<>\"Datum\",IF(Riskhistorik!AG124=\"Låg\",1,IF(Riskhistorik!AG124=\"Medel\",2,IF(Riskhistorik!AG124=\"Hög\",3,0))),AA122)","v":0},{"$f":"IF(Riskhistorik!AG$2<>\"Datum\",IF(Riskhistorik!AH124=\"Låg\",1,IF(Riskhistorik!AH124=\"Medel\",2,IF(Riskhistorik!AH124=\"Hög\",3,0))),AB122)","v":0},{"$f":"IF(Riskhistorik!AI$2<>\"Datum\",IF(Riskhistorik!AI124=\"Låg\",1,IF(Riskhistorik!AI124=\"Medel\",2,IF(Riskhistorik!AI124=\"Hög\",3,0))),AC122)","v":0},{"$f":"IF(Riskhistorik!AI$2<>\"Datum\",IF(Riskhistorik!AJ124=\"Låg\",1,IF(Riskhistorik!AJ124=\"Medel\",2,IF(Riskhistorik!AJ124=\"Hög\",3,0))),AD122)","v":0},{"$f":"IF(Riskhistorik!AK$2<>\"Datum\",IF(Riskhistorik!AK124=\"Låg\",1,IF(Riskhistorik!AK124=\"Medel\",2,IF(Riskhistorik!AK124=\"Hög\",3,0))),AE122)","v":0},{"$f":"IF(Riskhistorik!AK$2<>\"Datum\",IF(Riskhistorik!AL124=\"Låg\",1,IF(Riskhistorik!AL124=\"Medel\",2,IF(Riskhistorik!AL124=\"Hög\",3,0))),AF122)","v":0},{"$f":"IF(Riskhistorik!AM$2<>\"Datum\",IF(Riskhistorik!AM124=\"Låg\",1,IF(Riskhistorik!AM124=\"Medel\",2,IF(Riskhistorik!AM124=\"Hög\",3,0))),AG122)","v":0},{"$f":"IF(Riskhistorik!AM$2<>\"Datum\",IF(Riskhistorik!AN124=\"Låg\",1,IF(Riskhistorik!AN124=\"Medel\",2,IF(Riskhistorik!AN124=\"Hög\",3,0))),AH122)","v":0},{"$f":"IF(Riskhistorik!AO$2<>\"Datum\",IF(Riskhistorik!AO124=\"Låg\",1,IF(Riskhistorik!AO124=\"Medel\",2,IF(Riskhistorik!AO124=\"Hög\",3,0))),AI122)","v":0},{"$f":"IF(Riskhistorik!AO$2<>\"Datum\",IF(Riskhistorik!AP124=\"Låg\",1,IF(Riskhistorik!AP124=\"Medel\",2,IF(Riskhistorik!AP124=\"Hög\",3,0))),AJ122)","v":0},{"$f":"IF(Riskhistorik!AQ$2<>\"Datum\",IF(Riskhistorik!AQ124=\"Låg\",1,IF(Riskhistorik!AQ124=\"Medel\",2,IF(Riskhistorik!AQ124=\"Hög\",3,0))),AK122)","v":0},{"$f":"IF(Riskhistorik!AQ$2<>\"Datum\",IF(Riskhistorik!AR124=\"Låg\",1,IF(Riskhistorik!AR124=\"Medel\",2,IF(Riskhistorik!AR124=\"Hög\",3,0))),AL122)","v":0},0,0,0,0,0,0,0,0,0,0,0,0,0,0,0,0,0,0,0,0]
[null,null,null,null,null,null,null,null,{"$f":"IF(Riskhistorik!M$2<>\"Datum\",IF(Riskhistorik!M125=\"Låg\",1,IF(Riskhistorik!M125=\"Medel\",2,IF(Riskhistorik!M125=\"Hög\",3,0))),G123)","v":0},{"$f":"IF(Riskhistorik!M$2<>\"Datum\",IF(Riskhistorik!N125=\"Låg\",1,IF(Riskhistorik!N125=\"Medel\",2,IF(Riskhistorik!N125=\"Hög\",3,0))),H123)","v":0},{"$f":"IF(Riskhistorik!O$2<>\"Datum\",IF(Riskhistorik!O125=\"Låg\",1,IF(Riskhistorik!O125=\"Medel\",2,IF(Riskhistorik!O125=\"Hög\",3,0))),I123)","v":0},{"$f":"IF(Riskhistorik!O$2<>\"Datum\",IF(Riskhistorik!P125=\"Låg\",1,IF(Riskhistorik!P125=\"Medel\",2,IF(Riskhistorik!P125=\"Hög\",3,0))),J123)","v":0},{"$f":"IF(Riskhistorik!Q$2<>\"Datum\",IF(Riskhistorik!Q125=\"Låg\",1,IF(Riskhistorik!Q125=\"Medel\",2,IF(Riskhistorik!Q125=\"Hög\",3,0))),K123)","v":0},{"$f":"IF(Riskhistorik!Q$2<>\"Datum\",IF(Riskhistorik!R125=\"Låg\",1,IF(Riskhistorik!R125=\"Medel\",2,IF(Riskhistorik!R125=\"Hög\",3,0))),L123)","v":0},{"$f":"IF(Riskhistorik!S$2<>\"Datum\",IF(Riskhistorik!S125=\"Låg\",1,IF(Riskhistorik!S125=\"Medel\",2,IF(Riskhistorik!S125=\"Hög\",3,0))),M123)","v":0},{"$f":"IF(Riskhistorik!S$2<>\"Datum\",IF(Riskhistorik!T125=\"Låg\",1,IF(Riskhistorik!T125=\"Medel\",2,IF(Riskhistorik!T125=\"Hög\",3,0))),N123)","v":0},{"$f":"IF(Riskhistorik!U$2<>\"Datum\",IF(Riskhistorik!U125=\"Låg\",1,IF(Riskhistorik!U125=\"Medel\",2,IF(Riskhistorik!U125=\"Hög\",3,0))),O123)","v":0},{"$f":"IF(Riskhistorik!U$2<>\"Datum\",IF(Riskhistorik!V125=\"Låg\",1,IF(Riskhistorik!V125=\"Medel\",2,IF(Riskhistorik!V125=\"Hög\",3,0))),P123)","v":0},{"$f":"IF(Riskhistorik!W$2<>\"Datum\",IF(Riskhistorik!W125=\"Låg\",1,IF(Riskhistorik!W125=\"Medel\",2,IF(Riskhistorik!W125=\"Hög\",3,0))),Q123)","v":0},{"$f":"IF(Riskhistorik!W$2<>\"Datum\",IF(Riskhistorik!X125=\"Låg\",1,IF(Riskhistorik!X125=\"Medel\",2,IF(Riskhistorik!X125=\"Hög\",3,0))),R123)","v":0},{"$f":"IF(Riskhistorik!Y$2<>\"Datum\",IF(Riskhistorik!Y125=\"Låg\",1,IF(Riskhistorik!Y125=\"Medel\",2,IF(Riskhistorik!Y125=\"Hög\",3,0))),S123)","v":0},{"$f":"IF(Riskhistorik!Y$2<>\"Datum\",IF(Riskhistorik!Z125=\"Låg\",1,IF(Riskhistorik!Z125=\"Medel\",2,IF(Riskhistorik!Z125=\"Hög\",3,0))),T123)","v":0},{"$f":"IF(Riskhistorik!AA$2<>\"Datum\",IF(Riskhistorik!AA125=\"Låg\",1,IF(Riskhistorik!AA125=\"Medel\",2,IF(Riskhistorik!AA125=\"Hög\",3,0))),U123)","v":0},{"$f":"IF(Riskhistorik!AA$2<>\"Datum\",IF(Riskhistorik!AB125=\"Låg\",1,IF(Riskhistorik!AB125=\"Medel\",2,IF(Riskhistorik!AB125=\"Hög\",3,0))),V123)","v":0},{"$f":"IF(Riskhistorik!AC$2<>\"Datum\",IF(Riskhistorik!AC125=\"Låg\",1,IF(Riskhistorik!AC125=\"Medel\",2,IF(Riskhistorik!AC125=\"Hög\",3,0))),W123)","v":0},{"$f":"IF(Riskhistorik!AC$2<>\"Datum\",IF(Riskhistorik!AD125=\"Låg\",1,IF(Riskhistorik!AD125=\"Medel\",2,IF(Riskhistorik!AD125=\"Hög\",3,0))),X123)","v":0},{"$f":"IF(Riskhistorik!AE$2<>\"Datum\",IF(Riskhistorik!AE125=\"Låg\",1,IF(Riskhistorik!AE125=\"Medel\",2,IF(Riskhistorik!AE125=\"Hög\",3,0))),Y123)","v":0},{"$f":"IF(Riskhistorik!AE$2<>\"Datum\",IF(Riskhistorik!AF125=\"Låg\",1,IF(Riskhistorik!AF125=\"Medel\",2,IF(Riskhistorik!AF125=\"Hög\",3,0))),Z123)","v":0},{"$f":"IF(Riskhistorik!AG$2<>\"Datum\",IF(Riskhistorik!AG125=\"Låg\",1,IF(Riskhistorik!AG125=\"Medel\",2,IF(Riskhistorik!AG125=\"Hög\",3,0))),AA123)","v":0},{"$f":"IF(Riskhistorik!AG$2<>\"Datum\",IF(Riskhistorik!AH125=\"Låg\",1,IF(Riskhistorik!AH125=\"Medel\",2,IF(Riskhistorik!AH125=\"Hög\",3,0))),AB123)","v":0},{"$f":"IF(Riskhistorik!AI$2<>\"Datum\",IF(Riskhistorik!AI125=\"Låg\",1,IF(Riskhistorik!AI125=\"Medel\",2,IF(Riskhistorik!AI125=\"Hög\",3,0))),AC123)","v":0},{"$f":"IF(Riskhistorik!AI$2<>\"Datum\",IF(Riskhistorik!AJ125=\"Låg\",1,IF(Riskhistorik!AJ125=\"Medel\",2,IF(Riskhistorik!AJ125=\"Hög\",3,0))),AD123)","v":0},{"$f":"IF(Riskhistorik!AK$2<>\"Datum\",IF(Riskhistorik!AK125=\"Låg\",1,IF(Riskhistorik!AK125=\"Medel\",2,IF(Riskhistorik!AK125=\"Hög\",3,0))),AE123)","v":0},{"$f":"IF(Riskhistorik!AK$2<>\"Datum\",IF(Riskhistorik!AL125=\"Låg\",1,IF(Riskhistorik!AL125=\"Medel\",2,IF(Riskhistorik!AL125=\"Hög\",3,0))),AF123)","v":0},{"$f":"IF(Riskhistorik!AM$2<>\"Datum\",IF(Riskhistorik!AM125=\"Låg\",1,IF(Riskhistorik!AM125=\"Medel\",2,IF(Riskhistorik!AM125=\"Hög\",3,0))),AG123)","v":0},{"$f":"IF(Riskhistorik!AM$2<>\"Datum\",IF(Riskhistorik!AN125=\"Låg\",1,IF(Riskhistorik!AN125=\"Medel\",2,IF(Riskhistorik!AN125=\"Hög\",3,0))),AH123)","v":0},{"$f":"IF(Riskhistorik!AO$2<>\"Datum\",IF(Riskhistorik!AO125=\"Låg\",1,IF(Riskhistorik!AO125=\"Medel\",2,IF(Riskhistorik!AO125=\"Hög\",3,0))),AI123)","v":0},{"$f":"IF(Riskhistorik!AO$2<>\"Datum\",IF(Riskhistorik!AP125=\"Låg\",1,IF(Riskhistorik!AP125=\"Medel\",2,IF(Riskhistorik!AP125=\"Hög\",3,0))),AJ123)","v":0},{"$f":"IF(Riskhistorik!AQ$2<>\"Datum\",IF(Riskhistorik!AQ125=\"Låg\",1,IF(Riskhistorik!AQ125=\"Medel\",2,IF(Riskhistorik!AQ125=\"Hög\",3,0))),AK123)","v":0},{"$f":"IF(Riskhistorik!AQ$2<>\"Datum\",IF(Riskhistorik!AR125=\"Låg\",1,IF(Riskhistorik!AR125=\"Medel\",2,IF(Riskhistorik!AR125=\"Hög\",3,0))),AL123)","v":0},0,0,0,0,0,0,0,0,0,0,0,0,0,0,0,0,0,0,0,0]
[null,null,null,null,null,null,null,null,{"$f":"IF(Riskhistorik!M$2<>\"Datum\",IF(Riskhistorik!M126=\"Låg\",1,IF(Riskhistorik!M126=\"Medel\",2,IF(Riskhistorik!M126=\"Hög\",3,0))),G124)","v":0},{"$f":"IF(Riskhistorik!M$2<>\"Datum\",IF(Riskhistorik!N126=\"Låg\",1,IF(Riskhistorik!N126=\"Medel\",2,IF(Riskhistorik!N126=\"Hög\",3,0))),H124)","v":0},{"$f":"IF(Riskhistorik!O$2<>\"Datum\",IF(Riskhistorik!O126=\"Låg\",1,IF(Riskhistorik!O126=\"Medel\",2,IF(Riskhistorik!O126=\"Hög\",3,0))),I124)","v":0},{"$f":"IF(Riskhistorik!O$2<>\"Datum\",IF(Riskhistorik!P126=\"Låg\",1,IF(Riskhistorik!P126=\"Medel\",2,IF(Riskhistorik!P126=\"Hög\",3,0))),J124)","v":0},{"$f":"IF(Riskhistorik!Q$2<>\"Datum\",IF(Riskhistorik!Q126=\"Låg\",1,IF(Riskhistorik!Q126=\"Medel\",2,IF(Riskhistorik!Q126=\"Hög\",3,0))),K124)","v":0},{"$f":"IF(Riskhistorik!Q$2<>\"Datum\",IF(Riskhistorik!R126=\"Låg\",1,IF(Riskhistorik!R126=\"Medel\",2,IF(Riskhistorik!R126=\"Hög\",3,0))),L124)","v":0},{"$f":"IF(Riskhistorik!S$2<>\"Datum\",IF(Riskhistorik!S126=\"Låg\",1,IF(Riskhistorik!S126=\"Medel\",2,IF(Riskhistorik!S126=\"Hög\",3,0))),M124)","v":0},{"$f":"IF(Riskhistorik!S$2<>\"Datum\",IF(Riskhistorik!T126=\"Låg\",1,IF(Riskhistorik!T126=\"Medel\",2,IF(Riskhistorik!T126=\"Hög\",3,0))),N124)","v":0},{"$f":"IF(Riskhistorik!U$2<>\"Datum\",IF(Riskhistorik!U126=\"Låg\",1,IF(Riskhistorik!U126=\"Medel\",2,IF(Riskhistorik!U126=\"Hög\",3,0))),O124)","v":0},{"$f":"IF(Riskhistorik!U$2<>\"Datum\",IF(Riskhistorik!V126=\"Låg\",1,IF(Riskhistorik!V126=\"Medel\",2,IF(Riskhistorik!V126=\"Hög\",3,0))),P124)","v":0},{"$f":"IF(Riskhistorik!W$2<>\"Datum\",IF(Riskhistorik!W126=\"Låg\",1,IF(Riskhistorik!W126=\"Medel\",2,IF(Riskhistorik!W126=\"Hög\",3,0))),Q124)","v":0},{"$f":"IF(Riskhistorik!W$2<>\"Datum\",IF(Riskhistorik!X126=\"Låg\",1,IF(Riskhistorik!X126=\"Medel\",2,IF(Riskhistorik!X126=\"Hög\",3,0))),R124)","v":0},{"$f":"IF(Riskhistorik!Y$2<>\"Datum\",IF(Riskhistorik!Y126=\"Låg\",1,IF(Riskhistorik!Y126=\"Medel\",2,IF(Riskhistorik!Y126=\"Hög\",3,0))),S124)","v":0},{"$f":"IF(Riskhistorik!Y$2<>\"Datum\",IF(Riskhistorik!Z126=\"Låg\",1,IF(Riskhistorik!Z126=\"Medel\",2,IF(Riskhistorik!Z126=\"Hög\",3,0))),T124)","v":0},{"$f":"IF(Riskhistorik!AA$2<>\"Datum\",IF(Riskhistorik!AA126=\"Låg\",1,IF(Riskhistorik!AA126=\"Medel\",2,IF(Riskhistorik!AA126=\"Hög\",3,0))),U124)","v":0},{"$f":"IF(Riskhistorik!AA$2<>\"Datum\",IF(Riskhistorik!AB126=\"Låg\",1,IF(Riskhistorik!AB126=\"Medel\",2,IF(Riskhistorik!AB126=\"Hög\",3,0))),V124)","v":0},{"$f":"IF(Riskhistorik!AC$2<>\"Datum\",IF(Riskhistorik!AC126=\"Låg\",1,IF(Riskhistorik!AC126=\"Medel\",2,IF(Riskhistorik!AC126=\"Hög\",3,0))),W124)","v":0},{"$f":"IF(Riskhistorik!AC$2<>\"Datum\",IF(Riskhistorik!AD126=\"Låg\",1,IF(Riskhistorik!AD126=\"Medel\",2,IF(Riskhistorik!AD126=\"Hög\",3,0))),X124)","v":0},{"$f":"IF(Riskhistorik!AE$2<>\"Datum\",IF(Riskhistorik!AE126=\"Låg\",1,IF(Riskhistorik!AE126=\"Medel\",2,IF(Riskhistorik!AE126=\"Hög\",3,0))),Y124)","v":0},{"$f":"IF(Riskhistorik!AE$2<>\"Datum\",IF(Riskhistorik!AF126=\"Låg\",1,IF(Riskhistorik!AF126=\"Medel\",2,IF(Riskhistorik!AF126=\"Hög\",3,0))),Z124)","v":0},{"$f":"IF(Riskhistorik!AG$2<>\"Datum\",IF(Riskhistorik!AG126=\"Låg\",1,IF(Riskhistorik!AG126=\"Medel\",2,IF(Riskhistorik!AG126=\"Hög\",3,0))),AA124)","v":0},{"$f":"IF(Riskhistorik!AG$2<>\"Datum\",IF(Riskhistorik!AH126=\"Låg\",1,IF(Riskhistorik!AH126=\"Medel\",2,IF(Riskhistorik!AH126=\"Hög\",3,0))),AB124)","v":0},{"$f":"IF(Riskhistorik!AI$2<>\"Datum\",IF(Riskhistorik!AI126=\"Låg\",1,IF(Riskhistorik!AI126=\"Medel\",2,IF(Riskhistorik!AI126=\"Hög\",3,0))),AC124)","v":0},{"$f":"IF(Riskhistorik!AI$2<>\"Datum\",IF(Riskhistorik!AJ126=\"Låg\",1,IF(Riskhistorik!AJ126=\"Medel\",2,IF(Riskhistorik!AJ126=\"Hög\",3,0))),AD124)","v":0},{"$f":"IF(Riskhistorik!AK$2<>\"Datum\",IF(Riskhistorik!AK126=\"Låg\",1,IF(Riskhistorik!AK126=\"Medel\",2,IF(Riskhistorik!AK126=\"Hög\",3,0))),AE124)","v":0},{"$f":"IF(Riskhistorik!AK$2<>\"Datum\",IF(Riskhistorik!AL126=\"Låg\",1,IF(Riskhistorik!AL126=\"Medel\",2,IF(Riskhistorik!AL126=\"Hög\",3,0))),AF124)","v":0},{"$f":"IF(Riskhistorik!AM$2<>\"Datum\",IF(Riskhistorik!AM126=\"Låg\",1,IF(Riskhistorik!AM126=\"Medel\",2,IF(Riskhistorik!AM126=\"Hög\",3,0))),AG124)","v":0},{"$f":"IF(Riskhistorik!AM$2<>\"Datum\",IF(Riskhistorik!AN126=\"Låg\",1,IF(Riskhistorik!AN126=\"Medel\",2,IF(Riskhistorik!AN126=\"Hög\",3,0))),AH124)","v":0},{"$f":"IF(Riskhistorik!AO$2<>\"Datum\",IF(Riskhistorik!AO126=\"Låg\",1,IF(Riskhistorik!AO126=\"Medel\",2,IF(Riskhistorik!AO126=\"Hög\",3,0))),AI124)","v":0},{"$f":"IF(Riskhistorik!AO$2<>\"Datum\",IF(Riskhistorik!AP126=\"Låg\",1,IF(Riskhistorik!AP126=\"Medel\",2,IF(Riskhistorik!AP126=\"Hög\",3,0))),AJ124)","v":0},{"$f":"IF(Riskhistorik!AQ$2<>\"Datum\",IF(Riskhistorik!AQ126=\"Låg\",1,IF(Riskhistorik!AQ126=\"Medel\",2,IF(Riskhistorik!AQ126=\"Hög\",3,0))),AK124)","v":0},{"$f":"IF(Riskhistorik!AQ$2<>\"Datum\",IF(Riskhistorik!AR126=\"Låg\",1,IF(Riskhistorik!AR126=\"Medel\",2,IF(Riskhistorik!AR126=\"Hög\",3,0))),AL124)","v":0},0,0,0,0,0,0,0,0,0,0,0,0,0,0,0,0,0,0,0,0]
[null,null,null,null,null,null,null,null,{"$f":"IF(Riskhistorik!M$2<>\"Datum\",IF(Riskhistorik!M127=\"Låg\",1,IF(Riskhistorik!M127=\"Medel\",2,IF(Riskhistorik!M127=\"Hög\",3,0))),G125)","v":0},{"$f":"IF(Riskhistorik!M$2<>\"Datum\",IF(Riskhistorik!N127=\"Låg\",1,IF(Riskhistorik!N127=\"Medel\",2,IF(Riskhistorik!N127=\"Hög\",3,0))),H125)","v":0},{"$f":"IF(Riskhistorik!O$2<>\"Datum\",IF(Riskhistorik!O127=\"Låg\",1,IF(Riskhistorik!O127=\"Medel\",2,IF(Riskhistorik!O127=\"Hög\",3,0))),I125)","v":0},{"$f":"IF(Riskhistorik!O$2<>\"Datum\",IF(Riskhistorik!P127=\"Låg\",1,IF(Riskhistorik!P127=\"Medel\",2,IF(Riskhistorik!P127=\"Hög\",3,0))),J125)","v":0},{"$f":"IF(Riskhistorik!Q$2<>\"Datum\",IF(Riskhistorik!Q127=\"Låg\",1,IF(Riskhistorik!Q127=\"Medel\",2,IF(Riskhistorik!Q127=\"Hög\",3,0))),K125)","v":0},{"$f":"IF(Riskhistorik!Q$2<>\"Datum\",IF(Riskhistorik!R127=\"Låg\",1,IF(Riskhistorik!R127=\"Medel\",2,IF(Riskhistorik!R127=\"Hög\",3,0))),L125)","v":0},{"$f":"IF(Riskhistorik!S$2<>\"Datum\",IF(Riskhistorik!S127=\"Låg\",1,IF(Riskhistorik!S127=\"Medel\",2,IF(Riskhistorik!S127=\"Hög\",3,0))),M125)","v":0},{"$f":"IF(Riskhistorik!S$2<>\"Datum\",IF(Riskhistorik!T127=\"Låg\",1,IF(Riskhistorik!T127=\"Medel\",2,IF(Riskhistorik!T127=\"Hög\",3,0))),N125)","v":0},{"$f":"IF(Riskhistorik!U$2<>\"Datum\",IF(Riskhistorik!U127=\"Låg\",1,IF(Riskhistorik!U127=\"Medel\",2,IF(Riskhistorik!U127=\"Hög\",3,0))),O125)","v":0},{"$f":"IF(Riskhistorik!U$2<>\"Datum\",IF(Riskhistorik!V127=\"Låg\",1,IF(Riskhistorik!V127=\"Medel\",2,IF(Riskhistorik!V127=\"Hög\",3,0))),P125)","v":0},{"$f":"IF(Riskhistorik!W$2<>\"Datum\",IF(Riskhistorik!W127=\"Låg\",1,IF(Riskhistorik!W127=\"Medel\",2,IF(Riskhistorik!W127=\"Hög\",3,0))),Q125)","v":0},{"$f":"IF(Riskhistorik!W$2<>\"Datum\",IF(Riskhistorik!X127=\"Låg\",1,IF(Riskhistorik!X127=\"Medel\",2,IF(Riskhistorik!X127=\"Hög\",3,0))),R125)","v":0},{"$f":"IF(Riskhistorik!Y$2<>\"Datum\",IF(Riskhistorik!Y127=\"Låg\",1,IF(Riskhistorik!Y127=\"Medel\",2,IF(Riskhistorik!Y127=\"Hög\",3,0))),S125)","v":0},{"$f":"IF(Riskhistorik!Y$2<>\"Datum\",IF(Riskhistorik!Z127=\"Låg\",1,IF(Riskhistorik!Z127=\"Medel\",2,IF(Riskhistorik!Z127=\"Hög\",3,0))),T125)","v":0},{"$f":"IF(Riskhistorik!AA$2<>\"Datum\",IF(Riskhistorik!AA127=\"Låg\",1,IF(Riskhistorik!AA127=\"Medel\",2,IF(Riskhistorik!AA127=\"Hög\",3,0))),U125)","v":0},{"$f":"IF(Riskhistorik!AA$2<>\"Datum\",IF(Riskhistorik!AB127=\"Låg\",1,IF(Riskhistorik!AB127=\"Medel\",2,IF(Riskhistorik!AB127=\"Hög\",3,0))),V125)","v":0},{"$f":"IF(Riskhistorik!AC$2<>\"Datum\",IF(Riskhistorik!AC127=\"Låg\",1,IF(Riskhistorik!AC127=\"Medel\",2,IF(Riskhistorik!AC127=\"Hög\",3,0))),W125)","v":0},{"$f":"IF(Riskhistorik!AC$2<>\"Datum\",IF(Riskhistorik!AD127=\"Låg\",1,IF(Riskhistorik!AD127=\"Medel\",2,IF(Riskhistorik!AD127=\"Hög\",3,0))),X125)","v":0},{"$f":"IF(Riskhistorik!AE$2<>\"Datum\",IF(Riskhistorik!AE127=\"Låg\",1,IF(Riskhistorik!AE127=\"Medel\",2,IF(Riskhistorik!AE127=\"Hög\",3,0))),Y125)","v":0},{"$f":"IF(Riskhistorik!AE$2<>\"Datum\",IF(Riskhistorik!AF127=\"Låg\",1,IF(Riskhistorik!AF127=\"Medel\",2,IF(Riskhistorik!AF127=\"Hög\",3,0))),Z125)","v":0},{"$f":"IF(Riskhistorik!AG$2<>\"Datum\",IF(Riskhistorik!AG127=\"Låg\",1,IF(Riskhistorik!AG127=\"Medel\",2,IF(Riskhistorik!AG127=\"Hög\",3,0))),AA125)","v":0},{"$f":"IF(Riskhistorik!AG$2<>\"Datum\",IF(Riskhistorik!AH127=\"Låg\",1,IF(Riskhistorik!AH127=\"Medel\",2,IF(Riskhistorik!AH127=\"Hög\",3,0))),AB125)","v":0},{"$f":"IF(Riskhistorik!AI$2<>\"Datum\",IF(Riskhistorik!AI127=\"Låg\",1,IF(Riskhistorik!AI127=\"Medel\",2,IF(Riskhistorik!AI127=\"Hög\",3,0))),AC125)","v":0},{"$f":"IF(Riskhistorik!AI$2<>\"Datum\",IF(Riskhistorik!AJ127=\"Låg\",1,IF(Riskhistorik!AJ127=\"Medel\",2,IF(Riskhistorik!AJ127=\"Hög\",3,0))),AD125)","v":0},{"$f":"IF(Riskhistorik!AK$2<>\"Datum\",IF(Riskhistorik!AK127=\"Låg\",1,IF(Riskhistorik!AK127=\"Medel\",2,IF(Riskhistorik!AK127=\"Hög\",3,0))),AE125)","v":0},{"$f":"IF(Riskhistorik!AK$2<>\"Datum\",IF(Riskhistorik!AL127=\"Låg\",1,IF(Riskhistorik!AL127=\"Medel\",2,IF(Riskhistorik!AL127=\"Hög\",3,0))),AF125)","v":0},{"$f":"IF(Riskhistorik!AM$2<>\"Datum\",IF(Riskhistorik!AM127=\"Låg\",1,IF(Riskhistorik!AM127=\"Medel\",2,IF(Riskhistorik!AM127=\"Hög\",3,0))),AG125)","v":0},{"$f":"IF(Riskhistorik!AM$2<>\"Datum\",IF(Riskhistorik!AN127=\"Låg\",1,IF(Riskhistorik!AN127=\"Medel\",2,IF(Riskhistorik!AN127=\"Hög\",3,0))),AH125)","v":0},{"$f":"IF(Riskhistorik!AO$2<>\"Datum\",IF(Riskhistorik!AO127=\"Låg\",1,IF(Riskhistorik!AO127=\"Medel\",2,IF(Riskhistorik!AO127=\"Hög\",3,0))),AI125)","v":0},{"$f":"IF(Riskhistorik!AO$2<>\"Datum\",IF(Riskhistorik!AP127=\"Låg\",1,IF(Riskhistorik!AP127=\"Medel\",2,IF(Riskhistorik!AP127=\"Hög\",3,0))),AJ125)","v":0},{"$f":"IF(Riskhistorik!AQ$2<>\"Datum\",IF(Riskhistorik!AQ127=\"Låg\",1,IF(Riskhistorik!AQ127=\"Medel\",2,IF(Riskhistorik!AQ127=\"Hög\",3,0))),AK125)","v":0},{"$f":"IF(Riskhistorik!AQ$2<>\"Datum\",IF(Riskhistorik!AR127=\"Låg\",1,IF(Riskhistorik!AR127=\"Medel\",2,IF(Riskhistorik!AR127=\"Hög\",3,0))),AL125)","v":0},0,0,0,0,0,0,0,0,0,0,0,0,0,0,0,0,0,0,0,0]
[null,null,null,null,null,null,null,null,{"$f":"IF(Riskhistorik!M$2<>\"Datum\",IF(Riskhistorik!M128=\"Låg\",1,IF(Riskhistorik!M128=\"Medel\",2,IF(Riskhistorik!M128=\"Hög\",3,0))),G126)","v":0},{"$f":"IF(Riskhistorik!M$2<>\"Datum\",IF(Riskhistorik!N128=\"Låg\",1,IF(Riskhistorik!N128=\"Medel\",2,IF(Riskhistorik!N128=\"Hög\",3,0))),H126)","v":0},{"$f":"IF(Riskhistorik!O$2<>\"Datum\",IF(Riskhistorik!O128=\"Låg\",1,IF(Riskhistorik!O128=\"Medel\",2,IF(Riskhistorik!O128=\"Hög\",3,0))),I126)","v":0},{"$f":"IF(Riskhistorik!O$2<>\"Datum\",IF(Riskhistorik!P128=\"Låg\",1,IF(Riskhistorik!P128=\"Medel\",2,IF(Riskhistorik!P128=\"Hög\",3,0))),J126)","v":0},{"$f":"IF(Riskhistorik!Q$2<>\"Datum\",IF(Riskhistorik!Q128=\"Låg\",1,IF(Riskhistorik!Q128=\"Medel\",2,IF(Riskhistorik!Q128=\"Hög\",3,0))),K126)","v":0},{"$f":"IF(Riskhistorik!Q$2<>\"Datum\",IF(Riskhistorik!R128=\"Låg\",1,IF(Riskhistorik!R128=\"Medel\",2,IF(Riskhistorik!R128=\"Hög\",3,0))),L126)","v":0},{"$f":"IF(Riskhistorik!S$2<>\"Datum\",IF(Riskhistorik!S128=\"Låg\",1,IF(Riskhistorik!S128=\"Medel\",2,IF(Riskhistorik!S128=\"Hög\",3,0))),M126)","v":0},{"$f":"IF(Riskhistorik!S$2<>\"Datum\",IF(Riskhistorik!T128=\"Låg\",1,IF(Riskhistorik!T128=\"Medel\",2,IF(Riskhistorik!T128=\"Hög\",3,0))),N126)","v":0},{"$f":"IF(Riskhistorik!U$2<>\"Datum\",IF(Riskhistorik!U128=\"Låg\",1,IF(Riskhistorik!U128=\"Medel\",2,IF(Riskhistorik!U128=\"Hög\",3,0))),O126)","v":0},{"$f":"IF(Riskhistorik!U$2<>\"Datum\",IF(Riskhistorik!V128=\"Låg\",1,IF(Riskhistorik!V128=\"Medel\",2,IF(Riskhistorik!V128=\"Hög\",3,0))),P126)","v":0},{"$f":"IF(Riskhistorik!W$2<>\"Datum\",IF(Riskhistorik!W128=\"Låg\",1,IF(Riskhistorik!W128=\"Medel\",2,IF(Riskhistorik!W128=\"Hög\",3,0))),Q126)","v":0},{"$f":"IF(Riskhistorik!W$2<>\"Datum\",IF(Riskhistorik!X128=\"Låg\",1,IF(Riskhistorik!X128=\"Medel\",2,IF(Riskhistorik!X128=\"Hög\",3,0))),R126)","v":0},{"$f":"IF(Riskhistorik!Y$2<>\"Datum\",IF(Riskhistorik!Y128=\"Låg\",1,IF(Riskhistorik!Y128=\"Medel\",2,IF(Riskhistorik!Y128=\"Hög\",3,0))),S126)","v":0},{"$f":"IF(Riskhistorik!Y$2<>\"Datum\",IF(Riskhistorik!Z128=\"Låg\",1,IF(Riskhistorik!Z128=\"Medel\",2,IF(Riskhistorik!Z128=\"Hög\",3,0))),T126)","v":0},{"$f":"IF(Riskhistorik!AA$2<>\"Datum\",IF(Riskhistorik!AA128=\"Låg\",1,IF(Riskhistorik!AA128=\"Medel\",2,IF(Riskhistorik!AA128=\"Hög\",3,0))),U126)","v":0},{"$f":"IF(Riskhistorik!AA$2<>\"Datum\",IF(Riskhistorik!AB128=\"Låg\",1,IF(Riskhistorik!AB128=\"Medel\",2,IF(Riskhistorik!AB128=\"Hög\",3,0))),V126)","v":0},{"$f":"IF(Riskhistorik!AC$2<>\"Datum\",IF(Riskhistorik!AC128=\"Låg\",1,IF(Riskhistorik!AC128=\"Medel\",2,IF(Riskhistorik!AC128=\"Hög\",3,0))),W126)","v":0},{"$f":"IF(Riskhistorik!AC$2<>\"Datum\",IF(Riskhistorik!AD128=\"Låg\",1,IF(Riskhistorik!AD128=\"Medel\",2,IF(Riskhistorik!AD128=\"Hög\",3,0))),X126)","v":0},{"$f":"IF(Riskhistorik!AE$2<>\"Datum\",IF(Riskhistorik!AE128=\"Låg\",1,IF(Riskhistorik!AE128=\"Medel\",2,IF(Riskhistorik!AE128=\"Hög\",3,0))),Y126)","v":0},{"$f":"IF(Riskhistorik!AE$2<>\"Datum\",IF(Riskhistorik!AF128=\"Låg\",1,IF(Riskhistorik!AF128=\"Medel\",2,IF(Riskhistorik!AF128=\"Hög\",3,0))),Z126)","v":0},{"$f":"IF(Riskhistorik!AG$2<>\"Datum\",IF(Riskhistorik!AG128=\"Låg\",1,IF(Riskhistorik!AG128=\"Medel\",2,IF(Riskhistorik!AG128=\"Hög\",3,0))),AA126)","v":0},{"$f":"IF(Riskhistorik!AG$2<>\"Datum\",IF(Riskhistorik!AH128=\"Låg\",1,IF(Riskhistorik!AH128=\"Medel\",2,IF(Riskhistorik!AH128=\"Hög\",3,0))),AB126)","v":0},{"$f":"IF(Riskhistorik!AI$2<>\"Datum\",IF(Riskhistorik!AI128=\"Låg\",1,IF(Riskhistorik!AI128=\"Medel\",2,IF(Riskhistorik!AI128=\"Hög\",3,0))),AC126)","v":0},{"$f":"IF(Riskhistorik!AI$2<>\"Datum\",IF(Riskhistorik!AJ128=\"Låg\",1,IF(Riskhistorik!AJ128=\"Medel\",2,IF(Riskhistorik!AJ128=\"Hög\",3,0))),AD126)","v":0},{"$f":"IF(Riskhistorik!AK$2<>\"Datum\",IF(Riskhistorik!AK128=\"Låg\",1,IF(Riskhistorik!AK128=\"Medel\",2,IF(Riskhistorik!AK128=\"Hög\",3,0))),AE126)","v":0},{"$f":"IF(Riskhistorik!AK$2<>\"Datum\",IF(Riskhistorik!AL128=\"Låg\",1,IF(Riskhistorik!AL128=\"Medel\",2,IF(Riskhistorik!AL128=\"Hög\",3,0))),AF126)","v":0},{"$f":"IF(Riskhistorik!AM$2<>\"Datum\",IF(Riskhistorik!AM128=\"Låg\",1,IF(Riskhistorik!AM128=\"Medel\",2,IF(Riskhistorik!AM128=\"Hög\",3,0))),AG126)","v":0},{"$f":"IF(Riskhistorik!AM$2<>\"Datum\",IF(Riskhistorik!AN128=\"Låg\",1,IF(Riskhistorik!AN128=\"Medel\",2,IF(Riskhistorik!AN128=\"Hög\",3,0))),AH126)","v":0},{"$f":"IF(Riskhistorik!AO$2<>\"Datum\",IF(Riskhistorik!AO128=\"Låg\",1,IF(Riskhistorik!AO128=\"Medel\",2,IF(Riskhistorik!AO128=\"Hög\",3,0))),AI126)","v":0},{"$f":"IF(Riskhistorik!AO$2<>\"Datum\",IF(Riskhistorik!AP128=\"Låg\",1,IF(Riskhistorik!AP128=\"Medel\",2,IF(Riskhistorik!AP128=\"Hög\",3,0))),AJ126)","v":0},{"$f":"IF(Riskhistorik!AQ$2<>\"Datum\",IF(Riskhistorik!AQ128=\"Låg\",1,IF(Riskhistorik!AQ128=\"Medel\",2,IF(Riskhistorik!AQ128=\"Hög\",3,0))),AK126)","v":0},{"$f":"IF(Riskhistorik!AQ$2<>\"Datum\",IF(Riskhistorik!AR128=\"Låg\",1,IF(Riskhistorik!AR128=\"Medel\",2,IF(Riskhistorik!AR128=\"Hög\",3,0))),AL126)","v":0},0,0,0,0,0,0,0,0,0,0,0,0,0,0,0,0,0,0,0,0]
[null,null,null,null,null,null,null,null,{"$f":"IF(Riskhistorik!M$2<>\"Datum\",IF(Riskhistorik!M129=\"Låg\",1,IF(Riskhistorik!M129=\"Medel\",2,IF(Riskhistorik!M129=\"Hög\",3,0))),G127)","v":0},{"$f":"IF(Riskhistorik!M$2<>\"Datum\",IF(Riskhistorik!N129=\"Låg\",1,IF(Riskhistorik!N129=\"Medel\",2,IF(Riskhistorik!N129=\"Hög\",3,0))),H127)","v":0},{"$f":"IF(Riskhistorik!O$2<>\"Datum\",IF(Riskhistorik!O129=\"Låg\",1,IF(Riskhistorik!O129=\"Medel\",2,IF(Riskhistorik!O129=\"Hög\",3,0))),I127)","v":0},{"$f":"IF(Riskhistorik!O$2<>\"Datum\",IF(Riskhistorik!P129=\"Låg\",1,IF(Riskhistorik!P129=\"Medel\",2,IF(Riskhistorik!P129=\"Hög\",3,0))),J127)","v":0},{"$f":"IF(Riskhistorik!Q$2<>\"Datum\",IF(Riskhistorik!Q129=\"Låg\",1,IF(Riskhistorik!Q129=\"Medel\",2,IF(Riskhistorik!Q129=\"Hög\",3,0))),K127)","v":0},{"$f":"IF(Riskhistorik!Q$2<>\"Datum\",IF(Riskhistorik!R129=\"Låg\",1,IF(Riskhistorik!R129=\"Medel\",2,IF(Riskhistorik!R129=\"Hög\",3,0))),L127)","v":0},{"$f":"IF(Riskhistorik!S$2<>\"Datum\",IF(Riskhistorik!S129=\"Låg\",1,IF(Riskhistorik!S129=\"Medel\",2,IF(Riskhistorik!S129=\"Hög\",3,0))),M127)","v":0},{"$f":"IF(Riskhistorik!S$2<>\"Datum\",IF(Riskhistorik!T129=\"Låg\",1,IF(Riskhistorik!T129=\"Medel\",2,IF(Riskhistorik!T129=\"Hög\",3,0))),N127)","v":0},{"$f":"IF(Riskhistorik!U$2<>\"Datum\",IF(Riskhistorik!U129=\"Låg\",1,IF(Riskhistorik!U129=\"Medel\",2,IF(Riskhistorik!U129=\"Hög\",3,0))),O127)","v":0},{"$f":"IF(Riskhistorik!U$2<>\"Datum\",IF(Riskhistorik!V129=\"Låg\",1,IF(Riskhistorik!V129=\"Medel\",2,IF(Riskhistorik!V129=\"Hög\",3,0))),P127)","v":0},{"$f":"IF(Riskhistorik!W$2<>\"Datum\",IF(Riskhistorik!W129=\"Låg\",1,IF(Riskhistorik!W129=\"Medel\",2,IF(Riskhistorik!W129=\"Hög\",3,0))),Q127)","v":0},{"$f":"IF(Riskhistorik!W$2<>\"Datum\",IF(Riskhistorik!X129=\"Låg\",1,IF(Riskhistorik!X129=\"Medel\",2,IF(Riskhistorik!X129=\"Hög\",3,0))),R127)","v":0},{"$f":"IF(Riskhistorik!Y$2<>\"Datum\",IF(Riskhistorik!Y129=\"Låg\",1,IF(Riskhistorik!Y129=\"Medel\",2,IF(Riskhistorik!Y129=\"Hög\",3,0))),S127)","v":0},{"$f":"IF(Riskhistorik!Y$2<>\"Datum\",IF(Riskhistorik!Z129=\"Låg\",1,IF(Riskhistorik!Z129=\"Medel\",2,IF(Riskhistorik!Z129=\"Hög\",3,0))),T127)","v":0},{"$f":"IF(Riskhistorik!AA$2<>\"Datum\",IF(Riskhistorik!AA129=\"Låg\",1,IF(Riskhistorik!AA129=\"Medel\",2,IF(Riskhistorik!AA129=\"Hög\",3,0))),U127)","v":0},{"$f":"IF(Riskhistorik!AA$2<>\"Datum\",IF(Riskhistorik!AB129=\"Låg\",1,IF(Riskhistorik!AB129=\"Medel\",2,IF(Riskhistorik!AB129=\"Hög\",3,0))),V127)","v":0},{"$f":"IF(Riskhistorik!AC$2<>\"Datum\",IF(Riskhistorik!AC129=\"Låg\",1,IF(Riskhistorik!AC129=\"Medel\",2,IF(Riskhistorik!AC129=\"Hög\",3,0))),W127)","v":0},{"$f":"IF(Riskhistorik!AC$2<>\"Datum\",IF(Riskhistorik!AD129=\"Låg\",1,IF(Riskhistorik!AD129=\"Medel\",2,IF(Riskhistorik!AD129=\"Hög\",3,0))),X127)","v":0},{"$f":"IF(Riskhistorik!AE$2<>\"Datum\",IF(Riskhistorik!AE129=\"Låg\",1,IF(Riskhistorik!AE129=\"Medel\",2,IF(Riskhistorik!AE129=\"Hög\",3,0))),Y127)","v":0},{"$f":"IF(Riskhistorik!AE$2<>\"Datum\",IF(Riskhistorik!AF129=\"Låg\",1,IF(Riskhistorik!AF129=\"Medel\",2,IF(Riskhistorik!AF129=\"Hög\",3,0))),Z127)","v":0},{"$f":"IF(Riskhistorik!AG$2<>\"Datum\",IF(Riskhistorik!AG129=\"Låg\",1,IF(Riskhistorik!AG129=\"Medel\",2,IF(Riskhistorik!AG129=\"Hög\",3,0))),AA127)","v":0},{"$f":"IF(Riskhistorik!AG$2<>\"Datum\",IF(Riskhistorik!AH129=\"Låg\",1,IF(Riskhistorik!AH129=\"Medel\",2,IF(Riskhistorik!AH129=\"Hög\",3,0))),AB127)","v":0},{"$f":"IF(Riskhistorik!AI$2<>\"Datum\",IF(Riskhistorik!AI129=\"Låg\",1,IF(Riskhistorik!AI129=\"Medel\",2,IF(Riskhistorik!AI129=\"Hög\",3,0))),AC127)","v":0},{"$f":"IF(Riskhistorik!AI$2<>\"Datum\",IF(Riskhistorik!AJ129=\"Låg\",1,IF(Riskhistorik!AJ129=\"Medel\",2,IF(Riskhistorik!AJ129=\"Hög\",3,0))),AD127)","v":0},{"$f":"IF(Riskhistorik!AK$2<>\"Datum\",IF(Riskhistorik!AK129=\"Låg\",1,IF(Riskhistorik!AK129=\"Medel\",2,IF(Riskhistorik!AK129=\"Hög\",3,0))),AE127)","v":0},{"$f":"IF(Riskhistorik!AK$2<>\"Datum\",IF(Riskhistorik!AL129=\"Låg\",1,IF(Riskhistorik!AL129=\"Medel\",2,IF(Riskhistorik!AL129=\"Hög\",3,0))),AF127)","v":0},{"$f":"IF(Riskhistorik!AM$2<>\"Datum\",IF(Riskhistorik!AM129=\"Låg\",1,IF(Riskhistorik!AM129=\"Medel\",2,IF(Riskhistorik!AM129=\"Hög\",3,0))),AG127)","v":0},{"$f":"IF(Riskhistorik!AM$2<>\"Datum\",IF(Riskhistorik!AN129=\"Låg\",1,IF(Riskhistorik!AN129=\"Medel\",2,IF(Riskhistorik!AN129=\"Hög\",3,0))),AH127)","v":0},{"$f":"IF(Riskhistorik!AO$2<>\"Datum\",IF(Riskhistorik!AO129=\"Låg\",1,IF(Riskhistorik!AO129=\"Medel\",2,IF(Riskhistorik!AO129=\"Hög\",3,0))),AI127)","v":0},{"$f":"IF(Riskhistorik!AO$2<>\"Datum\",IF(Riskhistorik!AP129=\"Låg\",1,IF(Riskhistorik!AP129=\"Medel\",2,IF(Riskhistorik!AP129=\"Hög\",3,0))),AJ127)","v":0},{"$f":"IF(Riskhistorik!AQ$2<>\"Datum\",IF(Riskhistorik!AQ129=\"Låg\",1,IF(Riskhistorik!AQ129=\"Medel\",2,IF(Riskhistorik!AQ129=\"Hög\",3,0))),AK127)","v":0},{"$f":"IF(Riskhistorik!AQ$2<>\"Datum\",IF(Riskhistorik!AR129=\"Låg\",1,IF(Riskhistorik!AR129=\"Medel\",2,IF(Riskhistorik!AR129=\"Hög\",3,0))),AL127)","v":0},0,0,0,0,0,0,0,0,0,0,0,0,0,0,0,0,0,0,0,0]
[null,null,null,null,null,null,null,null,{"$f":"IF(Riskhistorik!M$2<>\"Datum\",IF(Riskhistorik!M130=\"Låg\",1,IF(Riskhistorik!M130=\"Medel\",2,IF(Riskhistorik!M130=\"Hög\",3,0))),G128)","v":0},{"$f":"IF(Riskhistorik!M$2<>\"Datum\",IF(Riskhistorik!N130=\"Låg\",1,IF(Riskhistorik!N130=\"Medel\",2,IF(Riskhistorik!N130=\"Hög\",3,0))),H128)","v":0},{"$f":"IF(Riskhistorik!O$2<>\"Datum\",IF(Riskhistorik!O130=\"Låg\",1,IF(Riskhistorik!O130=\"Medel\",2,IF(Riskhistorik!O130=\"Hög\",3,0))),I128)","v":0},{"$f":"IF(Riskhistorik!O$2<>\"Datum\",IF(Riskhistorik!P130=\"Låg\",1,IF(Riskhistorik!P130=\"Medel\",2,IF(Riskhistorik!P130=\"Hög\",3,0))),J128)","v":0},{"$f":"IF(Riskhistorik!Q$2<>\"Datum\",IF(Riskhistorik!Q130=\"Låg\",1,IF(Riskhistorik!Q130=\"Medel\",2,IF(Riskhistorik!Q130=\"Hög\",3,0))),K128)","v":0},{"$f":"IF(Riskhistorik!Q$2<>\"Datum\",IF(Riskhistorik!R130=\"Låg\",1,IF(Riskhistorik!R130=\"Medel\",2,IF(Riskhistorik!R130=\"Hög\",3,0))),L128)","v":0},{"$f":"IF(Riskhistorik!S$2<>\"Datum\",IF(Riskhistorik!S130=\"Låg\",1,IF(Riskhistorik!S130=\"Medel\",2,IF(Riskhistorik!S130=\"Hög\",3,0))),M128)","v":0},{"$f":"IF(Riskhistorik!S$2<>\"Datum\",IF(Riskhistorik!T130=\"Låg\",1,IF(Riskhistorik!T130=\"Medel\",2,IF(Riskhistorik!T130=\"Hög\",3,0))),N128)","v":0},{"$f":"IF(Riskhistorik!U$2<>\"Datum\",IF(Riskhistorik!U130=\"Låg\",1,IF(Riskhistorik!U130=\"Medel\",2,IF(Riskhistorik!U130=\"Hög\",3,0))),O128)","v":0},{"$f":"IF(Riskhistorik!U$2<>\"Datum\",IF(Riskhistorik!V130=\"Låg\",1,IF(Riskhistorik!V130=\"Medel\",2,IF(Riskhistorik!V130=\"Hög\",3,0))),P128)","v":0},{"$f":"IF(Riskhistorik!W$2<>\"Datum\",IF(Riskhistorik!W130=\"Låg\",1,IF(Riskhistorik!W130=\"Medel\",2,IF(Riskhistorik!W130=\"Hög\",3,0))),Q128)","v":0},{"$f":"IF(Riskhistorik!W$2<>\"Datum\",IF(Riskhistorik!X130=\"Låg\",1,IF(Riskhistorik!X130=\"Medel\",2,IF(Riskhistorik!X130=\"Hög\",3,0))),R128)","v":0},{"$f":"IF(Riskhistorik!Y$2<>\"Datum\",IF(Riskhistorik!Y130=\"Låg\",1,IF(Riskhistorik!Y130=\"Medel\",2,IF(Riskhistorik!Y130=\"Hög\",3,0))),S128)","v":0},{"$f":"IF(Riskhistorik!Y$2<>\"Datum\",IF(Riskhistorik!Z130=\"Låg\",1,IF(Riskhistorik!Z130=\"Medel\",2,IF(Riskhistorik!Z130=\"Hög\",3,0))),T128)","v":0},{"$f":"IF(Riskhistorik!AA$2<>\"Datum\",IF(Riskhistorik!AA130=\"Låg\",1,IF(Riskhistorik!AA130=\"Medel\",2,IF(Riskhistorik!AA130=\"Hög\",3,0))),U128)","v":0},{"$f":"IF(Riskhistorik!AA$2<>\"Datum\",IF(Riskhistorik!AB130=\"Låg\",1,IF(Riskhistorik!AB130=\"Medel\",2,IF(Riskhistorik!AB130=\"Hög\",3,0))),V128)","v":0},{"$f":"IF(Riskhistorik!AC$2<>\"Datum\",IF(Riskhistorik!AC130=\"Låg\",1,IF(Riskhistorik!AC130=\"Medel\",2,IF(Riskhistorik!AC130=\"Hög\",3,0))),W128)","v":0},{"$f":"IF(Riskhistorik!AC$2<>\"Datum\",IF(Riskhistorik!AD130=\"Låg\",1,IF(Riskhistorik!AD130=\"Medel\",2,IF(Riskhistorik!AD130=\"Hög\",3,0))),X128)","v":0},{"$f":"IF(Riskhistorik!AE$2<>\"Datum\",IF(Riskhistorik!AE130=\"Låg\",1,IF(Riskhistorik!AE130=\"Medel\",2,IF(Riskhistorik!AE130=\"Hög\",3,0))),Y128)","v":0},{"$f":"IF(Riskhistorik!AE$2<>\"Datum\",IF(Riskhistorik!AF130=\"Låg\",1,IF(Riskhistorik!AF130=\"Medel\",2,IF(Riskhistorik!AF130=\"Hög\",3,0))),Z128)","v":0},{"$f":"IF(Riskhistorik!AG$2<>\"Datum\",IF(Riskhistorik!AG130=\"Låg\",1,IF(Riskhistorik!AG130=\"Medel\",2,IF(Riskhistorik!AG130=\"Hög\",3,0))),AA128)","v":0},{"$f":"IF(Riskhistorik!AG$2<>\"Datum\",IF(Riskhistorik!AH130=\"Låg\",1,IF(Riskhistorik!AH130=\"Medel\",2,IF(Riskhistorik!AH130=\"Hög\",3,0))),AB128)","v":0},{"$f":"IF(Riskhistorik!AI$2<>\"Datum\",IF(Riskhistorik!AI130=\"Låg\",1,IF(Riskhistorik!AI130=\"Medel\",2,IF(Riskhistorik!AI130=\"Hög\",3,0))),AC128)","v":0},{"$f":"IF(Riskhistorik!AI$2<>\"Datum\",IF(Riskhistorik!AJ130=\"Låg\",1,IF(Riskhistorik!AJ130=\"Medel\",2,IF(Riskhistorik!AJ130=\"Hög\",3,0))),AD128)","v":0},{"$f":"IF(Riskhistorik!AK$2<>\"Datum\",IF(Riskhistorik!AK130=\"Låg\",1,IF(Riskhistorik!AK130=\"Medel\",2,IF(Riskhistorik!AK130=\"Hög\",3,0))),AE128)","v":0},{"$f":"IF(Riskhistorik!AK$2<>\"Datum\",IF(Riskhistorik!AL130=\"Låg\",1,IF(Riskhistorik!AL130=\"Medel\",2,IF(Riskhistorik!AL130=\"Hög\",3,0))),AF128)","v":0},{"$f":"IF(Riskhistorik!AM$2<>\"Datum\",IF(Riskhistorik!AM130=\"Låg\",1,IF(Riskhistorik!AM130=\"Medel\",2,IF(Riskhistorik!AM130=\"Hög\",3,0))),AG128)","v":0},{"$f":"IF(Riskhistorik!AM$2<>\"Datum\",IF(Riskhistorik!AN130=\"Låg\",1,IF(Riskhistorik!AN130=\"Medel\",2,IF(Riskhistorik!AN130=\"Hög\",3,0))),AH128)","v":0},{"$f":"IF(Riskhistorik!AO$2<>\"Datum\",IF(Riskhistorik!AO130=\"Låg\",1,IF(Riskhistorik!AO130=\"Medel\",2,IF(Riskhistorik!AO130=\"Hög\",3,0))),AI128)","v":0},{"$f":"IF(Riskhistorik!AO$2<>\"Datum\",IF(Riskhistorik!AP130=\"Låg\",1,IF(Riskhistorik!AP130=\"Medel\",2,IF(Riskhistorik!AP130=\"Hög\",3,0))),AJ128)","v":0},{"$f":"IF(Riskhistorik!AQ$2<>\"Datum\",IF(Riskhistorik!AQ130=\"Låg\",1,IF(Riskhistorik!AQ130=\"Medel\",2,IF(Riskhistorik!AQ130=\"Hög\",3,0))),AK128)","v":0},{"$f":"IF(Riskhistorik!AQ$2<>\"Datum\",IF(Riskhistorik!AR130=\"Låg\",1,IF(Riskhistorik!AR130=\"Medel\",2,IF(Riskhistorik!AR130=\"Hög\",3,0))),AL128)","v":0},0,0,0,0,0,0,0,0,0,0,0,0,0,0,0,0,0,0,0,0]
[null,null,null,null,null,null,null,null,{"$f":"IF(Riskhistorik!M$2<>\"Datum\",IF(Riskhistorik!M131=\"Låg\",1,IF(Riskhistorik!M131=\"Medel\",2,IF(Riskhistorik!M131=\"Hög\",3,0))),G129)","v":0},{"$f":"IF(Riskhistorik!M$2<>\"Datum\",IF(Riskhistorik!N131=\"Låg\",1,IF(Riskhistorik!N131=\"Medel\",2,IF(Riskhistorik!N131=\"Hög\",3,0))),H129)","v":0},{"$f":"IF(Riskhistorik!O$2<>\"Datum\",IF(Riskhistorik!O131=\"Låg\",1,IF(Riskhistorik!O131=\"Medel\",2,IF(Riskhistorik!O131=\"Hög\",3,0))),I129)","v":0},{"$f":"IF(Riskhistorik!O$2<>\"Datum\",IF(Riskhistorik!P131=\"Låg\",1,IF(Riskhistorik!P131=\"Medel\",2,IF(Riskhistorik!P131=\"Hög\",3,0))),J129)","v":0},{"$f":"IF(Riskhistorik!Q$2<>\"Datum\",IF(Riskhistorik!Q131=\"Låg\",1,IF(Riskhistorik!Q131=\"Medel\",2,IF(Riskhistorik!Q131=\"Hög\",3,0))),K129)","v":0},{"$f":"IF(Riskhistorik!Q$2<>\"Datum\",IF(Riskhistorik!R131=\"Låg\",1,IF(Riskhistorik!R131=\"Medel\",2,IF(Riskhistorik!R131=\"Hög\",3,0))),L129)","v":0},{"$f":"IF(Riskhistorik!S$2<>\"Datum\",IF(Riskhistorik!S131=\"Låg\",1,IF(Riskhistorik!S131=\"Medel\",2,IF(Riskhistorik!S131=\"Hög\",3,0))),M129)","v":0},{"$f":"IF(Riskhistorik!S$2<>\"Datum\",IF(Riskhistorik!T131=\"Låg\",1,IF(Riskhistorik!T131=\"Medel\",2,IF(Riskhistorik!T131=\"Hög\",3,0))),N129)","v":0},{"$f":"IF(Riskhistorik!U$2<>\"Datum\",IF(Riskhistorik!U131=\"Låg\",1,IF(Riskhistorik!U131=\"Medel\",2,IF(Riskhistorik!U131=\"Hög\",3,0))),O129)","v":0},{"$f":"IF(Riskhistorik!U$2<>\"Datum\",IF(Riskhistorik!V131=\"Låg\",1,IF(Riskhistorik!V131=\"Medel\",2,IF(Riskhistorik!V131=\"Hög\",3,0))),P129)","v":0},{"$f":"IF(Riskhistorik!W$2<>\"Datum\",IF(Riskhistorik!W131=\"Låg\",1,IF(Riskhistorik!W131=\"Medel\",2,IF(Riskhistorik!W131=\"Hög\",3,0))),Q129)","v":0},{"$f":"IF(Riskhistorik!W$2<>\"Datum\",IF(Riskhistorik!X131=\"Låg\",1,IF(Riskhistorik!X131=\"Medel\",2,IF(Riskhistorik!X131=\"Hög\",3,0))),R129)","v":0},{"$f":"IF(Riskhistorik!Y$2<>\"Datum\",IF(Riskhistorik!Y131=\"Låg\",1,IF(Riskhistorik!Y131=\"Medel\",2,IF(Riskhistorik!Y131=\"Hög\",3,0))),S129)","v":0},{"$f":"IF(Riskhistorik!Y$2<>\"Datum\",IF(Riskhistorik!Z131=\"Låg\",1,IF(Riskhistorik!Z131=\"Medel\",2,IF(Riskhistorik!Z131=\"Hög\",3,0))),T129)","v":0},{"$f":"IF(Riskhistorik!AA$2<>\"Datum\",IF(Riskhistorik!AA131=\"Låg\",1,IF(Riskhistorik!AA131=\"Medel\",2,IF(Riskhistorik!AA131=\"Hög\",3,0))),U129)","v":0},{"$f":"IF(Riskhistorik!AA$2<>\"Datum\",IF(Riskhistorik!AB131=\"Låg\",1,IF(Riskhistorik!AB131=\"Medel\",2,IF(Riskhistorik!AB131=\"Hög\",3,0))),V129)","v":0},{"$f":"IF(Riskhistorik!AC$2<>\"Datum\",IF(Riskhistorik!AC131=\"Låg\",1,IF(Riskhistorik!AC131=\"Medel\",2,IF(Riskhistorik!AC131=\"Hög\",3,0))),W129)","v":0},{"$f":"IF(Riskhistorik!AC$2<>\"Datum\",IF(Riskhistorik!AD131=\"Låg\",1,IF(Riskhistorik!AD131=\"Medel\",2,IF(Riskhistorik!AD131=\"Hög\",3,0))),X129)","v":0},{"$f":"IF(Riskhistorik!AE$2<>\"Datum\",IF(Riskhistorik!AE131=\"Låg\",1,IF(Riskhistorik!AE131=\"Medel\",2,IF(Riskhistorik!AE131=\"Hög\",3,0))),Y129)","v":0},{"$f":"IF(Riskhistorik!AE$2<>\"Datum\",IF(Riskhistorik!AF131=\"Låg\",1,IF(Riskhistorik!AF131=\"Medel\",2,IF(Riskhistorik!AF131=\"Hög\",3,0))),Z129)","v":0},{"$f":"IF(Riskhistorik!AG$2<>\"Datum\",IF(Riskhistorik!AG131=\"Låg\",1,IF(Riskhistorik!AG131=\"Medel\",2,IF(Riskhistorik!AG131=\"Hög\",3,0))),AA129)","v":0},{"$f":"IF(Riskhistorik!AG$2<>\"Datum\",IF(Riskhistorik!AH131=\"Låg\",1,IF(Riskhistorik!AH131=\"Medel\",2,IF(Riskhistorik!AH131=\"Hög\",3,0))),AB129)","v":0},{"$f":"IF(Riskhistorik!AI$2<>\"Datum\",IF(Riskhistorik!AI131=\"Låg\",1,IF(Riskhistorik!AI131=\"Medel\",2,IF(Riskhistorik!AI131=\"Hög\",3,0))),AC129)","v":0},{"$f":"IF(Riskhistorik!AI$2<>\"Datum\",IF(Riskhistorik!AJ131=\"Låg\",1,IF(Riskhistorik!AJ131=\"Medel\",2,IF(Riskhistorik!AJ131=\"Hög\",3,0))),AD129)","v":0},{"$f":"IF(Riskhistorik!AK$2<>\"Datum\",IF(Riskhistorik!AK131=\"Låg\",1,IF(Riskhistorik!AK131=\"Medel\",2,IF(Riskhistorik!AK131=\"Hög\",3,0))),AE129)","v":0},{"$f":"IF(Riskhistorik!AK$2<>\"Datum\",IF(Riskhistorik!AL131=\"Låg\",1,IF(Riskhistorik!AL131=\"Medel\",2,IF(Riskhistorik!AL131=\"Hög\",3,0))),AF129)","v":0},{"$f":"IF(Riskhistorik!AM$2<>\"Datum\",IF(Riskhistorik!AM131=\"Låg\",1,IF(Riskhistorik!AM131=\"Medel\",2,IF(Riskhistorik!AM131=\"Hög\",3,0))),AG129)","v":0},{"$f":"IF(Riskhistorik!AM$2<>\"Datum\",IF(Riskhistorik!AN131=\"Låg\",1,IF(Riskhistorik!AN131=\"Medel\",2,IF(Riskhistorik!AN131=\"Hög\",3,0))),AH129)","v":0},{"$f":"IF(Riskhistorik!AO$2<>\"Datum\",IF(Riskhistorik!AO131=\"Låg\",1,IF(Riskhistorik!AO131=\"Medel\",2,IF(Riskhistorik!AO131=\"Hög\",3,0))),AI129)","v":0},{"$f":"IF(Riskhistorik!AO$2<>\"Datum\",IF(Riskhistorik!AP131=\"Låg\",1,IF(Riskhistorik!AP131=\"Medel\",2,IF(Riskhistorik!AP131=\"Hög\",3,0))),AJ129)","v":0},{"$f":"IF(Riskhistorik!AQ$2<>\"Datum\",IF(Riskhistorik!AQ131=\"Låg\",1,IF(Riskhistorik!AQ131=\"Medel\",2,IF(Riskhistorik!AQ131=\"Hög\",3,0))),AK129)","v":0},{"$f":"IF(Riskhistorik!AQ$2<>\"Datum\",IF(Riskhistorik!AR131=\"Låg\",1,IF(Riskhistorik!AR131=\"Medel\",2,IF(Riskhistorik!AR131=\"Hög\",3,0))),AL129)","v":0},0,0,0,0,0,0,0,0,0,0,0,0,0,0,0,0,0,0,0,0]
[null,null,null,null,null,null,null,null,{"$f":"IF(Riskhistorik!M$2<>\"Datum\",IF(Riskhistorik!M132=\"Låg\",1,IF(Riskhistorik!M132=\"Medel\",2,IF(Riskhistorik!M132=\"Hög\",3,0))),G130)","v":0},{"$f":"IF(Riskhistorik!M$2<>\"Datum\",IF(Riskhistorik!N132=\"Låg\",1,IF(Riskhistorik!N132=\"Medel\",2,IF(Riskhistorik!N132=\"Hög\",3,0))),H130)","v":0},{"$f":"IF(Riskhistorik!O$2<>\"Datum\",IF(Riskhistorik!O132=\"Låg\",1,IF(Riskhistorik!O132=\"Medel\",2,IF(Riskhistorik!O132=\"Hög\",3,0))),I130)","v":0},{"$f":"IF(Riskhistorik!O$2<>\"Datum\",IF(Riskhistorik!P132=\"Låg\",1,IF(Riskhistorik!P132=\"Medel\",2,IF(Riskhistorik!P132=\"Hög\",3,0))),J130)","v":0},{"$f":"IF(Riskhistorik!Q$2<>\"Datum\",IF(Riskhistorik!Q132=\"Låg\",1,IF(Riskhistorik!Q132=\"Medel\",2,IF(Riskhistorik!Q132=\"Hög\",3,0))),K130)","v":0},{"$f":"IF(Riskhistorik!Q$2<>\"Datum\",IF(Riskhistorik!R132=\"Låg\",1,IF(Riskhistorik!R132=\"Medel\",2,IF(Riskhistorik!R132=\"Hög\",3,0))),L130)","v":0},{"$f":"IF(Riskhistorik!S$2<>\"Datum\",IF(Riskhistorik!S132=\"Låg\",1,IF(Riskhistorik!S132=\"Medel\",2,IF(Riskhistorik!S132=\"Hög\",3,0))),M130)","v":0},{"$f":"IF(Riskhistorik!S$2<>\"Datum\",IF(Riskhistorik!T132=\"Låg\",1,IF(Riskhistorik!T132=\"Medel\",2,IF(Riskhistorik!T132=\"Hög\",3,0))),N130)","v":0},{"$f":"IF(Riskhistorik!U$2<>\"Datum\",IF(Riskhistorik!U132=\"Låg\",1,IF(Riskhistorik!U132=\"Medel\",2,IF(Riskhistorik!U132=\"Hög\",3,0))),O130)","v":0},{"$f":"IF(Riskhistorik!U$2<>\"Datum\",IF(Riskhistorik!V132=\"Låg\",1,IF(Riskhistorik!V132=\"Medel\",2,IF(Riskhistorik!V132=\"Hög\",3,0))),P130)","v":0},{"$f":"IF(Riskhistorik!W$2<>\"Datum\",IF(Riskhistorik!W132=\"Låg\",1,IF(Riskhistorik!W132=\"Medel\",2,IF(Riskhistorik!W132=\"Hög\",3,0))),Q130)","v":0},{"$f":"IF(Riskhistorik!W$2<>\"Datum\",IF(Riskhistorik!X132=\"Låg\",1,IF(Riskhistorik!X132=\"Medel\",2,IF(Riskhistorik!X132=\"Hög\",3,0))),R130)","v":0},{"$f":"IF(Riskhistorik!Y$2<>\"Datum\",IF(Riskhistorik!Y132=\"Låg\",1,IF(Riskhistorik!Y132=\"Medel\",2,IF(Riskhistorik!Y132=\"Hög\",3,0))),S130)","v":0},{"$f":"IF(Riskhistorik!Y$2<>\"Datum\",IF(Riskhistorik!Z132=\"Låg\",1,IF(Riskhistorik!Z132=\"Medel\",2,IF(Riskhistorik!Z132=\"Hög\",3,0))),T130)","v":0},{"$f":"IF(Riskhistorik!AA$2<>\"Datum\",IF(Riskhistorik!AA132=\"Låg\",1,IF(Riskhistorik!AA132=\"Medel\",2,IF(Riskhistorik!AA132=\"Hög\",3,0))),U130)","v":0},{"$f":"IF(Riskhistorik!AA$2<>\"Datum\",IF(Riskhistorik!AB132=\"Låg\",1,IF(Riskhistorik!AB132=\"Medel\",2,IF(Riskhistorik!AB132=\"Hög\",3,0))),V130)","v":0},{"$f":"IF(Riskhistorik!AC$2<>\"Datum\",IF(Riskhistorik!AC132=\"Låg\",1,IF(Riskhistorik!AC132=\"Medel\",2,IF(Riskhistorik!AC132=\"Hög\",3,0))),W130)","v":0},{"$f":"IF(Riskhistorik!AC$2<>\"Datum\",IF(Riskhistorik!AD132=\"Låg\",1,IF(Riskhistorik!AD132=\"Medel\",2,IF(Riskhistorik!AD132=\"Hög\",3,0))),X130)","v":0},{"$f":"IF(Riskhistorik!AE$2<>\"Datum\",IF(Riskhistorik!AE132=\"Låg\",1,IF(Riskhistorik!AE132=\"Medel\",2,IF(Riskhistorik!AE132=\"Hög\",3,0))),Y130)","v":0},{"$f":"IF(Riskhistorik!AE$2<>\"Datum\",IF(Riskhistorik!AF132=\"Låg\",1,IF(Riskhistorik!AF132=\"Medel\",2,IF(Riskhistorik!AF132=\"Hög\",3,0))),Z130)","v":0},{"$f":"IF(Riskhistorik!AG$2<>\"Datum\",IF(Riskhistorik!AG132=\"Låg\",1,IF(Riskhistorik!AG132=\"Medel\",2,IF(Riskhistorik!AG132=\"Hög\",3,0))),AA130)","v":0},{"$f":"IF(Riskhistorik!AG$2<>\"Datum\",IF(Riskhistorik!AH132=\"Låg\",1,IF(Riskhistorik!AH132=\"Medel\",2,IF(Riskhistorik!AH132=\"Hög\",3,0))),AB130)","v":0},{"$f":"IF(Riskhistorik!AI$2<>\"Datum\",IF(Riskhistorik!AI132=\"Låg\",1,IF(Riskhistorik!AI132=\"Medel\",2,IF(Riskhistorik!AI132=\"Hög\",3,0))),AC130)","v":0},{"$f":"IF(Riskhistorik!AI$2<>\"Datum\",IF(Riskhistorik!AJ132=\"Låg\",1,IF(Riskhistorik!AJ132=\"Medel\",2,IF(Riskhistorik!AJ132=\"Hög\",3,0))),AD130)","v":0},{"$f":"IF(Riskhistorik!AK$2<>\"Datum\",IF(Riskhistorik!AK132=\"Låg\",1,IF(Riskhistorik!AK132=\"Medel\",2,IF(Riskhistorik!AK132=\"Hög\",3,0))),AE130)","v":0},{"$f":"IF(Riskhistorik!AK$2<>\"Datum\",IF(Riskhistorik!AL132=\"Låg\",1,IF(Riskhistorik!AL132=\"Medel\",2,IF(Riskhistorik!AL132=\"Hög\",3,0))),AF130)","v":0},{"$f":"IF(Riskhistorik!AM$2<>\"Datum\",IF(Riskhistorik!AM132=\"Låg\",1,IF(Riskhistorik!AM132=\"Medel\",2,IF(Riskhistorik!AM132=\"Hög\",3,0))),AG130)","v":0},{"$f":"IF(Riskhistorik!AM$2<>\"Datum\",IF(Riskhistorik!AN132=\"Låg\",1,IF(Riskhistorik!AN132=\"Medel\",2,IF(Riskhistorik!AN132=\"Hög\",3,0))),AH130)","v":0},{"$f":"IF(Riskhistorik!AO$2<>\"Datum\",IF(Riskhistorik!AO132=\"Låg\",1,IF(Riskhistorik!AO132=\"Medel\",2,IF(Riskhistorik!AO132=\"Hög\",3,0))),AI130)","v":0},{"$f":"IF(Riskhistorik!AO$2<>\"Datum\",IF(Riskhistorik!AP132=\"Låg\",1,IF(Riskhistorik!AP132=\"Medel\",2,IF(Riskhistorik!AP132=\"Hög\",3,0))),AJ130)","v":0},{"$f":"IF(Riskhistorik!AQ$2<>\"Datum\",IF(Riskhistorik!AQ132=\"Låg\",1,IF(Riskhistorik!AQ132=\"Medel\",2,IF(Riskhistorik!AQ132=\"Hög\",3,0))),AK130)","v":0},{"$f":"IF(Riskhistorik!AQ$2<>\"Datum\",IF(Riskhistorik!AR132=\"Låg\",1,IF(Riskhistorik!AR132=\"Medel\",2,IF(Riskhistorik!AR132=\"Hög\",3,0))),AL130)","v":0},0,0,0,0,0,0,0,0,0,0,0,0,0,0,0,0,0,0,0,0]
[null,null,null,null,null,null,null,null,{"$f":"IF(Riskhistorik!M$2<>\"Datum\",IF(Riskhistorik!M133=\"Låg\",1,IF(Riskhistorik!M133=\"Medel\",2,IF(Riskhistorik!M133=\"Hög\",3,0))),G131)","v":0},{"$f":"IF(Riskhistorik!M$2<>\"Datum\",IF(Riskhistorik!N133=\"Låg\",1,IF(Riskhistorik!N133=\"Medel\",2,IF(Riskhistorik!N133=\"Hög\",3,0))),H131)","v":0},{"$f":"IF(Riskhistorik!O$2<>\"Datum\",IF(Riskhistorik!O133=\"Låg\",1,IF(Riskhistorik!O133=\"Medel\",2,IF(Riskhistorik!O133=\"Hög\",3,0))),I131)","v":0},{"$f":"IF(Riskhistorik!O$2<>\"Datum\",IF(Riskhistorik!P133=\"Låg\",1,IF(Riskhistorik!P133=\"Medel\",2,IF(Riskhistorik!P133=\"Hög\",3,0))),J131)","v":0},{"$f":"IF(Riskhistorik!Q$2<>\"Datum\",IF(Riskhistorik!Q133=\"Låg\",1,IF(Riskhistorik!Q133=\"Medel\",2,IF(Riskhistorik!Q133=\"Hög\",3,0))),K131)","v":0},{"$f":"IF(Riskhistorik!Q$2<>\"Datum\",IF(Riskhistorik!R133=\"Låg\",1,IF(Riskhistorik!R133=\"Medel\",2,IF(Riskhistorik!R133=\"Hög\",3,0))),L131)","v":0},{"$f":"IF(Riskhistorik!S$2<>\"Datum\",IF(Riskhistorik!S133=\"Låg\",1,IF(Riskhistorik!S133=\"Medel\",2,IF(Riskhistorik!S133=\"Hög\",3,0))),M131)","v":0},{"$f":"IF(Riskhistorik!S$2<>\"Datum\",IF(Riskhistorik!T133=\"Låg\",1,IF(Riskhistorik!T133=\"Medel\",2,IF(Riskhistorik!T133=\"Hög\",3,0))),N131)","v":0},{"$f":"IF(Riskhistorik!U$2<>\"Datum\",IF(Riskhistorik!U133=\"Låg\",1,IF(Riskhistorik!U133=\"Medel\",2,IF(Riskhistorik!U133=\"Hög\",3,0))),O131)","v":0},{"$f":"IF(Riskhistorik!U$2<>\"Datum\",IF(Riskhistorik!V133=\"Låg\",1,IF(Riskhistorik!V133=\"Medel\",2,IF(Riskhistorik!V133=\"Hög\",3,0))),P131)","v":0},{"$f":"IF(Riskhistorik!W$2<>\"Datum\",IF(Riskhistorik!W133=\"Låg\",1,IF(Riskhistorik!W133=\"Medel\",2,IF(Riskhistorik!W133=\"Hög\",3,0))),Q131)","v":0},{"$f":"IF(Riskhistorik!W$2<>\"Datum\",IF(Riskhistorik!X133=\"Låg\",1,IF(Riskhistorik!X133=\"Medel\",2,IF(Riskhistorik!X133=\"Hög\",3,0))),R131)","v":0},{"$f":"IF(Riskhistorik!Y$2<>\"Datum\",IF(Riskhistorik!Y133=\"Låg\",1,IF(Riskhistorik!Y133=\"Medel\",2,IF(Riskhistorik!Y133=\"Hög\",3,0))),S131)","v":0},{"$f":"IF(Riskhistorik!Y$2<>\"Datum\",IF(Riskhistorik!Z133=\"Låg\",1,IF(Riskhistorik!Z133=\"Medel\",2,IF(Riskhistorik!Z133=\"Hög\",3,0))),T131)","v":0},{"$f":"IF(Riskhistorik!AA$2<>\"Datum\",IF(Riskhistorik!AA133=\"Låg\",1,IF(Riskhistorik!AA133=\"Medel\",2,IF(Riskhistorik!AA133=\"Hög\",3,0))),U131)","v":0},{"$f":"IF(Riskhistorik!AA$2<>\"Datum\",IF(Riskhistorik!AB133=\"Låg\",1,IF(Riskhistorik!AB133=\"Medel\",2,IF(Riskhistorik!AB133=\"Hög\",3,0))),V131)","v":0},{"$f":"IF(Riskhistorik!AC$2<>\"Datum\",IF(Riskhistorik!AC133=\"Låg\",1,IF(Riskhistorik!AC133=\"Medel\",2,IF(Riskhistorik!AC133=\"Hög\",3,0))),W131)","v":0},{"$f":"IF(Riskhistorik!AC$2<>\"Datum\",IF(Riskhistorik!AD133=\"Låg\",1,IF(Riskhistorik!AD133=\"Medel\",2,IF(Riskhistorik!AD133=\"Hög\",3,0))),X131)","v":0},{"$f":"IF(Riskhistorik!AE$2<>\"Datum\",IF(Riskhistorik!AE133=\"Låg\",1,IF(Riskhistorik!AE133=\"Medel\",2,IF(Riskhistorik!AE133=\"Hög\",3,0))),Y131)","v":0},{"$f":"IF(Riskhistorik!AE$2<>\"Datum\",IF(Riskhistorik!AF133=\"Låg\",1,IF(Riskhistorik!AF133=\"Medel\",2,IF(Riskhistorik!AF133=\"Hög\",3,0))),Z131)","v":0},{"$f":"IF(Riskhistorik!AG$2<>\"Datum\",IF(Riskhistorik!AG133=\"Låg\",1,IF(Riskhistorik!AG133=\"Medel\",2,IF(Riskhistorik!AG133=\"Hög\",3,0))),AA131)","v":0},{"$f":"IF(Riskhistorik!AG$2<>\"Datum\",IF(Riskhistorik!AH133=\"Låg\",1,IF(Riskhistorik!AH133=\"Medel\",2,IF(Riskhistorik!AH133=\"Hög\",3,0))),AB131)","v":0},{"$f":"IF(Riskhistorik!AI$2<>\"Datum\",IF(Riskhistorik!AI133=\"Låg\",1,IF(Riskhistorik!AI133=\"Medel\",2,IF(Riskhistorik!AI133=\"Hög\",3,0))),AC131)","v":0},{"$f":"IF(Riskhistorik!AI$2<>\"Datum\",IF(Riskhistorik!AJ133=\"Låg\",1,IF(Riskhistorik!AJ133=\"Medel\",2,IF(Riskhistorik!AJ133=\"Hög\",3,0))),AD131)","v":0},{"$f":"IF(Riskhistorik!AK$2<>\"Datum\",IF(Riskhistorik!AK133=\"Låg\",1,IF(Riskhistorik!AK133=\"Medel\",2,IF(Riskhistorik!AK133=\"Hög\",3,0))),AE131)","v":0},{"$f":"IF(Riskhistorik!AK$2<>\"Datum\",IF(Riskhistorik!AL133=\"Låg\",1,IF(Riskhistorik!AL133=\"Medel\",2,IF(Riskhistorik!AL133=\"Hög\",3,0))),AF131)","v":0},{"$f":"IF(Riskhistorik!AM$2<>\"Datum\",IF(Riskhistorik!AM133=\"Låg\",1,IF(Riskhistorik!AM133=\"Medel\",2,IF(Riskhistorik!AM133=\"Hög\",3,0))),AG131)","v":0},{"$f":"IF(Riskhistorik!AM$2<>\"Datum\",IF(Riskhistorik!AN133=\"Låg\",1,IF(Riskhistorik!AN133=\"Medel\",2,IF(Riskhistorik!AN133=\"Hög\",3,0))),AH131)","v":0},{"$f":"IF(Riskhistorik!AO$2<>\"Datum\",IF(Riskhistorik!AO133=\"Låg\",1,IF(Riskhistorik!AO133=\"Medel\",2,IF(Riskhistorik!AO133=\"Hög\",3,0))),AI131)","v":0},{"$f":"IF(Riskhistorik!AO$2<>\"Datum\",IF(Riskhistorik!AP133=\"Låg\",1,IF(Riskhistorik!AP133=\"Medel\",2,IF(Riskhistorik!AP133=\"Hög\",3,0))),AJ131)","v":0},{"$f":"IF(Riskhistorik!AQ$2<>\"Datum\",IF(Riskhistorik!AQ133=\"Låg\",1,IF(Riskhistorik!AQ133=\"Medel\",2,IF(Riskhistorik!AQ133=\"Hög\",3,0))),AK131)","v":0},{"$f":"IF(Riskhistorik!AQ$2<>\"Datum\",IF(Riskhistorik!AR133=\"Låg\",1,IF(Riskhistorik!AR133=\"Medel\",2,IF(Riskhistorik!AR133=\"Hög\",3,0))),AL131)","v":0},0,0,0,0,0,0,0,0,0,0,0,0,0,0,0,0,0,0,0,0]
[null,null,null,null,null,null,null,null,{"$f":"IF(Riskhistorik!M$2<>\"Datum\",IF(Riskhistorik!M134=\"Låg\",1,IF(Riskhistorik!M134=\"Medel\",2,IF(Riskhistorik!M134=\"Hög\",3,0))),G132)","v":0},{"$f":"IF(Riskhistorik!M$2<>\"Datum\",IF(Riskhistorik!N134=\"Låg\",1,IF(Riskhistorik!N134=\"Medel\",2,IF(Riskhistorik!N134=\"Hög\",3,0))),H132)","v":0},{"$f":"IF(Riskhistorik!O$2<>\"Datum\",IF(Riskhistorik!O134=\"Låg\",1,IF(Riskhistorik!O134=\"Medel\",2,IF(Riskhistorik!O134=\"Hög\",3,0))),I132)","v":0},{"$f":"IF(Riskhistorik!O$2<>\"Datum\",IF(Riskhistorik!P134=\"Låg\",1,IF(Riskhistorik!P134=\"Medel\",2,IF(Riskhistorik!P134=\"Hög\",3,0))),J132)","v":0},{"$f":"IF(Riskhistorik!Q$2<>\"Datum\",IF(Riskhistorik!Q134=\"Låg\",1,IF(Riskhistorik!Q134=\"Medel\",2,IF(Riskhistorik!Q134=\"Hög\",3,0))),K132)","v":0},{"$f":"IF(Riskhistorik!Q$2<>\"Datum\",IF(Riskhistorik!R134=\"Låg\",1,IF(Riskhistorik!R134=\"Medel\",2,IF(Riskhistorik!R134=\"Hög\",3,0))),L132)","v":0},{"$f":"IF(Riskhistorik!S$2<>\"Datum\",IF(Riskhistorik!S134=\"Låg\",1,IF(Riskhistorik!S134=\"Medel\",2,IF(Riskhistorik!S134=\"Hög\",3,0))),M132)","v":0},{"$f":"IF(Riskhistorik!S$2<>\"Datum\",IF(Riskhistorik!T134=\"Låg\",1,IF(Riskhistorik!T134=\"Medel\",2,IF(Riskhistorik!T134=\"Hög\",3,0))),N132)","v":0},{"$f":"IF(Riskhistorik!U$2<>\"Datum\",IF(Riskhistorik!U134=\"Låg\",1,IF(Riskhistorik!U134=\"Medel\",2,IF(Riskhistorik!U134=\"Hög\",3,0))),O132)","v":0},{"$f":"IF(Riskhistorik!U$2<>\"Datum\",IF(Riskhistorik!V134=\"Låg\",1,IF(Riskhistorik!V134=\"Medel\",2,IF(Riskhistorik!V134=\"Hög\",3,0))),P132)","v":0},{"$f":"IF(Riskhistorik!W$2<>\"Datum\",IF(Riskhistorik!W134=\"Låg\",1,IF(Riskhistorik!W134=\"Medel\",2,IF(Riskhistorik!W134=\"Hög\",3,0))),Q132)","v":0},{"$f":"IF(Riskhistorik!W$2<>\"Datum\",IF(Riskhistorik!X134=\"Låg\",1,IF(Riskhistorik!X134=\"Medel\",2,IF(Riskhistorik!X134=\"Hög\",3,0))),R132)","v":0},{"$f":"IF(Riskhistorik!Y$2<>\"Datum\",IF(Riskhistorik!Y134=\"Låg\",1,IF(Riskhistorik!Y134=\"Medel\",2,IF(Riskhistorik!Y134=\"Hög\",3,0))),S132)","v":0},{"$f":"IF(Riskhistorik!Y$2<>\"Datum\",IF(Riskhistorik!Z134=\"Låg\",1,IF(Riskhistorik!Z134=\"Medel\",2,IF(Riskhistorik!Z134=\"Hög\",3,0))),T132)","v":0},{"$f":"IF(Riskhistorik!AA$2<>\"Datum\",IF(Riskhistorik!AA134=\"Låg\",1,IF(Riskhistorik!AA134=\"Medel\",2,IF(Riskhistorik!AA134=\"Hög\",3,0))),U132)","v":0},{"$f":"IF(Riskhistorik!AA$2<>\"Datum\",IF(Riskhistorik!AB134=\"Låg\",1,IF(Riskhistorik!AB134=\"Medel\",2,IF(Riskhistorik!AB134=\"Hög\",3,0))),V132)","v":0},{"$f":"IF(Riskhistorik!AC$2<>\"Datum\",IF(Riskhistorik!AC134=\"Låg\",1,IF(Riskhistorik!AC134=\"Medel\",2,IF(Riskhistorik!AC134=\"Hög\",3,0))),W132)","v":0},{"$f":"IF(Riskhistorik!AC$2<>\"Datum\",IF(Riskhistorik!AD134=\"Låg\",1,IF(Riskhistorik!AD134=\"Medel\",2,IF(Riskhistorik!AD134=\"Hög\",3,0))),X132)","v":0},{"$f":"IF(Riskhistorik!AE$2<>\"Datum\",IF(Riskhistorik!AE134=\"Låg\",1,IF(Riskhistorik!AE134=\"Medel\",2,IF(Riskhistorik!AE134=\"Hög\",3,0))),Y132)","v":0},{"$f":"IF(Riskhistorik!AE$2<>\"Datum\",IF(Riskhistorik!AF134=\"Låg\",1,IF(Riskhistorik!AF134=\"Medel\",2,IF(Riskhistorik!AF134=\"Hög\",3,0))),Z132)","v":0},{"$f":"IF(Riskhistorik!AG$2<>\"Datum\",IF(Riskhistorik!AG134=\"Låg\",1,IF(Riskhistorik!AG134=\"Medel\",2,IF(Riskhistorik!AG134=\"Hög\",3,0))),AA132)","v":0},{"$f":"IF(Riskhistorik!AG$2<>\"Datum\",IF(Riskhistorik!AH134=\"Låg\",1,IF(Riskhistorik!AH134=\"Medel\",2,IF(Riskhistorik!AH134=\"Hög\",3,0))),AB132)","v":0},{"$f":"IF(Riskhistorik!AI$2<>\"Datum\",IF(Riskhistorik!AI134=\"Låg\",1,IF(Riskhistorik!AI134=\"Medel\",2,IF(Riskhistorik!AI134=\"Hög\",3,0))),AC132)","v":0},{"$f":"IF(Riskhistorik!AI$2<>\"Datum\",IF(Riskhistorik!AJ134=\"Låg\",1,IF(Riskhistorik!AJ134=\"Medel\",2,IF(Riskhistorik!AJ134=\"Hög\",3,0))),AD132)","v":0},{"$f":"IF(Riskhistorik!AK$2<>\"Datum\",IF(Riskhistorik!AK134=\"Låg\",1,IF(Riskhistorik!AK134=\"Medel\",2,IF(Riskhistorik!AK134=\"Hög\",3,0))),AE132)","v":0},{"$f":"IF(Riskhistorik!AK$2<>\"Datum\",IF(Riskhistorik!AL134=\"Låg\",1,IF(Riskhistorik!AL134=\"Medel\",2,IF(Riskhistorik!AL134=\"Hög\",3,0))),AF132)","v":0},{"$f":"IF(Riskhistorik!AM$2<>\"Datum\",IF(Riskhistorik!AM134=\"Låg\",1,IF(Riskhistorik!AM134=\"Medel\",2,IF(Riskhistorik!AM134=\"Hög\",3,0))),AG132)","v":0},{"$f":"IF(Riskhistorik!AM$2<>\"Datum\",IF(Riskhistorik!AN134=\"Låg\",1,IF(Riskhistorik!AN134=\"Medel\",2,IF(Riskhistorik!AN134=\"Hög\",3,0))),AH132)","v":0},{"$f":"IF(Riskhistorik!AO$2<>\"Datum\",IF(Riskhistorik!AO134=\"Låg\",1,IF(Riskhistorik!AO134=\"Medel\",2,IF(Riskhistorik!AO134=\"Hög\",3,0))),AI132)","v":0},{"$f":"IF(Riskhistorik!AO$2<>\"Datum\",IF(Riskhistorik!AP134=\"Låg\",1,IF(Riskhistorik!AP134=\"Medel\",2,IF(Riskhistorik!AP134=\"Hög\",3,0))),AJ132)","v":0},{"$f":"IF(Riskhistorik!AQ$2<>\"Datum\",IF(Riskhistorik!AQ134=\"Låg\",1,IF(Riskhistorik!AQ134=\"Medel\",2,IF(Riskhistorik!AQ134=\"Hög\",3,0))),AK132)","v":0},{"$f":"IF(Riskhistorik!AQ$2<>\"Datum\",IF(Riskhistorik!AR134=\"Låg\",1,IF(Riskhistorik!AR134=\"Medel\",2,IF(Riskhistorik!AR134=\"Hög\",3,0))),AL132)","v":0},0,0,0,0,0,0,0,0,0,0,0,0,0,0,0,0,0,0,0,0]
[null,null,null,null,null,null,null,null,{"$f":"IF(Riskhistorik!M$2<>\"Datum\",IF(Riskhistorik!M135=\"Låg\",1,IF(Riskhistorik!M135=\"Medel\",2,IF(Riskhistorik!M135=\"Hög\",3,0))),G133)","v":0},{"$f":"IF(Riskhistorik!M$2<>\"Datum\",IF(Riskhistorik!N135=\"Låg\",1,IF(Riskhistorik!N135=\"Medel\",2,IF(Riskhistorik!N135=\"Hög\",3,0))),H133)","v":0},{"$f":"IF(Riskhistorik!O$2<>\"Datum\",IF(Riskhistorik!O135=\"Låg\",1,IF(Riskhistorik!O135=\"Medel\",2,IF(Riskhistorik!O135=\"Hög\",3,0))),I133)","v":0},{"$f":"IF(Riskhistorik!O$2<>\"Datum\",IF(Riskhistorik!P135=\"Låg\",1,IF(Riskhistorik!P135=\"Medel\",2,IF(Riskhistorik!P135=\"Hög\",3,0))),J133)","v":0},{"$f":"IF(Riskhistorik!Q$2<>\"Datum\",IF(Riskhistorik!Q135=\"Låg\",1,IF(Riskhistorik!Q135=\"Medel\",2,IF(Riskhistorik!Q135=\"Hög\",3,0))),K133)","v":0},{"$f":"IF(Riskhistorik!Q$2<>\"Datum\",IF(Riskhistorik!R135=\"Låg\",1,IF(Riskhistorik!R135=\"Medel\",2,IF(Riskhistorik!R135=\"Hög\",3,0))),L133)","v":0},{"$f":"IF(Riskhistorik!S$2<>\"Datum\",IF(Riskhistorik!S135=\"Låg\",1,IF(Riskhistorik!S135=\"Medel\",2,IF(Riskhistorik!S135=\"Hög\",3,0))),M133)","v":0},{"$f":"IF(Riskhistorik!S$2<>\"Datum\",IF(Riskhistorik!T135=\"Låg\",1,IF(Riskhistorik!T135=\"Medel\",2,IF(Riskhistorik!T135=\"Hög\",3,0))),N133)","v":0},{"$f":"IF(Riskhistorik!U$2<>\"Datum\",IF(Riskhistorik!U135=\"Låg\",1,IF(Riskhistorik!U135=\"Medel\",2,IF(Riskhistorik!U135=\"Hög\",3,0))),O133)","v":0},{"$f":"IF(Riskhistorik!U$2<>\"Datum\",IF(Riskhistorik!V135=\"Låg\",1,IF(Riskhistorik!V135=\"Medel\",2,IF(Riskhistorik!V135=\"Hög\",3,0))),P133)","v":0},{"$f":"IF(Riskhistorik!W$2<>\"Datum\",IF(Riskhistorik!W135=\"Låg\",1,IF(Riskhistorik!W135=\"Medel\",2,IF(Riskhistorik!W135=\"Hög\",3,0))),Q133)","v":0},{"$f":"IF(Riskhistorik!W$2<>\"Datum\",IF(Riskhistorik!X135=\"Låg\",1,IF(Riskhistorik!X135=\"Medel\",2,IF(Riskhistorik!X135=\"Hög\",3,0))),R133)","v":0},{"$f":"IF(Riskhistorik!Y$2<>\"Datum\",IF(Riskhistorik!Y135=\"Låg\",1,IF(Riskhistorik!Y135=\"Medel\",2,IF(Riskhistorik!Y135=\"Hög\",3,0))),S133)","v":0},{"$f":"IF(Riskhistorik!Y$2<>\"Datum\",IF(Riskhistorik!Z135=\"Låg\",1,IF(Riskhistorik!Z135=\"Medel\",2,IF(Riskhistorik!Z135=\"Hög\",3,0))),T133)","v":0},{"$f":"IF(Riskhistorik!AA$2<>\"Datum\",IF(Riskhistorik!AA135=\"Låg\",1,IF(Riskhistorik!AA135=\"Medel\",2,IF(Riskhistorik!AA135=\"Hög\",3,0))),U133)","v":0},{"$f":"IF(Riskhistorik!AA$2<>\"Datum\",IF(Riskhistorik!AB135=\"Låg\",1,IF(Riskhistorik!AB135=\"Medel\",2,IF(Riskhistorik!AB135=\"Hög\",3,0))),V133)","v":0},{"$f":"IF(Riskhistorik!AC$2<>\"Datum\",IF(Riskhistorik!AC135=\"Låg\",1,IF(Riskhistorik!AC135=\"Medel\",2,IF(Riskhistorik!AC135=\"Hög\",3,0))),W133)","v":0},{"$f":"IF(Riskhistorik!AC$2<>\"Datum\",IF(Riskhistorik!AD135=\"Låg\",1,IF(Riskhistorik!AD135=\"Medel\",2,IF(Riskhistorik!AD135=\"Hög\",3,0))),X133)","v":0},{"$f":"IF(Riskhistorik!AE$2<>\"Datum\",IF(Riskhistorik!AE135=\"Låg\",1,IF(Riskhistorik!AE135=\"Medel\",2,IF(Riskhistorik!AE135=\"Hög\",3,0))),Y133)","v":0},{"$f":"IF(Riskhistorik!AE$2<>\"Datum\",IF(Riskhistorik!AF135=\"Låg\",1,IF(Riskhistorik!AF135=\"Medel\",2,IF(Riskhistorik!AF135=\"Hög\",3,0))),Z133)","v":0},{"$f":"IF(Riskhistorik!AG$2<>\"Datum\",IF(Riskhistorik!AG135=\"Låg\",1,IF(Riskhistorik!AG135=\"Medel\",2,IF(Riskhistorik!AG135=\"Hög\",3,0))),AA133)","v":0},{"$f":"IF(Riskhistorik!AG$2<>\"Datum\",IF(Riskhistorik!AH135=\"Låg\",1,IF(Riskhistorik!AH135=\"Medel\",2,IF(Riskhistorik!AH135=\"Hög\",3,0))),AB133)","v":0},{"$f":"IF(Riskhistorik!AI$2<>\"Datum\",IF(Riskhistorik!AI135=\"Låg\",1,IF(Riskhistorik!AI135=\"Medel\",2,IF(Riskhistorik!AI135=\"Hög\",3,0))),AC133)","v":0},{"$f":"IF(Riskhistorik!AI$2<>\"Datum\",IF(Riskhistorik!AJ135=\"Låg\",1,IF(Riskhistorik!AJ135=\"Medel\",2,IF(Riskhistorik!AJ135=\"Hög\",3,0))),AD133)","v":0},{"$f":"IF(Riskhistorik!AK$2<>\"Datum\",IF(Riskhistorik!AK135=\"Låg\",1,IF(Riskhistorik!AK135=\"Medel\",2,IF(Riskhistorik!AK135=\"Hög\",3,0))),AE133)","v":0},{"$f":"IF(Riskhistorik!AK$2<>\"Datum\",IF(Riskhistorik!AL135=\"Låg\",1,IF(Riskhistorik!AL135=\"Medel\",2,IF(Riskhistorik!AL135=\"Hög\",3,0))),AF133)","v":0},{"$f":"IF(Riskhistorik!AM$2<>\"Datum\",IF(Riskhistorik!AM135=\"Låg\",1,IF(Riskhistorik!AM135=\"Medel\",2,IF(Riskhistorik!AM135=\"Hög\",3,0))),AG133)","v":0},{"$f":"IF(Riskhistorik!AM$2<>\"Datum\",IF(Riskhistorik!AN135=\"Låg\",1,IF(Riskhistorik!AN135=\"Medel\",2,IF(Riskhistorik!AN135=\"Hög\",3,0))),AH133)","v":0},{"$f":"IF(Riskhistorik!AO$2<>\"Datum\",IF(Riskhistorik!AO135=\"Låg\",1,IF(Riskhistorik!AO135=\"Medel\",2,IF(Riskhistorik!AO135=\"Hög\",3,0))),AI133)","v":0},{"$f":"IF(Riskhistorik!AO$2<>\"Datum\",IF(Riskhistorik!AP135=\"Låg\",1,IF(Riskhistorik!AP135=\"Medel\",2,IF(Riskhistorik!AP135=\"Hög\",3,0))),AJ133)","v":0},{"$f":"IF(Riskhistorik!AQ$2<>\"Datum\",IF(Riskhistorik!AQ135=\"Låg\",1,IF(Riskhistorik!AQ135=\"Medel\",2,IF(Riskhistorik!AQ135=\"Hög\",3,0))),AK133)","v":0},{"$f":"IF(Riskhistorik!AQ$2<>\"Datum\",IF(Riskhistorik!AR135=\"Låg\",1,IF(Riskhistorik!AR135=\"Medel\",2,IF(Riskhistorik!AR135=\"Hög\",3,0))),AL133)","v":0},0,0,0,0,0,0,0,0,0,0,0,0,0,0,0,0,0,0,0,0]
[null,null,null,null,null,null,null,null,{"$f":"IF(Riskhistorik!M$2<>\"Datum\",IF(Riskhistorik!M136=\"Låg\",1,IF(Riskhistorik!M136=\"Medel\",2,IF(Riskhistorik!M136=\"Hög\",3,0))),G134)","v":0},{"$f":"IF(Riskhistorik!M$2<>\"Datum\",IF(Riskhistorik!N136=\"Låg\",1,IF(Riskhistorik!N136=\"Medel\",2,IF(Riskhistorik!N136=\"Hög\",3,0))),H134)","v":0},{"$f":"IF(Riskhistorik!O$2<>\"Datum\",IF(Riskhistorik!O136=\"Låg\",1,IF(Riskhistorik!O136=\"Medel\",2,IF(Riskhistorik!O136=\"Hög\",3,0))),I134)","v":0},{"$f":"IF(Riskhistorik!O$2<>\"Datum\",IF(Riskhistorik!P136=\"Låg\",1,IF(Riskhistorik!P136=\"Medel\",2,IF(Riskhistorik!P136=\"Hög\",3,0))),J134)","v":0},{"$f":"IF(Riskhistorik!Q$2<>\"Datum\",IF(Riskhistorik!Q136=\"Låg\",1,IF(Riskhistorik!Q136=\"Medel\",2,IF(Riskhistorik!Q136=\"Hög\",3,0))),K134)","v":0},{"$f":"IF(Riskhistorik!Q$2<>\"Datum\",IF(Riskhistorik!R136=\"Låg\",1,IF(Riskhistorik!R136=\"Medel\",2,IF(Riskhistorik!R136=\"Hög\",3,0))),L134)","v":0},{"$f":"IF(Riskhistorik!S$2<>\"Datum\",IF(Riskhistorik!S136=\"Låg\",1,IF(Riskhistorik!S136=\"Medel\",2,IF(Riskhistorik!S136=\"Hög\",3,0))),M134)","v":0},{"$f":"IF(Riskhistorik!S$2<>\"Datum\",IF(Riskhistorik!T136=\"Låg\",1,IF(Riskhistorik!T136=\"Medel\",2,IF(Riskhistorik!T136=\"Hög\",3,0))),N134)","v":0},{"$f":"IF(Riskhistorik!U$2<>\"Datum\",IF(Riskhistorik!U136=\"Låg\",1,IF(Riskhistorik!U136=\"Medel\",2,IF(Riskhistorik!U136=\"Hög\",3,0))),O134)","v":0},{"$f":"IF(Riskhistorik!U$2<>\"Datum\",IF(Riskhistorik!V136=\"Låg\",1,IF(Riskhistorik!V136=\"Medel\",2,IF(Riskhistorik!V136=\"Hög\",3,0))),P134)","v":0},{"$f":"IF(Riskhistorik!W$2<>\"Datum\",IF(Riskhistorik!W136=\"Låg\",1,IF(Riskhistorik!W136=\"Medel\",2,IF(Riskhistorik!W136=\"Hög\",3,0))),Q134)","v":0},{"$f":"IF(Riskhistorik!W$2<>\"Datum\",IF(Riskhistorik!X136=\"Låg\",1,IF(Riskhistorik!X136=\"Medel\",2,IF(Riskhistorik!X136=\"Hög\",3,0))),R134)","v":0},{"$f":"IF(Riskhistorik!Y$2<>\"Datum\",IF(Riskhistorik!Y136=\"Låg\",1,IF(Riskhistorik!Y136=\"Medel\",2,IF(Riskhistorik!Y136=\"Hög\",3,0))),S134)","v":0},{"$f":"IF(Riskhistorik!Y$2<>\"Datum\",IF(Riskhistorik!Z136=\"Låg\",1,IF(Riskhistorik!Z136=\"Medel\",2,IF(Riskhistorik!Z136=\"Hög\",3,0))),T134)","v":0},{"$f":"IF(Riskhistorik!AA$2<>\"Datum\",IF(Riskhistorik!AA136=\"Låg\",1,IF(Riskhistorik!AA136=\"Medel\",2,IF(Riskhistorik!AA136=\"Hög\",3,0))),U134)","v":0},{"$f":"IF(Riskhistorik!AA$2<>\"Datum\",IF(Riskhistorik!AB136=\"Låg\",1,IF(Riskhistorik!AB136=\"Medel\",2,IF(Riskhistorik!AB136=\"Hög\",3,0))),V134)","v":0},{"$f":"IF(Riskhistorik!AC$2<>\"Datum\",IF(Riskhistorik!AC136=\"Låg\",1,IF(Riskhistorik!AC136=\"Medel\",2,IF(Riskhistorik!AC136=\"Hög\",3,0))),W134)","v":0},{"$f":"IF(Riskhistorik!AC$2<>\"Datum\",IF(Riskhistorik!AD136=\"Låg\",1,IF(Riskhistorik!AD136=\"Medel\",2,IF(Riskhistorik!AD136=\"Hög\",3,0))),X134)","v":0},{"$f":"IF(Riskhistorik!AE$2<>\"Datum\",IF(Riskhistorik!AE136=\"Låg\",1,IF(Riskhistorik!AE136=\"Medel\",2,IF(Riskhistorik!AE136=\"Hög\",3,0))),Y134)","v":0},{"$f":"IF(Riskhistorik!AE$2<>\"Datum\",IF(Riskhistorik!AF136=\"Låg\",1,IF(Riskhistorik!AF136=\"Medel\",2,IF(Riskhistorik!AF136=\"Hög\",3,0))),Z134)","v":0},{"$f":"IF(Riskhistorik!AG$2<>\"Datum\",IF(Riskhistorik!AG136=\"Låg\",1,IF(Riskhistorik!AG136=\"Medel\",2,IF(Riskhistorik!AG136=\"Hög\",3,0))),AA134)","v":0},{"$f":"IF(Riskhistorik!AG$2<>\"Datum\",IF(Riskhistorik!AH136=\"Låg\",1,IF(Riskhistorik!AH136=\"Medel\",2,IF(Riskhistorik!AH136=\"Hög\",3,0))),AB134)","v":0},{"$f":"IF(Riskhistorik!AI$2<>\"Datum\",IF(Riskhistorik!AI136=\"Låg\",1,IF(Riskhistorik!AI136=\"Medel\",2,IF(Riskhistorik!AI136=\"Hög\",3,0))),AC134)","v":0},{"$f":"IF(Riskhistorik!AI$2<>\"Datum\",IF(Riskhistorik!AJ136=\"Låg\",1,IF(Riskhistorik!AJ136=\"Medel\",2,IF(Riskhistorik!AJ136=\"Hög\",3,0))),AD134)","v":0},{"$f":"IF(Riskhistorik!AK$2<>\"Datum\",IF(Riskhistorik!AK136=\"Låg\",1,IF(Riskhistorik!AK136=\"Medel\",2,IF(Riskhistorik!AK136=\"Hög\",3,0))),AE134)","v":0},{"$f":"IF(Riskhistorik!AK$2<>\"Datum\",IF(Riskhistorik!AL136=\"Låg\",1,IF(Riskhistorik!AL136=\"Medel\",2,IF(Riskhistorik!AL136=\"Hög\",3,0))),AF134)","v":0},{"$f":"IF(Riskhistorik!AM$2<>\"Datum\",IF(Riskhistorik!AM136=\"Låg\",1,IF(Riskhistorik!AM136=\"Medel\",2,IF(Riskhistorik!AM136=\"Hög\",3,0))),AG134)","v":0},{"$f":"IF(Riskhistorik!AM$2<>\"Datum\",IF(Riskhistorik!AN136=\"Låg\",1,IF(Riskhistorik!AN136=\"Medel\",2,IF(Riskhistorik!AN136=\"Hög\",3,0))),AH134)","v":0},{"$f":"IF(Riskhistorik!AO$2<>\"Datum\",IF(Riskhistorik!AO136=\"Låg\",1,IF(Riskhistorik!AO136=\"Medel\",2,IF(Riskhistorik!AO136=\"Hög\",3,0))),AI134)","v":0},{"$f":"IF(Riskhistorik!AO$2<>\"Datum\",IF(Riskhistorik!AP136=\"Låg\",1,IF(Riskhistorik!AP136=\"Medel\",2,IF(Riskhistorik!AP136=\"Hög\",3,0))),AJ134)","v":0},{"$f":"IF(Riskhistorik!AQ$2<>\"Datum\",IF(Riskhistorik!AQ136=\"Låg\",1,IF(Riskhistorik!AQ136=\"Medel\",2,IF(Riskhistorik!AQ136=\"Hög\",3,0))),AK134)","v":0},{"$f":"IF(Riskhistorik!AQ$2<>\"Datum\",IF(Riskhistorik!AR136=\"Låg\",1,IF(Riskhistorik!AR136=\"Medel\",2,IF(Riskhistorik!AR136=\"Hög\",3,0))),AL134)","v":0},0,0,0,0,0,0,0,0,0,0,0,0,0,0,0,0,0,0,0,0]
[null,null,null,null,null,null,null,null,{"$f":"IF(Riskhistorik!M$2<>\"Datum\",IF(Riskhistorik!M137=\"Låg\",1,IF(Riskhistorik!M137=\"Medel\",2,IF(Riskhistorik!M137=\"Hög\",3,0))),G135)","v":0},{"$f":"IF(Riskhistorik!M$2<>\"Datum\",IF(Riskhistorik!N137=\"Låg\",1,IF(Riskhistorik!N137=\"Medel\",2,IF(Riskhistorik!N137=\"Hög\",3,0))),H135)","v":0},{"$f":"IF(Riskhistorik!O$2<>\"Datum\",IF(Riskhistorik!O137=\"Låg\",1,IF(Riskhistorik!O137=\"Medel\",2,IF(Riskhistorik!O137=\"Hög\",3,0))),I135)","v":0},{"$f":"IF(Riskhistorik!O$2<>\"Datum\",IF(Riskhistorik!P137=\"Låg\",1,IF(Riskhistorik!P137=\"Medel\",2,IF(Riskhistorik!P137=\"Hög\",3,0))),J135)","v":0},{"$f":"IF(Riskhistorik!Q$2<>\"Datum\",IF(Riskhistorik!Q137=\"Låg\",1,IF(Riskhistorik!Q137=\"Medel\",2,IF(Riskhistorik!Q137=\"Hög\",3,0))),K135)","v":0},{"$f":"IF(Riskhistorik!Q$2<>\"Datum\",IF(Riskhistorik!R137=\"Låg\",1,IF(Riskhistorik!R137=\"Medel\",2,IF(Riskhistorik!R137=\"Hög\",3,0))),L135)","v":0},{"$f":"IF(Riskhistorik!S$2<>\"Datum\",IF(Riskhistorik!S137=\"Låg\",1,IF(Riskhistorik!S137=\"Medel\",2,IF(Riskhistorik!S137=\"Hög\",3,0))),M135)","v":0},{"$f":"IF(Riskhistorik!S$2<>\"Datum\",IF(Riskhistorik!T137=\"Låg\",1,IF(Riskhistorik!T137=\"Medel\",2,IF(Riskhistorik!T137=\"Hög\",3,0))),N135)","v":0},{"$f":"IF(Riskhistorik!U$2<>\"Datum\",IF(Riskhistorik!U137=\"Låg\",1,IF(Riskhistorik!U137=\"Medel\",2,IF(Riskhistorik!U137=\"Hög\",3,0))),O135)","v":0},{"$f":"IF(Riskhistorik!U$2<>\"Datum\",IF(Riskhistorik!V137=\"Låg\",1,IF(Riskhistorik!V137=\"Medel\",2,IF(Riskhistorik!V137=\"Hög\",3,0))),P135)","v":0},{"$f":"IF(Riskhistorik!W$2<>\"Datum\",IF(Riskhistorik!W137=\"Låg\",1,IF(Riskhistorik!W137=\"Medel\",2,IF(Riskhistorik!W137=\"Hög\",3,0))),Q135)","v":0},{"$f":"IF(Riskhistorik!W$2<>\"Datum\",IF(Riskhistorik!X137=\"Låg\",1,IF(Riskhistorik!X137=\"Medel\",2,IF(Riskhistorik!X137=\"Hög\",3,0))),R135)","v":0},{"$f":"IF(Riskhistorik!Y$2<>\"Datum\",IF(Riskhistorik!Y137=\"Låg\",1,IF(Riskhistorik!Y137=\"Medel\",2,IF(Riskhistorik!Y137=\"Hög\",3,0))),S135)","v":0},{"$f":"IF(Riskhistorik!Y$2<>\"Datum\",IF(Riskhistorik!Z137=\"Låg\",1,IF(Riskhistorik!Z137=\"Medel\",2,IF(Riskhistorik!Z137=\"Hög\",3,0))),T135)","v":0},{"$f":"IF(Riskhistorik!AA$2<>\"Datum\",IF(Riskhistorik!AA137=\"Låg\",1,IF(Riskhistorik!AA137=\"Medel\",2,IF(Riskhistorik!AA137=\"Hög\",3,0))),U135)","v":0},{"$f":"IF(Riskhistorik!AA$2<>\"Datum\",IF(Riskhistorik!AB137=\"Låg\",1,IF(Riskhistorik!AB137=\"Medel\",2,IF(Riskhistorik!AB137=\"Hög\",3,0))),V135)","v":0},{"$f":"IF(Riskhistorik!AC$2<>\"Datum\",IF(Riskhistorik!AC137=\"Låg\",1,IF(Riskhistorik!AC137=\"Medel\",2,IF(Riskhistorik!AC137=\"Hög\",3,0))),W135)","v":0},{"$f":"IF(Riskhistorik!AC$2<>\"Datum\",IF(Riskhistorik!AD137=\"Låg\",1,IF(Riskhistorik!AD137=\"Medel\",2,IF(Riskhistorik!AD137=\"Hög\",3,0))),X135)","v":0},{"$f":"IF(Riskhistorik!AE$2<>\"Datum\",IF(Riskhistorik!AE137=\"Låg\",1,IF(Riskhistorik!AE137=\"Medel\",2,IF(Riskhistorik!AE137=\"Hög\",3,0))),Y135)","v":0},{"$f":"IF(Riskhistorik!AE$2<>\"Datum\",IF(Riskhistorik!AF137=\"Låg\",1,IF(Riskhistorik!AF137=\"Medel\",2,IF(Riskhistorik!AF137=\"Hög\",3,0))),Z135)","v":0},{"$f":"IF(Riskhistorik!AG$2<>\"Datum\",IF(Riskhistorik!AG137=\"Låg\",1,IF(Riskhistorik!AG137=\"Medel\",2,IF(Riskhistorik!AG137=\"Hög\",3,0))),AA135)","v":0},{"$f":"IF(Riskhistorik!AG$2<>\"Datum\",IF(Riskhistorik!AH137=\"Låg\",1,IF(Riskhistorik!AH137=\"Medel\",2,IF(Riskhistorik!AH137=\"Hög\",3,0))),AB135)","v":0},{"$f":"IF(Riskhistorik!AI$2<>\"Datum\",IF(Riskhistorik!AI137=\"Låg\",1,IF(Riskhistorik!AI137=\"Medel\",2,IF(Riskhistorik!AI137=\"Hög\",3,0))),AC135)","v":0},{"$f":"IF(Riskhistorik!AI$2<>\"Datum\",IF(Riskhistorik!AJ137=\"Låg\",1,IF(Riskhistorik!AJ137=\"Medel\",2,IF(Riskhistorik!AJ137=\"Hög\",3,0))),AD135)","v":0},{"$f":"IF(Riskhistorik!AK$2<>\"Datum\",IF(Riskhistorik!AK137=\"Låg\",1,IF(Riskhistorik!AK137=\"Medel\",2,IF(Riskhistorik!AK137=\"Hög\",3,0))),AE135)","v":0},{"$f":"IF(Riskhistorik!AK$2<>\"Datum\",IF(Riskhistorik!AL137=\"Låg\",1,IF(Riskhistorik!AL137=\"Medel\",2,IF(Riskhistorik!AL137=\"Hög\",3,0))),AF135)","v":0},{"$f":"IF(Riskhistorik!AM$2<>\"Datum\",IF(Riskhistorik!AM137=\"Låg\",1,IF(Riskhistorik!AM137=\"Medel\",2,IF(Riskhistorik!AM137=\"Hög\",3,0))),AG135)","v":0},{"$f":"IF(Riskhistorik!AM$2<>\"Datum\",IF(Riskhistorik!AN137=\"Låg\",1,IF(Riskhistorik!AN137=\"Medel\",2,IF(Riskhistorik!AN137=\"Hög\",3,0))),AH135)","v":0},{"$f":"IF(Riskhistorik!AO$2<>\"Datum\",IF(Riskhistorik!AO137=\"Låg\",1,IF(Riskhistorik!AO137=\"Medel\",2,IF(Riskhistorik!AO137=\"Hög\",3,0))),AI135)","v":0},{"$f":"IF(Riskhistorik!AO$2<>\"Datum\",IF(Riskhistorik!AP137=\"Låg\",1,IF(Riskhistorik!AP137=\"Medel\",2,IF(Riskhistorik!AP137=\"Hög\",3,0))),AJ135)","v":0},{"$f":"IF(Riskhistorik!AQ$2<>\"Datum\",IF(Riskhistorik!AQ137=\"Låg\",1,IF(Riskhistorik!AQ137=\"Medel\",2,IF(Riskhistorik!AQ137=\"Hög\",3,0))),AK135)","v":0},{"$f":"IF(Riskhistorik!AQ$2<>\"Datum\",IF(Riskhistorik!AR137=\"Låg\",1,IF(Riskhistorik!AR137=\"Medel\",2,IF(Riskhistorik!AR137=\"Hög\",3,0))),AL135)","v":0},0,0,0,0,0,0,0,0,0,0,0,0,0,0,0,0,0,0,0,0]
[null,null,null,null,null,null,null,null,{"$f":"IF(Riskhistorik!M$2<>\"Datum\",IF(Riskhistorik!M138=\"Låg\",1,IF(Riskhistorik!M138=\"Medel\",2,IF(Riskhistorik!M138=\"Hög\",3,0))),G136)","v":0},{"$f":"IF(Riskhistorik!M$2<>\"Datum\",IF(Riskhistorik!N138=\"Låg\",1,IF(Riskhistorik!N138=\"Medel\",2,IF(Riskhistorik!N138=\"Hög\",3,0))),H136)","v":0},{"$f":"IF(Riskhistorik!O$2<>\"Datum\",IF(Riskhistorik!O138=\"Låg\",1,IF(Riskhistorik!O138=\"Medel\",2,IF(Riskhistorik!O138=\"Hög\",3,0))),I136)","v":0},{"$f":"IF(Riskhistorik!O$2<>\"Datum\",IF(Riskhistorik!P138=\"Låg\",1,IF(Riskhistorik!P138=\"Medel\",2,IF(Riskhistorik!P138=\"Hög\",3,0))),J136)","v":0},{"$f":"IF(Riskhistorik!Q$2<>\"Datum\",IF(Riskhistorik!Q138=\"Låg\",1,IF(Riskhistorik!Q138=\"Medel\",2,IF(Riskhistorik!Q138=\"Hög\",3,0))),K136)","v":0},{"$f":"IF(Riskhistorik!Q$2<>\"Datum\",IF(Riskhistorik!R138=\"Låg\",1,IF(Riskhistorik!R138=\"Medel\",2,IF(Riskhistorik!R138=\"Hög\",3,0))),L136)","v":0},{"$f":"IF(Riskhistorik!S$2<>\"Datum\",IF(Riskhistorik!S138=\"Låg\",1,IF(Riskhistorik!S138=\"Medel\",2,IF(Riskhistorik!S138=\"Hög\",3,0))),M136)","v":0},{"$f":"IF(Riskhistorik!S$2<>\"Datum\",IF(Riskhistorik!T138=\"Låg\",1,IF(Riskhistorik!T138=\"Medel\",2,IF(Riskhistorik!T138=\"Hög\",3,0))),N136)","v":0},{"$f":"IF(Riskhistorik!U$2<>\"Datum\",IF(Riskhistorik!U138=\"Låg\",1,IF(Riskhistorik!U138=\"Medel\",2,IF(Riskhistorik!U138=\"Hög\",3,0))),O136)","v":0},{"$f":"IF(Riskhistorik!U$2<>\"Datum\",IF(Riskhistorik!V138=\"Låg\",1,IF(Riskhistorik!V138=\"Medel\",2,IF(Riskhistorik!V138=\"Hög\",3,0))),P136)","v":0},{"$f":"IF(Riskhistorik!W$2<>\"Datum\",IF(Riskhistorik!W138=\"Låg\",1,IF(Riskhistorik!W138=\"Medel\",2,IF(Riskhistorik!W138=\"Hög\",3,0))),Q136)","v":0},{"$f":"IF(Riskhistorik!W$2<>\"Datum\",IF(Riskhistorik!X138=\"Låg\",1,IF(Riskhistorik!X138=\"Medel\",2,IF(Riskhistorik!X138=\"Hög\",3,0))),R136)","v":0},{"$f":"IF(Riskhistorik!Y$2<>\"Datum\",IF(Riskhistorik!Y138=\"Låg\",1,IF(Riskhistorik!Y138=\"Medel\",2,IF(Riskhistorik!Y138=\"Hög\",3,0))),S136)","v":0},{"$f":"IF(Riskhistorik!Y$2<>\"Datum\",IF(Riskhistorik!Z138=\"Låg\",1,IF(Riskhistorik!Z138=\"Medel\",2,IF(Riskhistorik!Z138=\"Hög\",3,0))),T136)","v":0},{"$f":"IF(Riskhistorik!AA$2<>\"Datum\",IF(Riskhistorik!AA138=\"Låg\",1,IF(Riskhistorik!AA138=\"Medel\",2,IF(Riskhistorik!AA138=\"Hög\",3,0))),U136)","v":0},{"$f":"IF(Riskhistorik!AA$2<>\"Datum\",IF(Riskhistorik!AB138=\"Låg\",1,IF(Riskhistorik!AB138=\"Medel\",2,IF(Riskhistorik!AB138=\"Hög\",3,0))),V136)","v":0},{"$f":"IF(Riskhistorik!AC$2<>\"Datum\",IF(Riskhistorik!AC138=\"Låg\",1,IF(Riskhistorik!AC138=\"Medel\",2,IF(Riskhistorik!AC138=\"Hög\",3,0))),W136)","v":0},{"$f":"IF(Riskhistorik!AC$2<>\"Datum\",IF(Riskhistorik!AD138=\"Låg\",1,IF(Riskhistorik!AD138=\"Medel\",2,IF(Riskhistorik!AD138=\"Hög\",3,0))),X136)","v":0},{"$f":"IF(Riskhistorik!AE$2<>\"Datum\",IF(Riskhistorik!AE138=\"Låg\",1,IF(Riskhistorik!AE138=\"Medel\",2,IF(Riskhistorik!AE138=\"Hög\",3,0))),Y136)","v":0},{"$f":"IF(Riskhistorik!AE$2<>\"Datum\",IF(Riskhistorik!AF138=\"Låg\",1,IF(Riskhistorik!AF138=\"Medel\",2,IF(Riskhistorik!AF138=\"Hög\",3,0))),Z136)","v":0},{"$f":"IF(Riskhistorik!AG$2<>\"Datum\",IF(Riskhistorik!AG138=\"Låg\",1,IF(Riskhistorik!AG138=\"Medel\",2,IF(Riskhistorik!AG138=\"Hög\",3,0))),AA136)","v":0},{"$f":"IF(Riskhistorik!AG$2<>\"Datum\",IF(Riskhistorik!AH138=\"Låg\",1,IF(Riskhistorik!AH138=\"Medel\",2,IF(Riskhistorik!AH138=\"Hög\",3,0))),AB136)","v":0},{"$f":"IF(Riskhistorik!AI$2<>\"Datum\",IF(Riskhistorik!AI138=\"Låg\",1,IF(Riskhistorik!AI138=\"Medel\",2,IF(Riskhistorik!AI138=\"Hög\",3,0))),AC136)","v":0},{"$f":"IF(Riskhistorik!AI$2<>\"Datum\",IF(Riskhistorik!AJ138=\"Låg\",1,IF(Riskhistorik!AJ138=\"Medel\",2,IF(Riskhistorik!AJ138=\"Hög\",3,0))),AD136)","v":0},{"$f":"IF(Riskhistorik!AK$2<>\"Datum\",IF(Riskhistorik!AK138=\"Låg\",1,IF(Riskhistorik!AK138=\"Medel\",2,IF(Riskhistorik!AK138=\"Hög\",3,0))),AE136)","v":0},{"$f":"IF(Riskhistorik!AK$2<>\"Datum\",IF(Riskhistorik!AL138=\"Låg\",1,IF(Riskhistorik!AL138=\"Medel\",2,IF(Riskhistorik!AL138=\"Hög\",3,0))),AF136)","v":0},{"$f":"IF(Riskhistorik!AM$2<>\"Datum\",IF(Riskhistorik!AM138=\"Låg\",1,IF(Riskhistorik!AM138=\"Medel\",2,IF(Riskhistorik!AM138=\"Hög\",3,0))),AG136)","v":0},{"$f":"IF(Riskhistorik!AM$2<>\"Datum\",IF(Riskhistorik!AN138=\"Låg\",1,IF(Riskhistorik!AN138=\"Medel\",2,IF(Riskhistorik!AN138=\"Hög\",3,0))),AH136)","v":0},{"$f":"IF(Riskhistorik!AO$2<>\"Datum\",IF(Riskhistorik!AO138=\"Låg\",1,IF(Riskhistorik!AO138=\"Medel\",2,IF(Riskhistorik!AO138=\"Hög\",3,0))),AI136)","v":0},{"$f":"IF(Riskhistorik!AO$2<>\"Datum\",IF(Riskhistorik!AP138=\"Låg\",1,IF(Riskhistorik!AP138=\"Medel\",2,IF(Riskhistorik!AP138=\"Hög\",3,0))),AJ136)","v":0},{"$f":"IF(Riskhistorik!AQ$2<>\"Datum\",IF(Riskhistorik!AQ138=\"Låg\",1,IF(Riskhistorik!AQ138=\"Medel\",2,IF(Riskhistorik!AQ138=\"Hög\",3,0))),AK136)","v":0},{"$f":"IF(Riskhistorik!AQ$2<>\"Datum\",IF(Riskhistorik!AR138=\"Låg\",1,IF(Riskhistorik!AR138=\"Medel\",2,IF(Riskhistorik!AR138=\"Hög\",3,0))),AL136)","v":0},0,0,0,0,0,0,0,0,0,0,0,0,0,0,0,0,0,0,0,0]

{"sheet":"Burndown chart","index":5,"n_rows":3,"n_cols":1,"rows_kept":3,"cut":false,"hidden":false,"merged":[[2,0,2,6]]}
[]
[{"$f":"Tabell!B1","v":"Risklista, avancerad"}]
[{"$f":"IF(Information!B3=\"\",CONCATENATE(Formula!N2,\" \",Formula!M2,\", \",Formula!M3,\", \",Formula!M4,\", \",Formula!N3,\", \",Formula!N4),Information!B3)","v":"Ange Projektnamn, Ansvarig, Utgåva, Datum, i informationsfliken"}]

{"sheet":"Formula","index":6,"n_rows":500,"n_cols":14,"rows_kept":500,"cut":false,"hidden":true,"merged":[]}
["Probability and Impact","Status",null,"Probability/Impact","Series bubble size\nSum:","X values","Y values",null,null,"Probability/Impact","Status","Priorty","Field descriptions"]
[{"$f":"IF(Tabell!J4=\"\",CONCATENATE(Tabell!E4,Tabell!F4),\"\")","v":""},{"$f":"Tabell!J4","v":0},1,{"$f":"CONCATENATE(J4,J4)","v":"HögHög"},{"$f":"COUNTIF($A$2:$A$500,D2)","v":0},3,3,null,null,"Låg","Stängd",1,"Projektnamn","Ange"]
[{"$f":"IF(Tabell!J5=\"\",CONCATENATE(Tabell!E5,Tabell!F5),\"\")","v":""},{"$f":"Tabell!J5","v":0},2,{"$f":"CONCATENATE(J4,J3)","v":"HögMedel"},{"$f":"COUNTIF($A$2:$A$500,\"HögMedel\")","v":0},3,2,null,null,"Medel",null,2,"Ansvarig","Datum"]
[{"$f":"IF(Tabell!J6=\"\",CONCATENATE(Tabell!E6,Tabell!F6),\"\")","v":""},{"$f":"Tabell!J6","v":0},3,{"$f":"CONCATENATE(J4,J2)","v":"HögLåg"},{"$f":"COUNTIF($A$2:$A$500,\"HögLåg\")","v":0},3,1,null,null,"Hög",null,3,"Utgåva","i informationsfliken"]
[{"$f":"IF(Tabell!J7=\"\",CONCATENATE(Tabell!E7,Tabell!F7),\"\")","v":""},{"$f":"Tabell!J7","v":0},4,{"$f":"CONCATENATE($J$3,J4)","v":"MedelHög"},{"$f":"COUNTIF($A$2:$A$500,\"MedelHög\")","v":0},2,3,null,null,null,null,4,"Risklista, avancerad"]
[{"$f":"IF(Tabell!J8=\"\",CONCATENATE(Tabell!E8,Tabell!F8),\"\")","v":""},{"$f":"Tabell!J8","v":0},5,{"$f":"CONCATENATE($J$3,J3)","v":"MedelMedel"},{"$f":"COUNTIF($A$2:$A$500,\"MedelMedel\")","v":0},2,2,null,null,null,null,5,"Nr"]
[{"$f":"IF(Tabell!J9=\"\",CONCATENATE(Tabell!E9,Tabell!F9),\"\")","v":""},{"$f":"Tabell!J9","v":0},6,{"$f":"CONCATENATE($J$3,J2)","v":"MedelLåg"},{"$f":"COUNTIF($A$2:$A$500,\"MedelLåg\")","v":0},2,1,null,null,null,null,6,"Beskrivning"]
[{"$f":"IF(Tabell!J10=\"\",CONCATENATE(Tabell!E10,Tabell!F10),\"\")","v":""},{"$f":"Tabell!J10","v":0},7,{"$f":"CONCATENATE($J$2,J4)","v":"LågHög"},{"$f":"COUNTIF($A$2:$A$500,\"LågHög\")","v":0},1,3,null,null,null,null,7,"Risktyp"]
[{"$f":"IF(Tabell!J11=\"\",CONCATENATE(Tabell!E11,Tabell!F11),\"\")","v":""},{"$f":"Tabell!J11","v":0},8,{"$f":"CONCATENATE($J$2,J3)","v":"LågMedel"},{"$f":"COUNTIF($A$2:$A$500,\"LågMedel\")","v":0},1,2,null,null,null,null,8,"Sannolikhet"]
[{"$f":"IF(Tabell!J12=\"\",CONCATENATE(Tabell!E12,Tabell!F12),\"\")","v":""},{"$f":"Tabell!J12","v":0},9,{"$f":"CONCATENATE($J$2,J2)","v":"LågLåg"},{"$f":"COUNTIF($A$2:$A$500,\"LågLåg\")","v":0},1,1,null,null,null,null,9,"Påverkan"]
[{"$f":"IF(Tabell!J13=\"\",CONCATENATE(Tabell!E13,Tabell!F13),\"\")","v":""},{"$f":"Tabell!J13","v":0},null,null,null,null,null,null,null,null,null,10,"Beslutad åtgärd"]
[{"$f":"IF(Tabell!J14=\"\",CONCATENATE(Tabell!E14,Tabell!F14),\"\")","v":""},{"$f":"Tabell!J14","v":0},null,null,null,null,null,null,null,null,null,null,"Aktuell prioritet"]
[{"$f":"IF(Tabell!J15=\"\",CONCATENATE(Tabell!E15,Tabell!F15),\"\")","v":""},{"$f":"Tabell!J15","v":0},null,null,null,null,null,null,null,null,null,null,"Ansvarig"]
[{"$f":"IF(Tabell!J16=\"\",CONCATENATE(Tabell!E16,Tabell!F16),\"\")","v":""},{"$f":"Tabell!J16","v":0},null,null,null,null,null,null,null,null,null,null,"Stängd"]
[{"$f":"IF(Tabell!J17=\"\",CONCATENATE(Tabell!E17,Tabell!F17),\"\")","v":""},{"$f":"Tabell!J17","v":0},null,null,null,null,null,null,null,null,null,null,"Datum"]
[{"$f":"IF(Tabell!J18=\"\",CONCATENATE(Tabell!E18,Tabell!F18),\"\")","v":""},{"$f":"Tabell!J18","v":0}]
[{"$f":"IF(Tabell!J19=\"\",CONCATENATE(Tabell!E19,Tabell!F19),\"\")","v":""},{"$f":"Tabell!J19","v":0}]
[{"$f":"IF(Tabell!J20=\"\",CONCATENATE(Tabell!E20,Tabell!F20),\"\")","v":""},{"$f":"Tabell!J20","v":0}]
[{"$f":"CONCATENATE(Tabell!E21,Tabell!F21)","v":""},{"$f":"Tabell!J21","v":0}]
[{"$f":"CONCATENATE(Tabell!E22,Tabell!F22)","v":""},{"$f":"Tabell!J22","v":0}]
[{"$f":"CONCATENATE(Tabell!E23,Tabell!F23)","v":""},{"$f":"Tabell!J23","v":0}]
[{"$f":"CONCATENATE(Tabell!E24,Tabell!F24)","v":""},{"$f":"Tabell!J24","v":0}]
[{"$f":"CONCATENATE(Tabell!E25,Tabell!F25)","v":""},{"$f":"Tabell!J25","v":0}]
[{"$f":"CONCATENATE(Tabell!E26,Tabell!F26)","v":""},{"$f":"Tabell!J26","v":0}]
[{"$f":"CONCATENATE(Tabell!E27,Tabell!F27)","v":""},{"$f":"Tabell!J27","v":0}]
[{"$f":"CONCATENATE(Tabell!E28,Tabell!F28)","v":""},{"$f":"Tabell!J28","v":0}]
[{"$f":"CONCATENATE(Tabell!E29,Tabell!F29)","v":""},{"$f":"Tabell!J29","v":0}]
[{"$f":"CONCATENATE(Tabell!E30,Tabell!F30)","v":""},{"$f":"Tabell!J30","v":0}]
[{"$f":"CONCATENATE(Tabell!E31,Tabell!F31)","v":""},{"$f":"Tabell!J31","v":0}]
[{"$f":"CONCATENATE(Tabell!E32,Tabell!F32)","v":""},{"$f":"Tabell!J32","v":0}]
[{"$f":"CONCATENATE(Tabell!E33,Tabell!F33)","v":""},{"$f":"Tabell!J33","v":0}]
[{"$f":"CONCATENATE(Tabell!E34,Tabell!F34)","v":""},{"$f":"Tabell!J34","v":0}]
[{"$f":"CONCATENATE(Tabell!E35,Tabell!F35)","v":""},{"$f":"Tabell!J35","v":0}]
[{"$f":"CONCATENATE(Tabell!E36,Tabell!F36)","v":""},{"$f":"Tabell!J36","v":0}]
[{"$f":"CONCATENATE(Tabell!E37,Tabell!F37)","v":""},{"$f":"Tabell!J37","v":0}]
[{"$f":"CONCATENATE(Tabell!E38,Tabell!F38)","v":""},{"$f":"Tabell!J38","v":0}]
[{"$f":"CONCATENATE(Tabell!E39,Tabell!F39)","v":""},{"$f":"Tabell!J39","v":0}]
[{"$f":"CONCATENATE(Tabell!E40,Tabell!F40)","v":""},{"$f":"Tabell!J40","v":0}]
[{"$f":"CONCATENATE(Tabell!E41,Tabell!F41)","v":""},{"$f":"Tabell!J41","v":0}]
[{"$f":"CONCATENATE(Tabell!E42,Tabell!F42)","v":""},{"$f":"Tabell!J42","v":0}]
[{"$f":"CONCATENATE(Tabell!E43,Tabell!F43)","v":""},{"$f":"Tabell!J43","v":0}]
[{"$f":"CONCATENATE(Tabell!E44,Tabell!F44)","v":""},{"$f":"Tabell!J44","v":0}]
[{"$f":"CONCATENATE(Tabell!E45,Tabell!F45)","v":""},{"$f":"Tabell!J45","v":0}]
[{"$f":"CONCATENATE(Tabell!E46,Tabell!F46)","v":""},{"$f":"Tabell!J46","v":0}]
[{"$f":"CONCATENATE(Tabell!E47,Tabell!F47)","v":""},{"$f":"Tabell!J47","v":0}]
[{"$f":"CONCATENATE(Tabell!E48,Tabell!F48)","v":""},{"$f":"Tabell!J48","v":0}]
[{"$f":"CONCATENATE(Tabell!E49,Tabell!F49)","v":""},{"$f":"Tabell!J49","v":0}]
[{"$f":"CONCATENATE(Tabell!E50,Tabell!F50)","v":""},{"$f":"Tabell!J50","v":0}]
[{"$f":"CONCATENATE(Tabell!E51,Tabell!F51)","v":""},{"$f":"Tabell!J51","v":0}]
[{"$f":"CONCATENATE(Tabell!E52,Tabell!F52)","v":""},{"$f":"Tabell!J52","v":0}]
[{"$f":"CONCATENATE(Tabell!E53,Tabell!F53)","v":""},{"$f":"Tabell!J53","v":0}]
[{"$f":"CONCATENATE(Tabell!E54,Tabell!F54)","v":""},{"$f":"Tabell!J54","v":0}]
[{"$f":"CONCATENATE(Tabell!E55,Tabell!F55)","v":""},{"$f":"Tabell!J55","v":0}]
[{"$f":"CONCATENATE(Tabell!E56,Tabell!F56)","v":""},{"$f":"Tabell!J56","v":0}]
[{"$f":"CONCATENATE(Tabell!E57,Tabell!F57)","v":""},{"$f":"Tabell!J57","v":0}]
[{"$f":"CONCATENATE(Tabell!E58,Tabell!F58)","v":""},{"$f":"Tabell!J58","v":0}]
[{"$f":"CONCATENATE(Tabell!E59,Tabell!F59)","v":""},{"$f":"Tabell!J59","v":0}]
[{"$f":"CONCATENATE(Tabell!E60,Tabell!F60)","v":""},{"$f":"Tabell!J60","v":0}]
[{"$f":"CONCATENATE(Tabell!E61,Tabell!F61)","v":""},{"$f":"Tabell!J61","v":0}]
[{"$f":"CONCATENATE(Tabell!E62,Tabell!F62)","v":""},{"$f":"Tabell!J62","v":0}]
[{"$f":"CONCATENATE(Tabell!E63,Tabell!F63)","v":""},{"$f":"Tabell!J63","v":0}]
[{"$f":"CONCATENATE(Tabell!E64,Tabell!F64)","v":""},{"$f":"Tabell!J64","v":0}]
[{"$f":"CONCATENATE(Tabell!E65,Tabell!F65)","v":""},{"$f":"Tabell!J65","v":0}]
[{"$f":"CONCATENATE(Tabell!E66,Tabell!F66)","v":""},{"$f":"Tabell!J66","v":0}]
[{"$f":"CONCATENATE(Tabell!E67,Tabell!F67)","v":""},{"$f":"Tabell!J67","v":0}]
[{"$f":"CONCATENATE(Tabell!E68,Tabell!F68)","v":""},{"$f":"Tabell!J68","v":0}]
[{"$f":"CONCATENATE(Tabell!E69,Tabell!F69)","v":""},{"$f":"Tabell!J69","v":0}]
[{"$f":"CONCATENATE(Tabell!E70,Tabell!F70)","v":""},{"$f":"Tabell!J70","v":0}]
[{"$f":"CONCATENATE(Tabell!E71,Tabell!F71)","v":""},{"$f":"Tabell!J71","v":0}]
[{"$f":"CONCATENATE(Tabell!E72,Tabell!F72)","v":""},{"$f":"Tabell!J72","v":0}]
[{"$f":"CONCATENATE(Tabell!E73,Tabell!F73)","v":""},{"$f":"Tabell!J73","v":0}]
[{"$f":"CONCATENATE(Tabell!E74,Tabell!F74)","v":""},{"$f":"Tabell!J74","v":0}]
[{"$f":"CONCATENATE(Tabell!E75,Tabell!F75)","v":""},{"$f":"Tabell!J75","v":0}]
[{"$f":"CONCATENATE(Tabell!E76,Tabell!F76)","v":""},{"$f":"Tabell!J76","v":0}]
[{"$f":"CONCATENATE(Tabell!E77,Tabell!F77)","v":""},{"$f":"Tabell!J77","v":0}]
[{"$f":"CONCATENATE(Tabell!E78,Tabell!F78)","v":""},{"$f":"Tabell!J78","v":0}]
[{"$f":"CONCATENATE(Tabell!E79,Tabell!F79)","v":""},{"$f":"Tabell!J79","v":0}]
[{"$f":"CONCATENATE(Tabell!E80,Tabell!F80)","v":""},{"$f":"Tabell!J80","v":0}]
[{"$f":"CONCATENATE(Tabell!E81,Tabell!F81)","v":""},{"$f":"Tabell!J81","v":0}]
[{"$f":"CONCATENATE(Tabell!E82,Tabell!F82)","v":""},{"$f":"Tabell!J82","v":0}]
[{"$f":"CONCATENATE(Tabell!E83,Tabell!F83)","v":""},{"$f":"Tabell!J83","v":0}]
[{"$f":"CONCATENATE(Tabell!E84,Tabell!F84)","v":""},{"$f":"Tabell!J84","v":0}]
[{"$f":"CONCATENATE(Tabell!E85,Tabell!F85)","v":""},{"$f":"Tabell!J85","v":0}]
[{"$f":"CONCATENATE(Tabell!E86,Tabell!F86)","v":""},{"$f":"Tabell!J86","v":0}]
[{"$f":"CONCATENATE(Tabell!E87,Tabell!F87)","v":""},{"$f":"Tabell!J87","v":0}]
[{"$f":"CONCATENATE(Tabell!E88,Tabell!F88)","v":""},{"$f":"Tabell!J88","v":0}]
[{"$f":"CONCATENATE(Tabell!E89,Tabell!F89)","v":""},{"$f":"Tabell!J89","v":0}]
[{"$f":"CONCATENATE(Tabell!E90,Tabell!F90)","v":""},{"$f":"Tabell!J90","v":0}]
[{"$f":"CONCATENATE(Tabell!E91,Tabell!F91)","v":""},{"$f":"Tabell!J91","v":0}]
[{"$f":"CONCATENATE(Tabell!E92,Tabell!F92)","v":""},{"$f":"Tabell!J92","v":0}]
[{"$f":"CONCATENATE(Tabell!E93,Tabell!F93)","v":""},{"$f":"Tabell!J93","v":0}]
[{"$f":"CONCATENATE(Tabell!E94,Tabell!F94)","v":""},{"$f":"Tabell!J94","v":0}]
[{"$f":"CONCATENATE(Tabell!E95,Tabell!F95)","v":""},{"$f":"Tabell!J95","v":0}]
[{"$f":"CONCATENATE(Tabell!E96,Tabell!F96)","v":""},{"$f":"Tabell!J96","v":0}]
[{"$f":"CONCATENATE(Tabell!E97,Tabell!F97)","v":""},{"$f":"Tabell!J97","v":0}]
[{"$f":"CONCATENATE(Tabell!E98,Tabell!F98)","v":""},{"$f":"Tabell!J98","v":0}]
[{"$f":"CONCATENATE(Tabell!E99,Tabell!F99)","v":""},{"$f":"Tabell!J99","v":0}]
[{"$f":"CONCATENATE(Tabell!E100,Tabell!F100)","v":""},{"$f":"Tabell!J100","v":0}]
[{"$f":"CONCATENATE(Tabell!E101,Tabell!F101)","v":""},{"$f":"Tabell!J101","v":0}]
[{"$f":"CONCATENATE(Tabell!E102,Tabell!F102)","v":""},{"$f":"Tabell!J102","v":0}]
[{"$f":"CONCATENATE(Tabell!E103,Tabell!F103)","v":""}]
[{"$f":"CONCATENATE(Tabell!E104,Tabell!F104)","v":""}]
[{"$f":"CONCATENATE(Tabell!E105,Tabell!F105)","v":""}]
[{"$f":"CONCATENATE(Tabell!E106,Tabell!F106)","v":""}]
[{"$f":"CONCATENATE(Tabell!E107,Tabell!F107)","v":""}]
[{"$f":"CONCATENATE(Tabell!E108,Tabell!F108)","v":""}]
[{"$f":"CONCATENATE(Tabell!E109,Tabell!F109)","v":""}]
[{"$f":"CONCATENATE(Tabell!E110,Tabell!F110)","v":""}]
[{"$f":"CONCATENATE(Tabell!E111,Tabell!F111)","v":""}]
[{"$f":"CONCATENATE(Tabell!E112,Tabell!F112)","v":""}]
[{"$f":"CONCATENATE(Tabell!E113,Tabell!F113)","v":""}]
[{"$f":"CONCATENATE(Tabell!E114,Tabell!F114)","v":""}]
[{"$f":"CONCATENATE(Tabell!E115,Tabell!F115)","v":""}]
[{"$f":"CONCATENATE(Tabell!E116,Tabell!F116)","v":""}]
[{"$f":"CONCATENATE(Tabell!E117,Tabell!F117)","v":""}]
[{"$f":"CONCATENATE(Tabell!E118,Tabell!F118)","v":""}]
[{"$f":"CONCATENATE(Tabell!E119,Tabell!F119)","v":""}]
[{"$f":"CONCATENATE(Tabell!E120,Tabell!F120)","v":""}]
[{"$f":"CONCATENATE(Tabell!E121,Tabell!F121)","v":""}]
[{"$f":"CONCATENATE(Tabell!E122,Tabell!F122)","v":""}]
[{"$f":"CONCATENATE(Tabell!E123,Tabell!F123)","v":""}]
[{"$f":"CONCATENATE(Tabell!E124,Tabell!F124)","v":""}]
[{"$f":"CONCATENATE(Tabell!E125,Tabell!F125)","v":""}]
[{"$f":"CONCATENATE(Tabell!E126,Tabell!F126)","v":""}]
[{"$f":"CONCATENATE(Tabell!E127,Tabell!F127)","v":""}]
[{"$f":"CONCATENATE(Tabell!E128,Tabell!F128)","v":""}]
[{"$f":"CONCATENATE(Tabell!E129,Tabell!F129)","v":""}]
[{"$f":"CONCATENATE(Tabell!E130,Tabell!F130)","v":""}]
[{"$f":"CONCATENATE(Tabell!E131,Tabell!F131)","v":""}]
[{"$f":"CONCATENATE(Tabell!E132,Tabell!F132)","v":""}]
[{"$f":"CONCATENATE(Tabell!E133,Tabell!F133)","v":""}]
[{"$f":"CONCATENATE(Tabell!E134,Tabell!F134)","v":""}]
[{"$f":"CONCATENATE(Tabell!E135,Tabell!F135)","v":""}]
[{"$f":"CONCATENATE(Tabell!E136,Tabell!F136)","v":""}]
[{"$f":"CONCATENATE(Tabell!E137,Tabell!F137)","v":""}]
[{"$f":"CONCATENATE(Tabell!E138,Tabell!F138)","v":""}]
[{"$f":"CONCATENATE(Tabell!E139,Tabell!F139)","v":""}]
[{"$f":"CONCATENATE(Tabell!E140,Tabell!F140)","v":""}]
[{"$f":"CONCATENATE(Tabell!E141,Tabell!F141)","v":""}]
[{"$f":"CONCATENATE(Tabell!E142,Tabell!F142)","v":""}]
[{"$f":"CONCATENATE(Tabell!E143,Tabell!F143)","v":""}]
[{"$f":"CONCATENATE(Tabell!E144,Tabell!F144)","v":""}]
[{"$f":"CONCATENATE(Tabell!E145,Tabell!F145)","v":""}]
[{"$f":"CONCATENATE(Tabell!E146,Tabell!F146)","v":""}]
[{"$f":"CONCATENATE(Tabell!E147,Tabell!F147)","v":""}]
[{"$f":"CONCATENATE(Tabell!E148,Tabell!F148)","v":""}]
[{"$f":"CONCATENATE(Tabell!E149,Tabell!F149)","v":""}]
[{"$f":"CONCATENATE(Tabell!E150,Tabell!F150)","v":""}]
[{"$f":"CONCATENATE(Tabell!E151,Tabell!F151)","v":""}]
[{"$f":"CONCATENATE(Tabell!E152,Tabell!F152)","v":""}]
[{"$f":"CONCATENATE(Tabell!E153,Tabell!F153)","v":""}]
[{"$f":"CONCATENATE(Tabell!E154,Tabell!F154)","v":""}]
[{"$f":"CONCATENATE(Tabell!E155,Tabell!F155)","v":""}]
[{"$f":"CONCATENATE(Tabell!E156,Tabell!F156)","v":""}]
[{"$f":"CONCATENATE(Tabell!E157,Tabell!F157)","v":""}]
[{"$f":"CONCATENATE(Tabell!E158,Tabell!F158)","v":""}]
[{"$f":"CONCATENATE(Tabell!E159,Tabell!F159)","v":""}]
[{"$f":"CONCATENATE(Tabell!E160,Tabell!F160)","v":""}]
[{"$f":"CONCATENATE(Tabell!E161,Tabell!F161)","v":""}]
[{"$f":"CONCATENATE(Tabell!E162,Tabell!F162)","v":""}]
[{"$f":"CONCATENATE(Tabell!E163,Tabell!F163)","v":""}]
[{"$f":"CONCATENATE(Tabell!E164,Tabell!F164)","v":""}]
[{"$f":"CONCATENATE(Tabell!E165,Tabell!F165)","v":""}]
[{"$f":"CONCATENATE(Tabell!E166,Tabell!F166)","v":""}]
[{"$f":"CONCATENATE(Tabell!E167,Tabell!F167)","v":""}]
[{"$f":"CONCATENATE(Tabell!E168,Tabell!F168)","v":""}]
[{"$f":"CONCATENATE(Tabell!E169,Tabell!F169)","v":""}]
[{"$f":"CONCATENATE(Tabell!E170,Tabell!F170)","v":""}]
[{"$f":"CONCATENATE(Tabell!E171,Tabell!F171)","v":""}]
[{"$f":"CONCATENATE(Tabell!E172,Tabell!F172)","v":""}]
[{"$f":"CONCATENATE(Tabell!E173,Tabell!F173)","v":""}]
[{"$f":"CONCATENATE(Tabell!E174,Tabell!F174)","v":""}]
[{"$f":"CONCATENATE(Tabell!E175,Tabell!F175)","v":""}]
[{"$f":"CONCATENATE(Tabell!E176,Tabell!F176)","v":""}]
[{"$f":"CONCATENATE(Tabell!E177,Tabell!F177)","v":""}]
[{"$f":"CONCATENATE(Tabell!E178,Tabell!F178)","v":""}]
[{"$f":"CONCATENATE(Tabell!E179,Tabell!F179)","v":""}]
[{"$f":"CONCATENATE(Tabell!E180,Tabell!F180)","v":""}]
[{"$f":"CONCATENATE(Tabell!E181,Tabell!F181)","v":""}]
[{"$f":"CONCATENATE(Tabell!E182,Tabell!F182)","v":""}]
[{"$f":"CONCATENATE(Tabell!E183,Tabell!F183)","v":""}]
[{"$f":"CONCATENATE(Tabell!E184,Tabell!F184)","v":""}]
[{"$f":"CONCATENATE(Tabell!E185,Tabell!F185)","v":""}]
[{"$f":"CONCATENATE(Tabell!E186,Tabell!F186)","v":""}]
[{"$f":"CONCATENATE(Tabell!E187,Tabell!F187)","v":""}]
[{"$f":"CONCATENATE(Tabell!E188,Tabell!F188)","v":""}]
[{"$f":"CONCATENATE(Tabell!E189,Tabell!F189)","v":""}]
[{"$f":"CONCATENATE(Tabell!E190,Tabell!F190)","v":""}]
[{"$f":"CONCATENATE(Tabell!E191,Tabell!F191)","v":""}]
[{"$f":"CONCATENATE(Tabell!E192,Tabell!F192)","v":""}]
[{"$f":"CONCATENATE(Tabell!E193,Tabell!F193)","v":""}]
[{"$f":"CONCATENATE(Tabell!E194,Tabell!F194)","v":""}]
[{"$f":"CONCATENATE(Tabell!E195,Tabell!F195)","v":""}]
[{"$f":"CONCATENATE(Tabell!E196,Tabell!F196)","v":""}]
[{"$f":"CONCATENATE(Tabell!E197,Tabell!F197)","v":""}]
[{"$f":"CONCATENATE(Tabell!E198,Tabell!F198)","v":""}]
[{"$f":"CONCATENATE(Tabell!E199,Tabell!F199)","v":""}]
[{"$f":"CONCATENATE(Tabell!E200,Tabell!F200)","v":""}]
[{"$f":"CONCATENATE(Tabell!E201,Tabell!F201)","v":""}]
[{"$f":"CONCATENATE(Tabell!E202,Tabell!F202)","v":""}]
[{"$f":"CONCATENATE(Tabell!E203,Tabell!F203)","v":""}]
[{"$f":"CONCATENATE(Tabell!E204,Tabell!F204)","v":""}]
[{"$f":"CONCATENATE(Tabell!E205,Tabell!F205)","v":""}]
[{"$f":"CONCATENATE(Tabell!E206,Tabell!F206)","v":""}]
[{"$f":"CONCATENATE(Tabell!E207,Tabell!F207)","v":""}]
[{"$f":"CONCATENATE(Tabell!E208,Tabell!F208)","v":""}]
[{"$f":"CONCATENATE(Tabell!E209,Tabell!F209)","v":""}]
[{"$f":"CONCATENATE(Tabell!E210,Tabell!F210)","v":""}]
[{"$f":"CONCATENATE(Tabell!E211,Tabell!F211)","v":""}]
[{"$f":"CONCATENATE(Tabell!E212,Tabell!F212)","v":""}]
[{"$f":"CONCATENATE(Tabell!E213,Tabell!F213)","v":""}]
[{"$f":"CONCATENATE(Tabell!E214,Tabell!F214)","v":""}]
[{"$f":"CONCATENATE(Tabell!E215,Tabell!F215)","v":""}]
[{"$f":"CONCATENATE(Tabell!E216,Tabell!F216)","v":""}]
[{"$f":"CONCATENATE(Tabell!E217,Tabell!F217)","v":""}]
[{"$f":"CONCATENATE(Tabell!E218,Tabell!F218)","v":""}]
[{"$f":"CONCATENATE(Tabell!E219,Tabell!F219)","v":""}]
[{"$f":"CONCATENATE(Tabell!E220,Tabell!F220)","v":""}]
[{"$f":"CONCATENATE(Tabell!E221,Tabell!F221)","v":""}]
[{"$f":"CONCATENATE(Tabell!E222,Tabell!F222)","v":""}]
[{"$f":"CONCATENATE(Tabell!E223,Tabell!F223)","v":""}]
[{"$f":"CONCATENATE(Tabell!E224,Tabell!F224)","v":""}]
[{"$f":"CONCATENATE(Tabell!E225,Tabell!F225)","v":""}]
[{"$f":"CONCATENATE(Tabell!E226,Tabell!F226)","v":""}]
[{"$f":"CONCATENATE(Tabell!E227,Tabell!F227)","v":""}]
[{"$f":"CONCATENATE(Tabell!E228,Tabell!F228)","v":""}]
[{"$f":"CONCATENATE(Tabell!E229,Tabell!F229)","v":""}]
[{"$f":"CONCATENATE(Tabell!E230,Tabell!F230)","v":""}]
[{"$f":"CONCATENATE(Tabell!E231,Tabell!F231)","v":""}]
[{"$f":"CONCATENATE(Tabell!E232,Tabell!F232)","v":""}]
[{"$f":"CONCATENATE(Tabell!E233,Tabell!F233)","v":""}]
[{"$f":"CONCATENATE(Tabell!E234,Tabell!F234)","v":""}]
[{"$f":"CONCATENATE(Tabell!E235,Tabell!F235)","v":""}]
[{"$f":"CONCATENATE(Tabell!E236,Tabell!F236)","v":""}]
[{"$f":"CONCATENATE(Tabell!E237,Tabell!F237)","v":""}]
[{"$f":"CONCATENATE(Tabell!E238,Tabell!F238)","v":""}]
[{"$f":"CONCATENATE(Tabell!E239,Tabell!F239)","v":""}]
[{"$f":"CONCATENATE(Tabell!E240,Tabell!F240)","v":""}]
[{"$f":"CONCATENATE(Tabell!E241,Tabell!F241)","v":""}]
[{"$f":"CONCATENATE(Tabell!E242,Tabell!F242)","v":""}]
[{"$f":"CONCATENATE(Tabell!E243,Tabell!F243)","v":""}]
[{"$f":"CONCATENATE(Tabell!E244,Tabell!F244)","v":""}]
[{"$f":"CONCATENATE(Tabell!E245,Tabell!F245)","v":""}]
[{"$f":"CONCATENATE(Tabell!E246,Tabell!F246)","v":""}]
[{"$f":"CONCATENATE(Tabell!E247,Tabell!F247)","v":""}]
[{"$f":"CONCATENATE(Tabell!E248,Tabell!F248)","v":""}]
[{"$f":"CONCATENATE(Tabell!E249,Tabell!F249)","v":""}]
[{"$f":"CONCATENATE(Tabell!E250,Tabell!F250)","v":""}]
[{"$f":"CONCATENATE(Tabell!E251,Tabell!F251)","v":""}]
[{"$f":"CONCATENATE(Tabell!E252,Tabell!F252)","v":""}]
[{"$f":"CONCATENATE(Tabell!E253,Tabell!F253)","v":""}]
[{"$f":"CONCATENATE(Tabell!E254,Tabell!F254)","v":""}]
[{"$f":"CONCATENATE(Tabell!E255,Tabell!F255)","v":""}]
[{"$f":"CONCATENATE(Tabell!E256,Tabell!F256)","v":""}]
[{"$f":"CONCATENATE(Tabell!E257,Tabell!F257)","v":""}]
[{"$f":"CONCATENATE(Tabell!E258,Tabell!F258)","v":""}]
[{"$f":"CONCATENATE(Tabell!E259,Tabell!F259)","v":""}]
[{"$f":"CONCATENATE(Tabell!E260,Tabell!F260)","v":""}]
[{"$f":"CONCATENATE(Tabell!E261,Tabell!F261)","v":""}]
[{"$f":"CONCATENATE(Tabell!E262,Tabell!F262)","v":""}]
[{"$f":"CONCATENATE(Tabell!E263,Tabell!F263)","v":""}]
[{"$f":"CONCATENATE(Tabell!E264,Tabell!F264)","v":""}]
[{"$f":"CONCATENATE(Tabell!E265,Tabell!F265)","v":""}]
[{"$f":"CONCATENATE(Tabell!E266,Tabell!F266)","v":""}]
[{"$f":"CONCATENATE(Tabell!E267,Tabell!F267)","v":""}]
[{"$f":"CONCATENATE(Tabell!E268,Tabell!F268)","v":""}]
[{"$f":"CONCATENATE(Tabell!E269,Tabell!F269)","v":""}]
[{"$f":"CONCATENATE(Tabell!E270,Tabell!F270)","v":""}]
[{"$f":"CONCATENATE(Tabell!E271,Tabell!F271)","v":""}]
[{"$f":"CONCATENATE(Tabell!E272,Tabell!F272)","v":""}]
[{"$f":"CONCATENATE(Tabell!E273,Tabell!F273)","v":""}]
[{"$f":"CONCATENATE(Tabell!E274,Tabell!F274)","v":""}]
[{"$f":"CONCATENATE(Tabell!E275,Tabell!F275)","v":""}]
[{"$f":"CONCATENATE(Tabell!E276,Tabell!F276)","v":""}]
[{"$f":"CONCATENATE(Tabell!E277,Tabell!F277)","v":""}]
[{"$f":"CONCATENATE(Tabell!E278,Tabell!F278)","v":""}]
[{"$f":"CONCATENATE(Tabell!E279,Tabell!F279)","v":""}]
[{"$f":"CONCATENATE(Tabell!E280,Tabell!F280)","v":""}]
[{"$f":"CONCATENATE(Tabell!E281,Tabell!F281)","v":""}]
[{"$f":"CONCATENATE(Tabell!E282,Tabell!F282)","v":""}]
[{"$f":"CONCATENATE(Tabell!E283,Tabell!F283)","v":""}]
[{"$f":"CONCATENATE(Tabell!E284,Tabell!F284)","v":""}]
[{"$f":"CONCATENATE(Tabell!E285,Tabell!F285)","v":""}]
[{"$f":"CONCATENATE(Tabell!E286,Tabell!F286)","v":""}]
[{"$f":"CONCATENATE(Tabell!E287,Tabell!F287)","v":""}]
[{"$f":"CONCATENATE(Tabell!E288,Tabell!F288)","v":""}]
[{"$f":"CONCATENATE(Tabell!E289,Tabell!F289)","v":""}]
[{"$f":"CONCATENATE(Tabell!E290,Tabell!F290)","v":""}]
[{"$f":"CONCATENATE(Tabell!E291,Tabell!F291)","v":""}]
[{"$f":"CONCATENATE(Tabell!E292,Tabell!F292)","v":""}]
[{"$f":"CONCATENATE(Tabell!E293,Tabell!F293)","v":""}]
[{"$f":"CONCATENATE(Tabell!E294,Tabell!F294)","v":""}]
[{"$f":"CONCATENATE(Tabell!E295,Tabell!F295)","v":""}]
[{"$f":"CONCATENATE(Tabell!E296,Tabell!F296)","v":""}]
[{"$f":"CONCATENATE(Tabell!E297,Tabell!F297)","v":""}]
[{"$f":"CONCATENATE(Tabell!E298,Tabell!F298)","v":""}]
[{"$f":"CONCATENATE(Tabell!E299,Tabell!F299)","v":""}]
[{"$f":"CONCATENATE(Tabell!E300,Tabell!F300)","v":""}]
[{"$f":"CONCATENATE(Tabell!E301,Tabell!F301)","v":""}]
[{"$f":"CONCATENATE(Tabell!E302,Tabell!F302)","v":""}]
[{"$f":"CONCATENATE(Tabell!E303,Tabell!F303)","v":""}]
[{"$f":"CONCATENATE(Tabell!E304,Tabell!F304)","v":""}]
[{"$f":"CONCATENATE(Tabell!E305,Tabell!F305)","v":""}]
[{"$f":"CONCATENATE(Tabell!E306,Tabell!F306)","v":""}]
[{"$f":"CONCATENATE(Tabell!E307,Tabell!F307)","v":""}]
[{"$f":"CONCATENATE(Tabell!E308,Tabell!F308)","v":""}]
[{"$f":"CONCATENATE(Tabell!E309,Tabell!F309)","v":""}]
[{"$f":"CONCATENATE(Tabell!E310,Tabell!F310)","v":""}]
[{"$f":"CONCATENATE(Tabell!E311,Tabell!F311)","v":""}]
[{"$f":"CONCATENATE(Tabell!E312,Tabell!F312)","v":""}]
[{"$f":"CONCATENATE(Tabell!E313,Tabell!F313)","v":""}]
[{"$f":"CONCATENATE(Tabell!E314,Tabell!F314)","v":""}]
[{"$f":"CONCATENATE(Tabell!E315,Tabell!F315)","v":""}]
[{"$f":"CONCATENATE(Tabell!E316,Tabell!F316)","v":""}]
[{"$f":"CONCATENATE(Tabell!E317,Tabell!F317)","v":""}]
[{"$f":"CONCATENATE(Tabell!E318,Tabell!F318)","v":""}]
[{"$f":"CONCATENATE(Tabell!E319,Tabell!F319)","v":""}]
[{"$f":"CONCATENATE(Tabell!E320,Tabell!F320)","v":""}]
[{"$f":"CONCATENATE(Tabell!E321,Tabell!F321)","v":""}]
[{"$f":"CONCATENATE(Tabell!E322,Tabell!F322)","v":""}]
[{"$f":"CONCATENATE(Tabell!E323,Tabell!F323)","v":""}]
[{"$f":"CONCATENATE(Tabell!E324,Tabell!F324)","v":""}]
[{"$f":"CONCATENATE(Tabell!E325,Tabell!F325)","v":""}]
[{"$f":"CONCATENATE(Tabell!E326,Tabell!F326)","v":""}]
[{"$f":"CONCATENATE(Tabell!E327,Tabell!F327)","v":""}]
[{"$f":"CONCATENATE(Tabell!E328,Tabell!F328)","v":""}]
[{"$f":"CONCATENATE(Tabell!E329,Tabell!F329)","v":""}]
[{"$f":"CONCATENATE(Tabell!E330,Tabell!F330)","v":""}]
[{"$f":"CONCATENATE(Tabell!E331,Tabell!F331)","v":""}]
[{"$f":"CONCATENATE(Tabell!E332,Tabell!F332)","v":""}]
[{"$f":"CONCATENATE(Tabell!E333,Tabell!F333)","v":""}]
[{"$f":"CONCATENATE(Tabell!E334,Tabell!F334)","v":""}]
[{"$f":"CONCATENATE(Tabell!E335,Tabell!F335)","v":""}]
[{"$f":"CONCATENATE(Tabell!E336,Tabell!F336)","v":""}]
[{"$f":"CONCATENATE(Tabell!E337,Tabell!F337)","v":""}]
[{"$f":"CONCATENATE(Tabell!E338,Tabell!F338)","v":""}]
[{"$f":"CONCATENATE(Tabell!E339,Tabell!F339)","v":""}]
[{"$f":"CONCATENATE(Tabell!E340,Tabell!F340)","v":""}]
[{"$f":"CONCATENATE(Tabell!E341,Tabell!F341)","v":""}]
[{"$f":"CONCATENATE(Tabell!E342,Tabell!F342)","v":""}]
[{"$f":"CONCATENATE(Tabell!E343,Tabell!F343)","v":""}]
[{"$f":"CONCATENATE(Tabell!E344,Tabell!F344)","v":""}]
[{"$f":"CONCATENATE(Tabell!E345,Tabell!F345)","v":""}]
[{"$f":"CONCATENATE(Tabell!E346,Tabell!F346)","v":""}]
[{"$f":"CONCATENATE(Tabell!E347,Tabell!F347)","v":""}]
[{"$f":"CONCATENATE(Tabell!E348,Tabell!F348)","v":""}]
[{"$f":"CONCATENATE(Tabell!E349,Tabell!F349)","v":""}]
[{"$f":"CONCATENATE(Tabell!E350,Tabell!F350)","v":""}]
[{"$f":"CONCATENATE(Tabell!E351,Tabell!F351)","v":""}]
[{"$f":"CONCATENATE(Tabell!E352,Tabell!F352)","v":""}]
[{"$f":"CONCATENATE(Tabell!E353,Tabell!F353)","v":""}]
[{"$f":"CONCATENATE(Tabell!E354,Tabell!F354)","v":""}]
[{"$f":"CONCATENATE(Tabell!E355,Tabell!F355)","v":""}]
[{"$f":"CONCATENATE(Tabell!E356,Tabell!F356)","v":""}]
[{"$f":"CONCATENATE(Tabell!E357,Tabell!F357)","v":""}]
[{"$f":"CONCATENATE(Tabell!E358,Tabell!F358)","v":""}]
[{"$f":"CONCATENATE(Tabell!E359,Tabell!F359)","v":""}]
[{"$f":"CONCATENATE(Tabell!E360,Tabell!F360)","v":""}]
[{"$f":"CONCATENATE(Tabell!E361,Tabell!F361)","v":""}]
[{"$f":"CONCATENATE(Tabell!E362,Tabell!F362)","v":""}]
[{"$f":"CONCATENATE(Tabell!E363,Tabell!F363)","v":""}]
[{"$f":"CONCATENATE(Tabell!E364,Tabell!F364)","v":""}]
[{"$f":"CONCATENATE(Tabell!E365,Tabell!F365)","v":""}]
[{"$f":"CONCATENATE(Tabell!E366,Tabell!F366)","v":""}]
[{"$f":"CONCATENATE(Tabell!E367,Tabell!F367)","v":""}]
[{"$f":"CONCATENATE(Tabell!E368,Tabell!F368)","v":""}]
[{"$f":"CONCATENATE(Tabell!E369,Tabell!F369)","v":""}]
[{"$f":"CONCATENATE(Tabell!E370,Tabell!F370)","v":""}]
[{"$f":"CONCATENATE(Tabell!E371,Tabell!F371)","v":""}]
[{"$f":"CONCATENATE(Tabell!E372,Tabell!F372)","v":""}]
[{"$f":"CONCATENATE(Tabell!E373,Tabell!F373)","v":""}]
[{"$f":"CONCATENATE(Tabell!E374,Tabell!F374)","v":""}]
[{"$f":"CONCATENATE(Tabell!E375,Tabell!F375)","v":""}]
[{"$f":"CONCATENATE(Tabell!E376,Tabell!F376)","v":""}]
[{"$f":"CONCATENATE(Tabell!E377,Tabell!F377)","v":""}]
[{"$f":"CONCATENATE(Tabell!E378,Tabell!F378)","v":""}]
[{"$f":"CONCATENATE(Tabell!E379,Tabell!F379)","v":""}]
[{"$f":"CONCATENATE(Tabell!E380,Tabell!F380)","v":""}]
[{"$f":"CONCATENATE(Tabell!E381,Tabell!F381)","v":""}]
[{"$f":"CONCATENATE(Tabell!E382,Tabell!F382)","v":""}]
[{"$f":"CONCATENATE(Tabell!E383,Tabell!F383)","v":""}]
[{"$f":"CONCATENATE(Tabell!E384,Tabell!F384)","v":""}]
[{"$f":"CONCATENATE(Tabell!E385,Tabell!F385)","v":""}]
[{"$f":"CONCATENATE(Tabell!E386,Tabell!F386)","v":""}]
[{"$f":"CONCATENATE(Tabell!E387,Tabell!F387)","v":""}]
[{"$f":"CONCATENATE(Tabell!E388,Tabell!F388)","v":""}]
[{"$f":"CONCATENATE(Tabell!E389,Tabell!F389)","v":""}]
[{"$f":"CONCATENATE(Tabell!E390,Tabell!F390)","v":""}]
[{"$f":"CONCATENATE(Tabell!E391,Tabell!F391)","v":""}]
[{"$f":"CONCATENATE(Tabell!E392,Tabell!F392)","v":""}]
[{"$f":"CONCATENATE(Tabell!E393,Tabell!F393)","v":""}]
[{"$f":"CONCATENATE(Tabell!E394,Tabell!F394)","v":""}]
[{"$f":"CONCATENATE(Tabell!E395,Tabell!F395)","v":""}]
[{"$f":"CONCATENATE(Tabell!E396,Tabell!F396)","v":""}]
[{"$f":"CONCATENATE(Tabell!E397,Tabell!F397)","v":""}]
[{"$f":"CONCATENATE(Tabell!E398,Tabell!F398)","v":""}]
[{"$f":"CONCATENATE(Tabell!E399,Tabell!F399)","v":""}]
[{"$f":"CONCATENATE(Tabell!E400,Tabell!F400)","v":""}]
[{"$f":"CONCATENATE(Tabell!E401,Tabell!F401)","v":""}]
[{"$f":"CONCATENATE(Tabell!E402,Tabell!F402)","v":""}]
[{"$f":"CONCATENATE(Tabell!E403,Tabell!F403)","v":""}]
[{"$f":"CONCATENATE(Tabell!E404,Tabell!F404)","v":""}]
[{"$f":"CONCATENATE(Tabell!E405,Tabell!F405)","v":""}]
[{"$f":"CONCATENATE(Tabell!E406,Tabell!F406)","v":""}]
[{"$f":"CONCATENATE(Tabell!E407,Tabell!F407)","v":""}]
[{"$f":"CONCATENATE(Tabell!E408,Tabell!F408)","v":""}]
[{"$f":"CONCATENATE(Tabell!E409,Tabell!F409)","v":""}]
[{"$f":"CONCATENATE(Tabell!E410,Tabell!F410)","v":""}]
[{"$f":"CONCATENATE(Tabell!E411,Tabell!F411)","v":""}]
[{"$f":"CONCATENATE(Tabell!E412,Tabell!F412)","v":""}]
[{"$f":"CONCATENATE(Tabell!E413,Tabell!F413)","v":""}]
[{"$f":"CONCATENATE(Tabell!E414,Tabell!F414)","v":""}]
[{"$f":"CONCATENATE(Tabell!E415,Tabell!F415)","v":""}]
[{"$f":"CONCATENATE(Tabell!E416,Tabell!F416)","v":""}]
[{"$f":"CONCATENATE(Tabell!E417,Tabell!F417)","v":""}]
[{"$f":"CONCATENATE(Tabell!E418,Tabell!F418)","v":""}]
[{"$f":"CONCATENATE(Tabell!E419,Tabell!F419)","v":""}]
[{"$f":"CONCATENATE(Tabell!E420,Tabell!F420)","v":""}]
[{"$f":"CONCATENATE(Tabell!E421,Tabell!F421)","v":""}]
[{"$f":"CONCATENATE(Tabell!E422,Tabell!F422)","v":""}]
[{"$f":"CONCATENATE(Tabell!E423,Tabell!F423)","v":""}]
[{"$f":"CONCATENATE(Tabell!E424,Tabell!F424)","v":""}]
[{"$f":"CONCATENATE(Tabell!E425,Tabell!F425)","v":""}]
[{"$f":"CONCATENATE(Tabell!E426,Tabell!F426)","v":""}]
[{"$f":"CONCATENATE(Tabell!E427,Tabell!F427)","v":""}]
[{"$f":"CONCATENATE(Tabell!E428,Tabell!F428)","v":""}]
[{"$f":"CONCATENATE(Tabell!E429,Tabell!F429)","v":""}]
[{"$f":"CONCATENATE(Tabell!E430,Tabell!F430)","v":""}]
[{"$f":"CONCATENATE(Tabell!E431,Tabell!F431)","v":""}]
[{"$f":"CONCATENATE(Tabell!E432,Tabell!F432)","v":""}]
[{"$f":"CONCATENATE(Tabell!E433,Tabell!F433)","v":""}]
[{"$f":"CONCATENATE(Tabell!E434,Tabell!F434)","v":""}]
[{"$f":"CONCATENATE(Tabell!E435,Tabell!F435)","v":""}]
[{"$f":"CONCATENATE(Tabell!E436,Tabell!F436)","v":""}]
[{"$f":"CONCATENATE(Tabell!E437,Tabell!F437)","v":""}]
[{"$f":"CONCATENATE(Tabell!E438,Tabell!F438)","v":""}]
[{"$f":"CONCATENATE(Tabell!E439,Tabell!F439)","v":""}]
[{"$f":"CONCATENATE(Tabell!E440,Tabell!F440)","v":""}]
[{"$f":"CONCATENATE(Tabell!E441,Tabell!F441)","v":""}]
[{"$f":"CONCATENATE(Tabell!E442,Tabell!F442)","v":""}]
[{"$f":"CONCATENATE(Tabell!E443,Tabell!F443)","v":""}]
[{"$f":"CONCATENATE(Tabell!E444,Tabell!F444)","v":""}]
[{"$f":"CONCATENATE(Tabell!E445,Tabell!F445)","v":""}]
[{"$f":"CONCATENATE(Tabell!E446,Tabell!F446)","v":""}]
[{"$f":"CONCATENATE(Tabell!E447,Tabell!F447)","v":""}]
[{"$f":"CONCATENATE(Tabell!E448,Tabell!F448)","v":""}]
[{"$f":"CONCATENATE(Tabell!E449,Tabell!F449)","v":""}]
[{"$f":"CONCATENATE(Tabell!E450,Tabell!F450)","v":""}]
[{"$f":"CONCATENATE(Tabell!E451,Tabell!F451)","v":""}]
[{"$f":"CONCATENATE(Tabell!E452,Tabell!F452)","v":""}]
[{"$f":"CONCATENATE(Tabell!E453,Tabell!F453)","v":""}]
[{"$f":"CONCATENATE(Tabell!E454,Tabell!F454)","v":""}]
[{"$f":"CONCATENATE(Tabell!E455,Tabell!F455)","v":""}]
[{"$f":"CONCATENATE(Tabell!E456,Tabell!F456)","v":""}]
[{"$f":"CONCATENATE(Tabell!E457,Tabell!F457)","v":""}]
[{"$f":"CONCATENATE(Tabell!E458,Tabell!F458)","v":""}]
[{"$f":"CONCATENATE(Tabell!E459,Tabell!F459)","v":""}]
[{"$f":"CONCATENATE(Tabell!E460,Tabell!F460)","v":""}]
[{"$f":"CONCATENATE(Tabell!E461,Tabell!F461)","v":""}]
[{"$f":"CONCATENATE(Tabell!E462,Tabell!F462)","v":""}]
[{"$f":"CONCATENATE(Tabell!E463,Tabell!F463)","v":""}]
[{"$f":"CONCATENATE(Tabell!E464,Tabell!F464)","v":""}]
[{"$f":"CONCATENATE(Tabell!E465,Tabell!F465)","v":""}]
[{"$f":"CONCATENATE(Tabell!E466,Tabell!F466)","v":""}]
[{"$f":"CONCATENATE(Tabell!E467,Tabell!F467)","v":""}]
[{"$f":"CONCATENATE(Tabell!E468,Tabell!F468)","v":""}]
[{"$f":"CONCATENATE(Tabell!E469,Tabell!F469)","v":""}]
[{"$f":"CONCATENATE(Tabell!E470,Tabell!F470)","v":""}]
[{"$f":"CONCATENATE(Tabell!E471,Tabell!F471)","v":""}]
[{"$f":"CONCATENATE(Tabell!E472,Tabell!F472)","v":""}]
[{"$f":"CONCATENATE(Tabell!E473,Tabell!F473)","v":""}]
[{"$f":"CONCATENATE(Tabell!E474,Tabell!F474)","v":""}]
[{"$f":"CONCATENATE(Tabell!E475,Tabell!F475)","v":""}]
[{"$f":"CONCATENATE(Tabell!E476,Tabell!F476)","v":""}]
[{"$f":"CONCATENATE(Tabell!E477,Tabell!F477)","v":""}]
[{"$f":"CONCATENATE(Tabell!E478,Tabell!F478)","v":""}]
[{"$f":"CONCATENATE(Tabell!E479,Tabell!F479)","v":""}]
[{"$f":"CONCATENATE(Tabell!E480,Tabell!F480)","v":""}]
[{"$f":"CONCATENATE(Tabell!E481,Tabell!F481)","v":""}]
[{"$f":"CONCATENATE(Tabell!E482,Tabell!F482)","v":""}]
[{"$f":"CONCATENATE(Tabell!E483,Tabell!F483)","v":""}]
[{"$f":"CONCATENATE(Tabell!E484,Tabell!F484)","v":""}]
[{"$f":"CONCATENATE(Tabell!E485,Tabell!F485)","v":""}]
[{"$f":"CONCATENATE(Tabell!E486,Tabell!F486)","v":""}]
[{"$f":"CONCATENATE(Tabell!E487,Tabell!F487)","v":""}]
[{"$f":"CONCATENATE(Tabell!E488,Tabell!F488)","v":""}]
[{"$f":"CONCATENATE(Tabell!E489,Tabell!F489)","v":""}]
[{"$f":"CONCATENATE(Tabell!E490,Tabell!F490)","v":""}]
[{"$f":"CONCATENATE(Tabell!E491,Tabell!F491)","v":""}]
[{"$f":"CONCATENATE(Tabell!E492,Tabell!F492)","v":""}]
[{"$f":"CONCATENATE(Tabell!E493,Tabell!F493)","v":""}]
[{"$f":"CONCATENATE(Tabell!E494,Tabell!F494)","v":""}]
[{"$f":"CONCATENATE(Tabell!E495,Tabell!F495)","v":""}]
[{"$f":"CONCATENATE(Tabell!E496,Tabell!F496)","v":""}]
[{"$f":"CONCATENATE(Tabell!E497,Tabell!F497)","v":""}]
[{"$f":"CONCATENATE(Tabell!E498,Tabell!F498)","v":""}]
[{"$f":"CONCATENATE(Tabell!E499,Tabell!F499)","v":""}]
[{"$f":"CONCATENATE(Tabell!E500,Tabell!F500)","v":""}]
[{"$f":"CONCATENATE(Tabell!E501,Tabell!F501)","v":""}]
[{"$f":"CONCATENATE(Tabell!E502,Tabell!F502)","v":""}]