{"text_format":"1","workbook":"xlsx","n_sheets":5,"sheets":["Information","Tidsplan, dagar","Tidsplan, veckor","Formula","Formula_week"],"not_rendered":{"charts":0,"images":0,"macros":0,"external_links":0,"defined_names":6,"comments":2,"pivot_tables":0},"unopened":[],"bounds":{"document_bytes":16777216,"sheet_cells":100000,"rows_first":2000,"rows_last":500,"rows_between":2000,"halvings":0,"cell_chars":16384,"cell_head_chars":4096},"cells_cut":0,"cells_raw":0,"read":"whole","date_system":"1900"}

{"sheet":"Information","index":0,"n_rows":20,"n_cols":2,"rows_kept":20,"cut":false,"hidden":false,"merged":[[14,0,19,0],[0,0,0,1],[2,0,2,1],[3,0,7,0],[8,0,9,0],[10,0,11,0],[13,0,13,1]]}
[{"$f":"Formula!A69","v":"Tidsplan"}]
[]
["Syfte och användningssätt"]
["Syfte","Stöd för sammanställning av Gantt-schemor med dag- eller veckoskala "]
[null,"· Ger en grafisk bild av tidsplanen"]
[null,"· Kan nyttjas för sammanställning av arbetstid."]
[null,"· Ger underlag för uppföljning"]
[]
["När den kan användas","Vid detaljplanering, när aktivitetslistan inte ger tillräckligt stöd"]
[null,"Kan även användas som projekttidsplan för mindre komplexa projekt."]
["Vem som kan använda den","Projektledning, delprojektledning"]
[]
["Referens till mer information","Färdigheterna: Detaljplanering (AH007), Tidsplanering(AH151)"]
["Funktionalitet"]
["Instruktion om hur den fungerar","1. Välj dagskala eller veckoskala."]
[null,"2. Ange start- och slutdatum för planeringsperioden. OBS! Startdatum måste vara en måndag. Om datumen ändras efter det att aktiviteter lagts till påverkas endast tidsskalan, aktiviteternas datum påverkas inte."]
[null,"3. Raderna i tidsplanen kan användas för Arbetspaket (P), Milstolpar (M) eller Aktiviteter (A). Välj  under \"Typ\". Arbetspaket (P) ger ingen stapel i schemat, utan används för att skapa rubriker i beskrivningskolumnen"]
[null,"4. Skriv nummer, benämning, ansvarig och datum. De fält som inte ska användas gråmarkeras för respektive vald \"Typ\".\nOBS: Ange aktivitetsnummer manuellt, automatisk numrering blir fel vid eventuell omsortering eller filtrering"]
[null,"5. Välj stapelns färg i gantt-schemat. T.ex kan olika ansvariga ges olika färg."]
[null,"6. Det är även möjligt att ange arbetstid (vanligen i timmar) för aktiviteterna. Budget, upparbetat och återstod kan anges. \nStäng kolumner som inte används så skapas mer utrymme för tidsskalan."]

{"sheet":"Tidsplan, dagar","index":1,"n_rows":98,"n_cols":702,"rows_kept":98,"cut":false,"hidden":false,"merged":[[1,1,1,13],[4,3,7,3],[4,2,7,2],[4,1,7,1],[4,12,7,12],[4,11,7,11],[4,10,7,10],[4,9,7,9],[4,8,7,8],[4,7,7,7],[4,6,7,6],[4,5,7,5],[4,4,7,4]]}
[null,{"$f":"Formula!A50","v":"Tidsplan, dagar"}]
[null,{"$f":"CONCATENATE(Formula!A66,\", \",Formula!A67,\", \",Formula!A68)","v":"<Projektnamn>, <Nnnn Nnnn>, <Utgåva>"}]
[{"$f":"Formula!A33","v":"Tidsskala"},null,null,null,null,null,{"$f":"Formula!A52","v":"Startdatum"},{"$f":"Formula!A53","v":"Slutdatum"}]
["Veckor",null,null,null,null,null,"2016-06-01","2016-08-01"]
[null,{"$f":"Formula!A54","v":"Nr"},{"$f":"Formula!A55","v":"Beskrivning"},{"$f":"Formula!A56","v":"Ansvarig"},{"$f":"Formula!A57","v":"Typ"},{"$f":"Formula!A58","v":"Färg"},{"$f":"Formula!A59","v":"Start"},{"$f":"Formula!A60","v":"Slut"},{"$f":"Formula!A61","v":"Budget"},{"$f":"Formula!A62","v":"Upparbetat"},{"$f":"Formula!A63","v":"Återstod"},{"$f":"Formula!A64","v":"Prognos"},{"$f":"Formula!A65","v":"Avvikelse"},{"$f":"G4","v":42522},{"$f":"N5+1","v":42523},{"$f":"O5+1","v":42524},42525,42526,42527,42528,42529,42530,42531,42532,42533,42534,42535,42536,42537,42538,42539,42540,42541,42542,42543,42544,42545,42546,42547,42548,42549,42550,42551,42552,42553,42554,42555,42556,42557,42558,42559,42560,42561,42562,42563,42564,42565,42566,42567,42568,42569,42570,42571,42572,42573,42574,42575,42576,42577,42578,42579,42580,42581,42582,42583,42584,42585,42586,42587,{"$f":"CA5+1","v":42588},42589,42590,42591,42592,42593,42594,42595,42596,42597,42598,42599,42600,42601,42602,42603,42604,42605,42606,42607,42608,42609,42610,42611,42612,42613,42614,42615,42616,42617,42618,42619,42620,42621,42622,42623,42624,42625,42626,42627,42628,42629,42630,42631,42632,42633,42634,42635,42636,42637,42638,42639,42640,42641,42642,42643,42644,42645,42646,42647,42648,42649,42650,42651,{"$f":"EM5+1","v":42652},42653,42654,42655,42656,42657,42658,42659,42660,42661,42662,42663,42664,42665,42666,42667,42668,42669,42670,42671,42672,42673,42674,42675,42676,42677,42678,42679,42680,42681,42682,42683,42684,42685,42686,42687,42688,42689,42690,42691,42692,42693,42694,42695,42696,42697,42698,42699,42700,42701,42702,42703,42704,42705,42706,42707,42708,42709,42710,42711,42712,42713,42714,42715,{"$f":"GY5+1","v":42716},42717,42718,42719,42720,42721,42722,42723,42724,42725,42726,42727,42728,42729,42730,42731,42732,42733,42734,42735,42736,42737,42738,42739,42740,42741,42742,42743,42744,42745,42746,42747,42748,42749,42750,42751,42752,42753,42754,42755,42756,42757,42758,42759,42760,42761,42762,42763,42764,42765,42766,42767,42768,42769,42770,42771,42772,42773,42774,42775,42776,42777,42778,42779,{"$f":"JK5+1","v":42780},42781,42782,42783,42784,42785,42786,42787,42788,42789,42790,42791,42792,42793,42794,42795,42796,42797,42798,42799,42800,42801,42802,42803,42804,42805,42806,42807,42808,42809,42810,42811,42812,42813,42814,42815,42816,42817,42818,42819,42820,42821,42822,42823,42824,42825,42826,42827,42828,42829,42830,42831,42832,42833,42834,42835,42836,42837,42838,42839,42840,42841,42842,42843,{"$f":"LW5+1","v":42844},42845,42846,42847,42848,42849,42850,42851,42852,42853,42854,42855,42856,42857,42858,42859,42860,42861,42862,42863,42864,42865,42866,42867,42868,42869,42870,42871,42872,42873,42874,42875,42876,42877,42878,42879,42880,42881,42882,42883,42884,42885,42886,42887,42888,42889,42890,42891,42892,42893,42894,42895,42896,42897,42898,42899,42900,42901,42902,42903,42904,42905,42906,42907,{"$f":"OI5+1","v":42908},42909,42910,42911,42912,42913,42914,42915,42916,42917,42918,42919,42920,42921,42922,42923,42924,42925,42926,42927,42928,42929,42930,42931,42932,42933,42934,42935,42936,42937,42938,42939,42940,42941,42942,42943,42944,42945,42946,42947,42948,42949,42950,42951,42952,42953,42954,42955,42956,42957,42958,42959,42960,42961,42962,42963,42964,42965,42966,42967,42968,42969,42970,42971,{"$f":"QU5+1","v":42972},42973,42974,42975,42976,42977,42978,42979,42980,42981,42982,42983,42984,42985,42986,42987,42988,42989,42990,42991,42992,42993,42994,42995,42996,42997,42998,42999,43000,43001,43002,43003,43004,43005,43006,43007,43008,43009,43010,43011,43012,43013,43014,43015,43016,43017,43018,43019,43020,43021,43022,43023,43024,43025,43026,43027,43028,43029,43030,43031,43032,43033,43034,43035,{"$f":"TG5+1","v":43036},43037,43038,43039,43040,43041,43042,43043,43044,43045,43046,43047,43048,43049,43050,43051,43052,43053,43054,43055,43056,43057,43058,43059,43060,43061,43062,43063,43064,43065,43066,43067,43068,43069,43070,43071,43072,43073,43074,43075,43076,43077,43078,43079,43080,43081,43082,43083,43084,43085,43086,43087,43088,43089,43090,43091,43092,43093,43094,43095,43096,43097,43098,43099,{"$f":"VS5+1","v":43100},43101,43102,43103,43104,43105,43106,43107,43108,43109,43110,43111,43112,43113,43114,43115,43116,43117,43118,43119,43120,43121,43122,43123,43124,43125,43126,43127,43128,43129,43130,43131,43132,43133,43134,43135,43136,43137,43138,43139,43140,43141,43142,43143,43144,43145,43146,43147,43148,43149,43150,43151,43152,43153,43154,43155,43156,43157,43158,43159,43160,43161,43162,43163,{"$f":"YE5+1","v":43164},43165,43166,43167,43168,43169,43170,43171,43172,43173,43174,43175,43176,43177,43178,43179,43180,43181,43182,43183,43184,43185,43186,43187,43188,43189,43190,43191,43192,43193,43194,43195,43196,43197,43198,43199,43200,43201,43202,43203,43204,43205,43206,43207,43208,43209,43210]
[null,null,null,null,null,null,null,null,null,null,null,null,null,{"$f":"IF($A$4=Formula!$A$35,IF(OR(EOMONTH(Formula!$B$4,0)>Formula!B8,(AND(YEAR(Formula!$B$4)=YEAR(Formula!B8),(MONTH(Formula!$B$4)=MONTH(Formula!B8))))),Formula!B12,\"\"),\"\")","v":""},{"$f":"IF($A$4=Formula!$A$35,IF(OR(EOMONTH(Formula!$B$4,0)>Formula!C8,(AND(YEAR(Formula!$B$4)=YEAR(Formula!C8),(MONTH(Formula!$B$4)=MONTH(Formula!C8))))),Formula!C12,\"\"),\"\")","v":""},{"$f":"IF($A$4=Formula!$A$35,IF(OR(EOMONTH(Formula!$B$4,0)>Formula!D8,(AND(YEAR(Formula!$B$4)=YEAR(Formula!D8),(MONTH(Formula!$B$4)=MONTH(Formula!D8))))),Formula!D12,\"\"),\"\")","v":""},{"$f":"IF($A$4=Formula!$A$35,IF(OR(EOMONTH(Formula!$B$4,0)>Formula!E8,(AND(YEAR(Formula!$B$4)=YEAR(Formula!E8),(MONTH(Formula!$B$4)=MONTH(Formula!E8))))),Formula!E12,\"\"),\"\")","v":""},{"$f":"IF($A$4=Formula!$A$35,IF(OR(EOMONTH(Formula!$B$4,0)>Formula!F8,(AND(YEAR(Formula!$B$4)=YEAR(Formula!F8),(MONTH(Formula!$B$4)=MONTH(Formula!F8))))),Formula!F12,\"\"),\"\")","v":""},{"$f":"IF($A$4=Formula!$A$35,IF(OR(EOMONTH(Formula!$B$4,0)>Formula!G8,(AND(YEAR(Formula!$B$4)=YEAR(Formula!G8),(MONTH(Formula!$B$4)=MONTH(Formula!G8))))),Formula!G12,\"\"),\"\")","v":""},{"$f":"IF($A$4=Formula!$A$35,IF(OR(EOMONTH(Formula!$B$4,0)>Formula!H8,(AND(YEAR(Formula!$B$4)=YEAR(Formula!H8),(MONTH(Formula!$B$4)=MONTH(Formula!H8))))),Formula!H12,\"\"),\"\")","v":""},{"$f":"IF($A$4=Formula!$A$35,IF(OR(EOMONTH(Formula!$B$4,0)>Formula!I8,(AND(YEAR(Formula!$B$4)=YEAR(Formula!I8),(MONTH(Formula!$B$4)=MONTH(Formula!I8))))),Formula!I12,\"\"),\"\")","v":""},{"$f":"IF($A$4=Formula!$A$35,IF(OR(EOMONTH(Formula!$B$4,0)>Formula!J8,(AND(YEAR(Formula!$B$4)=YEAR(Formula!J8),(MONTH(Formula!$B$4)=MONTH(Formula!J8))))),Formula!J12,\"\"),\"\")","v":""},{"$f":"IF($A$4=Formula!$A$35,IF(OR(EOMONTH(Formula!$B$4,0)>Formula!K8,(AND(YEAR(Formula!$B$4)=YEAR(Formula!K8),(MONTH(Formula!$B$4)=MONTH(Formula!K8))))),Formula!K12,\"\"),\"\")","v":""},{"$f":"IF($A$4=Formula!$A$35,IF(OR(EOMONTH(Formula!$B$4,0)>Formula!L8,(AND(YEAR(Formula!$B$4)=YEAR(Formula!L8),(MONTH(Formula!$B$4)=MONTH(Formula!L8))))),Formula!L12,\"\"),\"\")","v":""},{"$f":"IF($A$4=Formula!$A$35,IF(OR(EOMONTH(Formula!$B$4,0)>Formula!M8,(AND(YEAR(Formula!$B$4)=YEAR(Formula!M8),(MONTH(Formula!$B$4)=MONTH(Formula!M8))))),Formula!M12,\"\"),\"\")","v":""},{"$f":"IF($A$4=Formula!$A$35,IF(OR(EOMONTH(Formula!$B$4,0)>Formula!N8,(AND(YEAR(Formula!$B$4)=YEAR(Formula!N8),(MONTH(Formula!$B$4)=MONTH(Formula!N8))))),Formula!N12,\"\"),\"\")","v":""},{"$f":"IF($A$4=Formula!$A$35,IF(OR(EOMONTH(Formula!$B$4,0)>Formula!O8,(AND(YEAR(Formula!$B$4)=YEAR(Formula!O8),(MONTH(Formula!$B$4)=MONTH(Formula!O8))))),Formula!O12,\"\"),\"\")","v":""},{"$f":"IF($A$4=Formula!$A$35,IF(OR(EOMONTH(Formula!$B$4,0)>Formula!P8,(AND(YEAR(Formula!$B$4)=YEAR(Formula!P8),(MONTH(Formula!$B$4)=MONTH(Formula!P8))))),Formula!P12,\"\"),\"\")","v":""},{"$f":"IF($A$4=Formula!$A$35,IF(OR(EOMONTH(Formula!$B$4,0)>Formula!Q8,(AND(YEAR(Formula!$B$4)=YEAR(Formula!Q8),(MONTH(Formula!$B$4)=MONTH(Formula!Q8))))),Formula!Q12,\"\"),\"\")","v":""},{"$f":"IF($A$4=Formula!$A$35,IF(OR(EOMONTH(Formula!$B$4,0)>Formula!R8,(AND(YEAR(Formula!$B$4)=YEAR(Formula!R8),(MONTH(Formula!$B$4)=MONTH(Formula!R8))))),Formula!R12,\"\"),\"\")","v":""},{"$f":"IF($A$4=Formula!$A$35,IF(OR(EOMONTH(Formula!$B$4,0)>Formula!S8,(AND(YEAR(Formula!$B$4)=YEAR(Formula!S8),(MONTH(Formula!$B$4)=MONTH(Formula!S8))))),Formula!S12,\"\"),\"\")","v":""},{"$f":"IF($A$4=Formula!$A$35,IF(OR(EOMONTH(Formula!$B$4,0)>Formula!T8,(AND(YEAR(Formula!$B$4)=YEAR(Formula!T8),(MONTH(Formula!$B$4)=MONTH(Formula!T8))))),Formula!T12,\"\"),\"\")","v":""},{"$f":"IF($A$4=Formula!$A$35,IF(OR(EOMONTH(Formula!$B$4,0)>Formula!U8,(AND(YEAR(Formula!$B$4)=YEAR(Formula!U8),(MONTH(Formula!$B$4)=MONTH(Formula!U8))))),Formula!U12,\"\"),\"\")","v":""},{"$f":"IF($A$4=Formula!$A$35,IF(OR(EOMONTH(Formula!$B$4,0)>Formula!V8,(AND(YEAR(Formula!$B$4)=YEAR(Formula!V8),(MONTH(Formula!$B$4)=MONTH(Formula!V8))))),Formula!V12,\"\"),\"\")","v":""},{"$f":"IF($A$4=Formula!$A$35,IF(OR(EOMONTH(Formula!$B$4,0)>Formula!W8,(AND(YEAR(Formula!$B$4)=YEAR(Formula!W8),(MONTH(Formula!$B$4)=MONTH(Formula!W8))))),Formula!W12,\"\"),\"\")","v":""},{"$f":"IF($A$4=Formula!$A$35,IF(OR(EOMONTH(Formula!$B$4,0)>Formula!X8,(AND(YEAR(Formula!$B$4)=YEAR(Formula!X8),(MONTH(Formula!$B$4)=MONTH(Formula!X8))))),Formula!X12,\"\"),\"\")","v":""},{"$f":"IF($A$4=Formula!$A$35,IF(OR(EOMONTH(Formula!$B$4,0)>Formula!Y8,(AND(YEAR(Formula!$B$4)=YEAR(Formula!Y8),(MONTH(Formula!$B$4)=MONTH(Formula!Y8))))),Formula!Y12,\"\"),\"\")","v":""},{"$f":"IF($A$4=Formula!$A$35,IF(OR(EOMONTH(Formula!$B$4,0)>Formula!Z8,(AND(YEAR(Formula!$B$4)=YEAR(Formula!Z8),(MONTH(Formula!$B$4)=MONTH(Formula!Z8))))),Formula!Z12,\"\"),\"\")","v":""},{"$f":"IF($A$4=Formula!$A$35,IF(OR(EOMONTH(Formula!$B$4,0)>Formula!AA8,(AND(YEAR(Formula!$B$4)=YEAR(Formula!AA8),(MONTH(Formula!$B$4)=MONTH(Formula!AA8))))),Formula!AA12,\"\"),\"\")","v":""},{"$f":"IF($A$4=Formula!$A$35,IF(OR(EOMONTH(Formula!$B$4,0)>Formula!AB8,(AND(YEAR(Formula!$B$4)=YEAR(Formula!AB8),(MONTH(Formula!$B$4)=MONTH(Formula!AB8))))),Formula!AB12,\"\"),\"\")","v":""},{"$f":"IF($A$4=Formula!$A$35,IF(OR(EOMONTH(Formula!$B$4,0)>Formula!AC8,(AND(YEAR(Formula!$B$4)=YEAR(Formula!AC8),(MONTH(Formula!$B$4)=MONTH(Formula!AC8))))),Formula!AC12,\"\"),\"\")","v":""},{"$f":"IF($A$4=Formula!$A$35,IF(OR(EOMONTH(Formula!$B$4,0)>Formula!AD8,(AND(YEAR(Formula!$B$4)=YEAR(Formula!AD8),(MONTH(Formula!$B$4)=MONTH(Formula!AD8))))),Formula!AD12,\"\"),\"\")","v":""},{"$f":"IF($A$4=Formula!$A$35,IF(OR(EOMONTH(Formula!$B$4,0)>Formula!AE8,(AND(YEAR(Formula!$B$4)=YEAR(Formula!AE8),(MONTH(Formula!$B$4)=MONTH(Formula!AE8))))),Formula!AE12,\"\"),\"\")","v":""},{"$f":"IF($A$4=Formula!$A$35,IF(OR(EOMONTH(Formula!$B$4,0)>Formula!AF8,(AND(YEAR(Formula!$B$4)=YEAR(Formula!AF8),(MONTH(Formula!$B$4)=MONTH(Formula!AF8))))),Formula!AF12,\"\"),\"\")","v":""},{"$f":"IF($A$4=Formula!$A$35,IF(OR(EOMONTH(Formula!$B$4,0)>Formula!AG8,(AND(YEAR(Formula!$B$4)=YEAR(Formula!AG8),(MONTH(Formula!$B$4)=MONTH(Formula!AG8))))),Formula!AG12,\"\"),\"\")","v":""},{"$f":"IF($A$4=Formula!$A$35,IF(OR(EOMONTH(Formula!$B$4,0)>Formula!AH8,(AND(YEAR(Formula!$B$4)=YEAR(Formula!AH8),(MONTH(Formula!$B$4)=MONTH(Formula!AH8))))),Formula!AH12,\"\"),\"\")","v":""},{"$f":"IF($A$4=Formula!$A$35,IF(OR(EOMONTH(Formula!$B$4,0)>Formula!AI8,(AND(YEAR(Formula!$B$4)=YEAR(Formula!AI8),(MONTH(Formula!$B$4)=MONTH(Formula!AI8))))),Formula!AI12,\"\"),\"\")","v":""},{"$f":"IF($A$4=Formula!$A$35,IF(OR(EOMONTH(Formula!$B$4,0)>Formula!AJ8,(AND(YEAR(Formula!$B$4)=YEAR(Formula!AJ8),(MONTH(Formula!$B$4)=MONTH(Formula!AJ8))))),Formula!AJ12,\"\"),\"\")","v":""},{"$f":"IF($A$4=Formula!$A$35,IF(OR(EOMONTH(Formula!$B$4,0)>Formula!AK8,(AND(YEAR(Formula!$B$4)=YEAR(Formula!AK8),(MONTH(Formula!$B$4)=MONTH(Formula!AK8))))),Formula!AK12,\"\"),\"\")","v":""},{"$f":"IF($A$4=Formula!$A$35,IF(OR(EOMONTH(Formula!$B$4,0)>Formula!AL8,(AND(YEAR(Formula!$B$4)=YEAR(Formula!AL8),(MONTH(Formula!$B$4)=MONTH(Formula!AL8))))),Formula!AL12,\"\"),\"\")","v":""},{"$f":"IF($A$4=Formula!$A$35,IF(OR(EOMONTH(Formula!$B$4,0)>Formula!AM8,(AND(YEAR(Formula!$B$4)=YEAR(Formula!AM8),(MONTH(Formula!$B$4)=MONTH(Formula!AM8))))),Formula!AM12,\"\"),\"\")","v":""},{"$f":"IF($A$4=Formula!$A$35,IF(OR(EOMONTH(Formula!$B$4,0)>Formula!AN8,(AND(YEAR(Formula!$B$4)=YEAR(Formula!AN8),(MONTH(Formula!$B$4)=MONTH(Formula!AN8))))),Formula!AN12,\"\"),\"\")","v":""},{"$f":"IF($A$4=Formula!$A$35,IF(OR(EOMONTH(Formula!$B$4,0)>Formula!AO8,(AND(YEAR(Formula!$B$4)=YEAR(Formula!AO8),(MONTH(Formula!$B$4)=MONTH(Formula!AO8))))),Formula!AO12,\"\"),\"\")","v":""},{"$f":"IF($A$4=Formula!$A$35,IF(OR(EOMONTH(Formula!$B$4,0)>Formula!AP8,(AND(YEAR(Formula!$B$4)=YEAR(Formula!AP8),(MONTH(Formula!$B$4)=MONTH(Formula!AP8))))),Formula!AP12,\"\"),\"\")","v":""},{"$f":"IF($A$4=Formula!$A$35,IF(OR(EOMONTH(Formula!$B$4,0)>Formula!AQ8,(AND(YEAR(Formula!$B$4)=YEAR(Formula!AQ8),(MONTH(Formula!$B$4)=MONTH(Formula!AQ8))))),Formula!AQ12,\"\"),\"\")","v":""},{"$f":"IF($A$4=Formula!$A$35,IF(OR(EOMONTH(Formula!$B$4,0)>Formula!AR8,(AND(YEAR(Formula!$B$4)=YEAR(Formula!AR8),(MONTH(Formula!$B$4)=MONTH(Formula!AR8))))),Formula!AR12,\"\"),\"\")","v":""},{"$f":"IF($A$4=Formula!$A$35,IF(OR(EOMONTH(Formula!$B$4,0)>Formula!AS8,(AND(YEAR(Formula!$B$4)=YEAR(Formula!AS8),(MONTH(Formula!$B$4)=MONTH(Formula!AS8))))),Formula!AS12,\"\"),\"\")","v":""},{"$f":"IF($A$4=Formula!$A$35,IF(OR(EOMONTH(Formula!$B$4,0)>Formula!AT8,(AND(YEAR(Formula!$B$4)=YEAR(Formula!AT8),(MONTH(Formula!$B$4)=MONTH(Formula!AT8))))),Formula!AT12,\"\"),\"\")","v":""},{"$f":"IF($A$4=Formula!$A$35,IF(OR(EOMONTH(Formula!$B$4,0)>Formula!AU8,(AND(YEAR(Formula!$B$4)=YEAR(Formula!AU8),(MONTH(Formula!$B$4)=MONTH(Formula!AU8))))),Formula!AU12,\"\"),\"\")","v":""},{"$f":"IF($A$4=Formula!$A$35,IF(OR(EOMONTH(Formula!$B$4,0)>Formula!AV8,(AND(YEAR(Formula!$B$4)=YEAR(Formula!AV8),(MONTH(Formula!$B$4)=MONTH(Formula!AV8))))),Formula!AV12,\"\"),\"\")","v":""},{"$f":"IF($A$4=Formula!$A$35,IF(OR(EOMONTH(Formula!$B$4,0)>Formula!AW8,(AND(YEAR(Formula!$B$4)=YEAR(Formula!AW8),(MONTH(Formula!$B$4)=MONTH(Formula!AW8))))),Formula!AW12,\"\"),\"\")","v":""},{"$f":"IF($A$4=Formula!$A$35,IF(OR(EOMONTH(Formula!$B$4,0)>Formula!AX8,(AND(YEAR(Formula!$B$4)=YEAR(Formula!AX8),(MONTH(Formula!$B$4)=MONTH(Formula!AX8))))),Formula!AX12,\"\"),\"\")","v":""},{"$f":"IF($A$4=Formula!$A$35,IF(OR(EOMONTH(Formula!$B$4,0)>Formula!AY8,(AND(YEAR(Formula!$B$4)=YEAR(Formula!AY8),(MONTH(Formula!$B$4)=MONTH(Formula!AY8))))),Formula!AY12,\"\"),\"\")","v":""},{"$f":"IF($A$4=Formula!$A$35,IF(OR(EOMONTH(Formula!$B$4,0)>Formula!AZ8,(AND(YEAR(Formula!$B$4)=YEAR(Formula!AZ8),(MONTH(Formula!$B$4)=MONTH(Formula!AZ8))))),Formula!AZ12,\"\"),\"\")","v":""},{"$f":"IF($A$4=Formula!$A$35,IF(OR(EOMONTH(Formula!$B$4,0)>Formula!BA8,(AND(YEAR(Formula!$B$4)=YEAR(Formula!BA8),(MONTH(Formula!$B$4)=MONTH(Formula!BA8))))),Formula!BA12,\"\"),\"\")","v":""},{"$f":"IF($A$4=Formula!$A$35,IF(OR(EOMONTH(Formula!$B$4,0)>Formula!BB8,(AND(YEAR(Formula!$B$4)=YEAR(Formula!BB8),(MONTH(Formula!$B$4)=MONTH(Formula!BB8))))),Formula!BB12,\"\"),\"\")","v":""},{"$f":"IF($A$4=Formula!$A$35,IF(OR(EOMONTH(Formula!$B$4,0)>Formula!BC8,(AND(YEAR(Formula!$B$4)=YEAR(Formula!BC8),(MONTH(Formula!$B$4)=MONTH(Formula!BC8))))),Formula!BC12,\"\"),\"\")","v":""},{"$f":"IF($A$4=Formula!$A$35,IF(OR(EOMONTH(Formula!$B$4,0)>Formula!BD8,(AND(YEAR(Formula!$B$4)=YEAR(Formula!BD8),(MONTH(Formula!$B$4)=MONTH(Formula!BD8))))),Formula!BD12,\"\"),\"\")","v":""},{"$f":"IF($A$4=Formula!$A$35,IF(OR(EOMONTH(Formula!$B$4,0)>Formula!BE8,(AND(YEAR(Formula!$B$4)=YEAR(Formula!BE8),(MONTH(Formula!$B$4)=MONTH(Formula!BE8))))),Formula!BE12,\"\"),\"\")","v":""},{"$f":"IF($A$4=Formula!$A$35,IF(OR(EOMONTH(Formula!$B$4,0)>Formula!BF8,(AND(YEAR(Formula!$B$4)=YEAR(Formula!BF8),(MONTH(Formula!$B$4)=MONTH(Formula!BF8))))),Formula!BF12,\"\"),\"\")","v":""},{"$f":"IF($A$4=Formula!$A$35,IF(OR(EOMONTH(Formula!$B$4,0)>Formula!BG8,(AND(YEAR(Formula!$B$4)=YEAR(Formula!BG8),(MONTH(Formula!$B$4)=MONTH(Formula!BG8))))),Formula!BG12,\"\"),\"\")","v":""},{"$f":"IF($A$4=Formula!$A$35,IF(OR(EOMONTH(Formula!$B$4,0)>Formula!BH8,(AND(YEAR(Formula!$B$4)=YEAR(Formula!BH8),(MONTH(Formula!$B$4)=MONTH(Formula!BH8))))),Formula!BH12,\"\"),\"\")","v":""},{"$f":"IF($A$4=Formula!$A$35,IF(OR(EOMONTH(Formula!$B$4,0)>Formula!BI8,(AND(YEAR(Formula!$B$4)=YEAR(Formula!BI8),(MONTH(Formula!$B$4)=MONTH(Formula!BI8))))),Formula!BI12,\"\"),\"\")","v":""},{"$f":"IF($A$4=Formula!$A$35,IF(OR(EOMONTH(Formula!$B$4,0)>Formula!BJ8,(AND(YEAR(Formula!$B$4)=YEAR(Formula!BJ8),(MONTH(Formula!$B$4)=MONTH(Formula!BJ8))))),Formula!BJ12,\"\"),\"\")","v":""},{"$f":"IF($A$4=Formula!$A$35,IF(OR(EOMONTH(Formula!$B$4,0)>Formula!BK8,(AND(YEAR(Formula!$B$4)=YEAR(Formula!BK8),(MONTH(Formula!$B$4)=MONTH(Formula!BK8))))),Formula!BK12,\"\"),\"\")","v":""},{"$f":"IF($A$4=Formula!$A$35,IF(OR(EOMONTH(Formula!$B$4,0)>Formula!BL8,(AND(YEAR(Formula!$B$4)=YEAR(Formula!BL8),(MONTH(Formula!$B$4)=MONTH(Formula!BL8))))),Formula!BL12,\"\"),\"\")","v":""},{"$f":"IF($A$4=Formula!$A$35,IF(OR(EOMONTH(Formula!$B$4,0)>Formula!BM8,(AND(YEAR(Formula!$B$4)=YEAR(Formula!BM8),(MONTH(Formula!$B$4)=MONTH(Formula!BM8))))),Formula!BM12,\"\"),\"\")","v":""},{"$f":"IF($A$4=Formula!$A$35,IF(OR(EOMONTH(Formula!$B$4,0)>Formula!BN8,(AND(YEAR(Formula!$B$4)=YEAR(Formula!BN8),(MONTH(Formula!$B$4)=MONTH(Formula!BN8))))),Formula!BN12,\"\"),\"\")","v":""},{"$f":"IF($A$4=Formula!$A$35,IF(OR(EOMONTH(Formula!$B$4,0)>Formula!BO8,(AND(YEAR(Formula!$B$4)=YEAR(Formula!BO8),(MONTH(Formula!$B$4)=MONTH(Formula!BO8))))),Formula!BO12,\"\"),\"\")","v":""},{"$f":"IF($A$4=Formula!$A$35,IF(OR(EOMONTH(Formula!$B$4,0)>Formula!BP8,(AND(YEAR(Formula!$B$4)=YEAR(Formula!BP8),(MONTH(Formula!$B$4)=MONTH(Formula!BP8))))),Formula!BP12,\"\"),\"\")","v":""},{"$f":"IF($A$4=Formula!$A$35,IF(OR(EOMONTH(Formula!$B$4,0)>Formula!BQ8,(AND(YEAR(Formula!$B$4)=YEAR(Formula!BQ8),(MONTH(Formula!$B$4)=MONTH(Formula!BQ8))))),Formula!BQ12,\"\"),\"\")","v":""},{"$f":"IF($A$4=Formula!$A$35,IF(OR(EOMONTH(Formula!$B$4,0)>Formula!BR8,(AND(YEAR(Formula!$B$4)=YEAR(Formula!BR8),(MONTH(Formula!$B$4)=MONTH(Formula!BR8))))),Formula!BR12,\"\"),\"\")","v":""},{"$f":"IF($A$4=Formula!$A$35,IF(OR(EOMONTH(Formula!$B$4,0)>Formula!BS8,(AND(YEAR(Formula!$B$4)=YEAR(Formula!BS8),(MONTH(Formula!$B$4)=MONTH(Formula!BS8))))),Formula!BS12,\"\"),\"\")","v":""},{"$f":"IF($A$4=Formula!$A$35,IF(OR(EOMONTH(Formula!$B$4,0)>Formula!BT8,(AND(YEAR(Formula!$B$4)=YEAR(Formula!BT8),(MONTH(Formula!$B$4)=MONTH(Formula!BT8))))),Formula!BT12,\"\"),\"\")","v":""},{"$f":"IF($A$4=Formula!$A$35,IF(OR(EOMONTH(Formula!$B$4,0)>Formula!BU8,(AND(YEAR(Formula!$B$4)=YEAR(Formula!BU8),(MONTH(Formula!$B$4)=MONTH(Formula!BU8))))),Formula!BU12,\"\"),\"\")","v":""},{"$f":"IF($A$4=Formula!$A$35,IF(OR(EOMONTH(Formula!$B$4,0)>Formula!BV8,(AND(YEAR(Formula!$B$4)=YEAR(Formula!BV8),(MONTH(Formula!$B$4)=MONTH(Formula!BV8))))),Formula!BV12,\"\"),\"\")","v":""},{"$f":"IF($A$4=Formula!$A$35,IF(OR(EOMONTH(Formula!$B$4,0)>Formula!BW8,(AND(YEAR(Formula!$B$4)=YEAR(Formula!BW8),(MONTH(Formula!$B$4)=MONTH(Formula!BW8))))),Formula!BW12,\"\"),\"\")","v":""},{"$f":"IF($A$4=Formula!$A$35,IF(OR(EOMONTH(Formula!$B$4,0)>Formula!BX8,(AND(YEAR(Formula!$B$4)=YEAR(Formula!BX8),(MONTH(Formula!$B$4)=MONTH(Formula!BX8))))),Formula!BX12,\"\"),\"\")","v":""},{"$f":"IF($A$4=Formula!$A$35,IF(OR(EOMONTH(Formula!$B$4,0)>Formula!BY8,(AND(YEAR(Formula!$B$4)=YEAR(Formula!BY8),(MONTH(Formula!$B$4)=MONTH(Formula!BY8))))),Formula!BY12,\"\"),\"\")","v":""},{"$f":"IF($A$4=Formula!$A$35,IF(OR(EOMONTH(Formula!$B$4,0)>Formula!BZ8,(AND(YEAR(Formula!$B$4)=YEAR(Formula!BZ8),(MONTH(Formula!$B$4)=MONTH(Formula!BZ8))))),Formula!BZ12,\"\"),\"\")","v":""},{"$f":"IF($A$4=Formula!$A$35,IF(OR(EOMONTH(Formula!$B$4,0)>Formula!CA8,(AND(YEAR(Formula!$B$4)=YEAR(Formula!CA8),(MONTH(Formula!$B$4)=MONTH(Formula!CA8))))),Formula!CA12,\"\"),\"\")","v":""},{"$f":"IF($A$4=Formula!$A$35,IF(OR(EOMONTH(Formula!$B$4,0)>Formula!CB8,(AND(YEAR(Formula!$B$4)=YEAR(Formula!CB8),(MONTH(Formula!$B$4)=MONTH(Formula!CB8))))),Formula!CB12,\"\"),\"\")","v":""},{"$f":"IF($A$4=Formula!$A$35,IF(OR(EOMONTH(Formula!$B$4,0)>Formula!CC8,(AND(YEAR(Formula!$B$4)=YEAR(Formula!CC8),(MONTH(Formula!$B$4)=MONTH(Formula!CC8))))),Formula!CC12,\"\"),\"\")","v":""},{"$f":"IF($A$4=Formula!$A$35,IF(OR(EOMONTH(Formula!$B$4,0)>Formula!CD8,(AND(YEAR(Formula!$B$4)=YEAR(Formula!CD8),(MONTH(Formula!$B$4)=MONTH(Formula!CD8))))),Formula!CD12,\"\"),\"\")","v":""},{"$f":"IF($A$4=Formula!$A$35,IF(OR(EOMONTH(Formula!$B$4,0)>Formula!CE8,(AND(YEAR(Formula!$B$4)=YEAR(Formula!CE8),(MONTH(Formula!$B$4)=MONTH(Formula!CE8))))),Formula!CE12,\"\"),\"\")","v":""},{"$f":"IF($A$4=Formula!$A$35,IF(OR(EOMONTH(Formula!$B$4,0)>Formula!CF8,(AND(YEAR(Formula!$B$4)=YEAR(Formula!CF8),(MONTH(Formula!$B$4)=MONTH(Formula!CF8))))),Formula!CF12,\"\"),\"\")","v":""},{"$f":"IF($A$4=Formula!$A$35,IF(OR(EOMONTH(Formula!$B$4,0)>Formula!CG8,(AND(YEAR(Formula!$B$4)=YEAR(Formula!CG8),(MONTH(Formula!$B$4)=MONTH(Formula!CG8))))),Formula!CG12,\"\"),\"\")","v":""},{"$f":"IF($A$4=Formula!$A$35,IF(OR(EOMONTH(Formula!$B$4,0)>Formula!CH8,(AND(YEAR(Formula!$B$4)=YEAR(Formula!CH8),(MONTH(Formula!$B$4)=MONTH(Formula!CH8))))),Formula!CH12,\"\"),\"\")","v":""},{"$f":"IF($A$4=Formula!$A$35,IF(OR(EOMONTH(Formula!$B$4,0)>Formula!CI8,(AND(YEAR(Formula!$B$4)=YEAR(Formula!CI8),(MONTH(Formula!$B$4)=MONTH(Formula!CI8))))),Formula!CI12,\"\"),\"\")","v":""},{"$f":"IF($A$4=Formula!$A$35,IF(OR(EOMONTH(Formula!$B$4,0)>Formula!CJ8,(AND(YEAR(Formula!$B$4)=YEAR(Formula!CJ8),(MONTH(Formula!$B$4)=MONTH(Formula!CJ8))))),Formula!CJ12,\"\"),\"\")","v":""},{"$f":"IF($A$4=Formula!$A$35,IF(OR(EOMONTH(Formula!$B$4,0)>Formula!CK8,(AND(YEAR(Formula!$B$4)=YEAR(Formula!CK8),(MONTH(Formula!$B$4)=MONTH(Formula!CK8))))),Formula!CK12,\"\"),\"\")","v":""},{"$f":"IF($A$4=Formula!$A$35,IF(OR(EOMONTH(Formula!$B$4,0)>Formula!CL8,(AND(YEAR(Formula!$B$4)=YEAR(Formula!CL8),(MONTH(Formula!$B$4)=MONTH(Formula!CL8))))),Formula!CL12,\"\"),\"\")","v":""},{"$f":"IF($A$4=Formula!$A$35,IF(OR(EOMONTH(Formula!$B$4,0)>Formula!CM8,(AND(YEAR(Formula!$B$4)=YEAR(Formula!CM8),(MONTH(Formula!$B$4)=MONTH(Formula!CM8))))),Formula!CM12,\"\"),\"\")","v":""},{"$f":"IF($A$4=Formula!$A$35,IF(OR(EOMONTH(Formula!$B$4,0)>Formula!CN8,(AND(YEAR(Formula!$B$4)=YEAR(Formula!CN8),(MONTH(Formula!$B$4)=MONTH(Formula!CN8))))),Formula!CN12,\"\"),\"\")","v":""},{"$f":"IF($A$4=Formula!$A$35,IF(OR(EOMONTH(Formula!$B$4,0)>Formula!CO8,(AND(YEAR(Formula!$B$4)=YEAR(Formula!CO8),(MONTH(Formula!$B$4)=MONTH(Formula!CO8))))),Formula!CO12,\"\"),\"\")","v":""},{"$f":"IF($A$4=Formula!$A$35,IF(OR(EOMONTH(Formula!$B$4,0)>Formula!CP8,(AND(YEAR(Formula!$B$4)=YEAR(Formula!CP8),(MONTH(Formula!$B$4)=MONTH(Formula!CP8))))),Formula!CP12,\"\"),\"\")","v":""},{"$f":"IF($A$4=Formula!$A$35,IF(OR(EOMONTH(Formula!$B$4,0)>Formula!CQ8,(AND(YEAR(Formula!$B$4)=YEAR(Formula!CQ8),(MONTH(Formula!$B$4)=MONTH(Formula!CQ8))))),Formula!CQ12,\"\"),\"\")","v":""},{"$f":"IF($A$4=Formula!$A$35,IF(OR(EOMONTH(Formula!$B$4,0)>Formula!CR8,(AND(YEAR(Formula!$B$4)=YEAR(Formula!CR8),(MONTH(Formula!$B$4)=MONTH(Formula!CR8))))),Formula!CR12,\"\"),\"\")","v":""},{"$f":"IF($A$4=Formula!$A$35,IF(OR(EOMONTH(Formula!$B$4,0)>Formula!CS8,(AND(YEAR(Formula!$B$4)=YEAR(Formula!CS8),(MONTH(Formula!$B$4)=MONTH(Formula!CS8))))),Formula!CS12,\"\"),\"\")","v":""},{"$f":"IF($A$4=Formula!$A$35,IF(OR(EOMONTH(Formula!$B$4,0)>Formula!CT8,(AND(YEAR(Formula!$B$4)=YEAR(Formula!CT8),(MONTH(Formula!$B$4)=MONTH(Formula!CT8))))),Formula!CT12,\"\"),\"\")","v":""},{"$f":"IF($A$4=Formula!$A$35,IF(OR(EOMONTH(Formula!$B$4,0)>Formula!CU8,(AND(YEAR(Formula!$B$4)=YEAR(Formula!CU8),(MONTH(Formula!$B$4)=MONTH(Formula!CU8))))),Formula!CU12,\"\"),\"\")","v":""},{"$f":"IF($A$4=Formula!$A$35,IF(OR(EOMONTH(Formula!$B$4,0)>Formula!CV8,(AND(YEAR(Formula!$B$4)=YEAR(Formula!CV8),(MONTH(Formula!$B$4)=MONTH(Formula!CV8))))),Formula!CV12,\"\"),\"\")","v":""},{"$f":"IF($A$4=Formula!$A$35,IF(OR(EOMONTH(Formula!$B$4,0)>Formula!CW8,(AND(YEAR(Formula!$B$4)=YEAR(Formula!CW8),(MONTH(Formula!$B$4)=MONTH(Formula!CW8))))),Formula!CW12,\"\"),\"\")","v":""},{"$f":"IF($A$4=Formula!$A$35,IF(OR(EOMONTH(Formula!$B$4,0)>Formula!CX8,(AND(YEAR(Formula!$B$4)=YEAR(Formula!CX8),(MONTH(Formula!$B$4)=MONTH(Formula!CX8))))),Formula!CX12,\"\"),\"\")","v":""},{"$f":"IF($A$4=Formula!$A$35,IF(OR(EOMONTH(Formula!$B$4,0)>Formula!CY8,(AND(YEAR(Formula!$B$4)=YEAR(Formula!CY8),(MONTH(Formula!$B$4)=MONTH(Formula!CY8))))),Formula!CY12,\"\"),\"\")","v":""},{"$f":"IF($A$4=Formula!$A$35,IF(OR(EOMONTH(Formula!$B$4,0)>Formula!CZ8,(AND(YEAR(Formula!$B$4)=YEAR(Formula!CZ8),(MONTH(Formula!$B$4)=MONTH(Formula!CZ8))))),Formula!CZ12,\"\"),\"\")","v":""},{"$f":"IF($A$4=Formula!$A$35,IF(OR(EOMONTH(Formula!$B$4,0)>Formula!DA8,(AND(YEAR(Formula!$B$4)=YEAR(Formula!DA8),(MONTH(Formula!$B$4)=MONTH(Formula!DA8))))),Formula!DA12,\"\"),\"\")","v":""},{"$f":"IF($A$4=Formula!$A$35,IF(OR(EOMONTH(Formula!$B$4,0)>Formula!DB8,(AND(YEAR(Formula!$B$4)=YEAR(Formula!DB8),(MONTH(Formula!$B$4)=MONTH(Formula!DB8))))),Formula!DB12,\"\"),\"\")","v":""},{"$f":"IF($A$4=Formula!$A$35,IF(OR(EOMONTH(Formula!$B$4,0)>Formula!DC8,(AND(YEAR(Formula!$B$4)=YEAR(Formula!DC8),(MONTH(Formula!$B$4)=MONTH(Formula!DC8))))),Formula!DC12,\"\"),\"\")","v":""},{"$f":"IF($A$4=Formula!$A$35,IF(OR(EOMONTH(Formula!$B$4,0)>Formula!DD8,(AND(YEAR(Formula!$B$4)=YEAR(Formula!DD8),(MONTH(Formula!$B$4)=MONTH(Formula!DD8))))),Formula!DD12,\"\"),\"\")","v":""},{"$f":"IF($A$4=Formula!$A$35,IF(OR(EOMONTH(Formula!$B$4,0)>Formula!DE8,(AND(YEAR(Formula!$B$4)=YEAR(Formula!DE8),(MONTH(Formula!$B$4)=MONTH(Formula!DE8))))),Formula!DE12,\"\"),\"\")","v":""},{"$f":"IF($A$4=Formula!$A$35,IF(OR(EOMONTH(Formula!$B$4,0)>Formula!DF8,(AND(YEAR(Formula!$B$4)=YEAR(Formula!DF8),(MONTH(Formula!$B$4)=MONTH(Formula!DF8))))),Formula!DF12,\"\"),\"\")","v":""},{"$f":"IF($A$4=Formula!$A$35,IF(OR(EOMONTH(Formula!$B$4,0)>Formula!DG8,(AND(YEAR(Formula!$B$4)=YEAR(Formula!DG8),(MONTH(Formula!$B$4)=MONTH(Formula!DG8))))),Formula!DG12,\"\"),\"\")","v":""},{"$f":"IF($A$4=Formula!$A$35,IF(OR(EOMONTH(Formula!$B$4,0)>Formula!DH8,(AND(YEAR(Formula!$B$4)=YEAR(Formula!DH8),(MONTH(Formula!$B$4)=MONTH(Formula!DH8))))),Formula!DH12,\"\"),\"\")","v":""},{"$f":"IF($A$4=Formula!$A$35,IF(OR(EOMONTH(Formula!$B$4,0)>Formula!DI8,(AND(YEAR(Formula!$B$4)=YEAR(Formula!DI8),(MONTH(Formula!$B$4)=MONTH(Formula!DI8))))),Formula!DI12,\"\"),\"\")","v":""},{"$f":"IF($A$4=Formula!$A$35,IF(OR(EOMONTH(Formula!$B$4,0)>Formula!DJ8,(AND(YEAR(Formula!$B$4)=YEAR(Formula!DJ8),(MONTH(Formula!$B$4)=MONTH(Formula!DJ8))))),Formula!DJ12,\"\"),\"\")","v":""},{"$f":"IF($A$4=Formula!$A$35,IF(OR(EOMONTH(Formula!$B$4,0)>Formula!DK8,(AND(YEAR(Formula!$B$4)=YEAR(Formula!DK8),(MONTH(Formula!$B$4)=MONTH(Formula!DK8))))),Formula!DK12,\"\"),\"\")","v":""},{"$f":"IF($A$4=Formula!$A$35,IF(OR(EOMONTH(Formula!$B$4,0)>Formula!DL8,(AND(YEAR(Formula!$B$4)=YEAR(Formula!DL8),(MONTH(Formula!$B$4)=MONTH(Formula!DL8))))),Formula!DL12,\"\"),\"\")","v":""},{"$f":"IF($A$4=Formula!$A$35,IF(OR(EOMONTH(Formula!$B$4,0)>Formula!DM8,(AND(YEAR(Formula!$B$4)=YEAR(Formula!DM8),(MONTH(Formula!$B$4)=MONTH(Formula!DM8))))),Formula!DM12,\"\"),\"\")","v":""},{"$f":"IF($A$4=Formula!$A$35,IF(OR(EOMONTH(Formula!$B$4,0)>Formula!DN8,(AND(YEAR(Formula!$B$4)=YEAR(Formula!DN8),(MONTH(Formula!$B$4)=MONTH(Formula!DN8))))),Formula!DN12,\"\"),\"\")","v":""},{"$f":"IF($A$4=Formula!$A$35,IF(OR(EOMONTH(Formula!$B$4,0)>Formula!DO8,(AND(YEAR(Formula!$B$4)=YEAR(Formula!DO8),(MONTH(Formula!$B$4)=MONTH(Formula!DO8))))),Formula!DO12,\"\"),\"\")","v":""},{"$f":"IF($A$4=Formula!$A$35,IF(OR(EOMONTH(Formula!$B$4,0)>Formula!DP8,(AND(YEAR(Formula!$B$4)=YEAR(Formula!DP8),(MONTH(Formula!$B$4)=MONTH(Formula!DP8))))),Formula!DP12,\"\"),\"\")","v":""},{"$f":"IF($A$4=Formula!$A$35,IF(OR(EOMONTH(Formula!$B$4,0)>Formula!DQ8,(AND(YEAR(Formula!$B$4)=YEAR(Formula!DQ8),(MONTH(Formula!$B$4)=MONTH(Formula!DQ8))))),Formula!DQ12,\"\"),\"\")","v":""},{"$f":"IF($A$4=Formula!$A$35,IF(OR(EOMONTH(Formula!$B$4,0)>Formula!DR8,(AND(YEAR(Formula!$B$4)=YEAR(Formula!DR8),(MONTH(Formula!$B$4)=MONTH(Formula!DR8))))),Formula!DR12,\"\"),\"\")","v":""},{"$f":"IF($A$4=Formula!$A$35,IF(OR(EOMONTH(Formula!$B$4,0)>Formula!DS8,(AND(YEAR(Formula!$B$4)=YEAR(Formula!DS8),(MONTH(Formula!$B$4)=MONTH(Formula!DS8))))),Formula!DS12,\"\"),\"\")","v":""},{"$f":"IF($A$4=Formula!$A$35,IF(OR(EOMONTH(Formula!$B$4,0)>Formula!DT8,(AND(YEAR(Formula!$B$4)=YEAR(Formula!DT8),(MONTH(Formula!$B$4)=MONTH(Formula!DT8))))),Formula!DT12,\"\"),\"\")","v":""},{"$f":"IF($A$4=Formula!$A$35,IF(OR(EOMONTH(Formula!$B$4,0)>Formula!DU8,(AND(YEAR(Formula!$B$4)=YEAR(Formula!DU8),(MONTH(Formula!$B$4)=MONTH(Formula!DU8))))),Formula!DU12,\"\"),\"\")","v":""},{"$f":"IF($A$4=Formula!$A$35,IF(OR(EOMONTH(Formula!$B$4,0)>Formula!DV8,(AND(YEAR(Formula!$B$4)=YEAR(Formula!DV8),(MONTH(Formula!$B$4)=MONTH(Formula!DV8))))),Formula!DV12,\"\"),\"\")","v":""},{"$f":"IF($A$4=Formula!$A$35,IF(OR(EOMONTH(Formula!$B$4,0)>Formula!DW8,(AND(YEAR(Formula!$B$4)=YEAR(Formula!DW8),(MONTH(Formula!$B$4)=MONTH(Formula!DW8))))),Formula!DW12,\"\"),\"\")","v":""},{"$f":"IF($A$4=Formula!$A$35,IF(OR(EOMONTH(Formula!$B$4,0)>Formula!DX8,(AND(YEAR(Formula!$B$4)=YEAR(Formula!DX8),(MONTH(Formula!$B$4)=MONTH(Formula!DX8))))),Formula!DX12,\"\"),\"\")","v":""},{"$f":"IF($A$4=Formula!$A$35,IF(OR(EOMONTH(Formula!$B$4,0)>Formula!DY8,(AND(YEAR(Formula!$B$4)=YEAR(Formula!DY8),(MONTH(Formula!$B$4)=MONTH(Formula!DY8))))),Formula!DY12,\"\"),\"\")","v":""},{"$f":"IF($A$4=Formula!$A$35,IF(OR(EOMONTH(Formula!$B$4,0)>Formula!DZ8,(AND(YEAR(Formula!$B$4)=YEAR(Formula!DZ8),(MONTH(Formula!$B$4)=MONTH(Formula!DZ8))))),Formula!DZ12,\"\"),\"\")","v":""},{"$f":"IF($A$4=Formula!$A$35,IF(OR(EOMONTH(Formula!$B$4,0)>Formula!EA8,(AND(YEAR(Formula!$B$4)=YEAR(Formula!EA8),(MONTH(Formula!$B$4)=MONTH(Formula!EA8))))),Formula!EA12,\"\"),\"\")","v":""},{"$f":"IF($A$4=Formula!$A$35,IF(OR(EOMONTH(Formula!$B$4,0)>Formula!EB8,(AND(YEAR(Formula!$B$4)=YEAR(Formula!EB8),(MONTH(Formula!$B$4)=MONTH(Formula!EB8))))),Formula!EB12,\"\"),\"\")","v":""},{"$f":"IF($A$4=Formula!$A$35,IF(OR(EOMONTH(Formula!$B$4,0)>Formula!EC8,(AND(YEAR(Formula!$B$4)=YEAR(Formula!EC8),(MONTH(Formula!$B$4)=MONTH(Formula!EC8))))),Formula!EC12,\"\"),\"\")","v":""},{"$f":"IF($A$4=Formula!$A$35,IF(OR(EOMONTH(Formula!$B$4,0)>Formula!ED8,(AND(YEAR(Formula!$B$4)=YEAR(Formula!ED8),(MONTH(Formula!$B$4)=MONTH(Formula!ED8))))),Formula!ED12,\"\"),\"\")","v":""},{"$f":"IF($A$4=Formula!$A$35,IF(OR(EOMONTH(Formula!$B$4,0)>Formula!EE8,(AND(YEAR(Formula!$B$4)=YEAR(Formula!EE8),(MONTH(Formula!$B$4)=MONTH(Formula!EE8))))),Formula!EE12,\"\"),\"\")","v":""},{"$f":"IF($A$4=Formula!$A$35,IF(OR(EOMONTH(Formula!$B$4,0)>Formula!EF8,(AND(YEAR(Formula!$B$4)=YEAR(Formula!EF8),(MONTH(Formula!$B$4)=MONTH(Formula!EF8))))),Formula!EF12,\"\"),\"\")","v":""},{"$f":"IF($A$4=Formula!$A$35,IF(OR(EOMONTH(Formula!$B$4,0)>Formula!EG8,(AND(YEAR(Formula!$B$4)=YEAR(Formula!EG8),(MONTH(Formula!$B$4)=MONTH(Formula!EG8))))),Formula!EG12,\"\"),\"\")","v":""},{"$f":"IF($A$4=Formula!$A$35,IF(OR(EOMONTH(Formula!$B$4,0)>Formula!EH8,(AND(YEAR(Formula!$B$4)=YEAR(Formula!EH8),(MONTH(Formula!$B$4)=MONTH(Formula!EH8))))),Formula!EH12,\"\"),\"\")","v":""},{"$f":"IF($A$4=Formula!$A$35,IF(OR(EOMONTH(Formula!$B$4,0)>Formula!EI8,(AND(YEAR(Formula!$B$4)=YEAR(Formula!EI8),(MONTH(Formula!$B$4)=MONTH(Formula!EI8))))),Formula!EI12,\"\"),\"\")","v":""},{"$f":"IF($A$4=Formula!$A$35,IF(OR(EOMONTH(Formula!$B$4,0)>Formula!EJ8,(AND(YEAR(Formula!$B$4)=YEAR(Formula!EJ8),(MONTH(Formula!$B$4)=MONTH(Formula!EJ8))))),Formula!EJ12,\"\"),\"\")","v":""},{"$f":"IF($A$4=Formula!$A$35,IF(OR(EOMONTH(Formula!$B$4,0)>Formula!EK8,(AND(YEAR(Formula!$B$4)=YEAR(Formula!EK8),(MONTH(Formula!$B$4)=MONTH(Formula!EK8))))),Formula!EK12,\"\"),\"\")","v":""},{"$f":"IF($A$4=Formula!$A$35,IF(OR(EOMONTH(Formula!$B$4,0)>Formula!EL8,(AND(YEAR(Formula!$B$4)=YEAR(Formula!EL8),(MONTH(Formula!$B$4)=MONTH(Formula!EL8))))),Formula!EL12,\"\"),\"\")","v":""},{"$f":"IF($A$4=Formula!$A$35,IF(OR(EOMONTH(Formula!$B$4,0)>Formula!EM8,(AND(YEAR(Formula!$B$4)=YEAR(Formula!EM8),(MONTH(Formula!$B$4)=MONTH(Formula!EM8))))),Formula!EM12,\"\"),\"\")","v":""},{"$f":"IF($A$4=Formula!$A$35,IF(OR(EOMONTH(Formula!$B$4,0)>Formula!EN8,(AND(YEAR(Formula!$B$4)=YEAR(Formula!EN8),(MONTH(Formula!$B$4)=MONTH(Formula!EN8))))),Formula!EN12,\"\"),\"\")","v":""},{"$f":"IF($A$4=Formula!$A$35,IF(OR(EOMONTH(Formula!$B$4,0)>Formula!EO8,(AND(YEAR(Formula!$B$4)=YEAR(Formula!EO8),(MONTH(Formula!$B$4)=MONTH(Formula!EO8))))),Formula!EO12,\"\"),\"\")","v":""},{"$f":"IF($A$4=Formula!$A$35,IF(OR(EOMONTH(Formula!$B$4,0)>Formula!EP8,(AND(YEAR(Formula!$B$4)=YEAR(Formula!EP8),(MONTH(Formula!$B$4)=MONTH(Formula!EP8))))),Formula!EP12,\"\"),\"\")","v":""},{"$f":"IF($A$4=Formula!$A$35,IF(OR(EOMONTH(Formula!$B$4,0)>Formula!EQ8,(AND(YEAR(Formula!$B$4)=YEAR(Formula!EQ8),(MONTH(Formula!$B$4)=MONTH(Formula!EQ8))))),Formula!EQ12,\"\"),\"\")","v":""},{"$f":"IF($A$4=Formula!$A$35,IF(OR(EOMONTH(Formula!$B$4,0)>Formula!ER8,(AND(YEAR(Formula!$B$4)=YEAR(Formula!ER8),(MONTH(Formula!$B$4)=MONTH(Formula!ER8))))),Formula!ER12,\"\"),\"\")","v":""},{"$f":"IF($A$4=Formula!$A$35,IF(OR(EOMONTH(Formula!$B$4,0)>Formula!ES8,(AND(YEAR(Formula!$B$4)=YEAR(Formula!ES8),(MONTH(Formula!$B$4)=MONTH(Formula!ES8))))),Formula!ES12,\"\"),\"\")","v":""},{"$f":"IF($A$4=Formula!$A$35,IF(OR(EOMONTH(Formula!$B$4,0)>Formula!ET8,(AND(YEAR(Formula!$B$4)=YEAR(Formula!ET8),(MONTH(Formula!$B$4)=MONTH(Formula!ET8))))),Formula!ET12,\"\"),\"\")","v":""},{"$f":"IF($A$4=Formula!$A$35,IF(OR(EOMONTH(Formula!$B$4,0)>Formula!EU8,(AND(YEAR(Formula!$B$4)=YEAR(Formula!EU8),(MONTH(Formula!$B$4)=MONTH(Formula!EU8))))),Formula!EU12,\"\"),\"\")","v":""},{"$f":"IF($A$4=Formula!$A$35,IF(OR(EOMONTH(Formula!$B$4,0)>Formula!EV8,(AND(YEAR(Formula!$B$4)=YEAR(Formula!EV8),(MONTH(Formula!$B$4)=MONTH(Formula!EV8))))),Formula!EV12,\"\"),\"\")","v":""},{"$f":"IF($A$4=Formula!$A$35,IF(OR(EOMONTH(Formula!$B$4,0)>Formula!EW8,(AND(YEAR(Formula!$B$4)=YEAR(Formula!EW8),(MONTH(Formula!$B$4)=MONTH(Formula!EW8))))),Formula!EW12,\"\"),\"\")","v":""},{"$f":"IF($A$4=Formula!$A$35,IF(OR(EOMONTH(Formula!$B$4,0)>Formula!EX8,(AND(YEAR(Formula!$B$4)=YEAR(Formula!EX8),(MONTH(Formula!$B$4)=MONTH(Formula!EX8))))),Formula!EX12,\"\"),\"\")","v":""},{"$f":"IF($A$4=Formula!$A$35,IF(OR(EOMONTH(Formula!$B$4,0)>Formula!EY8,(AND(YEAR(Formula!$B$4)=YEAR(Formula!EY8),(MONTH(Formula!$B$4)=MONTH(Formula!EY8))))),Formula!EY12,\"\"),\"\")","v":""},{"$f":"IF($A$4=Formula!$A$35,IF(OR(EOMONTH(Formula!$B$4,0)>Formula!EZ8,(AND(YEAR(Formula!$B$4)=YEAR(Formula!EZ8),(MONTH(Formula!$B$4)=MONTH(Formula!EZ8))))),Formula!EZ12,\"\"),\"\")","v":""},{"$f":"IF($A$4=Formula!$A$35,IF(OR(EOMONTH(Formula!$B$4,0)>Formula!FA8,(AND(YEAR(Formula!$B$4)=YEAR(Formula!FA8),(MONTH(Formula!$B$4)=MONTH(Formula!FA8))))),Formula!FA12,\"\"),\"\")","v":""},{"$f":"IF($A$4=Formula!$A$35,IF(OR(EOMONTH(Formula!$B$4,0)>Formula!FB8,(AND(YEAR(Formula!$B$4)=YEAR(Formula!FB8),(MONTH(Formula!$B$4)=MONTH(Formula!FB8))))),Formula!FB12,\"\"),\"\")","v":""},{"$f":"IF($A$4=Formula!$A$35,IF(OR(EOMONTH(Formula!$B$4,0)>Formula!FC8,(AND(YEAR(Formula!$B$4)=YEAR(Formula!FC8),(MONTH(Formula!$B$4)=MONTH(Formula!FC8))))),Formula!FC12,\"\"),\"\")","v":""},{"$f":"IF($A$4=Formula!$A$35,IF(OR(EOMONTH(Formula!$B$4,0)>Formula!FD8,(AND(YEAR(Formula!$B$4)=YEAR(Formula!FD8),(MONTH(Formula!$B$4)=MONTH(Formula!FD8))))),Formula!FD12,\"\"),\"\")","v":""},{"$f":"IF($A$4=Formula!$A$35,IF(OR(EOMONTH(Formula!$B$4,0)>Formula!FE8,(AND(YEAR(Formula!$B$4)=YEAR(Formula!FE8),(MONTH(Formula!$B$4)=MONTH(Formula!FE8))))),Formula!FE12,\"\"),\"\")","v":""},{"$f":"IF($A$4=Formula!$A$35,IF(OR(EOMONTH(Formula!$B$4,0)>Formula!FF8,(AND(YEAR(Formula!$B$4)=YEAR(Formula!FF8),(MONTH(Formula!$B$4)=MONTH(Formula!FF8))))),Formula!FF12,\"\"),\"\")","v":""},{"$f":"IF($A$4=Formula!$A$35,IF(OR(EOMONTH(Formula!$B$4,0)>Formula!FG8,(AND(YEAR(Formula!$B$4)=YEAR(Formula!FG8),(MONTH(Formula!$B$4)=MONTH(Formula!FG8))))),Formula!FG12,\"\"),\"\")","v":""},{"$f":"IF($A$4=Formula!$A$35,IF(OR(EOMONTH(Formula!$B$4,0)>Formula!FH8,(AND(YEAR(Formula!$B$4)=YEAR(Formula!FH8),(MONTH(Formula!$B$4)=MONTH(Formula!FH8))))),Formula!FH12,\"\"),\"\")","v":""},{"$f":"IF($A$4=Formula!$A$35,IF(OR(EOMONTH(Formula!$B$4,0)>Formula!FI8,(AND(YEAR(Formula!$B$4)=YEAR(Formula!FI8),(MONTH(Formula!$B$4)=MONTH(Formula!FI8))))),Formula!FI12,\"\"),\"\")","v":""},{"$f":"IF($A$4=Formula!$A$35,IF(OR(EOMONTH(Formula!$B$4,0)>Formula!FJ8,(AND(YEAR(Formula!$B$4)=YEAR(Formula!FJ8),(MONTH(Formula!$B$4)=MONTH(Formula!FJ8))))),Formula!FJ12,\"\"),\"\")","v":""},{"$f":"IF($A$4=Formula!$A$35,IF(OR(EOMONTH(Formula!$B$4,0)>Formula!FK8,(AND(YEAR(Formula!$B$4)=YEAR(Formula!FK8),(MONTH(Formula!$B$4)=MONTH(Formula!FK8))))),Formula!FK12,\"\"),\"\")","v":""},{"$f":"IF($A$4=Formula!$A$35,IF(OR(EOMONTH(Formula!$B$4,0)>Formula!FL8,(AND(YEAR(Formula!$B$4)=YEAR(Formula!FL8),(MONTH(Formula!$B$4)=MONTH(Formula!FL8))))),Formula!FL12,\"\"),\"\")","v":""},{"$f":"IF($A$4=Formula!$A$35,IF(OR(EOMONTH(Formula!$B$4,0)>Formula!FM8,(AND(YEAR(Formula!$B$4)=YEAR(Formula!FM8),(MONTH(Formula!$B$4)=MONTH(Formula!FM8))))),Formula!FM12,\"\"),\"\")","v":""},{"$f":"IF($A$4=Formula!$A$35,IF(OR(EOMONTH(Formula!$B$4,0)>Formula!FN8,(AND(YEAR(Formula!$B$4)=YEAR(Formula!FN8),(MONTH(Formula!$B$4)=MONTH(Formula!FN8))))),Formula!FN12,\"\"),\"\")","v":""},{"$f":"IF($A$4=Formula!$A$35,IF(OR(EOMONTH(Formula!$B$4,0)>Formula!FO8,(AND(YEAR(Formula!$B$4)=YEAR(Formula!FO8),(MONTH(Formula!$B$4)=MONTH(Formula!FO8))))),Formula!FO12,\"\"),\"\")","v":""},{"$f":"IF($A$4=Formula!$A$35,IF(OR(EOMONTH(Formula!$B$4,0)>Formula!FP8,(AND(YEAR(Formula!$B$4)=YEAR(Formula!FP8),(MONTH(Formula!$B$4)=MONTH(Formula!FP8))))),Formula!FP12,\"\"),\"\")","v":""},{"$f":"IF($A$4=Formula!$A$35,IF(OR(EOMONTH(Formula!$B$4,0)>Formula!FQ8,(AND(YEAR(Formula!$B$4)=YEAR(Formula!FQ8),(MONTH(Formula!$B$4)=MONTH(Formula!FQ8))))),Formula!FQ12,\"\"),\"\")","v":""},{"$f":"IF($A$4=Formula!$A$35,IF(OR(EOMONTH(Formula!$B$4,0)>Formula!FR8,(AND(YEAR(Formula!$B$4)=YEAR(Formula!FR8),(MONTH(Formula!$B$4)=MONTH(Formula!FR8))))),Formula!FR12,\"\"),\"\")","v":""},{"$f":"IF($A$4=Formula!$A$35,IF(OR(EOMONTH(Formula!$B$4,0)>Formula!FS8,(AND(YEAR(Formula!$B$4)=YEAR(Formula!FS8),(MONTH(Formula!$B$4)=MONTH(Formula!FS8))))),Formula!FS12,\"\"),\"\")","v":""},{"$f":"IF($A$4=Formula!$A$35,IF(OR(EOMONTH(Formula!$B$4,0)>Formula!FT8,(AND(YEAR(Formula!$B$4)=YEAR(Formula!FT8),(MONTH(Formula!$B$4)=MONTH(Formula!FT8))))),Formula!FT12,\"\"),\"\")","v":""},{"$f":"IF($A$4=Formula!$A$35,IF(OR(EOMONTH(Formula!$B$4,0)>Formula!FU8,(AND(YEAR(Formula!$B$4)=YEAR(Formula!FU8),(MONTH(Formula!$B$4)=MONTH(Formula!FU8))))),Formula!FU12,\"\"),\"\")","v":""},{"$f":"IF($A$4=Formula!$A$35,IF(OR(EOMONTH(Formula!$B$4,0)>Formula!FV8,(AND(YEAR(Formula!$B$4)=YEAR(Formula!FV8),(MONTH(Formula!$B$4)=MONTH(Formula!FV8))))),Formula!FV12,\"\"),\"\")","v":""},{"$f":"IF($A$4=Formula!$A$35,IF(OR(EOMONTH(Formula!$B$4,0)>Formula!FW8,(AND(YEAR(Formula!$B$4)=YEAR(Formula!FW8),(MONTH(Formula!$B$4)=MONTH(Formula!FW8))))),Formula!FW12,\"\"),\"\")","v":""},{"$f":"IF($A$4=Formula!$A$35,IF(OR(EOMONTH(Formula!$B$4,0)>Formula!FX8,(AND(YEAR(Formula!$B$4)=YEAR(Formula!FX8),(MONTH(Formula!$B$4)=MONTH(Formula!FX8))))),Formula!FX12,\"\"),\"\")","v":""},{"$f":"IF($A$4=Formula!$A$35,IF(OR(EOMONTH(Formula!$B$4,0)>Formula!FY8,(AND(YEAR(Formula!$B$4)=YEAR(Formula!FY8),(MONTH(Formula!$B$4)=MONTH(Formula!FY8))))),Formula!FY12,\"\"),\"\")","v":""},{"$f":"IF($A$4=Formula!$A$35,IF(OR(EOMONTH(Formula!$B$4,0)>Formula!FZ8,(AND(YEAR(Formula!$B$4)=YEAR(Formula!FZ8),(MONTH(Formula!$B$4)=MONTH(Formula!FZ8))))),Formula!FZ12,\"\"),\"\")","v":""},{"$f":"IF($A$4=Formula!$A$35,IF(OR(EOMONTH(Formula!$B$4,0)>Formula!GA8,(AND(YEAR(Formula!$B$4)=YEAR(Formula!GA8),(MONTH(Formula!$B$4)=MONTH(Formula!GA8))))),Formula!GA12,\"\"),\"\")","v":""},{"$f":"IF($A$4=Formula!$A$35,IF(OR(EOMONTH(Formula!$B$4,0)>Formula!GB8,(AND(YEAR(Formula!$B$4)=YEAR(Formula!GB8),(MONTH(Formula!$B$4)=MONTH(Formula!GB8))))),Formula!GB12,\"\"),\"\")","v":""},{"$f":"IF($A$4=Formula!$A$35,IF(OR(EOMONTH(Formula!$B$4,0)>Formula!GC8,(AND(YEAR(Formula!$B$4)=YEAR(Formula!GC8),(MONTH(Formula!$B$4)=MONTH(Formula!GC8))))),Formula!GC12,\"\"),\"\")","v":""},{"$f":"IF($A$4=Formula!$A$35,IF(OR(EOMONTH(Formula!$B$4,0)>Formula!GD8,(AND(YEAR(Formula!$B$4)=YEAR(Formula!GD8),(MONTH(Formula!$B$4)=MONTH(Formula!GD8))))),Formula!GD12,\"\"),\"\")","v":""},{"$f":"IF($A$4=Formula!$A$35,IF(OR(EOMONTH(Formula!$B$4,0)>Formula!GE8,(AND(YEAR(Formula!$B$4)=YEAR(Formula!GE8),(MONTH(Formula!$B$4)=MONTH(Formula!GE8))))),Formula!GE12,\"\"),\"\")","v":""},{"$f":"IF($A$4=Formula!$A$35,IF(OR(EOMONTH(Formula!$B$4,0)>Formula!GF8,(AND(YEAR(Formula!$B$4)=YEAR(Formula!GF8),(MONTH(Formula!$B$4)=MONTH(Formula!GF8))))),Formula!GF12,\"\"),\"\")","v":""},{"$f":"IF($A$4=Formula!$A$35,IF(OR(EOMONTH(Formula!$B$4,0)>Formula!GG8,(AND(YEAR(Formula!$B$4)=YEAR(Formula!GG8),(MONTH(Formula!$B$4)=MONTH(Formula!GG8))))),Formula!GG12,\"\"),\"\")","v":""},{"$f":"IF($A$4=Formula!$A$35,IF(OR(EOMONTH(Formula!$B$4,0)>Formula!GH8,(AND(YEAR(Formula!$B$4)=YEAR(Formula!GH8),(MONTH(Formula!$B$4)=MONTH(Formula!GH8))))),Formula!GH12,\"\"),\"\")","v":""},{"$f":"IF($A$4=Formula!$A$35,IF(OR(EOMONTH(Formula!$B$4,0)>Formula!GI8,(AND(YEAR(Formula!$B$4)=YEAR(Formula!GI8),(MONTH(Formula!$B$4)=MONTH(Formula!GI8))))),Formula!GI12,\"\"),\"\")","v":""},{"$f":"IF($A$4=Formula!$A$35,IF(OR(EOMONTH(Formula!$B$4,0)>Formula!GJ8,(AND(YEAR(Formula!$B$4)=YEAR(Formula!GJ8),(MONTH(Formula!$B$4)=MONTH(Formula!GJ8))))),Formula!GJ12,\"\"),\"\")","v":""},{"$f":"IF($A$4=Formula!$A$35,IF(OR(EOMONTH(Formula!$B$4,0)>Formula!GK8,(AND(YEAR(Formula!$B$4)=YEAR(Formula!GK8),(MONTH(Formula!$B$4)=MONTH(Formula!GK8))))),Formula!GK12,\"\"),\"\")","v":""},{"$f":"IF($A$4=Formula!$A$35,IF(OR(EOMONTH(Formula!$B$4,0)>Formula!GL8,(AND(YEAR(Formula!$B$4)=YEAR(Formula!GL8),(MONTH(Formula!$B$4)=MONTH(Formula!GL8))))),Formula!GL12,\"\"),\"\")","v":""},{"$f":"IF($A$4=Formula!$A$35,IF(OR(EOMONTH(Formula!$B$4,0)>Formula!GM8,(AND(YEAR(Formula!$B$4)=YEAR(Formula!GM8),(MONTH(Formula!$B$4)=MONTH(Formula!GM8))))),Formula!GM12,\"\"),\"\")","v":""},{"$f":"IF($A$4=Formula!$A$35,IF(OR(EOMONTH(Formula!$B$4,0)>Formula!GN8,(AND(YEAR(Formula!$B$4)=YEAR(Formula!GN8),(MONTH(Formula!$B$4)=MONTH(Formula!GN8))))),Formula!GN12,\"\"),\"\")","v":""},{"$f":"IF($A$4=Formula!$A$35,IF(OR(EOMONTH(Formula!$B$4,0)>Formula!GO8,(AND(YEAR(Formula!$B$4)=YEAR(Formula!GO8),(MONTH(Formula!$B$4)=MONTH(Formula!GO8))))),Formula!GO12,\"\"),\"\")","v":""},{"$f":"IF($A$4=Formula!$A$35,IF(OR(EOMONTH(Formula!$B$4,0)>Formula!GP8,(AND(YEAR(Formula!$B$4)=YEAR(Formula!GP8),(MONTH(Formula!$B$4)=MONTH(Formula!GP8))))),Formula!GP12,\"\"),\"\")","v":""},{"$f":"IF($A$4=Formula!$A$35,IF(OR(EOMONTH(Formula!$B$4,0)>Formula!GQ8,(AND(YEAR(Formula!$B$4)=YEAR(Formula!GQ8),(MONTH(Formula!$B$4)=MONTH(Formula!GQ8))))),Formula!GQ12,\"\"),\"\")","v":""},{"$f":"IF($A$4=Formula!$A$35,IF(OR(EOMONTH(Formula!$B$4,0)>Formula!GR8,(AND(YEAR(Formula!$B$4)=YEAR(Formula!GR8),(MONTH(Formula!$B$4)=MONTH(Formula!GR8))))),Formula!GR12,\"\"),\"\")","v":""},{"$f":"IF($A$4=Formula!$A$35,IF(OR(EOMONTH(Formula!$B$4,0)>Formula!GS8,(AND(YEAR(Formula!$B$4)=YEAR(Formula!GS8),(MONTH(Formula!$B$4)=MONTH(Formula!GS8))))),Formula!GS12,\"\"),\"\")","v":""},{"$f":"IF($A$4=Formula!$A$35,IF(OR(EOMONTH(Formula!$B$4,0)>Formula!GT8,(AND(YEAR(Formula!$B$4)=YEAR(Formula!GT8),(MONTH(Formula!$B$4)=MONTH(Formula!GT8))))),Formula!GT12,\"\"),\"\")","v":""},{"$f":"IF($A$4=Formula!$A$35,IF(OR(EOMONTH(Formula!$B$4,0)>Formula!GU8,(AND(YEAR(Formula!$B$4)=YEAR(Formula!GU8),(MONTH(Formula!$B$4)=MONTH(Formula!GU8))))),Formula!GU12,\"\"),\"\")","v":""},{"$f":"IF($A$4=Formula!$A$35,IF(OR(EOMONTH(Formula!$B$4,0)>Formula!GV8,(AND(YEAR(Formula!$B$4)=YEAR(Formula!GV8),(MONTH(Formula!$B$4)=MONTH(Formula!GV8))))),Formula!GV12,\"\"),\"\")","v":""},{"$f":"IF($A$4=Formula!$A$35,IF(OR(EOMONTH(Formula!$B$4,0)>Formula!GW8,(AND(YEAR(Formula!$B$4)=YEAR(Formula!GW8),(MONTH(Formula!$B$4)=MONTH(Formula!GW8))))),Formula!GW12,\"\"),\"\")","v":""},{"$f":"IF($A$4=Formula!$A$35,IF(OR(EOMONTH(Formula!$B$4,0)>Formula!GX8,(AND(YEAR(Formula!$B$4)=YEAR(Formula!GX8),(MONTH(Formula!$B$4)=MONTH(Formula!GX8))))),Formula!GX12,\"\"),\"\")","v":""},{"$f":"IF($A$4=Formula!$A$35,IF(OR(EOMONTH(Formula!$B$4,0)>Formula!GY8,(AND(YEAR(Formula!$B$4)=YEAR(Formula!GY8),(MONTH(Formula!$B$4)=MONTH(Formula!GY8))))),Formula!GY12,\"\"),\"\")","v":""},{"$f":"IF($A$4=Formula!$A$35,IF(OR(EOMONTH(Formula!$B$4,0)>Formula!GZ8,(AND(YEAR(Formula!$B$4)=YEAR(Formula!GZ8),(MONTH(Formula!$B$4)=MONTH(Formula!GZ8))))),Formula!GZ12,\"\"),\"\")","v":""},{"$f":"IF($A$4=Formula!$A$35,IF(OR(EOMONTH(Formula!$B$4,0)>Formula!HA8,(AND(YEAR(Formula!$B$4)=YEAR(Formula!HA8),(MONTH(Formula!$B$4)=MONTH(Formula!HA8))))),Formula!HA12,\"\"),\"\")","v":""},{"$f":"IF($A$4=Formula!$A$35,IF(OR(EOMONTH(Formula!$B$4,0)>Formula!HB8,(AND(YEAR(Formula!$B$4)=YEAR(Formula!HB8),(MONTH(Formula!$B$4)=MONTH(Formula!HB8))))),Formula!HB12,\"\"),\"\")","v":""},{"$f":"IF($A$4=Formula!$A$35,IF(OR(EOMONTH(Formula!$B$4,0)>Formula!HC8,(AND(YEAR(Formula!$B$4)=YEAR(Formula!HC8),(MONTH(Formula!$B$4)=MONTH(Formula!HC8))))),Formula!HC12,\"\"),\"\")","v":""},{"$f":"IF($A$4=Formula!$A$35,IF(OR(EOMONTH(Formula!$B$4,0)>Formula!HD8,(AND(YEAR(Formula!$B$4)=YEAR(Formula!HD8),(MONTH(Formula!$B$4)=MONTH(Formula!HD8))))),Formula!HD12,\"\"),\"\")","v":""},{"$f":"IF($A$4=Formula!$A$35,IF(OR(EOMONTH(Formula!$B$4,0)>Formula!HE8,(AND(YEAR(Formula!$B$4)=YEAR(Formula!HE8),(MONTH(Formula!$B$4)=MONTH(Formula!HE8))))),Formula!HE12,\"\"),\"\")","v":""},{"$f":"IF($A$4=Formula!$A$35,IF(OR(EOMONTH(Formula!$B$4,0)>Formula!HF8,(AND(YEAR(Formula!$B$4)=YEAR(Formula!HF8),(MONTH(Formula!$B$4)=MONTH(Formula!HF8))))),Formula!HF12,\"\"),\"\")","v":""},{"$f":"IF($A$4=Formula!$A$35,IF(OR(EOMONTH(Formula!$B$4,0)>Formula!HG8,(AND(YEAR(Formula!$B$4)=YEAR(Formula!HG8),(MONTH(Formula!$B$4)=MONTH(Formula!HG8))))),Formula!HG12,\"\"),\"\")","v":""},{"$f":"IF($A$4=Formula!$A$35,IF(OR(EOMONTH(Formula!$B$4,0)>Formula!HH8,(AND(YEAR(Formula!$B$4)=YEAR(Formula!HH8),(MONTH(Formula!$B$4)=MONTH(Formula!HH8))))),Formula!HH12,\"\"),\"\")","v":""},{"$f":"IF($A$4=Formula!$A$35,IF(OR(EOMONTH(Formula!$B$4,0)>Formula!HI8,(AND(YEAR(Formula!$B$4)=YEAR(Formula!HI8),(MONTH(Formula!$B$4)=MONTH(Formula!HI8))))),Formula!HI12,\"\"),\"\")","v":""},{"$f":"IF($A$4=Formula!$A$35,IF(OR(EOMONTH(Formula!$B$4,0)>Formula!HJ8,(AND(YEAR(Formula!$B$4)=YEAR(Formula!HJ8),(MONTH(Formula!$B$4)=MONTH(Formula!HJ8))))),Formula!HJ12,\"\"),\"\")","v":""},{"$f":"IF($A$4=Formula!$A$35,IF(OR(EOMONTH(Formula!$B$4,0)>Formula!HK8,(AND(YEAR(Formula!$B$4)=YEAR(Formula!HK8),(MONTH(Formula!$B$4)=MONTH(Formula!HK8))))),Formula!HK12,\"\"),\"\")","v":""},{"$f":"IF($A$4=Formula!$A$35,IF(OR(EOMONTH(Formula!$B$4,0)>Formula!HL8,(AND(YEAR(Formula!$B$4)=YEAR(Formula!HL8),(MONTH(Formula!$B$4)=MONTH(Formula!HL8))))),Formula!HL12,\"\"),\"\")","v":""},{"$f":"IF($A$4=Formula!$A$35,IF(OR(EOMONTH(Formula!$B$4,0)>Formula!HM8,(AND(YEAR(Formula!$B$4)=YEAR(Formula!HM8),(MONTH(Formula!$B$4)=MONTH(Formula!HM8))))),Formula!HM12,\"\"),\"\")","v":""},{"$f":"IF($A$4=Formula!$A$35,IF(OR(EOMONTH(Formula!$B$4,0)>Formula!HN8,(AND(YEAR(Formula!$B$4)=YEAR(Formula!HN8),(MONTH(Formula!$B$4)=MONTH(Formula!HN8))))),Formula!HN12,\"\"),\"\")","v":""},{"$f":"IF($A$4=Formula!$A$35,IF(OR(EOMONTH(Formula!$B$4,0)>Formula!HO8,(AND(YEAR(Formula!$B$4)=YEAR(Formula!HO8),(MONTH(Formula!$B$4)=MONTH(Formula!HO8))))),Formula!HO12,\"\"),\"\")","v":""},{"$f":"IF($A$4=Formula!$A$35,IF(OR(EOMONTH(Formula!$B$4,0)>Formula!HP8,(AND(YEAR(Formula!$B$4)=YEAR(Formula!HP8),(MONTH(Formula!$B$4)=MONTH(Formula!HP8))))),Formula!HP12,\"\"),\"\")","v":""},{"$f":"IF($A$4=Formula!$A$35,IF(OR(EOMONTH(Formula!$B$4,0)>Formula!HQ8,(AND(YEAR(Formula!$B$4)=YEAR(Formula!HQ8),(MONTH(Formula!$B$4)=MONTH(Formula!HQ8))))),Formula!HQ12,\"\"),\"\")","v":""},{"$f":"IF($A$4=Formula!$A$35,IF(OR(EOMONTH(Formula!$B$4,0)>Formula!HR8,(AND(YEAR(Formula!$B$4)=YEAR(Formula!HR8),(MONTH(Formula!$B$4)=MONTH(Formula!HR8))))),Formula!HR12,\"\"),\"\")","v":""},{"$f":"IF($A$4=Formula!$A$35,IF(OR(EOMONTH(Formula!$B$4,0)>Formula!HS8,(AND(YEAR(Formula!$B$4)=YEAR(Formula!HS8),(MONTH(Formula!$B$4)=MONTH(Formula!HS8))))),Formula!HS12,\"\"),\"\")","v":""},{"$f":"IF($A$4=Formula!$A$35,IF(OR(EOMONTH(Formula!$B$4,0)>Formula!HT8,(AND(YEAR(Formula!$B$4)=YEAR(Formula!HT8),(MONTH(Formula!$B$4)=MONTH(Formula!HT8))))),Formula!HT12,\"\"),\"\")","v":""},{"$f":"IF($A$4=Formula!$A$35,IF(OR(EOMONTH(Formula!$B$4,0)>Formula!HU8,(AND(YEAR(Formula!$B$4)=YEAR(Formula!HU8),(MONTH(Formula!$B$4)=MONTH(Formula!HU8))))),Formula!HU12,\"\"),\"\")","v":""},{"$f":"IF($A$4=Formula!$A$35,IF(OR(EOMONTH(Formula!$B$4,0)>Formula!HV8,(AND(YEAR(Formula!$B$4)=YEAR(Formula!HV8),(MONTH(Formula!$B$4)=MONTH(Formula!HV8))))),Formula!HV12,\"\"),\"\")","v":""},{"$f":"IF($A$4=Formula!$A$35,IF(OR(EOMONTH(Formula!$B$4,0)>Formula!HW8,(AND(YEAR(Formula!$B$4)=YEAR(Formula!HW8),(MONTH(Formula!$B$4)=MONTH(Formula!HW8))))),Formula!HW12,\"\"),\"\")","v":""},{"$f":"IF($A$4=Formula!$A$35,IF(OR(EOMONTH(Formula!$B$4,0)>Formula!HX8,(AND(YEAR(Formula!$B$4)=YEAR(Formula!HX8),(MONTH(Formula!$B$4)=MONTH(Formula!HX8))))),Formula!HX12,\"\"),\"\")","v":""},{"$f":"IF($A$4=Formula!$A$35,IF(OR(EOMONTH(Formula!$B$4,0)>Formula!HY8,(AND(YEAR(Formula!$B$4)=YEAR(Formula!HY8),(MONTH(Formula!$B$4)=MONTH(Formula!HY8))))),Formula!HY12,\"\"),\"\")","v":""},{"$f":"IF($A$4=Formula!$A$35,IF(OR(EOMONTH(Formula!$B$4,0)>Formula!HZ8,(AND(YEAR(Formula!$B$4)=YEAR(Formula!HZ8),(MONTH(Formula!$B$4)=MONTH(Formula!HZ8))))),Formula!HZ12,\"\"),\"\")","v":""},{"$f":"IF($A$4=Formula!$A$35,IF(OR(EOMONTH(Formula!$B$4,0)>Formula!IA8,(AND(YEAR(Formula!$B$4)=YEAR(Formula!IA8),(MONTH(Formula!$B$4)=MONTH(Formula!IA8))))),Formula!IA12,\"\"),\"\")","v":""},{"$f":"IF($A$4=Formula!$A$35,IF(OR(EOMONTH(Formula!$B$4,0)>Formula!IB8,(AND(YEAR(Formula!$B$4)=YEAR(Formula!IB8),(MONTH(Formula!$B$4)=MONTH(Formula!IB8))))),Formula!IB12,\"\"),\"\")","v":""},{"$f":"IF($A$4=Formula!$A$35,IF(OR(EOMONTH(Formula!$B$4,0)>Formula!IC8,(AND(YEAR(Formula!$B$4)=YEAR(Formula!IC8),(MONTH(Formula!$B$4)=MONTH(Formula!IC8))))),Formula!IC12,\"\"),\"\")","v":""},{"$f":"IF($A$4=Formula!$A$35,IF(OR(EOMONTH(Formula!$B$4,0)>Formula!ID8,(AND(YEAR(Formula!$B$4)=YEAR(Formula!ID8),(MONTH(Formula!$B$4)=MONTH(Formula!ID8))))),Formula!ID12,\"\"),\"\")","v":""},{"$f":"IF($A$4=Formula!$A$35,IF(OR(EOMONTH(Formula!$B$4,0)>Formula!IE8,(AND(YEAR(Formula!$B$4)=YEAR(Formula!IE8),(MONTH(Formula!$B$4)=MONTH(Formula!IE8))))),Formula!IE12,\"\"),\"\")","v":""},{"$f":"IF($A$4=Formula!$A$35,IF(OR(EOMONTH(Formula!$B$4,0)>Formula!IF8,(AND(YEAR(Formula!$B$4)=YEAR(Formula!IF8),(MONTH(Formula!$B$4)=MONTH(Formula!IF8))))),Formula!IF12,\"\"),\"\")","v":""},{"$f":"IF($A$4=Formula!$A$35,IF(OR(EOMONTH(Formula!$B$4,0)>Formula!IG8,(AND(YEAR(Formula!$B$4)=YEAR(Formula!IG8),(MONTH(Formula!$B$4)=MONTH(Formula!IG8))))),Formula!IG12,\"\"),\"\")","v":""},{"$f":"IF($A$4=Formula!$A$35,IF(OR(EOMONTH(Formula!$B$4,0)>Formula!IH8,(AND(YEAR(Formula!$B$4)=YEAR(Formula!IH8),(MONTH(Formula!$B$4)=MONTH(Formula!IH8))))),Formula!IH12,\"\"),\"\")","v":""},{"$f":"IF($A$4=Formula!$A$35,IF(OR(EOMONTH(Formula!$B$4,0)>Formula!II8,(AND(YEAR(Formula!$B$4)=YEAR(Formula!II8),(MONTH(Formula!$B$4)=MONTH(Formula!II8))))),Formula!II12,\"\"),\"\")","v":""},{"$f":"IF($A$4=Formula!$A$35,IF(OR(EOMONTH(Formula!$B$4,0)>Formula!IJ8,(AND(YEAR(Formula!$B$4)=YEAR(Formula!IJ8),(MONTH(Formula!$B$4)=MONTH(Formula!IJ8))))),Formula!IJ12,\"\"),\"\")","v":""},{"$f":"IF($A$4=Formula!$A$35,IF(OR(EOMONTH(Formula!$B$4,0)>Formula!IK8,(AND(YEAR(Formula!$B$4)=YEAR(Formula!IK8),(MONTH(Formula!$B$4)=MONTH(Formula!IK8))))),Formula!IK12,\"\"),\"\")","v":""},{"$f":"IF($A$4=Formula!$A$35,IF(OR(EOMONTH(Formula!$B$4,0)>Formula!IL8,(AND(YEAR(Formula!$B$4)=YEAR(Formula!IL8),(MONTH(Formula!$B$4)=MONTH(Formula!IL8))))),Formula!IL12,\"\"),\"\")","v":""},{"$f":"IF($A$4=Formula!$A$35,IF(OR(EOMONTH(Formula!$B$4,0)>Formula!IM8,(AND(YEAR(Formula!$B$4)=YEAR(Formula!IM8),(MONTH(Formula!$B$4)=MONTH(Formula!IM8))))),Formula!IM12,\"\"),\"\")","v":""},{"$f":"IF($A$4=Formula!$A$35,IF(OR(EOMONTH(Formula!$B$4,0)>Formula!IN8,(AND(YEAR(Formula!$B$4)=YEAR(Formula!IN8),(MONTH(Formula!$B$4)=MONTH(Formula!IN8))))),Formula!IN12,\"\"),\"\")","v":""},{"$f":"IF($A$4=Formula!$A$35,IF(OR(EOMONTH(Formula!$B$4,0)>Formula!IO8,(AND(YEAR(Formula!$B$4)=YEAR(Formula!IO8),(MONTH(Formula!$B$4)=MONTH(Formula!IO8))))),Formula!IO12,\"\"),\"\")","v":""},{"$f":"IF($A$4=Formula!$A$35,IF(OR(EOMONTH(Formula!$B$4,0)>Formula!IP8,(AND(YEAR(Formula!$B$4)=YEAR(Formula!IP8),(MONTH(Formula!$B$4)=MONTH(Formula!IP8))))),Formula!IP12,\"\"),\"\")","v":""},{"$f":"IF($A$4=Formula!$A$35,IF(OR(EOMONTH(Formula!$B$4,0)>Formula!IQ8,(AND(YEAR(Formula!$B$4)=YEAR(Formula!IQ8),(MONTH(Formula!$B$4)=MONTH(Formula!IQ8))))),Formula!IQ12,\"\"),\"\")","v":""},{"$f":"IF($A$4=Formula!$A$35,IF(OR(EOMONTH(Formula!$B$4,0)>Formula!IR8,(AND(YEAR(Formula!$B$4)=YEAR(Formula!IR8),(MONTH(Formula!$B$4)=MONTH(Formula!IR8))))),Formula!IR12,\"\"),\"\")","v":""},{"$f":"IF($A$4=Formula!$A$35,IF(OR(EOMONTH(Formula!$B$4,0)>Formula!IS8,(AND(YEAR(Formula!$B$4)=YEAR(Formula!IS8),(MONTH(Formula!$B$4)=MONTH(Formula!IS8))))),Formula!IS12,\"\"),\"\")","v":""},{"$f":"IF($A$4=Formula!$A$35,IF(OR(EOMONTH(Formula!$B$4,0)>Formula!IT8,(AND(YEAR(Formula!$B$4)=YEAR(Formula!IT8),(MONTH(Formula!$B$4)=MONTH(Formula!IT8))))),Formula!IT12,\"\"),\"\")","v":""},{"$f":"IF($A$4=Formula!$A$35,IF(OR(EOMONTH(Formula!$B$4,0)>Formula!IU8,(AND(YEAR(Formula!$B$4)=YEAR(Formula!IU8),(MONTH(Formula!$B$4)=MONTH(Formula!IU8))))),Formula!IU12,\"\"),\"\")","v":""},{"$f":"IF($A$4=Formula!$A$35,IF(OR(EOMONTH(Formula!$B$4,0)>Formula!IV8,(AND(YEAR(Formula!$B$4)=YEAR(Formula!IV8),(MONTH(Formula!$B$4)=MONTH(Formula!IV8))))),Formula!IV12,\"\"),\"\")","v":""},{"$f":"IF($A$4=Formula!$A$35,IF(OR(EOMONTH(Formula!$B$4,0)>Formula!IW8,(AND(YEAR(Formula!$B$4)=YEAR(Formula!IW8),(MONTH(Formula!$B$4)=MONTH(Formula!IW8))))),Formula!IW12,\"\"),\"\")","v":""},{"$f":"IF($A$4=Formula!$A$35,IF(OR(EOMONTH(Formula!$B$4,0)>Formula!IX8,(AND(YEAR(Formula!$B$4)=YEAR(Formula!IX8),(MONTH(Formula!$B$4)=MONTH(Formula!IX8))))),Formula!IX12,\"\"),\"\")","v":""},{"$f":"IF($A$4=Formula!$A$35,IF(OR(EOMONTH(Formula!$B$4,0)>Formula!IY8,(AND(YEAR(Formula!$B$4)=YEAR(Formula!IY8),(MONTH(Formula!$B$4)=MONTH(Formula!IY8))))),Formula!IY12,\"\"),\"\")","v":""},{"$f":"IF($A$4=Formula!$A$35,IF(OR(EOMONTH(Formula!$B$4,0)>Formula!IZ8,(AND(YEAR(Formula!$B$4)=YEAR(Formula!IZ8),(MONTH(Formula!$B$4)=MONTH(Formula!IZ8))))),Formula!IZ12,\"\"),\"\")","v":""},{"$f":"IF($A$4=Formula!$A$35,IF(OR(EOMONTH(Formula!$B$4,0)>Formula!JA8,(AND(YEAR(Formula!$B$4)=YEAR(Formula!JA8),(MONTH(Formula!$B$4)=MONTH(Formula!JA8))))),Formula!JA12,\"\"),\"\")","v":""},{"$f":"IF($A$4=Formula!$A$35,IF(OR(EOMONTH(Formula!$B$4,0)>Formula!JB8,(AND(YEAR(Formula!$B$4)=YEAR(Formula!JB8),(MONTH(Formula!$B$4)=MONTH(Formula!JB8))))),Formula!JB12,\"\"),\"\")","v":""},{"$f":"IF($A$4=Formula!$A$35,IF(OR(EOMONTH(Formula!$B$4,0)>Formula!JC8,(AND(YEAR(Formula!$B$4)=YEAR(Formula!JC8),(MONTH(Formula!$B$4)=MONTH(Formula!JC8))))),Formula!JC12,\"\"),\"\")","v":""},{"$f":"IF($A$4=Formula!$A$35,IF(OR(EOMONTH(Formula!$B$4,0)>Formula!JD8,(AND(YEAR(Formula!$B$4)=YEAR(Formula!JD8),(MONTH(Formula!$B$4)=MONTH(Formula!JD8))))),Formula!JD12,\"\"),\"\")","v":""},{"$f":"IF($A$4=Formula!$A$35,IF(OR(EOMONTH(Formula!$B$4,0)>Formula!JE8,(AND(YEAR(Formula!$B$4)=YEAR(Formula!JE8),(MONTH(Formula!$B$4)=MONTH(Formula!JE8))))),Formula!JE12,\"\"),\"\")","v":""},{"$f":"IF($A$4=Formula!$A$35,IF(OR(EOMONTH(Formula!$B$4,0)>Formula!JF8,(AND(YEAR(Formula!$B$4)=YEAR(Formula!JF8),(MONTH(Formula!$B$4)=MONTH(Formula!JF8))))),Formula!JF12,\"\"),\"\")","v":""},{"$f":"IF($A$4=Formula!$A$35,IF(OR(EOMONTH(Formula!$B$4,0)>Formula!JG8,(AND(YEAR(Formula!$B$4)=YEAR(Formula!JG8),(MONTH(Formula!$B$4)=MONTH(Formula!JG8))))),Formula!JG12,\"\"),\"\")","v":""},{"$f":"IF($A$4=Formula!$A$35,IF(OR(EOMONTH(Formula!$B$4,0)>Formula!JH8,(AND(YEAR(Formula!$B$4)=YEAR(Formula!JH8),(MONTH(Formula!$B$4)=MONTH(Formula!JH8))))),Formula!JH12,\"\"),\"\")","v":""},{"$f":"IF($A$4=Formula!$A$35,IF(OR(EOMONTH(Formula!$B$4,0)>Formula!JI8,(AND(YEAR(Formula!$B$4)=YEAR(Formula!JI8),(MONTH(Formula!$B$4)=MONTH(Formula!JI8))))),Formula!JI12,\"\"),\"\")","v":""},{"$f":"IF($A$4=Formula!$A$35,IF(OR(EOMONTH(Formula!$B$4,0)>Formula!JJ8,(AND(YEAR(Formula!$B$4)=YEAR(Formula!JJ8),(MONTH(Formula!$B$4)=MONTH(Formula!JJ8))))),Formula!JJ12,\"\"),\"\")","v":""},{"$f":"IF($A$4=Formula!$A$35,IF(OR(EOMONTH(Formula!$B$4,0)>Formula!JK8,(AND(YEAR(Formula!$B$4)=YEAR(Formula!JK8),(MONTH(Formula!$B$4)=MONTH(Formula!JK8))))),Formula!JK12,\"\"),\"\")","v":""},{"$f":"IF($A$4=Formula!$A$35,IF(OR(EOMONTH(Formula!$B$4,0)>Formula!JL8,(AND(YEAR(Formula!$B$4)=YEAR(Formula!JL8),(MONTH(Formula!$B$4)=MONTH(Formula!JL8))))),Formula!JL12,\"\"),\"\")","v":""},{"$f":"IF($A$4=Formula!$A$35,IF(OR(EOMONTH(Formula!$B$4,0)>Formula!JM8,(AND(YEAR(Formula!$B$4)=YEAR(Formula!JM8),(MONTH(Formula!$B$4)=MONTH(Formula!JM8))))),Formula!JM12,\"\"),\"\")","v":""},{"$f":"IF($A$4=Formula!$A$35,IF(OR(EOMONTH(Formula!$B$4,0)>Formula!JN8,(AND(YEAR(Formula!$B$4)=YEAR(Formula!JN8),(MONTH(Formula!$B$4)=MONTH(Formula!JN8))))),Formula!JN12,\"\"),\"\")","v":""},{"$f":"IF($A$4=Formula!$A$35,IF(OR(EOMONTH(Formula!$B$4,0)>Formula!JO8,(AND(YEAR(Formula!$B$4)=YEAR(Formula!JO8),(MONTH(Formula!$B$4)=MONTH(Formula!JO8))))),Formula!JO12,\"\"),\"\")","v":""},{"$f":"IF($A$4=Formula!$A$35,IF(OR(EOMONTH(Formula!$B$4,0)>Formula!JP8,(AND(YEAR(Formula!$B$4)=YEAR(Formula!JP8),(MONTH(Formula!$B$4)=MONTH(Formula!JP8))))),Formula!JP12,\"\"),\"\")","v":""},{"$f":"IF($A$4=Formula!$A$35,IF(OR(EOMONTH(Formula!$B$4,0)>Formula!JQ8,(AND(YEAR(Formula!$B$4)=YEAR(Formula!JQ8),(MONTH(Formula!$B$4)=MONTH(Formula!JQ8))))),Formula!JQ12,\"\"),\"\")","v":""},{"$f":"IF($A$4=Formula!$A$35,IF(OR(EOMONTH(Formula!$B$4,0)>Formula!JR8,(AND(YEAR(Formula!$B$4)=YEAR(Formula!JR8),(MONTH(Formula!$B$4)=MONTH(Formula!JR8))))),Formula!JR12,\"\"),\"\")","v":""},{"$f":"IF($A$4=Formula!$A$35,IF(OR(EOMONTH(Formula!$B$4,0)>Formula!JS8,(AND(YEAR(Formula!$B$4)=YEAR(Formula!JS8),(MONTH(Formula!$B$4)=MONTH(Formula!JS8))))),Formula!JS12,\"\"),\"\")","v":""},{"$f":"IF($A$4=Formula!$A$35,IF(OR(EOMONTH(Formula!$B$4,0)>Formula!JT8,(AND(YEAR(Formula!$B$4)=YEAR(Formula!JT8),(MONTH(Formula!$B$4)=MONTH(Formula!JT8))))),Formula!JT12,\"\"),\"\")","v":""},{"$f":"IF($A$4=Formula!$A$35,IF(OR(EOMONTH(Formula!$B$4,0)>Formula!JU8,(AND(YEAR(Formula!$B$4)=YEAR(Formula!JU8),(MONTH(Formula!$B$4)=MONTH(Formula!JU8))))),Formula!JU12,\"\"),\"\")","v":""},{"$f":"IF($A$4=Formula!$A$35,IF(OR(EOMONTH(Formula!$B$4,0)>Formula!JV8,(AND(YEAR(Formula!$B$4)=YEAR(Formula!JV8),(MONTH(Formula!$B$4)=MONTH(Formula!JV8))))),Formula!JV12,\"\"),\"\")","v":""},{"$f":"IF($A$4=Formula!$A$35,IF(OR(EOMONTH(Formula!$B$4,0)>Formula!JW8,(AND(YEAR(Formula!$B$4)=YEAR(Formula!JW8),(MONTH(Formula!$B$4)=MONTH(Formula!JW8))))),Formula!JW12,\"\"),\"\")","v":""},{"$f":"IF($A$4=Formula!$A$35,IF(OR(EOMONTH(Formula!$B$4,0)>Formula!JX8,(AND(YEAR(Formula!$B$4)=YEAR(Formula!JX8),(MONTH(Formula!$B$4)=MONTH(Formula!JX8))))),Formula!JX12,\"\"),\"\")","v":""},{"$f":"IF($A$4=Formula!$A$35,IF(OR(EOMONTH(Formula!$B$4,0)>Formula!JY8,(AND(YEAR(Formula!$B$4)=YEAR(Formula!JY8),(MONTH(Formula!$B$4)=MONTH(Formula!JY8))))),Formula!JY12,\"\"),\"\")","v":""},{"$f":"IF($A$4=Formula!$A$35,IF(OR(EOMONTH(Formula!$B$4,0)>Formula!JZ8,(AND(YEAR(Formula!$B$4)=YEAR(Formula!JZ8),(MONTH(Formula!$B$4)=MONTH(Formula!JZ8))))),Formula!JZ12,\"\"),\"\")","v":""},{"$f":"IF($A$4=Formula!$A$35,IF(OR(EOMONTH(Formula!$B$4,0)>Formula!KA8,(AND(YEAR(Formula!$B$4)=YEAR(Formula!KA8),(MONTH(Formula!$B$4)=MONTH(Formula!KA8))))),Formula!KA12,\"\"),\"\")","v":""},{"$f":"IF($A$4=Formula!$A$35,IF(OR(EOMONTH(Formula!$B$4,0)>Formula!KB8,(AND(YEAR(Formula!$B$4)=YEAR(Formula!KB8),(MONTH(Formula!$B$4)=MONTH(Formula!KB8))))),Formula!KB12,\"\"),\"\")","v":""},{"$f":"IF($A$4=Formula!$A$35,IF(OR(EOMONTH(Formula!$B$4,0)>Formula!KC8,(AND(YEAR(Formula!$B$4)=YEAR(Formula!KC8),(MONTH(Formula!$B$4)=MONTH(Formula!KC8))))),Formula!KC12,\"\"),\"\")","v":""},{"$f":"IF($A$4=Formula!$A$35,IF(OR(EOMONTH(Formula!$B$4,0)>Formula!KD8,(AND(YEAR(Formula!$B$4)=YEAR(Formula!KD8),(MONTH(Formula!$B$4)=MONTH(Formula!KD8))))),Formula!KD12,\"\"),\"\")","v":""},{"$f":"IF($A$4=Formula!$A$35,IF(OR(EOMONTH(Formula!$B$4,0)>Formula!KE8,(AND(YEAR(Formula!$B$4)=YEAR(Formula!KE8),(MONTH(Formula!$B$4)=MONTH(Formula!KE8))))),Formula!KE12,\"\"),\"\")","v":""},{"$f":"IF($A$4=Formula!$A$35,IF(OR(EOMONTH(Formula!$B$4,0)>Formula!KF8,(AND(YEAR(Formula!$B$4)=YEAR(Formula!KF8),(MONTH(Formula!$B$4)=MONTH(Formula!KF8))))),Formula!KF12,\"\"),\"\")","v":""},{"$f":"IF($A$4=Formula!$A$35,IF(OR(EOMONTH(Formula!$B$4,0)>Formula!KG8,(AND(YEAR(Formula!$B$4)=YEAR(Formula!KG8),(MONTH(Formula!$B$4)=MONTH(Formula!KG8))))),Formula!KG12,\"\"),\"\")","v":""},{"$f":"IF($A$4=Formula!$A$35,IF(OR(EOMONTH(Formula!$B$4,0)>Formula!KH8,(AND(YEAR(Formula!$B$4)=YEAR(Formula!KH8),(MONTH(Formula!$B$4)=MONTH(Formula!KH8))))),Formula!KH12,\"\"),\"\")","v":""},{"$f":"IF($A$4=Formula!$A$35,IF(OR(EOMONTH(Formula!$B$4,0)>Formula!KI8,(AND(YEAR(Formula!$B$4)=YEAR(Formula!KI8),(MONTH(Formula!$B$4)=MONTH(Formula!KI8))))),Formula!KI12,\"\"),\"\")","v":""},{"$f":"IF($A$4=Formula!$A$35,IF(OR(EOMONTH(Formula!$B$4,0)>Formula!KJ8,(AND(YEAR(Formula!$B$4)=YEAR(Formula!KJ8),(MONTH(Formula!$B$4)=MONTH(Formula!KJ8))))),Formula!KJ12,\"\"),\"\")","v":""},{"$f":"IF($A$4=Formula!$A$35,IF(OR(EOMONTH(Formula!$B$4,0)>Formula!KK8,(AND(YEAR(Formula!$B$4)=YEAR(Formula!KK8),(MONTH(Formula!$B$4)=MONTH(Formula!KK8))))),Formula!KK12,\"\"),\"\")","v":""},{"$f":"IF($A$4=Formula!$A$35,IF(OR(EOMONTH(Formula!$B$4,0)>Formula!KL8,(AND(YEAR(Formula!$B$4)=YEAR(Formula!KL8),(MONTH(Formula!$B$4)=MONTH(Formula!KL8))))),Formula!KL12,\"\"),\"\")","v":""},{"$f":"IF($A$4=Formula!$A$35,IF(OR(EOMONTH(Formula!$B$4,0)>Formula!KM8,(AND(YEAR(Formula!$B$4)=YEAR(Formula!KM8),(MONTH(Formula!$B$4)=MONTH(Formula!KM8))))),Formula!KM12,\"\"),\"\")","v":""},{"$f":"IF($A$4=Formula!$A$35,IF(OR(EOMONTH(Formula!$B$4,0)>Formula!KN8,(AND(YEAR(Formula!$B$4)=YEAR(Formula!KN8),(MONTH(Formula!$B$4)=MONTH(Formula!KN8))))),Formula!KN12,\"\"),\"\")","v":""},{"$f":"IF($A$4=Formula!$A$35,IF(OR(EOMONTH(Formula!$B$4,0)>Formula!KO8,(AND(YEAR(Formula!$B$4)=YEAR(Formula!KO8),(MONTH(Formula!$B$4)=MONTH(Formula!KO8))))),Formula!KO12,\"\"),\"\")","v":""},{"$f":"IF($A$4=Formula!$A$35,IF(OR(EOMONTH(Formula!$B$4,0)>Formula!KP8,(AND(YEAR(Formula!$B$4)=YEAR(Formula!KP8),(MONTH(Formula!$B$4)=MONTH(Formula!KP8))))),Formula!KP12,\"\"),\"\")","v":""},{"$f":"IF($A$4=Formula!$A$35,IF(OR(EOMONTH(Formula!$B$4,0)>Formula!KQ8,(AND(YEAR(Formula!$B$4)=YEAR(Formula!KQ8),(MONTH(Formula!$B$4)=MONTH(Formula!KQ8))))),Formula!KQ12,\"\"),\"\")","v":""},{"$f":"IF($A$4=Formula!$A$35,IF(OR(EOMONTH(Formula!$B$4,0)>Formula!KR8,(AND(YEAR(Formula!$B$4)=YEAR(Formula!KR8),(MONTH(Formula!$B$4)=MONTH(Formula!KR8))))),Formula!KR12,\"\"),\"\")","v":""},{"$f":"IF($A$4=Formula!$A$35,IF(OR(EOMONTH(Formula!$B$4,0)>Formula!KS8,(AND(YEAR(Formula!$B$4)=YEAR(Formula!KS8),(MONTH(Formula!$B$4)=MONTH(Formula!KS8))))),Formula!KS12,\"\"),\"\")","v":""},{"$f":"IF($A$4=Formula!$A$35,IF(OR(EOMONTH(Formula!$B$4,0)>Formula!KT8,(AND(YEAR(Formula!$B$4)=YEAR(Formula!KT8),(MONTH(Formula!$B$4)=MONTH(Formula!KT8))))),Formula!KT12,\"\"),\"\")","v":""},{"$f":"IF($A$4=Formula!$A$35,IF(OR(EOMONTH(Formula!$B$4,0)>Formula!KU8,(AND(YEAR(Formula!$B$4)=YEAR(Formula!KU8),(MONTH(Formula!$B$4)=MONTH(Formula!KU8))))),Formula!KU12,\"\"),\"\")","v":""},{"$f":"IF($A$4=Formula!$A$35,IF(OR(EOMONTH(Formula!$B$4,0)>Formula!KV8,(AND(YEAR(Formula!$B$4)=YEAR(Formula!KV8),(MONTH(Formula!$B$4)=MONTH(Formula!KV8))))),Formula!KV12,\"\"),\"\")","v":""},{"$f":"IF($A$4=Formula!$A$35,IF(OR(EOMONTH(Formula!$B$4,0)>Formula!KW8,(AND(YEAR(Formula!$B$4)=YEAR(Formula!KW8),(MONTH(Formula!$B$4)=MONTH(Formula!KW8))))),Formula!KW12,\"\"),\"\")","v":""},{"$f":"IF($A$4=Formula!$A$35,IF(OR(EOMONTH(Formula!$B$4,0)>Formula!KX8,(AND(YEAR(Formula!$B$4)=YEAR(Formula!KX8),(MONTH(Formula!$B$4)=MONTH(Formula!KX8))))),Formula!KX12,\"\"),\"\")","v":""},{"$f":"IF($A$4=Formula!$A$35,IF(OR(EOMONTH(Formula!$B$4,0)>Formula!KY8,(AND(YEAR(Formula!$B$4)=YEAR(Formula!KY8),(MONTH(Formula!$B$4)=MONTH(Formula!KY8))))),Formula!KY12,\"\"),\"\")","v":""},{"$f":"IF($A$4=Formula!$A$35,IF(OR(EOMONTH(Formula!$B$4,0)>Formula!KZ8,(AND(YEAR(Formula!$B$4)=YEAR(Formula!KZ8),(MONTH(Formula!$B$4)=MONTH(Formula!KZ8))))),Formula!KZ12,\"\"),\"\")","v":""},{"$f":"IF($A$4=Formula!$A$35,IF(OR(EOMONTH(Formula!$B$4,0)>Formula!LA8,(AND(YEAR(Formula!$B$4)=YEAR(Formula!LA8),(MONTH(Formula!$B$4)=MONTH(Formula!LA8))))),Formula!LA12,\"\"),\"\")","v":""},{"$f":"IF($A$4=Formula!$A$35,IF(OR(EOMONTH(Formula!$B$4,0)>Formula!LB8,(AND(YEAR(Formula!$B$4)=YEAR(Formula!LB8),(MONTH(Formula!$B$4)=MONTH(Formula!LB8))))),Formula!LB12,\"\"),\"\")","v":""},{"$f":"IF($A$4=Formula!$A$35,IF(OR(EOMONTH(Formula!$B$4,0)>Formula!LC8,(AND(YEAR(Formula!$B$4)=YEAR(Formula!LC8),(MONTH(Formula!$B$4)=MONTH(Formula!LC8))))),Formula!LC12,\"\"),\"\")","v":""},{"$f":"IF($A$4=Formula!$A$35,IF(OR(EOMONTH(Formula!$B$4,0)>Formula!LD8,(AND(YEAR(Formula!$B$4)=YEAR(Formula!LD8),(MONTH(Formula!$B$4)=MONTH(Formula!LD8))))),Formula!LD12,\"\"),\"\")","v":""},{"$f":"IF($A$4=Formula!$A$35,IF(OR(EOMONTH(Formula!$B$4,0)>Formula!LE8,(AND(YEAR(Formula!$B$4)=YEAR(Formula!LE8),(MONTH(Formula!$B$4)=MONTH(Formula!LE8))))),Formula!LE12,\"\"),\"\")","v":""},{"$f":"IF($A$4=Formula!$A$35,IF(OR(EOMONTH(Formula!$B$4,0)>Formula!LF8,(AND(YEAR(Formula!$B$4)=YEAR(Formula!LF8),(MONTH(Formula!$B$4)=MONTH(Formula!LF8))))),Formula!LF12,\"\"),\"\")","v":""},{"$f":"IF($A$4=Formula!$A$35,IF(OR(EOMONTH(Formula!$B$4,0)>Formula!LG8,(AND(YEAR(Formula!$B$4)=YEAR(Formula!LG8),(MONTH(Formula!$B$4)=MONTH(Formula!LG8))))),Formula!LG12,\"\"),\"\")","v":""},{"$f":"IF($A$4=Formula!$A$35,IF(OR(EOMONTH(Formula!$B$4,0)>Formula!LH8,(AND(YEAR(Formula!$B$4)=YEAR(Formula!LH8),(MONTH(Formula!$B$4)=MONTH(Formula!LH8))))),Formula!LH12,\"\"),\"\")","v":""},{"$f":"IF($A$4=Formula!$A$35,IF(OR(EOMONTH(Formula!$B$4,0)>Formula!LI8,(AND(YEAR(Formula!$B$4)=YEAR(Formula!LI8),(MONTH(Formula!$B$4)=MONTH(Formula!LI8))))),Formula!LI12,\"\"),\"\")","v":""},{"$f":"IF($A$4=Formula!$A$35,IF(OR(EOMONTH(Formula!$B$4,0)>Formula!LJ8,(AND(YEAR(Formula!$B$4)=YEAR(Formula!LJ8),(MONTH(Formula!$B$4)=MONTH(Formula!LJ8))))),Formula!LJ12,\"\"),\"\")","v":""},{"$f":"IF($A$4=Formula!$A$35,IF(OR(EOMONTH(Formula!$B$4,0)>Formula!LK8,(AND(YEAR(Formula!$B$4)=YEAR(Formula!LK8),(MONTH(Formula!$B$4)=MONTH(Formula!LK8))))),Formula!LK12,\"\"),\"\")","v":""},{"$f":"IF($A$4=Formula!$A$35,IF(OR(EOMONTH(Formula!$B$4,0)>Formula!LL8,(AND(YEAR(Formula!$B$4)=YEAR(Formula!LL8),(MONTH(Formula!$B$4)=MONTH(Formula!LL8))))),Formula!LL12,\"\"),\"\")","v":""},{"$f":"IF($A$4=Formula!$A$35,IF(OR(EOMONTH(Formula!$B$4,0)>Formula!LM8,(AND(YEAR(Formula!$B$4)=YEAR(Formula!LM8),(MONTH(Formula!$B$4)=MONTH(Formula!LM8))))),Formula!LM12,\"\"),\"\")","v":""},{"$f":"IF($A$4=Formula!$A$35,IF(OR(EOMONTH(Formula!$B$4,0)>Formula!LN8,(AND(YEAR(Formula!$B$4)=YEAR(Formula!LN8),(MONTH(Formula!$B$4)=MONTH(Formula!LN8))))),Formula!LN12,\"\"),\"\")","v":""},{"$f":"IF($A$4=Formula!$A$35,IF(OR(EOMONTH(Formula!$B$4,0)>Formula!LO8,(AND(YEAR(Formula!$B$4)=YEAR(Formula!LO8),(MONTH(Formula!$B$4)=MONTH(Formula!LO8))))),Formula!LO12,\"\"),\"\")","v":""},{"$f":"IF($A$4=Formula!$A$35,IF(OR(EOMONTH(Formula!$B$4,0)>Formula!LP8,(AND(YEAR(Formula!$B$4)=YEAR(Formula!LP8),(MONTH(Formula!$B$4)=MONTH(Formula!LP8))))),Formula!LP12,\"\"),\"\")","v":""},{"$f":"IF($A$4=Formula!$A$35,IF(OR(EOMONTH(Formula!$B$4,0)>Formula!LQ8,(AND(YEAR(Formula!$B$4)=YEAR(Formula!LQ8),(MONTH(Formula!$B$4)=MONTH(Formula!LQ8))))),Formula!LQ12,\"\"),\"\")","v":""},{"$f":"IF($A$4=Formula!$A$35,IF(OR(EOMONTH(Formula!$B$4,0)>Formula!LR8,(AND(YEAR(Formula!$B$4)=YEAR(Formula!LR8),(MONTH(Formula!$B$4)=MONTH(Formula!LR8))))),Formula!LR12,\"\"),\"\")","v":""},{"$f":"IF($A$4=Formula!$A$35,IF(OR(EOMONTH(Formula!$B$4,0)>Formula!LS8,(AND(YEAR(Formula!$B$4)=YEAR(Formula!LS8),(MONTH(Formula!$B$4)=MONTH(Formula!LS8))))),Formula!LS12,\"\"),\"\")","v":""},{"$f":"IF($A$4=Formula!$A$35,IF(OR(EOMONTH(Formula!$B$4,0)>Formula!LT8,(AND(YEAR(Formula!$B$4)=YEAR(Formula!LT8),(MONTH(Formula!$B$4)=MONTH(Formula!LT8))))),Formula!LT12,\"\"),\"\")","v":""},{"$f":"IF($A$4=Formula!$A$35,IF(OR(EOMONTH(Formula!$B$4,0)>Formula!LU8,(AND(YEAR(Formula!$B$4)=YEAR(Formula!LU8),(MONTH(Formula!$B$4)=MONTH(Formula!LU8))))),Formula!LU12,\"\"),\"\")","v":""},{"$f":"IF($A$4=Formula!$A$35,IF(OR(EOMONTH(Formula!$B$4,0)>Formula!LV8,(AND(YEAR(Formula!$B$4)=YEAR(Formula!LV8),(MONTH(Formula!$B$4)=MONTH(Formula!LV8))))),Formula!LV12,\"\"),\"\")","v":""},{"$f":"IF($A$4=Formula!$A$35,IF(OR(EOMONTH(Formula!$B$4,0)>Formula!LW8,(AND(YEAR(Formula!$B$4)=YEAR(Formula!LW8),(MONTH(Formula!$B$4)=MONTH(Formula!LW8))))),Formula!LW12,\"\"),\"\")","v":""},{"$f":"IF($A$4=Formula!$A$35,IF(OR(EOMONTH(Formula!$B$4,0)>Formula!LX8,(AND(YEAR(Formula!$B$4)=YEAR(Formula!LX8),(MONTH(Formula!$B$4)=MONTH(Formula!LX8))))),Formula!LX12,\"\"),\"\")","v":""},{"$f":"IF($A$4=Formula!$A$35,IF(OR(EOMONTH(Formula!$B$4,0)>Formula!LY8,(AND(YEAR(Formula!$B$4)=YEAR(Formula!LY8),(MONTH(Formula!$B$4)=MONTH(Formula!LY8))))),Formula!LY12,\"\"),\"\")","v":""},{"$f":"IF($A$4=Formula!$A$35,IF(OR(EOMONTH(Formula!$B$4,0)>Formula!LZ8,(AND(YEAR(Formula!$B$4)=YEAR(Formula!LZ8),(MONTH(Formula!$B$4)=MONTH(Formula!LZ8))))),Formula!LZ12,\"\"),\"\")","v":""},{"$f":"IF($A$4=Formula!$A$35,IF(OR(EOMONTH(Formula!$B$4,0)>Formula!MA8,(AND(YEAR(Formula!$B$4)=YEAR(Formula!MA8),(MONTH(Formula!$B$4)=MONTH(Formula!MA8))))),Formula!MA12,\"\"),\"\")","v":""},{"$f":"IF($A$4=Formula!$A$35,IF(OR(EOMONTH(Formula!$B$4,0)>Formula!MB8,(AND(YEAR(Formula!$B$4)=YEAR(Formula!MB8),(MONTH(Formula!$B$4)=MONTH(Formula!MB8))))),Formula!MB12,\"\"),\"\")","v":""},{"$f":"IF($A$4=Formula!$A$35,IF(OR(EOMONTH(Formula!$B$4,0)>Formula!MC8,(AND(YEAR(Formula!$B$4)=YEAR(Formula!MC8),(MONTH(Formula!$B$4)=MONTH(Formula!MC8))))),Formula!MC12,\"\"),\"\")","v":""},{"$f":"IF($A$4=Formula!$A$35,IF(OR(EOMONTH(Formula!$B$4,0)>Formula!MD8,(AND(YEAR(Formula!$B$4)=YEAR(Formula!MD8),(MONTH(Formula!$B$4)=MONTH(Formula!MD8))))),Formula!MD12,\"\"),\"\")","v":""},{"$f":"IF($A$4=Formula!$A$35,IF(OR(EOMONTH(Formula!$B$4,0)>Formula!ME8,(AND(YEAR(Formula!$B$4)=YEAR(Formula!ME8),(MONTH(Formula!$B$4)=MONTH(Formula!ME8))))),Formula!ME12,\"\"),\"\")","v":""},{"$f":"IF($A$4=Formula!$A$35,IF(OR(EOMONTH(Formula!$B$4,0)>Formula!MF8,(AND(YEAR(Formula!$B$4)=YEAR(Formula!MF8),(MONTH(Formula!$B$4)=MONTH(Formula!MF8))))),Formula!MF12,\"\"),\"\")","v":""},{"$f":"IF($A$4=Formula!$A$35,IF(OR(EOMONTH(Formula!$B$4,0)>Formula!MG8,(AND(YEAR(Formula!$B$4)=YEAR(Formula!MG8),(MONTH(Formula!$B$4)=MONTH(Formula!MG8))))),Formula!MG12,\"\"),\"\")","v":""},{"$f":"IF($A$4=Formula!$A$35,IF(OR(EOMONTH(Formula!$B$4,0)>Formula!MH8,(AND(YEAR(Formula!$B$4)=YEAR(Formula!MH8),(MONTH(Formula!$B$4)=MONTH(Formula!MH8))))),Formula!MH12,\"\"),\"\")","v":""},{"$f":"IF($A$4=Formula!$A$35,IF(OR(EOMONTH(Formula!$B$4,0)>Formula!MI8,(AND(YEAR(Formula!$B$4)=YEAR(Formula!MI8),(MONTH(Formula!$B$4)=MONTH(Formula!MI8))))),Formula!MI12,\"\"),\"\")","v":""},{"$f":"IF($A$4=Formula!$A$35,IF(OR(EOMONTH(Formula!$B$4,0)>Formula!MJ8,(AND(YEAR(Formula!$B$4)=YEAR(Formula!MJ8),(MONTH(Formula!$B$4)=MONTH(Formula!MJ8))))),Formula!MJ12,\"\"),\"\")","v":""},{"$f":"IF($A$4=Formula!$A$35,IF(OR(EOMONTH(Formula!$B$4,0)>Formula!MK8,(AND(YEAR(Formula!$B$4)=YEAR(Formula!MK8),(MONTH(Formula!$B$4)=MONTH(Formula!MK8))))),Formula!MK12,\"\"),\"\")","v":""},{"$f":"IF($A$4=Formula!$A$35,IF(OR(EOMONTH(Formula!$B$4,0)>Formula!ML8,(AND(YEAR(Formula!$B$4)=YEAR(Formula!ML8),(MONTH(Formula!$B$4)=MONTH(Formula!ML8))))),Formula!ML12,\"\"),\"\")","v":""},{"$f":"IF($A$4=Formula!$A$35,IF(OR(EOMONTH(Formula!$B$4,0)>Formula!MM8,(AND(YEAR(Formula!$B$4)=YEAR(Formula!MM8),(MONTH(Formula!$B$4)=MONTH(Formula!MM8))))),Formula!MM12,\"\"),\"\")","v":""},{"$f":"IF($A$4=Formula!$A$35,IF(OR(EOMONTH(Formula!$B$4,0)>Formula!MN8,(AND(YEAR(Formula!$B$4)=YEAR(Formula!MN8),(MONTH(Formula!$B$4)=MONTH(Formula!MN8))))),Formula!MN12,\"\"),\"\")","v":""},{"$f":"IF($A$4=Formula!$A$35,IF(OR(EOMONTH(Formula!$B$4,0)>Formula!MO8,(AND(YEAR(Formula!$B$4)=YEAR(Formula!MO8),(MONTH(Formula!$B$4)=MONTH(Formula!MO8))))),Formula!MO12,\"\"),\"\")","v":""},{"$f":"IF($A$4=Formula!$A$35,IF(OR(EOMONTH(Formula!$B$4,0)>Formula!MP8,(AND(YEAR(Formula!$B$4)=YEAR(Formula!MP8),(MONTH(Formula!$B$4)=MONTH(Formula!MP8))))),Formula!MP12,\"\"),\"\")","v":""},{"$f":"IF($A$4=Formula!$A$35,IF(OR(EOMONTH(Formula!$B$4,0)>Formula!MQ8,(AND(YEAR(Formula!$B$4)=YEAR(Formula!MQ8),(MONTH(Formula!$B$4)=MONTH(Formula!MQ8))))),Formula!MQ12,\"\"),\"\")","v":""},{"$f":"IF($A$4=Formula!$A$35,IF(OR(EOMONTH(Formula!$B$4,0)>Formula!MR8,(AND(YEAR(Formula!$B$4)=YEAR(Formula!MR8),(MONTH(Formula!$B$4)=MONTH(Formula!MR8))))),Formula!MR12,\"\"),\"\")","v":""},{"$f":"IF($A$4=Formula!$A$35,IF(OR(EOMONTH(Formula!$B$4,0)>Formula!MS8,(AND(YEAR(Formula!$B$4)=YEAR(Formula!MS8),(MONTH(Formula!$B$4)=MONTH(Formula!MS8))))),Formula!MS12,\"\"),\"\")","v":""},{"$f":"IF($A$4=Formula!$A$35,IF(OR(EOMONTH(Formula!$B$4,0)>Formula!MT8,(AND(YEAR(Formula!$B$4)=YEAR(Formula!MT8),(MONTH(Formula!$B$4)=MONTH(Formula!MT8))))),Formula!MT12,\"\"),\"\")","v":""},{"$f":"IF($A$4=Formula!$A$35,IF(OR(EOMONTH(Formula!$B$4,0)>Formula!MU8,(AND(YEAR(Formula!$B$4)=YEAR(Formula!MU8),(MONTH(Formula!$B$4)=MONTH(Formula!MU8))))),Formula!MU12,\"\"),\"\")","v":""},{"$f":"IF($A$4=Formula!$A$35,IF(OR(EOMONTH(Formula!$B$4,0)>Formula!MV8,(AND(YEAR(Formula!$B$4)=YEAR(Formula!MV8),(MONTH(Formula!$B$4)=MONTH(Formula!MV8))))),Formula!MV12,\"\"),\"\")","v":""},{"$f":"IF($A$4=Formula!$A$35,IF(OR(EOMONTH(Formula!$B$4,0)>Formula!MW8,(AND(YEAR(Formula!$B$4)=YEAR(Formula!MW8),(MONTH(Formula!$B$4)=MONTH(Formula!MW8))))),Formula!MW12,\"\"),\"\")","v":""},{"$f":"IF($A$4=Formula!$A$35,IF(OR(EOMONTH(Formula!$B$4,0)>Formula!MX8,(AND(YEAR(Formula!$B$4)=YEAR(Formula!MX8),(MONTH(Formula!$B$4)=MONTH(Formula!MX8))))),Formula!MX12,\"\"),\"\")","v":""},{"$f":"IF($A$4=Formula!$A$35,IF(OR(EOMONTH(Formula!$B$4,0)>Formula!MY8,(AND(YEAR(Formula!$B$4)=YEAR(Formula!MY8),(MONTH(Formula!$B$4)=MONTH(Formula!MY8))))),Formula!MY12,\"\"),\"\")","v":""},{"$f":"IF($A$4=Formula!$A$35,IF(OR(EOMONTH(Formula!$B$4,0)>Formula!MZ8,(AND(YEAR(Formula!$B$4)=YEAR(Formula!MZ8),(MONTH(Formula!$B$4)=MONTH(Formula!MZ8))))),Formula!MZ12,\"\"),\"\")","v":""},{"$f":"IF($A$4=Formula!$A$35,IF(OR(EOMONTH(Formula!$B$4,0)>Formula!NA8,(AND(YEAR(Formula!$B$4)=YEAR(Formula!NA8),(MONTH(Formula!$B$4)=MONTH(Formula!NA8))))),Formula!NA12,\"\"),\"\")","v":""},{"$f":"IF($A$4=Formula!$A$35,IF(OR(EOMONTH(Formula!$B$4,0)>Formula!NB8,(AND(YEAR(Formula!$B$4)=YEAR(Formula!NB8),(MONTH(Formula!$B$4)=MONTH(Formula!NB8))))),Formula!NB12,\"\"),\"\")","v":""},{"$f":"IF($A$4=Formula!$A$35,IF(OR(EOMONTH(Formula!$B$4,0)>Formula!NC8,(AND(YEAR(Formula!$B$4)=YEAR(Formula!NC8),(MONTH(Formula!$B$4)=MONTH(Formula!NC8))))),Formula!NC12,\"\"),\"\")","v":""},{"$f":"IF($A$4=Formula!$A$35,IF(OR(EOMONTH(Formula!$B$4,0)>Formula!ND8,(AND(YEAR(Formula!$B$4)=YEAR(Formula!ND8),(MONTH(Formula!$B$4)=MONTH(Formula!ND8))))),Formula!ND12,\"\"),\"\")","v":""},{"$f":"IF($A$4=Formula!$A$35,IF(OR(EOMONTH(Formula!$B$4,0)>Formula!NE8,(AND(YEAR(Formula!$B$4)=YEAR(Formula!NE8),(MONTH(Formula!$B$4)=MONTH(Formula!NE8))))),Formula!NE12,\"\"),\"\")","v":""},{"$f":"IF($A$4=Formula!$A$35,IF(OR(EOMONTH(Formula!$B$4,0)>Formula!NF8,(AND(YEAR(Formula!$B$4)=YEAR(Formula!NF8),(MONTH(Formula!$B$4)=MONTH(Formula!NF8))))),Formula!NF12,\"\"),\"\")","v":""},{"$f":"IF($A$4=Formula!$A$35,IF(OR(EOMONTH(Formula!$B$4,0)>Formula!NG8,(AND(YEAR(Formula!$B$4)=YEAR(Formula!NG8),(MONTH(Formula!$B$4)=MONTH(Formula!NG8))))),Formula!NG12,\"\"),\"\")","v":""},{"$f":"IF($A$4=Formula!$A$35,IF(OR(EOMONTH(Formula!$B$4,0)>Formula!NH8,(AND(YEAR(Formula!$B$4)=YEAR(Formula!NH8),(MONTH(Formula!$B$4)=MONTH(Formula!NH8))))),Formula!NH12,\"\"),\"\")","v":""},{"$f":"IF($A$4=Formula!$A$35,IF(OR(EOMONTH(Formula!$B$4,0)>Formula!NI8,(AND(YEAR(Formula!$B$4)=YEAR(Formula!NI8),(MONTH(Formula!$B$4)=MONTH(Formula!NI8))))),Formula!NI12,\"\"),\"\")","v":""},{"$f":"IF($A$4=Formula!$A$35,IF(OR(EOMONTH(Formula!$B$4,0)>Formula!NJ8,(AND(YEAR(Formula!$B$4)=YEAR(Formula!NJ8),(MONTH(Formula!$B$4)=MONTH(Formula!NJ8))))),Formula!NJ12,\"\"),\"\")","v":""},{"$f":"IF($A$4=Formula!$A$35,IF(OR(EOMONTH(Formula!$B$4,0)>Formula!NK8,(AND(YEAR(Formula!$B$4)=YEAR(Formula!NK8),(MONTH(Formula!$B$4)=MONTH(Formula!NK8))))),Formula!NK12,\"\"),\"\")","v":""},{"$f":"IF($A$4=Formula!$A$35,IF(OR(EOMONTH(Formula!$B$4,0)>Formula!NL8,(AND(YEAR(Formula!$B$4)=YEAR(Formula!NL8),(MONTH(Formula!$B$4)=MONTH(Formula!NL8))))),Formula!NL12,\"\"),\"\")","v":""},{"$f":"IF($A$4=Formula!$A$35,IF(OR(EOMONTH(Formula!$B$4,0)>Formula!NM8,(AND(YEAR(Formula!$B$4)=YEAR(Formula!NM8),(MONTH(Formula!$B$4)=MONTH(Formula!NM8))))),Formula!NM12,\"\"),\"\")","v":""},{"$f":"IF($A$4=Formula!$A$35,IF(OR(EOMONTH(Formula!$B$4,0)>Formula!NN8,(AND(YEAR(Formula!$B$4)=YEAR(Formula!NN8),(MONTH(Formula!$B$4)=MONTH(Formula!NN8))))),Formula!NN12,\"\"),\"\")","v":""},{"$f":"IF($A$4=Formula!$A$35,IF(OR(EOMONTH(Formula!$B$4,0)>Formula!NO8,(AND(YEAR(Formula!$B$4)=YEAR(Formula!NO8),(MONTH(Formula!$B$4)=MONTH(Formula!NO8))))),Formula!NO12,\"\"),\"\")","v":""},{"$f":"IF($A$4=Formula!$A$35,IF(OR(EOMONTH(Formula!$B$4,0)>Formula!NP8,(AND(YEAR(Formula!$B$4)=YEAR(Formula!NP8),(MONTH(Formula!$B$4)=MONTH(Formula!NP8))))),Formula!NP12,\"\"),\"\")","v":""},{"$f":"IF($A$4=Formula!$A$35,IF(OR(EOMONTH(Formula!$B$4,0)>Formula!NQ8,(AND(YEAR(Formula!$B$4)=YEAR(Formula!NQ8),(MONTH(Formula!$B$4)=MONTH(Formula!NQ8))))),Formula!NQ12,\"\"),\"\")","v":""},{"$f":"IF($A$4=Formula!$A$35,IF(OR(EOMONTH(Formula!$B$4,0)>Formula!NR8,(AND(YEAR(Formula!$B$4)=YEAR(Formula!NR8),(MONTH(Formula!$B$4)=MONTH(Formula!NR8))))),Formula!NR12,\"\"),\"\")","v":""},{"$f":"IF($A$4=Formula!$A$35,IF(OR(EOMONTH(Formula!$B$4,0)>Formula!NS8,(AND(YEAR(Formula!$B$4)=YEAR(Formula!NS8),(MONTH(Formula!$B$4)=MONTH(Formula!NS8))))),Formula!NS12,\"\"),\"\")","v":""},{"$f":"IF($A$4=Formula!$A$35,IF(OR(EOMONTH(Formula!$B$4,0)>Formula!NT8,(AND(YEAR(Formula!$B$4)=YEAR(Formula!NT8),(MONTH(Formula!$B$4)=MONTH(Formula!NT8))))),Formula!NT12,\"\"),\"\")","v":""},{"$f":"IF($A$4=Formula!$A$35,IF(OR(EOMONTH(Formula!$B$4,0)>Formula!NU8,(AND(YEAR(Formula!$B$4)=YEAR(Formula!NU8),(MONTH(Formula!$B$4)=MONTH(Formula!NU8))))),Formula!NU12,\"\"),\"\")","v":""},{"$f":"IF($A$4=Formula!$A$35,IF(OR(EOMONTH(Formula!$B$4,0)>Formula!NV8,(AND(YEAR(Formula!$B$4)=YEAR(Formula!NV8),(MONTH(Formula!$B$4)=MONTH(Formula!NV8))))),Formula!NV12,\"\"),\"\")","v":""},{"$f":"IF($A$4=Formula!$A$35,IF(OR(EOMONTH(Formula!$B$4,0)>Formula!NW8,(AND(YEAR(Formula!$B$4)=YEAR(Formula!NW8),(MONTH(Formula!$B$4)=MONTH(Formula!NW8))))),Formula!NW12,\"\"),\"\")","v":""},{"$f":"IF($A$4=Formula!$A$35,IF(OR(EOMONTH(Formula!$B$4,0)>Formula!NX8,(AND(YEAR(Formula!$B$4)=YEAR(Formula!NX8),(MONTH(Formula!$B$4)=MONTH(Formula!NX8))))),Formula!NX12,\"\"),\"\")","v":""},{"$f":"IF($A$4=Formula!$A$35,IF(OR(EOMONTH(Formula!$B$4,0)>Formula!NY8,(AND(YEAR(Formula!$B$4)=YEAR(Formula!NY8),(MONTH(Formula!$B$4)=MONTH(Formula!NY8))))),Formula!NY12,\"\"),\"\")","v":""},{"$f":"IF($A$4=Formula!$A$35,IF(OR(EOMONTH(Formula!$B$4,0)>Formula!NZ8,(AND(YEAR(Formula!$B$4)=YEAR(Formula!NZ8),(MONTH(Formula!$B$4)=MONTH(Formula!NZ8))))),Formula!NZ12,\"\"),\"\")","v":""},{"$f":"IF($A$4=Formula!$A$35,IF(OR(EOMONTH(Formula!$B$4,0)>Formula!OA8,(AND(YEAR(Formula!$B$4)=YEAR(Formula!OA8),(MONTH(Formula!$B$4)=MONTH(Formula!OA8))))),Formula!OA12,\"\"),\"\")","v":""},{"$f":"IF($A$4=Formula!$A$35,IF(OR(EOMONTH(Formula!$B$4,0)>Formula!OB8,(AND(YEAR(Formula!$B$4)=YEAR(Formula!OB8),(MONTH(Formula!$B$4)=MONTH(Formula!OB8))))),Formula!OB12,\"\"),\"\")","v":""},{"$f":"IF($A$4=Formula!$A$35,IF(OR(EOMONTH(Formula!$B$4,0)>Formula!OC8,(AND(YEAR(Formula!$B$4)=YEAR(Formula!OC8),(MONTH(Formula!$B$4)=MONTH(Formula!OC8))))),Formula!OC12,\"\"),\"\")","v":""},{"$f":"IF($A$4=Formula!$A$35,IF(OR(EOMONTH(Formula!$B$4,0)>Formula!OD8,(AND(YEAR(Formula!$B$4)=YEAR(Formula!OD8),(MONTH(Formula!$B$4)=MONTH(Formula!OD8))))),Formula!OD12,\"\"),\"\")","v":""},{"$f":"IF($A$4=Formula!$A$35,IF(OR(EOMONTH(Formula!$B$4,0)>Formula!OE8,(AND(YEAR(Formula!$B$4)=YEAR(Formula!OE8),(MONTH(Formula!$B$4)=MONTH(Formula!OE8))))),Formula!OE12,\"\"),\"\")","v":""},{"$f":"IF($A$4=Formula!$A$35,IF(OR(EOMONTH(Formula!$B$4,0)>Formula!OF8,(AND(YEAR(Formula!$B$4)=YEAR(Formula!OF8),(MONTH(Formula!$B$4)=MONTH(Formula!OF8))))),Formula!OF12,\"\"),\"\")","v":""},{"$f":"IF($A$4=Formula!$A$35,IF(OR(EOMONTH(Formula!$B$4,0)>Formula!OG8,(AND(YEAR(Formula!$B$4)=YEAR(Formula!OG8),(MONTH(Formula!$B$4)=MONTH(Formula!OG8))))),Formula!OG12,\"\"),\"\")","v":""},{"$f":"IF($A$4=Formula!$A$35,IF(OR(EOMONTH(Formula!$B$4,0)>Formula!OH8,(AND(YEAR(Formula!$B$4)=YEAR(Formula!OH8),(MONTH(Formula!$B$4)=MONTH(Formula!OH8))))),Formula!OH12,\"\"),\"\")","v":""},{"$f":"IF($A$4=Formula!$A$35,IF(OR(EOMONTH(Formula!$B$4,0)>Formula!OI8,(AND(YEAR(Formula!$B$4)=YEAR(Formula!OI8),(MONTH(Formula!$B$4)=MONTH(Formula!OI8))))),Formula!OI12,\"\"),\"\")","v":""},{"$f":"IF($A$4=Formula!$A$35,IF(OR(EOMONTH(Formula!$B$4,0)>Formula!OJ8,(AND(YEAR(Formula!$B$4)=YEAR(Formula!OJ8),(MONTH(Formula!$B$4)=MONTH(Formula!OJ8))))),Formula!OJ12,\"\"),\"\")","v":""},{"$f":"IF($A$4=Formula!$A$35,IF(OR(EOMONTH(Formula!$B$4,0)>Formula!OK8,(AND(YEAR(Formula!$B$4)=YEAR(Formula!OK8),(MONTH(Formula!$B$4)=MONTH(Formula!OK8))))),Formula!OK12,\"\"),\"\")","v":""},{"$f":"IF($A$4=Formula!$A$35,IF(OR(EOMONTH(Formula!$B$4,0)>Formula!OL8,(AND(YEAR(Formula!$B$4)=YEAR(Formula!OL8),(MONTH(Formula!$B$4)=MONTH(Formula!OL8))))),Formula!OL12,\"\"),\"\")","v":""},{"$f":"IF($A$4=Formula!$A$35,IF(OR(EOMONTH(Formula!$B$4,0)>Formula!OM8,(AND(YEAR(Formula!$B$4)=YEAR(Formula!OM8),(MONTH(Formula!$B$4)=MONTH(Formula!OM8))))),Formula!OM12,\"\"),\"\")","v":""},{"$f":"IF($A$4=Formula!$A$35,IF(OR(EOMONTH(Formula!$B$4,0)>Formula!ON8,(AND(YEAR(Formula!$B$4)=YEAR(Formula!ON8),(MONTH(Formula!$B$4)=MONTH(Formula!ON8))))),Formula!ON12,\"\"),\"\")","v":""},{"$f":"IF($A$4=Formula!$A$35,IF(OR(EOMONTH(Formula!$B$4,0)>Formula!OO8,(AND(YEAR(Formula!$B$4)=YEAR(Formula!OO8),(MONTH(Formula!$B$4)=MONTH(Formula!OO8))))),Formula!OO12,\"\"),\"\")","v":""},{"$f":"IF($A$4=Formula!$A$35,IF(OR(EOMONTH(Formula!$B$4,0)>Formula!OP8,(AND(YEAR(Formula!$B$4)=YEAR(Formula!OP8),(MONTH(Formula!$B$4)=MONTH(Formula!OP8))))),Formula!OP12,\"\"),\"\")","v":""},{"$f":"IF($A$4=Formula!$A$35,IF(OR(EOMONTH(Formula!$B$4,0)>Formula!OQ8,(AND(YEAR(Formula!$B$4)=YEAR(Formula!OQ8),(MONTH(Formula!$B$4)=MONTH(Formula!OQ8))))),Formula!OQ12,\"\"),\"\")","v":""},{"$f":"IF($A$4=Formula!$A$35,IF(OR(EOMONTH(Formula!$B$4,0)>Formula!OR8,(AND(YEAR(Formula!$B$4)=YEAR(Formula!OR8),(MONTH(Formula!$B$4)=MONTH(Formula!OR8))))),Formula!OR12,\"\"),\"\")","v":""},{"$f":"IF($A$4=Formula!$A$35,IF(OR(EOMONTH(Formula!$B$4,0)>Formula!OS8,(AND(YEAR(Formula!$B$4)=YEAR(Formula!OS8),(MONTH(Formula!$B$4)=MONTH(Formula!OS8))))),Formula!OS12,\"\"),\"\")","v":""},{"$f":"IF($A$4=Formula!$A$35,IF(OR(EOMONTH(Formula!$B$4,0)>Formula!OT8,(AND(YEAR(Formula!$B$4)=YEAR(Formula!OT8),(MONTH(Formula!$B$4)=MONTH(Formula!OT8))))),Formula!OT12,\"\"),\"\")","v":""},{"$f":"IF($A$4=Formula!$A$35,IF(OR(EOMONTH(Formula!$B$4,0)>Formula!OU8,(AND(YEAR(Formula!$B$4)=YEAR(Formula!OU8),(MONTH(Formula!$B$4)=MONTH(Formula!OU8))))),Formula!OU12,\"\"),\"\")","v":""},{"$f":"IF($A$4=Formula!$A$35,IF(OR(EOMONTH(Formula!$B$4,0)>Formula!OV8,(AND(YEAR(Formula!$B$4)=YEAR(Formula!OV8),(MONTH(Formula!$B$4)=MONTH(Formula!OV8))))),Formula!OV12,\"\"),\"\")","v":""},{"$f":"IF($A$4=Formula!$A$35,IF(OR(EOMONTH(Formula!$B$4,0)>Formula!OW8,(AND(YEAR(Formula!$B$4)=YEAR(Formula!OW8),(MONTH(Formula!$B$4)=MONTH(Formula!OW8))))),Formula!OW12,\"\"),\"\")","v":""},{"$f":"IF($A$4=Formula!$A$35,IF(OR(EOMONTH(Formula!$B$4,0)>Formula!OX8,(AND(YEAR(Formula!$B$4)=YEAR(Formula!OX8),(MONTH(Formula!$B$4)=MONTH(Formula!OX8))))),Formula!OX12,\"\"),\"\")","v":""},{"$f":"IF($A$4=Formula!$A$35,IF(OR(EOMONTH(Formula!$B$4,0)>Formula!OY8,(AND(YEAR(Formula!$B$4)=YEAR(Formula!OY8),(MONTH(Formula!$B$4)=MONTH(Formula!OY8))))),Formula!OY12,\"\"),\"\")","v":""},{"$f":"IF($A$4=Formula!$A$35,IF(OR(EOMONTH(Formula!$B$4,0)>Formula!OZ8,(AND(YEAR(Formula!$B$4)=YEAR(Formula!OZ8),(MONTH(Formula!$B$4)=MONTH(Formula!OZ8))))),Formula!OZ12,\"\"),\"\")","v":""},{"$f":"IF($A$4=Formula!$A$35,IF(OR(EOMONTH(Formula!$B$4,0)>Formula!PA8,(AND(YEAR(Formula!$B$4)=YEAR(Formula!PA8),(MONTH(Formula!$B$4)=MONTH(Formula!PA8))))),Formula!PA12,\"\"),\"\")","v":""},{"$f":"IF($A$4=Formula!$A$35,IF(OR(EOMONTH(Formula!$B$4,0)>Formula!PB8,(AND(YEAR(Formula!$B$4)=YEAR(Formula!PB8),(MONTH(Formula!$B$4)=MONTH(Formula!PB8))))),Formula!PB12,\"\"),\"\")","v":""},{"$f":"IF($A$4=Formula!$A$35,IF(OR(EOMONTH(Formula!$B$4,0)>Formula!PC8,(AND(YEAR(Formula!$B$4)=YEAR(Formula!PC8),(MONTH(Formula!$B$4)=MONTH(Formula!PC8))))),Formula!PC12,\"\"),\"\")","v":""},{"$f":"IF($A$4=Formula!$A$35,IF(OR(EOMONTH(Formula!$B$4,0)>Formula!PD8,(AND(YEAR(Formula!$B$4)=YEAR(Formula!PD8),(MONTH(Formula!$B$4)=MONTH(Formula!PD8))))),Formula!PD12,\"\"),\"\")","v":""},{"$f":"IF($A$4=Formula!$A$35,IF(OR(EOMONTH(Formula!$B$4,0)>Formula!PE8,(AND(YEAR(Formula!$B$4)=YEAR(Formula!PE8),(MONTH(Formula!$B$4)=MONTH(Formula!PE8))))),Formula!PE12,\"\"),\"\")","v":""},{"$f":"IF($A$4=Formula!$A$35,IF(OR(EOMONTH(Formula!$B$4,0)>Formula!PF8,(AND(YEAR(Formula!$B$4)=YEAR(Formula!PF8),(MONTH(Formula!$B$4)=MONTH(Formula!PF8))))),Formula!PF12,\"\"),\"\")","v":""},{"$f":"IF($A$4=Formula!$A$35,IF(OR(EOMONTH(Formula!$B$4,0)>Formula!PG8,(AND(YEAR(Formula!$B$4)=YEAR(Formula!PG8),(MONTH(Formula!$B$4)=MONTH(Formula!PG8))))),Formula!PG12,\"\"),\"\")","v":""},{"$f":"IF($A$4=Formula!$A$35,IF(OR(EOMONTH(Formula!$B$4,0)>Formula!PH8,(AND(YEAR(Formula!$B$4)=YEAR(Formula!PH8),(MONTH(Formula!$B$4)=MONTH(Formula!PH8))))),Formula!PH12,\"\"),\"\")","v":""},{"$f":"IF($A$4=Formula!$A$35,IF(OR(EOMONTH(Formula!$B$4,0)>Formula!PI8,(AND(YEAR(Formula!$B$4)=YEAR(Formula!PI8),(MONTH(Formula!$B$4)=MONTH(Formula!PI8))))),Formula!PI12,\"\"),\"\")","v":""},{"$f":"IF($A$4=Formula!$A$35,IF(OR(EOMONTH(Formula!$B$4,0)>Formula!PJ8,(AND(YEAR(Formula!$B$4)=YEAR(Formula!PJ8),(MONTH(Formula!$B$4)=MONTH(Formula!PJ8))))),Formula!PJ12,\"\"),\"\")","v":""},{"$f":"IF($A$4=Formula!$A$35,IF(OR(EOMONTH(Formula!$B$4,0)>Formula!PK8,(AND(YEAR(Formula!$B$4)=YEAR(Formula!PK8),(MONTH(Formula!$B$4)=MONTH(Formula!PK8))))),Formula!PK12,\"\"),\"\")","v":""},{"$f":"IF($A$4=Formula!$A$35,IF(OR(EOMONTH(Formula!$B$4,0)>Formula!PL8,(AND(YEAR(Formula!$B$4)=YEAR(Formula!PL8),(MONTH(Formula!$B$4)=MONTH(Formula!PL8))))),Formula!PL12,\"\"),\"\")","v":""},{"$f":"IF($A$4=Formula!$A$35,IF(OR(EOMONTH(Formula!$B$4,0)>Formula!PM8,(AND(YEAR(Formula!$B$4)=YEAR(Formula!PM8),(MONTH(Formula!$B$4)=MONTH(Formula!PM8))))),Formula!PM12,\"\"),\"\")","v":""},{"$f":"IF($A$4=Formula!$A$35,IF(OR(EOMONTH(Formula!$B$4,0)>Formula!PN8,(AND(YEAR(Formula!$B$4)=YEAR(Formula!PN8),(MONTH(Formula!$B$4)=MONTH(Formula!PN8))))),Formula!PN12,\"\"),\"\")","v":""},{"$f":"IF($A$4=Formula!$A$35,IF(OR(EOMONTH(Formula!$B$4,0)>Formula!PO8,(AND(YEAR(Formula!$B$4)=YEAR(Formula!PO8),(MONTH(Formula!$B$4)=MONTH(Formula!PO8))))),Formula!PO12,\"\"),\"\")","v":""},{"$f":"IF($A$4=Formula!$A$35,IF(OR(EOMONTH(Formula!$B$4,0)>Formula!PP8,(AND(YEAR(Formula!$B$4)=YEAR(Formula!PP8),(MONTH(Formula!$B$4)=MONTH(Formula!PP8))))),Formula!PP12,\"\"),\"\")","v":""},{"$f":"IF($A$4=Formula!$A$35,IF(OR(EOMONTH(Formula!$B$4,0)>Formula!PQ8,(AND(YEAR(Formula!$B$4)=YEAR(Formula!PQ8),(MONTH(Formula!$B$4)=MONTH(Formula!PQ8))))),Formula!PQ12,\"\"),\"\")","v":""},{"$f":"IF($A$4=Formula!$A$35,IF(OR(EOMONTH(Formula!$B$4,0)>Formula!PR8,(AND(YEAR(Formula!$B$4)=YEAR(Formula!PR8),(MONTH(Formula!$B$4)=MONTH(Formula!PR8))))),Formula!PR12,\"\"),\"\")","v":""},{"$f":"IF($A$4=Formula!$A$35,IF(OR(EOMONTH(Formula!$B$4,0)>Formula!PS8,(AND(YEAR(Formula!$B$4)=YEAR(Formula!PS8),(MONTH(Formula!$B$4)=MONTH(Formula!PS8))))),Formula!PS12,\"\"),\"\")","v":""},{"$f":"IF($A$4=Formula!$A$35,IF(OR(EOMONTH(Formula!$B$4,0)>Formula!PT8,(AND(YEAR(Formula!$B$4)=YEAR(Formula!PT8),(MONTH(Formula!$B$4)=MONTH(Formula!PT8))))),Formula!PT12,\"\"),\"\")","v":""},{"$f":"IF($A$4=Formula!$A$35,IF(OR(EOMONTH(Formula!$B$4,0)>Formula!PU8,(AND(YEAR(Formula!$B$4)=YEAR(Formula!PU8),(MONTH(Formula!$B$4)=MONTH(Formula!PU8))))),Formula!PU12,\"\"),\"\")","v":""},{"$f":"IF($A$4=Formula!$A$35,IF(OR(EOMONTH(Formula!$B$4,0)>Formula!PV8,(AND(YEAR(Formula!$B$4)=YEAR(Formula!PV8),(MONTH(Formula!$B$4)=MONTH(Formula!PV8))))),Formula!PV12,\"\"),\"\")","v":""},{"$f":"IF($A$4=Formula!$A$35,IF(OR(EOMONTH(Formula!$B$4,0)>Formula!PW8,(AND(YEAR(Formula!$B$4)=YEAR(Formula!PW8),(MONTH(Formula!$B$4)=MONTH(Formula!PW8))))),Formula!PW12,\"\"),\"\")","v":""},{"$f":"IF($A$4=Formula!$A$35,IF(OR(EOMONTH(Formula!$B$4,0)>Formula!PX8,(AND(YEAR(Formula!$B$4)=YEAR(Formula!PX8),(MONTH(Formula!$B$4)=MONTH(Formula!PX8))))),Formula!PX12,\"\"),\"\")","v":""},{"$f":"IF($A$4=Formula!$A$35,IF(OR(EOMONTH(Formula!$B$4,0)>Formula!PY8,(AND(YEAR(Formula!$B$4)=YEAR(Formula!PY8),(MONTH(Formula!$B$4)=MONTH(Formula!PY8))))),Formula!PY12,\"\"),\"\")","v":""},{"$f":"IF($A$4=Formula!$A$35,IF(OR(EOMONTH(Formula!$B$4,0)>Formula!PZ8,(AND(YEAR(Formula!$B$4)=YEAR(Formula!PZ8),(MONTH(Formula!$B$4)=MONTH(Formula!PZ8))))),Formula!PZ12,\"\"),\"\")","v":""},{"$f":"IF($A$4=Formula!$A$35,IF(OR(EOMONTH(Formula!$B$4,0)>Formula!QA8,(AND(YEAR(Formula!$B$4)=YEAR(Formula!QA8),(MONTH(Formula!$B$4)=MONTH(Formula!QA8))))),Formula!QA12,\"\"),\"\")","v":""},{"$f":"IF($A$4=Formula!$A$35,IF(OR(EOMONTH(Formula!$B$4,0)>Formula!QB8,(AND(YEAR(Formula!$B$4)=YEAR(Formula!QB8),(MONTH(Formula!$B$4)=MONTH(Formula!QB8))))),Formula!QB12,\"\"),\"\")","v":""},{"$f":"IF($A$4=Formula!$A$35,IF(OR(EOMONTH(Formula!$B$4,0)>Formula!QC8,(AND(YEAR(Formula!$B$4)=YEAR(Formula!QC8),(MONTH(Formula!$B$4)=MONTH(Formula!QC8))))),Formula!QC12,\"\"),\"\")","v":""},{"$f":"IF($A$4=Formula!$A$35,IF(OR(EOMONTH(Formula!$B$4,0)>Formula!QD8,(AND(YEAR(Formula!$B$4)=YEAR(Formula!QD8),(MONTH(Formula!$B$4)=MONTH(Formula!QD8))))),Formula!QD12,\"\"),\"\")","v":""},{"$f":"IF($A$4=Formula!$A$35,IF(OR(EOMONTH(Formula!$B$4,0)>Formula!QE8,(AND(YEAR(Formula!$B$4)=YEAR(Formula!QE8),(MONTH(Formula!$B$4)=MONTH(Formula!QE8))))),Formula!QE12,\"\"),\"\")","v":""},{"$f":"IF($A$4=Formula!$A$35,IF(OR(EOMONTH(Formula!$B$4,0)>Formula!QF8,(AND(YEAR(Formula!$B$4)=YEAR(Formula!QF8),(MONTH(Formula!$B$4)=MONTH(Formula!QF8))))),Formula!QF12,\"\"),\"\")","v":""},{"$f":"IF($A$4=Formula!$A$35,IF(OR(EOMONTH(Formula!$B$4,0)>Formula!QG8,(AND(YEAR(Formula!$B$4)=YEAR(Formula!QG8),(MONTH(Formula!$B$4)=MONTH(Formula!QG8))))),Formula!QG12,\"\"),\"\")","v":""},{"$f":"IF($A$4=Formula!$A$35,IF(OR(EOMONTH(Formula!$B$4,0)>Formula!QH8,(AND(YEAR(Formula!$B$4)=YEAR(Formula!QH8),(MONTH(Formula!$B$4)=MONTH(Formula!QH8))))),Formula!QH12,\"\"),\"\")","v":""},{"$f":"IF($A$4=Formula!$A$35,IF(OR(EOMONTH(Formula!$B$4,0)>Formula!QI8,(AND(YEAR(Formula!$B$4)=YEAR(Formula!QI8),(MONTH(Formula!$B$4)=MONTH(Formula!QI8))))),Formula!QI12,\"\"),\"\")","v":""},{"$f":"IF($A$4=Formula!$A$35,IF(OR(EOMONTH(Formula!$B$4,0)>Formula!QJ8,(AND(YEAR(Formula!$B$4)=YEAR(Formula!QJ8),(MONTH(Formula!$B$4)=MONTH(Formula!QJ8))))),Formula!QJ12,\"\"),\"\")","v":""},{"$f":"IF($A$4=Formula!$A$35,IF(OR(EOMONTH(Formula!$B$4,0)>Formula!QK8,(AND(YEAR(Formula!$B$4)=YEAR(Formula!QK8),(MONTH(Formula!$B$4)=MONTH(Formula!QK8))))),Formula!QK12,\"\"),\"\")","v":""},{"$f":"IF($A$4=Formula!$A$35,IF(OR(EOMONTH(Formula!$B$4,0)>Formula!QL8,(AND(YEAR(Formula!$B$4)=YEAR(Formula!QL8),(MONTH(Formula!$B$4)=MONTH(Formula!QL8))))),Formula!QL12,\"\"),\"\")","v":""},{"$f":"IF($A$4=Formula!$A$35,IF(OR(EOMONTH(Formula!$B$4,0)>Formula!QM8,(AND(YEAR(Formula!$B$4)=YEAR(Formula!QM8),(MONTH(Formula!$B$4)=MONTH(Formula!QM8))))),Formula!QM12,\"\"),\"\")","v":""},{"$f":"IF($A$4=Formula!$A$35,IF(OR(EOMONTH(Formula!$B$4,0)>Formula!QN8,(AND(YEAR(Formula!$B$4)=YEAR(Formula!QN8),(MONTH(Formula!$B$4)=MONTH(Formula!QN8))))),Formula!QN12,\"\"),\"\")","v":""},{"$f":"IF($A$4=Formula!$A$35,IF(OR(EOMONTH(Formula!$B$4,0)>Formula!QO8,(AND(YEAR(Formula!$B$4)=YEAR(Formula!QO8),(MONTH(Formula!$B$4)=MONTH(Formula!QO8))))),Formula!QO12,\"\"),\"\")","v":""},{"$f":"IF($A$4=Formula!$A$35,IF(OR(EOMONTH(Formula!$B$4,0)>Formula!QP8,(AND(YEAR(Formula!$B$4)=YEAR(Formula!QP8),(MONTH(Formula!$B$4)=MONTH(Formula!QP8))))),Formula!QP12,\"\"),\"\")","v":""},{"$f":"IF($A$4=Formula!$A$35,IF(OR(EOMONTH(Formula!$B$4,0)>Formula!QQ8,(AND(YEAR(Formula!$B$4)=YEAR(Formula!QQ8),(MONTH(Formula!$B$4)=MONTH(Formula!QQ8))))),Formula!QQ12,\"\"),\"\")","v":""},{"$f":"IF($A$4=Formula!$A$35,IF(OR(EOMONTH(Formula!$B$4,0)>Formula!QR8,(AND(YEAR(Formula!$B$4)=YEAR(Formula!QR8),(MONTH(Formula!$B$4)=MONTH(Formula!QR8))))),Formula!QR12,\"\"),\"\")","v":""},{"$f":"IF($A$4=Formula!$A$35,IF(OR(EOMONTH(Formula!$B$4,0)>Formula!QS8,(AND(YEAR(Formula!$B$4)=YEAR(Formula!QS8),(MONTH(Formula!$B$4)=MONTH(Formula!QS8))))),Formula!QS12,\"\"),\"\")","v":""},{"$f":"IF($A$4=Formula!$A$35,IF(OR(EOMONTH(Formula!$B$4,0)>Formula!QT8,(AND(YEAR(Formula!$B$4)=YEAR(Formula!QT8),(MONTH(Formula!$B$4)=MONTH(Formula!QT8))))),Formula!QT12,\"\"),\"\")","v":""},{"$f":"IF($A$4=Formula!$A$35,IF(OR(EOMONTH(Formula!$B$4,0)>Formula!QU8,(AND(YEAR(Formula!$B$4)=YEAR(Formula!QU8),(MONTH(Formula!$B$4)=MONTH(Formula!QU8))))),Formula!QU12,\"\"),\"\")","v":""},{"$f":"IF($A$4=Formula!$A$35,IF(OR(EOMONTH(Formula!$B$4,0)>Formula!QV8,(AND(YEAR(Formula!$B$4)=YEAR(Formula!QV8),(MONTH(Formula!$B$4)=MONTH(Formula!QV8))))),Formula!QV12,\"\"),\"\")","v":""},{"$f":"IF($A$4=Formula!$A$35,IF(OR(EOMONTH(Formula!$B$4,0)>Formula!QW8,(AND(YEAR(Formula!$B$4)=YEAR(Formula!QW8),(MONTH(Formula!$B$4)=MONTH(Formula!QW8))))),Formula!QW12,\"\"),\"\")","v":""},{"$f":"IF($A$4=Formula!$A$35,IF(OR(EOMONTH(Formula!$B$4,0)>Formula!QX8,(AND(YEAR(Formula!$B$4)=YEAR(Formula!QX8),(MONTH(Formula!$B$4)=MONTH(Formula!QX8))))),Formula!QX12,\"\"),\"\")","v":""},{"$f":"IF($A$4=Formula!$A$35,IF(OR(EOMONTH(Formula!$B$4,0)>Formula!QY8,(AND(YEAR(Formula!$B$4)=YEAR(Formula!QY8),(MONTH(Formula!$B$4)=MONTH(Formula!QY8))))),Formula!QY12,\"\"),\"\")","v":""},{"$f":"IF($A$4=Formula!$A$35,IF(OR(EOMONTH(Formula!$B$4,0)>Formula!QZ8,(AND(YEAR(Formula!$B$4)=YEAR(Formula!QZ8),(MONTH(Formula!$B$4)=MONTH(Formula!QZ8))))),Formula!QZ12,\"\"),\"\")","v":""},{"$f":"IF($A$4=Formula!$A$35,IF(OR(EOMONTH(Formula!$B$4,0)>Formula!RA8,(AND(YEAR(Formula!$B$4)=YEAR(Formula!RA8),(MONTH(Formula!$B$4)=MONTH(Formula!RA8))))),Formula!RA12,\"\"),\"\")","v":""},{"$f":"IF($A$4=Formula!$A$35,IF(OR(EOMONTH(Formula!$B$4,0)>Formula!RB8,(AND(YEAR(Formula!$B$4)=YEAR(Formula!RB8),(MONTH(Formula!$B$4)=MONTH(Formula!RB8))))),Formula!RB12,\"\"),\"\")","v":""},{"$f":"IF($A$4=Formula!$A$35,IF(OR(EOMONTH(Formula!$B$4,0)>Formula!RC8,(AND(YEAR(Formula!$B$4)=YEAR(Formula!RC8),(MONTH(Formula!$B$4)=MONTH(Formula!RC8))))),Formula!RC12,\"\"),\"\")","v":""},{"$f":"IF($A$4=Formula!$A$35,IF(OR(EOMONTH(Formula!$B$4,0)>Formula!RD8,(AND(YEAR(Formula!$B$4)=YEAR(Formula!RD8),(MONTH(Formula!$B$4)=MONTH(Formula!RD8))))),Formula!RD12,\"\"),\"\")","v":""},{"$f":"IF($A$4=Formula!$A$35,IF(OR(EOMONTH(Formula!$B$4,0)>Formula!RE8,(AND(YEAR(Formula!$B$4)=YEAR(Formula!RE8),(MONTH(Formula!$B$4)=MONTH(Formula!RE8))))),Formula!RE12,\"\"),\"\")","v":""},{"$f":"IF($A$4=Formula!$A$35,IF(OR(EOMONTH(Formula!$B$4,0)>Formula!RF8,(AND(YEAR(Formula!$B$4)=YEAR(Formula!RF8),(MONTH(Formula!$B$4)=MONTH(Formula!RF8))))),Formula!RF12,\"\"),\"\")","v":""},{"$f":"IF($A$4=Formula!$A$35,IF(OR(EOMONTH(Formula!$B$4,0)>Formula!RG8,(AND(YEAR(Formula!$B$4)=YEAR(Formula!RG8),(MONTH(Formula!$B$4)=MONTH(Formula!RG8))))),Formula!RG12,\"\"),\"\")","v":""},{"$f":"IF($A$4=Formula!$A$35,IF(OR(EOMONTH(Formula!$B$4,0)>Formula!RH8,(AND(YEAR(Formula!$B$4)=YEAR(Formula!RH8),(MONTH(Formula!$B$4)=MONTH(Formula!RH8))))),Formula!RH12,\"\"),\"\")","v":""},{"$f":"IF($A$4=Formula!$A$35,IF(OR(EOMONTH(Formula!$B$4,0)>Formula!RI8,(AND(YEAR(Formula!$B$4)=YEAR(Formula!RI8),(MONTH(Formula!$B$4)=MONTH(Formula!RI8))))),Formula!RI12,\"\"),\"\")","v":""},{"$f":"IF($A$4=Formula!$A$35,IF(OR(EOMONTH(Formula!$B$4,0)>Formula!RJ8,(AND(YEAR(Formula!$B$4)=YEAR(Formula!RJ8),(MONTH(Formula!$B$4)=MONTH(Formula!RJ8))))),Formula!RJ12,\"\"),\"\")","v":""},{"$f":"IF($A$4=Formula!$A$35,IF(OR(EOMONTH(Formula!$B$4,0)>Formula!RK8,(AND(YEAR(Formula!$B$4)=YEAR(Formula!RK8),(MONTH(Formula!$B$4)=MONTH(Formula!RK8))))),Formula!RK12,\"\"),\"\")","v":""},{"$f":"IF($A$4=Formula!$A$35,IF(OR(EOMONTH(Formula!$B$4,0)>Formula!RL8,(AND(YEAR(Formula!$B$4)=YEAR(Formula!RL8),(MONTH(Formula!$B$4)=MONTH(Formula!RL8))))),Formula!RL12,\"\"),\"\")","v":""},{"$f":"IF($A$4=Formula!$A$35,IF(OR(EOMONTH(Formula!$B$4,0)>Formula!RM8,(AND(YEAR(Formula!$B$4)=YEAR(Formula!RM8),(MONTH(Formula!$B$4)=MONTH(Formula!RM8))))),Formula!RM12,\"\"),\"\")","v":""},{"$f":"IF($A$4=Formula!$A$35,IF(OR(EOMONTH(Formula!$B$4,0)>Formula!RN8,(AND(YEAR(Formula!$B$4)=YEAR(Formula!RN8),(MONTH(Formula!$B$4)=MONTH(Formula!RN8))))),Formula!RN12,\"\"),\"\")","v":""},{"$f":"IF($A$4=Formula!$A$35,IF(OR(EOMONTH(Formula!$B$4,0)>Formula!RO8,(AND(YEAR(Formula!$B$4)=YEAR(Formula!RO8),(MONTH(Formula!$B$4)=MONTH(Formula!RO8))))),Formula!RO12,\"\"),\"\")","v":""},{"$f":"IF($A$4=Formula!$A$35,IF(OR(EOMONTH(Formula!$B$4,0)>Formula!RP8,(AND(YEAR(Formula!$B$4)=YEAR(Formula!RP8),(MONTH(Formula!$B$4)=MONTH(Formula!RP8))))),Formula!RP12,\"\"),\"\")","v":""},{"$f":"IF($A$4=Formula!$A$35,IF(OR(EOMONTH(Formula!$B$4,0)>Formula!RQ8,(AND(YEAR(Formula!$B$4)=YEAR(Formula!RQ8),(MONTH(Formula!$B$4)=MONTH(Formula!RQ8))))),Formula!RQ12,\"\"),\"\")","v":""},{"$f":"IF($A$4=Formula!$A$35,IF(OR(EOMONTH(Formula!$B$4,0)>Formula!RR8,(AND(YEAR(Formula!$B$4)=YEAR(Formula!RR8),(MONTH(Formula!$B$4)=MONTH(Formula!RR8))))),Formula!RR12,\"\"),\"\")","v":""},{"$f":"IF($A$4=Formula!$A$35,IF(OR(EOMONTH(Formula!$B$4,0)>Formula!RS8,(AND(YEAR(Formula!$B$4)=YEAR(Formula!RS8),(MONTH(Formula!$B$4)=MONTH(Formula!RS8))))),Formula!RS12,\"\"),\"\")","v":""},{"$f":"IF($A$4=Formula!$A$35,IF(OR(EOMONTH(Formula!$B$4,0)>Formula!RT8,(AND(YEAR(Formula!$B$4)=YEAR(Formula!RT8),(MONTH(Formula!$B$4)=MONTH(Formula!RT8))))),Formula!RT12,\"\"),\"\")","v":""},{"$f":"IF($A$4=Formula!$A$35,IF(OR(EOMONTH(Formula!$B$4,0)>Formula!RU8,(AND(YEAR(Formula!$B$4)=YEAR(Formula!RU8),(MONTH(Formula!$B$4)=MONTH(Formula!RU8))))),Formula!RU12,\"\"),\"\")","v":""},{"$f":"IF($A$4=Formula!$A$35,IF(OR(EOMONTH(Formula!$B$4,0)>Formula!RV8,(AND(YEAR(Formula!$B$4)=YEAR(Formula!RV8),(MONTH(Formula!$B$4)=MONTH(Formula!RV8))))),Formula!RV12,\"\"),\"\")","v":""},{"$f":"IF($A$4=Formula!$A$35,IF(OR(EOMONTH(Formula!$B$4,0)>Formula!RW8,(AND(YEAR(Formula!$B$4)=YEAR(Formula!RW8),(MONTH(Formula!$B$4)=MONTH(Formula!RW8))))),Formula!RW12,\"\"),\"\")","v":""},{"$f":"IF($A$4=Formula!$A$35,IF(OR(EOMONTH(Formula!$B$4,0)>Formula!RX8,(AND(YEAR(Formula!$B$4)=YEAR(Formula!RX8),(MONTH(Formula!$B$4)=MONTH(Formula!RX8))))),Formula!RX12,\"\"),\"\")","v":""},{"$f":"IF($A$4=Formula!$A$35,IF(OR(EOMONTH(Formula!$B$4,0)>Formula!RY8,(AND(YEAR(Formula!$B$4)=YEAR(Formula!RY8),(MONTH(Formula!$B$4)=MONTH(Formula!RY8))))),Formula!RY12,\"\"),\"\")","v":""},{"$f":"IF($A$4=Formula!$A$35,IF(OR(EOMONTH(Formula!$B$4,0)>Formula!RZ8,(AND(YEAR(Formula!$B$4)=YEAR(Formula!RZ8),(MONTH(Formula!$B$4)=MONTH(Formula!RZ8))))),Formula!RZ12,\"\"),\"\")","v":""},{"$f":"IF($A$4=Formula!$A$35,IF(OR(EOMONTH(Formula!$B$4,0)>Formula!SA8,(AND(YEAR(Formula!$B$4)=YEAR(Formula!SA8),(MONTH(Formula!$B$4)=MONTH(Formula!SA8))))),Formula!SA12,\"\"),\"\")","v":""},{"$f":"IF($A$4=Formula!$A$35,IF(OR(EOMONTH(Formula!$B$4,0)>Formula!SB8,(AND(YEAR(Formula!$B$4)=YEAR(Formula!SB8),(MONTH(Formula!$B$4)=MONTH(Formula!SB8))))),Formula!SB12,\"\"),\"\")","v":""},{"$f":"IF($A$4=Formula!$A$35,IF(OR(EOMONTH(Formula!$B$4,0)>Formula!SC8,(AND(YEAR(Formula!$B$4)=YEAR(Formula!SC8),(MONTH(Formula!$B$4)=MONTH(Formula!SC8))))),Formula!SC12,\"\"),\"\")","v":""},{"$f":"IF($A$4=Formula!$A$35,IF(OR(EOMONTH(Formula!$B$4,0)>Formula!SD8,(AND(YEAR(Formula!$B$4)=YEAR(Formula!SD8),(MONTH(Formula!$B$4)=MONTH(Formula!SD8))))),Formula!SD12,\"\"),\"\")","v":""},{"$f":"IF($A$4=Formula!$A$35,IF(OR(EOMONTH(Formula!$B$4,0)>Formula!SE8,(AND(YEAR(Formula!$B$4)=YEAR(Formula!SE8),(MONTH(Formula!$B$4)=MONTH(Formula!SE8))))),Formula!SE12,\"\"),\"\")","v":""},{"$f":"IF($A$4=Formula!$A$35,IF(OR(EOMONTH(Formula!$B$4,0)>Formula!SF8,(AND(YEAR(Formula!$B$4)=YEAR(Formula!SF8),(MONTH(Formula!$B$4)=MONTH(Formula!SF8))))),Formula!SF12,\"\"),\"\")","v":""},{"$f":"IF($A$4=Formula!$A$35,IF(OR(EOMONTH(Formula!$B$4,0)>Formula!SG8,(AND(YEAR(Formula!$B$4)=YEAR(Formula!SG8),(MONTH(Formula!$B$4)=MONTH(Formula!SG8))))),Formula!SG12,\"\"),\"\")","v":""},{"$f":"IF($A$4=Formula!$A$35,IF(OR(EOMONTH(Formula!$B$4,0)>Formula!SH8,(AND(YEAR(Formula!$B$4)=YEAR(Formula!SH8),(MONTH(Formula!$B$4)=MONTH(Formula!SH8))))),Formula!SH12,\"\"),\"\")","v":""},{"$f":"IF($A$4=Formula!$A$35,IF(OR(EOMONTH(Formula!$B$4,0)>Formula!SI8,(AND(YEAR(Formula!$B$4)=YEAR(Formula!SI8),(MONTH(Formula!$B$4)=MONTH(Formula!SI8))))),Formula!SI12,\"\"),\"\")","v":""},{"$f":"IF($A$4=Formula!$A$35,IF(OR(EOMONTH(Formula!$B$4,0)>Formula!SJ8,(AND(YEAR(Formula!$B$4)=YEAR(Formula!SJ8),(MONTH(Formula!$B$4)=MONTH(Formula!SJ8))))),Formula!SJ12,\"\"),\"\")","v":""},{"$f":"IF($A$4=Formula!$A$35,IF(OR(EOMONTH(Formula!$B$4,0)>Formula!SK8,(AND(YEAR(Formula!$B$4)=YEAR(Formula!SK8),(MONTH(Formula!$B$4)=MONTH(Formula!SK8))))),Formula!SK12,\"\"),\"\")","v":""},{"$f":"IF($A$4=Formula!$A$35,IF(OR(EOMONTH(Formula!$B$4,0)>Formula!SL8,(AND(YEAR(Formula!$B$4)=YEAR(Formula!SL8),(MONTH(Formula!$B$4)=MONTH(Formula!SL8))))),Formula!SL12,\"\"),\"\")","v":""},{"$f":"IF($A$4=Formula!$A$35,IF(OR(EOMONTH(Formula!$B$4,0)>Formula!SM8,(AND(YEAR(Formula!$B$4)=YEAR(Formula!SM8),(MONTH(Formula!$B$4)=MONTH(Formula!SM8))))),Formula!SM12,\"\"),\"\")","v":""},{"$f":"IF($A$4=Formula!$A$35,IF(OR(EOMONTH(Formula!$B$4,0)>Formula!SN8,(AND(YEAR(Formula!$B$4)=YEAR(Formula!SN8),(MONTH(Formula!$B$4)=MONTH(Formula!SN8))))),Formula!SN12,\"\"),\"\")","v":""},{"$f":"IF($A$4=Formula!$A$35,IF(OR(EOMONTH(Formula!$B$4,0)>Formula!SO8,(AND(YEAR(Formula!$B$4)=YEAR(Formula!SO8),(MONTH(Formula!$B$4)=MONTH(Formula!SO8))))),Formula!SO12,\"\"),\"\")","v":""},{"$f":"IF($A$4=Formula!$A$35,IF(OR(EOMONTH(Formula!$B$4,0)>Formula!SP8,(AND(YEAR(Formula!$B$4)=YEAR(Formula!SP8),(MONTH(Formula!$B$4)=MONTH(Formula!SP8))))),Formula!SP12,\"\"),\"\")","v":""},{"$f":"IF($A$4=Formula!$A$35,IF(OR(EOMONTH(Formula!$B$4,0)>Formula!SQ8,(AND(YEAR(Formula!$B$4)=YEAR(Formula!SQ8),(MONTH(Formula!$B$4)=MONTH(Formula!SQ8))))),Formula!SQ12,\"\"),\"\")","v":""},{"$f":"IF($A$4=Formula!$A$35,IF(OR(EOMONTH(Formula!$B$4,0)>Formula!SR8,(AND(YEAR(Formula!$B$4)=YEAR(Formula!SR8),(MONTH(Formula!$B$4)=MONTH(Formula!SR8))))),Formula!SR12,\"\"),\"\")","v":""},{"$f":"IF($A$4=Formula!$A$35,IF(OR(EOMONTH(Formula!$B$4,0)>Formula!SS8,(AND(YEAR(Formula!$B$4)=YEAR(Formula!SS8),(MONTH(Formula!$B$4)=MONTH(Formula!SS8))))),Formula!SS12,\"\"),\"\")","v":""},{"$f":"IF($A$4=Formula!$A$35,IF(OR(EOMONTH(Formula!$B$4,0)>Formula!ST8,(AND(YEAR(Formula!$B$4)=YEAR(Formula!ST8),(MONTH(Formula!$B$4)=MONTH(Formula!ST8))))),Formula!ST12,\"\"),\"\")","v":""},{"$f":"IF($A$4=Formula!$A$35,IF(OR(EOMONTH(Formula!$B$4,0)>Formula!SU8,(AND(YEAR(Formula!$B$4)=YEAR(Formula!SU8),(MONTH(Formula!$B$4)=MONTH(Formula!SU8))))),Formula!SU12,\"\"),\"\")","v":""},{"$f":"IF($A$4=Formula!$A$35,IF(OR(EOMONTH(Formula!$B$4,0)>Formula!SV8,(AND(YEAR(Formula!$B$4)=YEAR(Formula!SV8),(MONTH(Formula!$B$4)=MONTH(Formula!SV8))))),Formula!SV12,\"\"),\"\")","v":""},{"$f":"IF($A$4=Formula!$A$35,IF(OR(EOMONTH(Formula!$B$4,0)>Formula!SW8,(AND(YEAR(Formula!$B$4)=YEAR(Formula!SW8),(MONTH(Formula!$B$4)=MONTH(Formula!SW8))))),Formula!SW12,\"\"),\"\")","v":""},{"$f":"IF($A$4=Formula!$A$35,IF(OR(EOMONTH(Formula!$B$4,0)>Formula!SX8,(AND(YEAR(Formula!$B$4)=YEAR(Formula!SX8),(MONTH(Formula!$B$4)=MONTH(Formula!SX8))))),Formula!SX12,\"\"),\"\")","v":""},{"$f":"IF($A$4=Formula!$A$35,IF(OR(EOMONTH(Formula!$B$4,0)>Formula!SY8,(AND(YEAR(Formula!$B$4)=YEAR(Formula!SY8),(MONTH(Formula!$B$4)=MONTH(Formula!SY8))))),Formula!SY12,\"\"),\"\")","v":""},{"$f":"IF($A$4=Formula!$A$35,IF(OR(EOMONTH(Formula!$B$4,0)>Formula!SZ8,(AND(YEAR(Formula!$B$4)=YEAR(Formula!SZ8),(MONTH(Formula!$B$4)=MONTH(Formula!SZ8))))),Formula!SZ12,\"\"),\"\")","v":""},{"$f":"IF($A$4=Formula!$A$35,IF(OR(EOMONTH(Formula!$B$4,0)>Formula!TA8,(AND(YEAR(Formula!$B$4)=YEAR(Formula!TA8),(MONTH(Formula!$B$4)=MONTH(Formula!TA8))))),Formula!TA12,\"\"),\"\")","v":""},{"$f":"IF($A$4=Formula!$A$35,IF(OR(EOMONTH(Formula!$B$4,0)>Formula!TB8,(AND(YEAR(Formula!$B$4)=YEAR(Formula!TB8),(MONTH(Formula!$B$4)=MONTH(Formula!TB8))))),Formula!TB12,\"\"),\"\")","v":""},{"$f":"IF($A$4=Formula!$A$35,IF(OR(EOMONTH(Formula!$B$4,0)>Formula!TC8,(AND(YEAR(Formula!$B$4)=YEAR(Formula!TC8),(MONTH(Formula!$B$4)=MONTH(Formula!TC8))))),Formula!TC12,\"\"),\"\")","v":""},{"$f":"IF($A$4=Formula!$A$35,IF(OR(EOMONTH(Formula!$B$4,0)>Formula!TD8,(AND(YEAR(Formula!$B$4)=YEAR(Formula!TD8),(MONTH(Formula!$B$4)=MONTH(Formula!TD8))))),Formula!TD12,\"\"),\"\")","v":""},{"$f":"IF($A$4=Formula!$A$35,IF(OR(EOMONTH(Formula!$B$4,0)>Formula!TE8,(AND(YEAR(Formula!$B$4)=YEAR(Formula!TE8),(MONTH(Formula!$B$4)=MONTH(Formula!TE8))))),Formula!TE12,\"\"),\"\")","v":""},{"$f":"IF($A$4=Formula!$A$35,IF(OR(EOMONTH(Formula!$B$4,0)>Formula!TF8,(AND(YEAR(Formula!$B$4)=YEAR(Formula!TF8),(MONTH(Formula!$B$4)=MONTH(Formula!TF8))))),Formula!TF12,\"\"),\"\")","v":""},{"$f":"IF($A$4=Formula!$A$35,IF(OR(EOMONTH(Formula!$B$4,0)>Formula!TG8,(AND(YEAR(Formula!$B$4)=YEAR(Formula!TG8),(MONTH(Formula!$B$4)=MONTH(Formula!TG8))))),Formula!TG12,\"\"),\"\")","v":""},{"$f":"IF($A$4=Formula!$A$35,IF(OR(EOMONTH(Formula!$B$4,0)>Formula!TH8,(AND(YEAR(Formula!$B$4)=YEAR(Formula!TH8),(MONTH(Formula!$B$4)=MONTH(Formula!TH8))))),Formula!TH12,\"\"),\"\")","v":""},{"$f":"IF($A$4=Formula!$A$35,IF(OR(EOMONTH(Formula!$B$4,0)>Formula!TI8,(AND(YEAR(Formula!$B$4)=YEAR(Formula!TI8),(MONTH(Formula!$B$4)=MONTH(Formula!TI8))))),Formula!TI12,\"\"),\"\")","v":""},{"$f":"IF($A$4=Formula!$A$35,IF(OR(EOMONTH(Formula!$B$4,0)>Formula!TJ8,(AND(YEAR(Formula!$B$4)=YEAR(Formula!TJ8),(MONTH(Formula!$B$4)=MONTH(Formula!TJ8))))),Formula!TJ12,\"\"),\"\")","v":""},{"$f":"IF($A$4=Formula!$A$35,IF(OR(EOMONTH(Formula!$B$4,0)>Formula!TK8,(AND(YEAR(Formula!$B$4)=YEAR(Formula!TK8),(MONTH(Formula!$B$4)=MONTH(Formula!TK8))))),Formula!TK12,\"\"),\"\")","v":""},{"$f":"IF($A$4=Formula!$A$35,IF(OR(EOMONTH(Formula!$B$4,0)>Formula!TL8,(AND(YEAR(Formula!$B$4)=YEAR(Formula!TL8),(MONTH(Formula!$B$4)=MONTH(Formula!TL8))))),Formula!TL12,\"\"),\"\")","v":""},{"$f":"IF($A$4=Formula!$A$35,IF(OR(EOMONTH(Formula!$B$4,0)>Formula!TM8,(AND(YEAR(Formula!$B$4)=YEAR(Formula!TM8),(MONTH(Formula!$B$4)=MONTH(Formula!TM8))))),Formula!TM12,\"\"),\"\")","v":""},{"$f":"IF($A$4=Formula!$A$35,IF(OR(EOMONTH(Formula!$B$4,0)>Formula!TN8,(AND(YEAR(Formula!$B$4)=YEAR(Formula!TN8),(MONTH(Formula!$B$4)=MONTH(Formula!TN8))))),Formula!TN12,\"\"),\"\")","v":""},{"$f":"IF($A$4=Formula!$A$35,IF(OR(EOMONTH(Formula!$B$4,0)>Formula!TO8,(AND(YEAR(Formula!$B$4)=YEAR(Formula!TO8),(MONTH(Formula!$B$4)=MONTH(Formula!TO8))))),Formula!TO12,\"\"),\"\")","v":""},{"$f":"IF($A$4=Formula!$A$35,IF(OR(EOMONTH(Formula!$B$4,0)>Formula!TP8,(AND(YEAR(Formula!$B$4)=YEAR(Formula!TP8),(MONTH(Formula!$B$4)=MONTH(Formula!TP8))))),Formula!TP12,\"\"),\"\")","v":""},{"$f":"IF($A$4=Formula!$A$35,IF(OR(EOMONTH(Formula!$B$4,0)>Formula!TQ8,(AND(YEAR(Formula!$B$4)=YEAR(Formula!TQ8),(MONTH(Formula!$B$4)=MONTH(Formula!TQ8))))),Formula!TQ12,\"\"),\"\")","v":""},{"$f":"IF($A$4=Formula!$A$35,IF(OR(EOMONTH(Formula!$B$4,0)>Formula!TR8,(AND(YEAR(Formula!$B$4)=YEAR(Formula!TR8),(MONTH(Formula!$B$4)=MONTH(Formula!TR8))))),Formula!TR12,\"\"),\"\")","v":""},{"$f":"IF($A$4=Formula!$A$35,IF(OR(EOMONTH(Formula!$B$4,0)>Formula!TS8,(AND(YEAR(Formula!$B$4)=YEAR(Formula!TS8),(MONTH(Formula!$B$4)=MONTH(Formula!TS8))))),Formula!TS12,\"\"),\"\")","v":""},{"$f":"IF($A$4=Formula!$A$35,IF(OR(EOMONTH(Formula!$B$4,0)>Formula!TT8,(AND(YEAR(Formula!$B$4)=YEAR(Formula!TT8),(MONTH(Formula!$B$4)=MONTH(Formula!TT8))))),Formula!TT12,\"\"),\"\")","v":""},{"$f":"IF($A$4=Formula!$A$35,IF(OR(EOMONTH(Formula!$B$4,0)>Formula!TU8,(AND(YEAR(Formula!$B$4)=YEAR(Formula!TU8),(MONTH(Formula!$B$4)=MONTH(Formula!TU8))))),Formula!TU12,\"\"),\"\")","v":""},{"$f":"IF($A$4=Formula!$A$35,IF(OR(EOMONTH(Formula!$B$4,0)>Formula!TV8,(AND(YEAR(Formula!$B$4)=YEAR(Formula!TV8),(MONTH(Formula!$B$4)=MONTH(Formula!TV8))))),Formula!TV12,\"\"),\"\")","v":""},{"$f":"IF($A$4=Formula!$A$35,IF(OR(EOMONTH(Formula!$B$4,0)>Formula!TW8,(AND(YEAR(Formula!$B$4)=YEAR(Formula!TW8),(MONTH(Formula!$B$4)=MONTH(Formula!TW8))))),Formula!TW12,\"\"),\"\")","v":""},{"$f":"IF($A$4=Formula!$A$35,IF(OR(EOMONTH(Formula!$B$4,0)>Formula!TX8,(AND(YEAR(Formula!$B$4)=YEAR(Formula!TX8),(MONTH(Formula!$B$4)=MONTH(Formula!TX8))))),Formula!TX12,\"\"),\"\")","v":""},{"$f":"IF($A$4=Formula!$A$35,IF(OR(EOMONTH(Formula!$B$4,0)>Formula!TY8,(AND(YEAR(Formula!$B$4)=YEAR(Formula!TY8),(MONTH(Formula!$B$4)=MONTH(Formula!TY8))))),Formula!TY12,\"\"),\"\")","v":""},{"$f":"IF($A$4=Formula!$A$35,IF(OR(EOMONTH(Formula!$B$4,0)>Formula!TZ8,(AND(YEAR(Formula!$B$4)=YEAR(Formula!TZ8),(MONTH(Formula!$B$4)=MONTH(Formula!TZ8))))),Formula!TZ12,\"\"),\"\")","v":""},{"$f":"IF($A$4=Formula!$A$35,IF(OR(EOMONTH(Formula!$B$4,0)>Formula!UA8,(AND(YEAR(Formula!$B$4)=YEAR(Formula!UA8),(MONTH(Formula!$B$4)=MONTH(Formula!UA8))))),Formula!UA12,\"\"),\"\")","v":""},{"$f":"IF($A$4=Formula!$A$35,IF(OR(EOMONTH(Formula!$B$4,0)>Formula!UB8,(AND(YEAR(Formula!$B$4)=YEAR(Formula!UB8),(MONTH(Formula!$B$4)=MONTH(Formula!UB8))))),Formula!UB12,\"\"),\"\")","v":""},{"$f":"IF($A$4=Formula!$A$35,IF(OR(EOMONTH(Formula!$B$4,0)>Formula!UC8,(AND(YEAR(Formula!$B$4)=YEAR(Formula!UC8),(MONTH(Formula!$B$4)=MONTH(Formula!UC8))))),Formula!UC12,\"\"),\"\")","v":""},{"$f":"IF($A$4=Formula!$A$35,IF(OR(EOMONTH(Formula!$B$4,0)>Formula!UD8,(AND(YEAR(Formula!$B$4)=YEAR(Formula!UD8),(MONTH(Formula!$B$4)=MONTH(Formula!UD8))))),Formula!UD12,\"\"),\"\")","v":""},{"$f":"IF($A$4=Formula!$A$35,IF(OR(EOMONTH(Formula!$B$4,0)>Formula!UE8,(AND(YEAR(Formula!$B$4)=YEAR(Formula!UE8),(MONTH(Formula!$B$4)=MONTH(Formula!UE8))))),Formula!UE12,\"\"),\"\")","v":""},{"$f":"IF($A$4=Formula!$A$35,IF(OR(EOMONTH(Formula!$B$4,0)>Formula!UF8,(AND(YEAR(Formula!$B$4)=YEAR(Formula!UF8),(MONTH(Formula!$B$4)=MONTH(Formula!UF8))))),Formula!UF12,\"\"),\"\")","v":""},{"$f":"IF($A$4=Formula!$A$35,IF(OR(EOMONTH(Formula!$B$4,0)>Formula!UG8,(AND(YEAR(Formula!$B$4)=YEAR(Formula!UG8),(MONTH(Formula!$B$4)=MONTH(Formula!UG8))))),Formula!UG12,\"\"),\"\")","v":""},{"$f":"IF($A$4=Formula!$A$35,IF(OR(EOMONTH(Formula!$B$4,0)>Formula!UH8,(AND(YEAR(Formula!$B$4)=YEAR(Formula!UH8),(MONTH(Formula!$B$4)=MONTH(Formula!UH8))))),Formula!UH12,\"\"),\"\")","v":""},{"$f":"IF($A$4=Formula!$A$35,IF(OR(EOMONTH(Formula!$B$4,0)>Formula!UI8,(AND(YEAR(Formula!$B$4)=YEAR(Formula!UI8),(MONTH(Formula!$B$4)=MONTH(Formula!UI8))))),Formula!UI12,\"\"),\"\")","v":""},{"$f":"IF($A$4=Formula!$A$35,IF(OR(EOMONTH(Formula!$B$4,0)>Formula!UJ8,(AND(YEAR(Formula!$B$4)=YEAR(Formula!UJ8),(MONTH(Formula!$B$4)=MONTH(Formula!UJ8))))),Formula!UJ12,\"\"),\"\")","v":""},{"$f":"IF($A$4=Formula!$A$35,IF(OR(EOMONTH(Formula!$B$4,0)>Formula!UK8,(AND(YEAR(Formula!$B$4)=YEAR(Formula!UK8),(MONTH(Formula!$B$4)=MONTH(Formula!UK8))))),Formula!UK12,\"\"),\"\")","v":""},{"$f":"IF($A$4=Formula!$A$35,IF(OR(EOMONTH(Formula!$B$4,0)>Formula!UL8,(AND(YEAR(Formula!$B$4)=YEAR(Formula!UL8),(MONTH(Formula!$B$4)=MONTH(Formula!UL8))))),Formula!UL12,\"\"),\"\")","v":""},{"$f":"IF($A$4=Formula!$A$35,IF(OR(EOMONTH(Formula!$B$4,0)>Formula!UM8,(AND(YEAR(Formula!$B$4)=YEAR(Formula!UM8),(MONTH(Formula!$B$4)=MONTH(Formula!UM8))))),Formula!UM12,\"\"),\"\")","v":""},{"$f":"IF($A$4=Formula!$A$35,IF(OR(EOMONTH(Formula!$B$4,0)>Formula!UN8,(AND(YEAR(Formula!$B$4)=YEAR(Formula!UN8),(MONTH(Formula!$B$4)=MONTH(Formula!UN8))))),Formula!UN12,\"\"),\"\")","v":""},{"$f":"IF($A$4=Formula!$A$35,IF(OR(EOMONTH(Formula!$B$4,0)>Formula!UO8,(AND(YEAR(Formula!$B$4)=YEAR(Formula!UO8),(MONTH(Formula!$B$4)=MONTH(Formula!UO8))))),Formula!UO12,\"\"),\"\")","v":""},{"$f":"IF($A$4=Formula!$A$35,IF(OR(EOMONTH(Formula!$B$4,0)>Formula!UP8,(AND(YEAR(Formula!$B$4)=YEAR(Formula!UP8),(MONTH(Formula!$B$4)=MONTH(Formula!UP8))))),Formula!UP12,\"\"),\"\")","v":""},{"$f":"IF($A$4=Formula!$A$35,IF(OR(EOMONTH(Formula!$B$4,0)>Formula!UQ8,(AND(YEAR(Formula!$B$4)=YEAR(Formula!UQ8),(MONTH(Formula!$B$4)=MONTH(Formula!UQ8))))),Formula!UQ12,\"\"),\"\")","v":""},{"$f":"IF($A$4=Formula!$A$35,IF(OR(EOMONTH(Formula!$B$4,0)>Formula!UR8,(AND(YEAR(Formula!$B$4)=YEAR(Formula!UR8),(MONTH(Formula!$B$4)=MONTH(Formula!UR8))))),Formula!UR12,\"\"),\"\")","v":""},{"$f":"IF($A$4=Formula!$A$35,IF(OR(EOMONTH(Formula!$B$4,0)>Formula!US8,(AND(YEAR(Formula!$B$4)=YEAR(Formula!US8),(MONTH(Formula!$B$4)=MONTH(Formula!US8))))),Formula!US12,\"\"),\"\")","v":""},{"$f":"IF($A$4=Formula!$A$35,IF(OR(EOMONTH(Formula!$B$4,0)>Formula!UT8,(AND(YEAR(Formula!$B$4)=YEAR(Formula!UT8),(MONTH(Formula!$B$4)=MONTH(Formula!UT8))))),Formula!UT12,\"\"),\"\")","v":""},{"$f":"IF($A$4=Formula!$A$35,IF(OR(EOMONTH(Formula!$B$4,0)>Formula!UU8,(AND(YEAR(Formula!$B$4)=YEAR(Formula!UU8),(MONTH(Formula!$B$4)=MONTH(Formula!UU8))))),Formula!UU12,\"\"),\"\")","v":""},{"$f":"IF($A$4=Formula!$A$35,IF(OR(EOMONTH(Formula!$B$4,0)>Formula!UV8,(AND(YEAR(Formula!$B$4)=YEAR(Formula!UV8),(MONTH(Formula!$B$4)=MONTH(Formula!UV8))))),Formula!UV12,\"\"),\"\")","v":""},{"$f":"IF($A$4=Formula!$A$35,IF(OR(EOMONTH(Formula!$B$4,0)>Formula!UW8,(AND(YEAR(Formula!$B$4)=YEAR(Formula!UW8),(MONTH(Formula!$B$4)=MONTH(Formula!UW8))))),Formula!UW12,\"\"),\"\")","v":""},{"$f":"IF($A$4=Formula!$A$35,IF(OR(EOMONTH(Formula!$B$4,0)>Formula!UX8,(AND(YEAR(Formula!$B$4)=YEAR(Formula!UX8),(MONTH(Formula!$B$4)=MONTH(Formula!UX8))))),Formula!UX12,\"\"),\"\")","v":""},{"$f":"IF($A$4=Formula!$A$35,IF(OR(EOMONTH(Formula!$B$4,0)>Formula!UY8,(AND(YEAR(Formula!$B$4)=YEAR(Formula!UY8),(MONTH(Formula!$B$4)=MONTH(Formula!UY8))))),Formula!UY12,\"\"),\"\")","v":""},{"$f":"IF($A$4=Formula!$A$35,IF(OR(EOMONTH(Formula!$B$4,0)>Formula!UZ8,(AND(YEAR(Formula!$B$4)=YEAR(Formula!UZ8),(MONTH(Formula!$B$4)=MONTH(Formula!UZ8))))),Formula!UZ12,\"\"),\"\")","v":""},{"$f":"IF($A$4=Formula!$A$35,IF(OR(EOMONTH(Formula!$B$4,0)>Formula!VA8,(AND(YEAR(Formula!$B$4)=YEAR(Formula!VA8),(MONTH(Formula!$B$4)=MONTH(Formula!VA8))))),Formula!VA12,\"\"),\"\")","v":""},{"$f":"IF($A$4=Formula!$A$35,IF(OR(EOMONTH(Formula!$B$4,0)>Formula!VB8,(AND(YEAR(Formula!$B$4)=YEAR(Formula!VB8),(MONTH(Formula!$B$4)=MONTH(Formula!VB8))))),Formula!VB12,\"\"),\"\")","v":""},{"$f":"IF($A$4=Formula!$A$35,IF(OR(EOMONTH(Formula!$B$4,0)>Formula!VC8,(AND(YEAR(Formula!$B$4)=YEAR(Formula!VC8),(MONTH(Formula!$B$4)=MONTH(Formula!VC8))))),Formula!VC12,\"\"),\"\")","v":""},{"$f":"IF($A$4=Formula!$A$35,IF(OR(EOMONTH(Formula!$B$4,0)>Formula!VD8,(AND(YEAR(Formula!$B$4)=YEAR(Formula!VD8),(MONTH(Formula!$B$4)=MONTH(Formula!VD8))))),Formula!VD12,\"\"),\"\")","v":""},{"$f":"IF($A$4=Formula!$A$35,IF(OR(EOMONTH(Formula!$B$4,0)>Formula!VE8,(AND(YEAR(Formula!$B$4)=YEAR(Formula!VE8),(MONTH(Formula!$B$4)=MONTH(Formula!VE8))))),Formula!VE12,\"\"),\"\")","v":""},{"$f":"IF($A$4=Formula!$A$35,IF(OR(EOMONTH(Formula!$B$4,0)>Formula!VF8,(AND(YEAR(Formula!$B$4)=YEAR(Formula!VF8),(MONTH(Formula!$B$4)=MONTH(Formula!VF8))))),Formula!VF12,\"\"),\"\")","v":""},{"$f":"IF($A$4=Formula!$A$35,IF(OR(EOMONTH(Formula!$B$4,0)>Formula!VG8,(AND(YEAR(Formula!$B$4)=YEAR(Formula!VG8),(MONTH(Formula!$B$4)=MONTH(Formula!VG8))))),Formula!VG12,\"\"),\"\")","v":""},{"$f":"IF($A$4=Formula!$A$35,IF(OR(EOMONTH(Formula!$B$4,0)>Formula!VH8,(AND(YEAR(Formula!$B$4)=YEAR(Formula!VH8),(MONTH(Formula!$B$4)=MONTH(Formula!VH8))))),Formula!VH12,\"\"),\"\")","v":""},{"$f":"IF($A$4=Formula!$A$35,IF(OR(EOMONTH(Formula!$B$4,0)>Formula!VI8,(AND(YEAR(Formula!$B$4)=YEAR(Formula!VI8),(MONTH(Formula!$B$4)=MONTH(Formula!VI8))))),Formula!VI12,\"\"),\"\")","v":""},{"$f":"IF($A$4=Formula!$A$35,IF(OR(EOMONTH(Formula!$B$4,0)>Formula!VJ8,(AND(YEAR(Formula!$B$4)=YEAR(Formula!VJ8),(MONTH(Formula!$B$4)=MONTH(Formula!VJ8))))),Formula!VJ12,\"\"),\"\")","v":""},{"$f":"IF($A$4=Formula!$A$35,IF(OR(EOMONTH(Formula!$B$4,0)>Formula!VK8,(AND(YEAR(Formula!$B$4)=YEAR(Formula!VK8),(MONTH(Formula!$B$4)=MONTH(Formula!VK8))))),Formula!VK12,\"\"),\"\")","v":""},{"$f":"IF($A$4=Formula!$A$35,IF(OR(EOMONTH(Formula!$B$4,0)>Formula!VL8,(AND(YEAR(Formula!$B$4)=YEAR(Formula!VL8),(MONTH(Formula!$B$4)=MONTH(Formula!VL8))))),Formula!VL12,\"\"),\"\")","v":""},{"$f":"IF($A$4=Formula!$A$35,IF(OR(EOMONTH(Formula!$B$4,0)>Formula!VM8,(AND(YEAR(Formula!$B$4)=YEAR(Formula!VM8),(MONTH(Formula!$B$4)=MONTH(Formula!VM8))))),Formula!VM12,\"\"),\"\")","v":""},{"$f":"IF($A$4=Formula!$A$35,IF(OR(EOMONTH(Formula!$B$4,0)>Formula!VN8,(AND(YEAR(Formula!$B$4)=YEAR(Formula!VN8),(MONTH(Formula!$B$4)=MONTH(Formula!VN8))))),Formula!VN12,\"\"),\"\")","v":""},{"$f":"IF($A$4=Formula!$A$35,IF(OR(EOMONTH(Formula!$B$4,0)>Formula!VO8,(AND(YEAR(Formula!$B$4)=YEAR(Formula!VO8),(MONTH(Formula!$B$4)=MONTH(Formula!VO8))))),Formula!VO12,\"\"),\"\")","v":""},{"$f":"IF($A$4=Formula!$A$35,IF(OR(EOMONTH(Formula!$B$4,0)>Formula!VP8,(AND(YEAR(Formula!$B$4)=YEAR(Formula!VP8),(MONTH(Formula!$B$4)=MONTH(Formula!VP8))))),Formula!VP12,\"\"),\"\")","v":""},{"$f":"IF($A$4=Formula!$A$35,IF(OR(EOMONTH(Formula!$B$4,0)>Formula!VQ8,(AND(YEAR(Formula!$B$4)=YEAR(Formula!VQ8),(MONTH(Formula!$B$4)=MONTH(Formula!VQ8))))),Formula!VQ12,\"\"),\"\")","v":""},{"$f":"IF($A$4=Formula!$A$35,IF(OR(EOMONTH(Formula!$B$4,0)>Formula!VR8,(AND(YEAR(Formula!$B$4)=YEAR(Formula!VR8),(MONTH(Formula!$B$4)=MONTH(Formula!VR8))))),Formula!VR12,\"\"),\"\")","v":""},{"$f":"IF($A$4=Formula!$A$35,IF(OR(EOMONTH(Formula!$B$4,0)>Formula!VS8,(AND(YEAR(Formula!$B$4)=YEAR(Formula!VS8),(MONTH(Formula!$B$4)=MONTH(Formula!VS8))))),Formula!VS12,\"\"),\"\")","v":""},{"$f":"IF($A$4=Formula!$A$35,IF(OR(EOMONTH(Formula!$B$4,0)>Formula!VT8,(AND(YEAR(Formula!$B$4)=YEAR(Formula!VT8),(MONTH(Formula!$B$4)=MONTH(Formula!VT8))))),Formula!VT12,\"\"),\"\")","v":""},{"$f":"IF($A$4=Formula!$A$35,IF(OR(EOMONTH(Formula!$B$4,0)>Formula!VU8,(AND(YEAR(Formula!$B$4)=YEAR(Formula!VU8),(MONTH(Formula!$B$4)=MONTH(Formula!VU8))))),Formula!VU12,\"\"),\"\")","v":""},{"$f":"IF($A$4=Formula!$A$35,IF(OR(EOMONTH(Formula!$B$4,0)>Formula!VV8,(AND(YEAR(Formula!$B$4)=YEAR(Formula!VV8),(MONTH(Formula!$B$4)=MONTH(Formula!VV8))))),Formula!VV12,\"\"),\"\")","v":""},{"$f":"IF($A$4=Formula!$A$35,IF(OR(EOMONTH(Formula!$B$4,0)>Formula!VW8,(AND(YEAR(Formula!$B$4)=YEAR(Formula!VW8),(MONTH(Formula!$B$4)=MONTH(Formula!VW8))))),Formula!VW12,\"\"),\"\")","v":""},{"$f":"IF($A$4=Formula!$A$35,IF(OR(EOMONTH(Formula!$B$4,0)>Formula!VX8,(AND(YEAR(Formula!$B$4)=YEAR(Formula!VX8),(MONTH(Formula!$B$4)=MONTH(Formula!VX8))))),Formula!VX12,\"\"),\"\")","v":""},{"$f":"IF($A$4=Formula!$A$35,IF(OR(EOMONTH(Formula!$B$4,0)>Formula!VY8,(AND(YEAR(Formula!$B$4)=YEAR(Formula!VY8),(MONTH(Formula!$B$4)=MONTH(Formula!VY8))))),Formula!VY12,\"\"),\"\")","v":""},{"$f":"IF($A$4=Formula!$A$35,IF(OR(EOMONTH(Formula!$B$4,0)>Formula!VZ8,(AND(YEAR(Formula!$B$4)=YEAR(Formula!VZ8),(MONTH(Formula!$B$4)=MONTH(Formula!VZ8))))),Formula!VZ12,\"\"),\"\")","v":""},{"$f":"IF($A$4=Formula!$A$35,IF(OR(EOMONTH(Formula!$B$4,0)>Formula!WA8,(AND(YEAR(Formula!$B$4)=YEAR(Formula!WA8),(MONTH(Formula!$B$4)=MONTH(Formula!WA8))))),Formula!WA12,\"\"),\"\")","v":""},{"$f":"IF($A$4=Formula!$A$35,IF(OR(EOMONTH(Formula!$B$4,0)>Formula!WB8,(AND(YEAR(Formula!$B$4)=YEAR(Formula!WB8),(MONTH(Formula!$B$4)=MONTH(Formula!WB8))))),Formula!WB12,\"\"),\"\")","v":""},{"$f":"IF($A$4=Formula!$A$35,IF(OR(EOMONTH(Formula!$B$4,0)>Formula!WC8,(AND(YEAR(Formula!$B$4)=YEAR(Formula!WC8),(MONTH(Formula!$B$4)=MONTH(Formula!WC8))))),Formula!WC12,\"\"),\"\")","v":""},{"$f":"IF($A$4=Formula!$A$35,IF(OR(EOMONTH(Formula!$B$4,0)>Formula!WD8,(AND(YEAR(Formula!$B$4)=YEAR(Formula!WD8),(MONTH(Formula!$B$4)=MONTH(Formula!WD8))))),Formula!WD12,\"\"),\"\")","v":""},{"$f":"IF($A$4=Formula!$A$35,IF(OR(EOMONTH(Formula!$B$4,0)>Formula!WE8,(AND(YEAR(Formula!$B$4)=YEAR(Formula!WE8),(MONTH(Formula!$B$4)=MONTH(Formula!WE8))))),Formula!WE12,\"\"),\"\")","v":""},{"$f":"IF($A$4=Formula!$A$35,IF(OR(EOMONTH(Formula!$B$4,0)>Formula!WF8,(AND(YEAR(Formula!$B$4)=YEAR(Formula!WF8),(MONTH(Formula!$B$4)=MONTH(Formula!WF8))))),Formula!WF12,\"\"),\"\")","v":""},{"$f":"IF($A$4=Formula!$A$35,IF(OR(EOMONTH(Formula!$B$4,0)>Formula!WG8,(AND(YEAR(Formula!$B$4)=YEAR(Formula!WG8),(MONTH(Formula!$B$4)=MONTH(Formula!WG8))))),Formula!WG12,\"\"),\"\")","v":""},{"$f":"IF($A$4=Formula!$A$35,IF(OR(EOMONTH(Formula!$B$4,0)>Formula!WH8,(AND(YEAR(Formula!$B$4)=YEAR(Formula!WH8),(MONTH(Formula!$B$4)=MONTH(Formula!WH8))))),Formula!WH12,\"\"),\"\")","v":""},{"$f":"IF($A$4=Formula!$A$35,IF(OR(EOMONTH(Formula!$B$4,0)>Formula!WI8,(AND(YEAR(Formula!$B$4)=YEAR(Formula!WI8),(MONTH(Formula!$B$4)=MONTH(Formula!WI8))))),Formula!WI12,\"\"),\"\")","v":""},{"$f":"IF($A$4=Formula!$A$35,IF(OR(EOMONTH(Formula!$B$4,0)>Formula!WJ8,(AND(YEAR(Formula!$B$4)=YEAR(Formula!WJ8),(MONTH(Formula!$B$4)=MONTH(Formula!WJ8))))),Formula!WJ12,\"\"),\"\")","v":""},{"$f":"IF($A$4=Formula!$A$35,IF(OR(EOMONTH(Formula!$B$4,0)>Formula!WK8,(AND(YEAR(Formula!$B$4)=YEAR(Formula!WK8),(MONTH(Formula!$B$4)=MONTH(Formula!WK8))))),Formula!WK12,\"\"),\"\")","v":""},{"$f":"IF($A$4=Formula!$A$35,IF(OR(EOMONTH(Formula!$B$4,0)>Formula!WL8,(AND(YEAR(Formula!$B$4)=YEAR(Formula!WL8),(MONTH(Formula!$B$4)=MONTH(Formula!WL8))))),Formula!WL12,\"\"),\"\")","v":""},{"$f":"IF($A$4=Formula!$A$35,IF(OR(EOMONTH(Formula!$B$4,0)>Formula!WM8,(AND(YEAR(Formula!$B$4)=YEAR(Formula!WM8),(MONTH(Formula!$B$4)=MONTH(Formula!WM8))))),Formula!WM12,\"\"),\"\")","v":""},{"$f":"IF($A$4=Formula!$A$35,IF(OR(EOMONTH(Formula!$B$4,0)>Formula!WN8,(AND(YEAR(Formula!$B$4)=YEAR(Formula!WN8),(MONTH(Formula!$B$4)=MONTH(Formula!WN8))))),Formula!WN12,\"\"),\"\")","v":""},{"$f":"IF($A$4=Formula!$A$35,IF(OR(EOMONTH(Formula!$B$4,0)>Formula!WO8,(AND(YEAR(Formula!$B$4)=YEAR(Formula!WO8),(MONTH(Formula!$B$4)=MONTH(Formula!WO8))))),Formula!WO12,\"\"),\"\")","v":""},{"$f":"IF($A$4=Formula!$A$35,IF(OR(EOMONTH(Formula!$B$4,0)>Formula!WP8,(AND(YEAR(Formula!$B$4)=YEAR(Formula!WP8),(MONTH(Formula!$B$4)=MONTH(Formula!WP8))))),Formula!WP12,\"\"),\"\")","v":""},{"$f":"IF($A$4=Formula!$A$35,IF(OR(EOMONTH(Formula!$B$4,0)>Formula!WQ8,(AND(YEAR(Formula!$B$4)=YEAR(Formula!WQ8),(MONTH(Formula!$B$4)=MONTH(Formula!WQ8))))),Formula!WQ12,\"\"),\"\")","v":""},{"$f":"IF($A$4=Formula!$A$35,IF(OR(EOMONTH(Formula!$B$4,0)>Formula!WR8,(AND(YEAR(Formula!$B$4)=YEAR(Formula!WR8),(MONTH(Formula!$B$4)=MONTH(Formula!WR8))))),Formula!WR12,\"\"),\"\")","v":""},{"$f":"IF($A$4=Formula!$A$35,IF(OR(EOMONTH(Formula!$B$4,0)>Formula!WS8,(AND(YEAR(Formula!$B$4)=YEAR(Formula!WS8),(MONTH(Formula!$B$4)=MONTH(Formula!WS8))))),Formula!WS12,\"\"),\"\")","v":""},{"$f":"IF($A$4=Formula!$A$35,IF(OR(EOMONTH(Formula!$B$4,0)>Formula!WT8,(AND(YEAR(Formula!$B$4)=YEAR(Formula!WT8),(MONTH(Formula!$B$4)=MONTH(Formula!WT8))))),Formula!WT12,\"\"),\"\")","v":""},{"$f":"IF($A$4=Formula!$A$35,IF(OR(EOMONTH(Formula!$B$4,0)>Formula!WU8,(AND(YEAR(Formula!$B$4)=YEAR(Formula!WU8),(MONTH(Formula!$B$4)=MONTH(Formula!WU8))))),Formula!WU12,\"\"),\"\")","v":""},{"$f":"IF($A$4=Formula!$A$35,IF(OR(EOMONTH(Formula!$B$4,0)>Formula!WV8,(AND(YEAR(Formula!$B$4)=YEAR(Formula!WV8),(MONTH(Formula!$B$4)=MONTH(Formula!WV8))))),Formula!WV12,\"\"),\"\")","v":""},{"$f":"IF($A$4=Formula!$A$35,IF(OR(EOMONTH(Formula!$B$4,0)>Formula!WW8,(AND(YEAR(Formula!$B$4)=YEAR(Formula!WW8),(MONTH(Formula!$B$4)=MONTH(Formula!WW8))))),Formula!WW12,\"\"),\"\")","v":""},{"$f":"IF($A$4=Formula!$A$35,IF(OR(EOMONTH(Formula!$B$4,0)>Formula!WX8,(AND(YEAR(Formula!$B$4)=YEAR(Formula!WX8),(MONTH(Formula!$B$4)=MONTH(Formula!WX8))))),Formula!WX12,\"\"),\"\")","v":""},{"$f":"IF($A$4=Formula!$A$35,IF(OR(EOMONTH(Formula!$B$4,0)>Formula!WY8,(AND(YEAR(Formula!$B$4)=YEAR(Formula!WY8),(MONTH(Formula!$B$4)=MONTH(Formula!WY8))))),Formula!WY12,\"\"),\"\")","v":""},{"$f":"IF($A$4=Formula!$A$35,IF(OR(EOMONTH(Formula!$B$4,0)>Formula!WZ8,(AND(YEAR(Formula!$B$4)=YEAR(Formula!WZ8),(MONTH(Formula!$B$4)=MONTH(Formula!WZ8))))),Formula!WZ12,\"\"),\"\")","v":""},{"$f":"IF($A$4=Formula!$A$35,IF(OR(EOMONTH(Formula!$B$4,0)>Formula!XA8,(AND(YEAR(Formula!$B$4)=YEAR(Formula!XA8),(MONTH(Formula!$B$4)=MONTH(Formula!XA8))))),Formula!XA12,\"\"),\"\")","v":""},{"$f":"IF($A$4=Formula!$A$35,IF(OR(EOMONTH(Formula!$B$4,0)>Formula!XB8,(AND(YEAR(Formula!$B$4)=YEAR(Formula!XB8),(MONTH(Formula!$B$4)=MONTH(Formula!XB8))))),Formula!XB12,\"\"),\"\")","v":""},{"$f":"IF($A$4=Formula!$A$35,IF(OR(EOMONTH(Formula!$B$4,0)>Formula!XC8,(AND(YEAR(Formula!$B$4)=YEAR(Formula!XC8),(MONTH(Formula!$B$4)=MONTH(Formula!XC8))))),Formula!XC12,\"\"),\"\")","v":""},{"$f":"IF($A$4=Formula!$A$35,IF(OR(EOMONTH(Formula!$B$4,0)>Formula!XD8,(AND(YEAR(Formula!$B$4)=YEAR(Formula!XD8),(MONTH(Formula!$B$4)=MONTH(Formula!XD8))))),Formula!XD12,\"\"),\"\")","v":""},{"$f":"IF($A$4=Formula!$A$35,IF(OR(EOMONTH(Formula!$B$4,0)>Formula!XE8,(AND(YEAR(Formula!$B$4)=YEAR(Formula!XE8),(MONTH(Formula!$B$4)=MONTH(Formula!XE8))))),Formula!XE12,\"\"),\"\")","v":""},{"$f":"IF($A$4=Formula!$A$35,IF(OR(EOMONTH(Formula!$B$4,0)>Formula!XF8,(AND(YEAR(Formula!$B$4)=YEAR(Formula!XF8),(MONTH(Formula!$B$4)=MONTH(Formula!XF8))))),Formula!XF12,\"\"),\"\")","v":""},{"$f":"IF($A$4=Formula!$A$35,IF(OR(EOMONTH(Formula!$B$4,0)>Formula!XG8,(AND(YEAR(Formula!$B$4)=YEAR(Formula!XG8),(MONTH(Formula!$B$4)=MONTH(Formula!XG8))))),Formula!XG12,\"\"),\"\")","v":""},{"$f":"IF($A$4=Formula!$A$35,IF(OR(EOMONTH(Formula!$B$4,0)>Formula!XH8,(AND(YEAR(Formula!$B$4)=YEAR(Formula!XH8),(MONTH(Formula!$B$4)=MONTH(Formula!XH8))))),Formula!XH12,\"\"),\"\")","v":""},{"$f":"IF($A$4=Formula!$A$35,IF(OR(EOMONTH(Formula!$B$4,0)>Formula!XI8,(AND(YEAR(Formula!$B$4)=YEAR(Formula!XI8),(MONTH(Formula!$B$4)=MONTH(Formula!XI8))))),Formula!XI12,\"\"),\"\")","v":""},{"$f":"IF($A$4=Formula!$A$35,IF(OR(EOMONTH(Formula!$B$4,0)>Formula!XJ8,(AND(YEAR(Formula!$B$4)=YEAR(Formula!XJ8),(MONTH(Formula!$B$4)=MONTH(Formula!XJ8))))),Formula!XJ12,\"\"),\"\")","v":""},{"$f":"IF($A$4=Formula!$A$35,IF(OR(EOMONTH(Formula!$B$4,0)>Formula!XK8,(AND(YEAR(Formula!$B$4)=YEAR(Formula!XK8),(MONTH(Formula!$B$4)=MONTH(Formula!XK8))))),Formula!XK12,\"\"),\"\")","v":""},{"$f":"IF($A$4=Formula!$A$35,IF(OR(EOMONTH(Formula!$B$4,0)>Formula!XL8,(AND(YEAR(Formula!$B$4)=YEAR(Formula!XL8),(MONTH(Formula!$B$4)=MONTH(Formula!XL8))))),Formula!XL12,\"\"),\"\")","v":""},{"$f":"IF($A$4=Formula!$A$35,IF(OR(EOMONTH(Formula!$B$4,0)>Formula!XM8,(AND(YEAR(Formula!$B$4)=YEAR(Formula!XM8),(MONTH(Formula!$B$4)=MONTH(Formula!XM8))))),Formula!XM12,\"\"),\"\")","v":""},{"$f":"IF($A$4=Formula!$A$35,IF(OR(EOMONTH(Formula!$B$4,0)>Formula!XN8,(AND(YEAR(Formula!$B$4)=YEAR(Formula!XN8),(MONTH(Formula!$B$4)=MONTH(Formula!XN8))))),Formula!XN12,\"\"),\"\")","v":""},{"$f":"IF($A$4=Formula!$A$35,IF(OR(EOMONTH(Formula!$B$4,0)>Formula!XO8,(AND(YEAR(Formula!$B$4)=YEAR(Formula!XO8),(MONTH(Formula!$B$4)=MONTH(Formula!XO8))))),Formula!XO12,\"\"),\"\")","v":""},{"$f":"IF($A$4=Formula!$A$35,IF(OR(EOMONTH(Formula!$B$4,0)>Formula!XP8,(AND(YEAR(Formula!$B$4)=YEAR(Formula!XP8),(MONTH(Formula!$B$4)=MONTH(Formula!XP8))))),Formula!XP12,\"\"),\"\")","v":""},{"$f":"IF($A$4=Formula!$A$35,IF(OR(EOMONTH(Formula!$B$4,0)>Formula!XQ8,(AND(YEAR(Formula!$B$4)=YEAR(Formula!XQ8),(MONTH(Formula!$B$4)=MONTH(Formula!XQ8))))),Formula!XQ12,\"\"),\"\")","v":""},{"$f":"IF($A$4=Formula!$A$35,IF(OR(EOMONTH(Formula!$B$4,0)>Formula!XR8,(AND(YEAR(Formula!$B$4)=YEAR(Formula!XR8),(MONTH(Formula!$B$4)=MONTH(Formula!XR8))))),Formula!XR12,\"\"),\"\")","v":""},{"$f":"IF($A$4=Formula!$A$35,IF(OR(EOMONTH(Formula!$B$4,0)>Formula!XS8,(AND(YEAR(Formula!$B$4)=YEAR(Formula!XS8),(MONTH(Formula!$B$4)=MONTH(Formula!XS8))))),Formula!XS12,\"\"),\"\")","v":""},{"$f":"IF($A$4=Formula!$A$35,IF(OR(EOMONTH(Formula!$B$4,0)>Formula!XT8,(AND(YEAR(Formula!$B$4)=YEAR(Formula!XT8),(MONTH(Formula!$B$4)=MONTH(Formula!XT8))))),Formula!XT12,\"\"),\"\")","v":""},{"$f":"IF($A$4=Formula!$A$35,IF(OR(EOMONTH(Formula!$B$4,0)>Formula!XU8,(AND(YEAR(Formula!$B$4)=YEAR(Formula!XU8),(MONTH(Formula!$B$4)=MONTH(Formula!XU8))))),Formula!XU12,\"\"),\"\")","v":""},{"$f":"IF($A$4=Formula!$A$35,IF(OR(EOMONTH(Formula!$B$4,0)>Formula!XV8,(AND(YEAR(Formula!$B$4)=YEAR(Formula!XV8),(MONTH(Formula!$B$4)=MONTH(Formula!XV8))))),Formula!XV12,\"\"),\"\")","v":""},{"$f":"IF($A$4=Formula!$A$35,IF(OR(EOMONTH(Formula!$B$4,0)>Formula!XW8,(AND(YEAR(Formula!$B$4)=YEAR(Formula!XW8),(MONTH(Formula!$B$4)=MONTH(Formula!XW8))))),Formula!XW12,\"\"),\"\")","v":""},{"$f":"IF($A$4=Formula!$A$35,IF(OR(EOMONTH(Formula!$B$4,0)>Formula!XX8,(AND(YEAR(Formula!$B$4)=YEAR(Formula!XX8),(MONTH(Formula!$B$4)=MONTH(Formula!XX8))))),Formula!XX12,\"\"),\"\")","v":""},{"$f":"IF($A$4=Formula!$A$35,IF(OR(EOMONTH(Formula!$B$4,0)>Formula!XY8,(AND(YEAR(Formula!$B$4)=YEAR(Formula!XY8),(MONTH(Formula!$B$4)=MONTH(Formula!XY8))))),Formula!XY12,\"\"),\"\")","v":""},{"$f":"IF($A$4=Formula!$A$35,IF(OR(EOMONTH(Formula!$B$4,0)>Formula!XZ8,(AND(YEAR(Formula!$B$4)=YEAR(Formula!XZ8),(MONTH(Formula!$B$4)=MONTH(Formula!XZ8))))),Formula!XZ12,\"\"),\"\")","v":""},{"$f":"IF($A$4=Formula!$A$35,IF(OR(EOMONTH(Formula!$B$4,0)>Formula!YA8,(AND(YEAR(Formula!$B$4)=YEAR(Formula!YA8),(MONTH(Formula!$B$4)=MONTH(Formula!YA8))))),Formula!YA12,\"\"),\"\")","v":""},{"$f":"IF($A$4=Formula!$A$35,IF(OR(EOMONTH(Formula!$B$4,0)>Formula!YB8,(AND(YEAR(Formula!$B$4)=YEAR(Formula!YB8),(MONTH(Formula!$B$4)=MONTH(Formula!YB8))))),Formula!YB12,\"\"),\"\")","v":""},{"$f":"IF($A$4=Formula!$A$35,IF(OR(EOMONTH(Formula!$B$4,0)>Formula!YC8,(AND(YEAR(Formula!$B$4)=YEAR(Formula!YC8),(MONTH(Formula!$B$4)=MONTH(Formula!YC8))))),Formula!YC12,\"\"),\"\")","v":""},{"$f":"IF($A$4=Formula!$A$35,IF(OR(EOMONTH(Formula!$B$4,0)>Formula!YD8,(AND(YEAR(Formula!$B$4)=YEAR(Formula!YD8),(MONTH(Formula!$B$4)=MONTH(Formula!YD8))))),Formula!YD12,\"\"),\"\")","v":""},{"$f":"IF($A$4=Formula!$A$35,IF(OR(EOMONTH(Formula!$B$4,0)>Formula!YE8,(AND(YEAR(Formula!$B$4)=YEAR(Formula!YE8),(MONTH(Formula!$B$4)=MONTH(Formula!YE8))))),Formula!YE12,\"\"),\"\")","v":""},{"$f":"IF($A$4=Formula!$A$35,IF(OR(EOMONTH(Formula!$B$4,0)>Formula!YF8,(AND(YEAR(Formula!$B$4)=YEAR(Formula!YF8),(MONTH(Formula!$B$4)=MONTH(Formula!YF8))))),Formula!YF12,\"\"),\"\")","v":""},{"$f":"IF($A$4=Formula!$A$35,IF(OR(EOMONTH(Formula!$B$4,0)>Formula!YG8,(AND(YEAR(Formula!$B$4)=YEAR(Formula!YG8),(MONTH(Formula!$B$4)=MONTH(Formula!YG8))))),Formula!YG12,\"\"),\"\")","v":""},{"$f":"IF($A$4=Formula!$A$35,IF(OR(EOMONTH(Formula!$B$4,0)>Formula!YH8,(AND(YEAR(Formula!$B$4)=YEAR(Formula!YH8),(MONTH(Formula!$B$4)=MONTH(Formula!YH8))))),Formula!YH12,\"\"),\"\")","v":""},{"$f":"IF($A$4=Formula!$A$35,IF(OR(EOMONTH(Formula!$B$4,0)>Formula!YI8,(AND(YEAR(Formula!$B$4)=YEAR(Formula!YI8),(MONTH(Formula!$B$4)=MONTH(Formula!YI8))))),Formula!YI12,\"\"),\"\")","v":""},{"$f":"IF($A$4=Formula!$A$35,IF(OR(EOMONTH(Formula!$B$4,0)>Formula!YJ8,(AND(YEAR(Formula!$B$4)=YEAR(Formula!YJ8),(MONTH(Formula!$B$4)=MONTH(Formula!YJ8))))),Formula!YJ12,\"\"),\"\")","v":""},{"$f":"IF($A$4=Formula!$A$35,IF(OR(EOMONTH(Formula!$B$4,0)>Formula!YK8,(AND(YEAR(Formula!$B$4)=YEAR(Formula!YK8),(MONTH(Formula!$B$4)=MONTH(Formula!YK8))))),Formula!YK12,\"\"),\"\")","v":""},{"$f":"IF($A$4=Formula!$A$35,IF(OR(EOMONTH(Formula!$B$4,0)>Formula!YL8,(AND(YEAR(Formula!$B$4)=YEAR(Formula!YL8),(MONTH(Formula!$B$4)=MONTH(Formula!YL8))))),Formula!YL12,\"\"),\"\")","v":""},{"$f":"IF($A$4=Formula!$A$35,IF(OR(EOMONTH(Formula!$B$4,0)>Formula!YM8,(AND(YEAR(Formula!$B$4)=YEAR(Formula!YM8),(MONTH(Formula!$B$4)=MONTH(Formula!YM8))))),Formula!YM12,\"\"),\"\")","v":""},{"$f":"IF($A$4=Formula!$A$35,IF(OR(EOMONTH(Formula!$B$4,0)>Formula!YN8,(AND(YEAR(Formula!$B$4)=YEAR(Formula!YN8),(MONTH(Formula!$B$4)=MONTH(Formula!YN8))))),Formula!YN12,\"\"),\"\")","v":""},{"$f":"IF($A$4=Formula!$A$35,IF(OR(EOMONTH(Formula!$B$4,0)>Formula!YO8,(AND(YEAR(Formula!$B$4)=YEAR(Formula!YO8),(MONTH(Formula!$B$4)=MONTH(Formula!YO8))))),Formula!YO12,\"\"),\"\")","v":""},{"$f":"IF($A$4=Formula!$A$35,IF(OR(EOMONTH(Formula!$B$4,0)>Formula!YP8,(AND(YEAR(Formula!$B$4)=YEAR(Formula!YP8),(MONTH(Formula!$B$4)=MONTH(Formula!YP8))))),Formula!YP12,\"\"),\"\")","v":""},{"$f":"IF($A$4=Formula!$A$35,IF(OR(EOMONTH(Formula!$B$4,0)>Formula!YQ8,(AND(YEAR(Formula!$B$4)=YEAR(Formula!YQ8),(MONTH(Formula!$B$4)=MONTH(Formula!YQ8))))),Formula!YQ12,\"\"),\"\")","v":""},{"$f":"IF($A$4=Formula!$A$35,IF(OR(EOMONTH(Formula!$B$4,0)>Formula!YR8,(AND(YEAR(Formula!$B$4)=YEAR(Formula!YR8),(MONTH(Formula!$B$4)=MONTH(Formula!YR8))))),Formula!YR12,\"\"),\"\")","v":""},{"$f":"IF($A$4=Formula!$A$35,IF(OR(EOMONTH(Formula!$B$4,0)>Formula!YS8,(AND(YEAR(Formula!$B$4)=YEAR(Formula!YS8),(MONTH(Formula!$B$4)=MONTH(Formula!YS8))))),Formula!YS12,\"\"),\"\")","v":""},{"$f":"IF($A$4=Formula!$A$35,IF(OR(EOMONTH(Formula!$B$4,0)>Formula!YT8,(AND(YEAR(Formula!$B$4)=YEAR(Formula!YT8),(MONTH(Formula!$B$4)=MONTH(Formula!YT8))))),Formula!YT12,\"\"),\"\")","v":""},{"$f":"IF($A$4=Formula!$A$35,IF(OR(EOMONTH(Formula!$B$4,0)>Formula!YU8,(AND(YEAR(Formula!$B$4)=YEAR(Formula!YU8),(MONTH(Formula!$B$4)=MONTH(Formula!YU8))))),Formula!YU12,\"\"),\"\")","v":""},{"$f":"IF($A$4=Formula!$A$35,IF(OR(EOMONTH(Formula!$B$4,0)>Formula!YV8,(AND(YEAR(Formula!$B$4)=YEAR(Formula!YV8),(MONTH(Formula!$B$4)=MONTH(Formula!YV8))))),Formula!YV12,\"\"),\"\")","v":""},{"$f":"IF($A$4=Formula!$A$35,IF(OR(EOMONTH(Formula!$B$4,0)>Formula!YW8,(AND(YEAR(Formula!$B$4)=YEAR(Formula!YW8),(MONTH(Formula!$B$4)=MONTH(Formula!YW8))))),Formula!YW12,\"\"),\"\")","v":""},{"$f":"IF($A$4=Formula!$A$35,IF(OR(EOMONTH(Formula!$B$4,0)>Formula!YX8,(AND(YEAR(Formula!$B$4)=YEAR(Formula!YX8),(MONTH(Formula!$B$4)=MONTH(Formula!YX8))))),Formula!YX12,\"\"),\"\")","v":""},{"$f":"IF($A$4=Formula!$A$35,IF(OR(EOMONTH(Formula!$B$4,0)>Formula!YY8,(AND(YEAR(Formula!$B$4)=YEAR(Formula!YY8),(MONTH(Formula!$B$4)=MONTH(Formula!YY8))))),Formula!YY12,\"\"),\"\")","v":""},{"$f":"IF($A$4=Formula!$A$35,IF(OR(EOMONTH(Formula!$B$4,0)>Formula!YZ8,(AND(YEAR(Formula!$B$4)=YEAR(Formula!YZ8),(MONTH(Formula!$B$4)=MONTH(Formula!YZ8))))),Formula!YZ12,\"\"),\"\")","v":""},{"$f":"IF($A$4=Formula!$A$35,IF(OR(EOMONTH(Formula!$B$4,0)>Formula!ZA8,(AND(YEAR(Formula!$B$4)=YEAR(Formula!ZA8),(MONTH(Formula!$B$4)=MONTH(Formula!ZA8))))),Formula!ZA12,\"\"),\"\")","v":""},{"$f":"IF($A$4=Formula!$A$35,IF(OR(EOMONTH(Formula!$B$4,0)>Formula!ZB8,(AND(YEAR(Formula!$B$4)=YEAR(Formula!ZB8),(MONTH(Formula!$B$4)=MONTH(Formula!ZB8))))),Formula!ZB12,\"\"),\"\")","v":""},{"$f":"IF($A$4=Formula!$A$35,IF(OR(EOMONTH(Formula!$B$4,0)>Formula!ZC8,(AND(YEAR(Formula!$B$4)=YEAR(Formula!ZC8),(MONTH(Formula!$B$4)=MONTH(Formula!ZC8))))),Formula!ZC12,\"\"),\"\")","v":""},{"$f":"IF($A$4=Formula!$A$35,IF(OR(EOMONTH(Formula!$B$4,0)>Formula!ZD8,(AND(YEAR(Formula!$B$4)=YEAR(Formula!ZD8),(MONTH(Formula!$B$4)=MONTH(Formula!ZD8))))),Formula!ZD12,\"\"),\"\")","v":""},{"$f":"IF($A$4=Formula!$A$35,IF(OR(EOMONTH(Formula!$B$4,0)>Formula!ZE8,(AND(YEAR(Formula!$B$4)=YEAR(Formula!ZE8),(MONTH(Formula!$B$4)=MONTH(Formula!ZE8))))),Formula!ZE12,\"\"),\"\")","v":""},{"$f":"IF($A$4=Formula!$A$35,IF(OR(EOMONTH(Formula!$B$4,0)>Formula!ZF8,(AND(YEAR(Formula!$B$4)=YEAR(Formula!ZF8),(MONTH(Formula!$B$4)=MONTH(Formula!ZF8))))),Formula!ZF12,\"\"),\"\")","v":""},{"$f":"IF($A$4=Formula!$A$35,IF(OR(EOMONTH(Formula!$B$4,0)>Formula!ZG8,(AND(YEAR(Formula!$B$4)=YEAR(Formula!ZG8),(MONTH(Formula!$B$4)=MONTH(Formula!ZG8))))),Formula!ZG12,\"\"),\"\")","v":""},{"$f":"IF($A$4=Formula!$A$35,IF(OR(EOMONTH(Formula!$B$4,0)>Formula!ZH8,(AND(YEAR(Formula!$B$4)=YEAR(Formula!ZH8),(MONTH(Formula!$B$4)=MONTH(Formula!ZH8))))),Formula!ZH12,\"\"),\"\")","v":""},{"$f":"IF($A$4=Formula!$A$35,IF(OR(EOMONTH(Formula!$B$4,0)>Formula!ZI8,(AND(YEAR(Formula!$B$4)=YEAR(Formula!ZI8),(MONTH(Formula!$B$4)=MONTH(Formula!ZI8))))),Formula!ZI12,\"\"),\"\")","v":""},{"$f":"IF($A$4=Formula!$A$35,IF(OR(EOMONTH(Formula!$B$4,0)>Formula!ZJ8,(AND(YEAR(Formula!$B$4)=YEAR(Formula!ZJ8),(MONTH(Formula!$B$4)=MONTH(Formula!ZJ8))))),Formula!ZJ12,\"\"),\"\")","v":""},{"$f":"IF($A$4=Formula!$A$35,IF(OR(EOMONTH(Formula!$B$4,0)>Formula!ZK8,(AND(YEAR(Formula!$B$4)=YEAR(Formula!ZK8),(MONTH(Formula!$B$4)=MONTH(Formula!ZK8))))),Formula!ZK12,\"\"),\"\")","v":""},{"$f":"IF($A$4=Formula!$A$35,IF(OR(EOMONTH(Formula!$B$4,0)>Formula!ZL8,(AND(YEAR(Formula!$B$4)=YEAR(Formula!ZL8),(MONTH(Formula!$B$4)=MONTH(Formula!ZL8))))),Formula!ZL12,\"\"),\"\")","v":""},{"$f":"IF($A$4=Formula!$A$35,IF(OR(EOMONTH(Formula!$B$4,0)>Formula!ZM8,(AND(YEAR(Formula!$B$4)=YEAR(Formula!ZM8),(MONTH(Formula!$B$4)=MONTH(Formula!ZM8))))),Formula!ZM12,\"\"),\"\")","v":""},{"$f":"IF($A$4=Formula!$A$35,IF(OR(EOMONTH(Formula!$B$4,0)>Formula!ZN8,(AND(YEAR(Formula!$B$4)=YEAR(Formula!ZN8),(MONTH(Formula!$B$4)=MONTH(Formula!ZN8))))),Formula!ZN12,\"\"),\"\")","v":""}]
[null,null,null,null,null,null,null,null,null,null,null,null,null,{"$f":"IF($A$4=Formula!$A$35,IF(Formula!B10>Formula!$B$4,\"\",CONCATENATE(\"v\",Formula!B9)),\"\")","v":""},{"$f":"IF($A$4=Formula!$A$35,IF(Formula!C10>Formula!$B$4,\"\",CONCATENATE(\"v\",Formula!C9)),\"\")","v":""},{"$f":"IF($A$4=Formula!$A$35,IF(Formula!D10>Formula!$B$4,\"\",CONCATENATE(\"v\",Formula!D9)),\"\")","v":""},{"$f":"IF($A$4=Formula!$A$35,IF(Formula!E10>Formula!$B$4,\"\",CONCATENATE(\"v\",Formula!E9)),\"\")","v":""},{"$f":"IF($A$4=Formula!$A$35,IF(Formula!F10>Formula!$B$4,\"\",CONCATENATE(\"v\",Formula!F9)),\"\")","v":""},{"$f":"IF($A$4=Formula!$A$35,IF(Formula!G10>Formula!$B$4,\"\",CONCATENATE(\"v\",Formula!G9)),\"\")","v":""},{"$f":"IF($A$4=Formula!$A$35,IF(Formula!H10>Formula!$B$4,\"\",CONCATENATE(\"v\",Formula!H9)),\"\")","v":""},{"$f":"IF($A$4=Formula!$A$35,IF(Formula!I10>Formula!$B$4,\"\",CONCATENATE(\"v\",Formula!I9)),\"\")","v":""},{"$f":"IF($A$4=Formula!$A$35,IF(Formula!J10>Formula!$B$4,\"\",CONCATENATE(\"v\",Formula!J9)),\"\")","v":""},{"$f":"IF($A$4=Formula!$A$35,IF(Formula!K10>Formula!$B$4,\"\",CONCATENATE(\"v\",Formula!K9)),\"\")","v":""},{"$f":"IF($A$4=Formula!$A$35,IF(Formula!L10>Formula!$B$4,\"\",CONCATENATE(\"v\",Formula!L9)),\"\")","v":""},{"$f":"IF($A$4=Formula!$A$35,IF(Formula!M10>Formula!$B$4,\"\",CONCATENATE(\"v\",Formula!M9)),\"\")","v":""},{"$f":"IF($A$4=Formula!$A$35,IF(Formula!N10>Formula!$B$4,\"\",CONCATENATE(\"v\",Formula!N9)),\"\")","v":""},{"$f":"IF($A$4=Formula!$A$35,IF(Formula!O10>Formula!$B$4,\"\",CONCATENATE(\"v\",Formula!O9)),\"\")","v":""},{"$f":"IF($A$4=Formula!$A$35,IF(Formula!P10>Formula!$B$4,\"\",CONCATENATE(\"v\",Formula!P9)),\"\")","v":""},{"$f":"IF($A$4=Formula!$A$35,IF(Formula!Q10>Formula!$B$4,\"\",CONCATENATE(\"v\",Formula!Q9)),\"\")","v":""},{"$f":"IF($A$4=Formula!$A$35,IF(Formula!R10>Formula!$B$4,\"\",CONCATENATE(\"v\",Formula!R9)),\"\")","v":""},{"$f":"IF($A$4=Formula!$A$35,IF(Formula!S10>Formula!$B$4,\"\",CONCATENATE(\"v\",Formula!S9)),\"\")","v":""},{"$f":"IF($A$4=Formula!$A$35,IF(Formula!T10>Formula!$B$4,\"\",CONCATENATE(\"v\",Formula!T9)),\"\")","v":""},{"$f":"IF($A$4=Formula!$A$35,IF(Formula!U10>Formula!$B$4,\"\",CONCATENATE(\"v\",Formula!U9)),\"\")","v":""},{"$f":"IF($A$4=Formula!$A$35,IF(Formula!V10>Formula!$B$4,\"\",CONCATENATE(\"v\",Formula!V9)),\"\")","v":""},{"$f":"IF($A$4=Formula!$A$35,IF(Formula!W10>Formula!$B$4,\"\",CONCATENATE(\"v\",Formula!W9)),\"\")","v":""},{"$f":"IF($A$4=Formula!$A$35,IF(Formula!X10>Formula!$B$4,\"\",CONCATENATE(\"v\",Formula!X9)),\"\")","v":""},{"$f":"IF($A$4=Formula!$A$35,IF(Formula!Y10>Formula!$B$4,\"\",CONCATENATE(\"v\",Formula!Y9)),\"\")","v":""},{"$f":"IF($A$4=Formula!$A$35,IF(Formula!Z10>Formula!$B$4,\"\",CONCATENATE(\"v\",Formula!Z9)),\"\")","v":""},{"$f":"IF($A$4=Formula!$A$35,IF(Formula!AA10>Formula!$B$4,\"\",CONCATENATE(\"v\",Formula!AA9)),\"\")","v":""},{"$f":"IF($A$4=Formula!$A$35,IF(Formula!AB10>Formula!$B$4,\"\",CONCATENATE(\"v\",Formula!AB9)),\"\")","v":""},{"$f":"IF($A$4=Formula!$A$35,IF(Formula!AC10>Formula!$B$4,\"\",CONCATENATE(\"v\",Formula!AC9)),\"\")","v":""},{"$f":"IF($A$4=Formula!$A$35,IF(Formula!AD10>Formula!$B$4,\"\",CONCATENATE(\"v\",Formula!AD9)),\"\")","v":""},{"$f":"IF($A$4=Formula!$A$35,IF(Formula!AE10>Formula!$B$4,\"\",CONCATENATE(\"v\",Formula!AE9)),\"\")","v":""},{"$f":"IF($A$4=Formula!$A$35,IF(Formula!AF10>Formula!$B$4,\"\",CONCATENATE(\"v\",Formula!AF9)),\"\")","v":""},{"$f":"IF($A$4=Formula!$A$35,IF(Formula!AG10>Formula!$B$4,\"\",CONCATENATE(\"v\",Formula!AG9)),\"\")","v":""},{"$f":"IF($A$4=Formula!$A$35,IF(Formula!AH10>Formula!$B$4,\"\",CONCATENATE(\"v\",Formula!AH9)),\"\")","v":""},{"$f":"IF($A$4=Formula!$A$35,IF(Formula!AI10>Formula!$B$4,\"\",CONCATENATE(\"v\",Formula!AI9)),\"\")","v":""},{"$f":"IF($A$4=Formula!$A$35,IF(Formula!AJ10>Formula!$B$4,\"\",CONCATENATE(\"v\",Formula!AJ9)),\"\")","v":""},{"$f":"IF($A$4=Formula!$A$35,IF(Formula!AK10>Formula!$B$4,\"\",CONCATENATE(\"v\",Formula!AK9)),\"\")","v":""},{"$f":"IF($A$4=Formula!$A$35,IF(Formula!AL10>Formula!$B$4,\"\",CONCATENATE(\"v\",Formula!AL9)),\"\")","v":""},{"$f":"IF($A$4=Formula!$A$35,IF(Formula!AM10>Formula!$B$4,\"\",CONCATENATE(\"v\",Formula!AM9)),\"\")","v":""},{"$f":"IF($A$4=Formula!$A$35,IF(Formula!AN10>Formula!$B$4,\"\",CONCATENATE(\"v\",Formula!AN9)),\"\")","v":""},{"$f":"IF($A$4=Formula!$A$35,IF(Formula!AO10>Formula!$B$4,\"\",CONCATENATE(\"v\",Formula!AO9)),\"\")","v":""},{"$f":"IF($A$4=Formula!$A$35,IF(Formula!AP10>Formula!$B$4,\"\",CONCATENATE(\"v\",Formula!AP9)),\"\")","v":""},{"$f":"IF($A$4=Formula!$A$35,IF(Formula!AQ10>Formula!$B$4,\"\",CONCATENATE(\"v\",Formula!AQ9)),\"\")","v":""},{"$f":"IF($A$4=Formula!$A$35,IF(Formula!AR10>Formula!$B$4,\"\",CONCATENATE(\"v\",Formula!AR9)),\"\")","v":""},{"$f":"IF($A$4=Formula!$A$35,IF(Formula!AS10>Formula!$B$4,\"\",CONCATENATE(\"v\",Formula!AS9)),\"\")","v":""},{"$f":"IF($A$4=Formula!$A$35,IF(Formula!AT10>Formula!$B$4,\"\",CONCATENATE(\"v\",Formula!AT9)),\"\")","v":""},{"$f":"IF($A$4=Formula!$A$35,IF(Formula!AU10>Formula!$B$4,\"\",CONCATENATE(\"v\",Formula!AU9)),\"\")","v":""},{"$f":"IF($A$4=Formula!$A$35,IF(Formula!AV10>Formula!$B$4,\"\",CONCATENATE(\"v\",Formula!AV9)),\"\")","v":""},{"$f":"IF($A$4=Formula!$A$35,IF(Formula!AW10>Formula!$B$4,\"\",CONCATENATE(\"v\",Formula!AW9)),\"\")","v":""},{"$f":"IF($A$4=Formula!$A$35,IF(Formula!AX10>Formula!$B$4,\"\",CONCATENATE(\"v\",Formula!AX9)),\"\")","v":""},{"$f":"IF($A$4=Formula!$A$35,IF(Formula!AY10>Formula!$B$4,\"\",CONCATENATE(\"v\",Formula!AY9)),\"\")","v":""},{"$f":"IF($A$4=Formula!$A$35,IF(Formula!AZ10>Formula!$B$4,\"\",CONCATENATE(\"v\",Formula!AZ9)),\"\")","v":""},{"$f":"IF($A$4=Formula!$A$35,IF(Formula!BA10>Formula!$B$4,\"\",CONCATENATE(\"v\",Formula!BA9)),\"\")","v":""},{"$f":"IF($A$4=Formula!$A$35,IF(Formula!BB10>Formula!$B$4,\"\",CONCATENATE(\"v\",Formula!BB9)),\"\")","v":""},{"$f":"IF($A$4=Formula!$A$35,IF(Formula!BC10>Formula!$B$4,\"\",CONCATENATE(\"v\",Formula!BC9)),\"\")","v":""},{"$f":"IF($A$4=Formula!$A$35,IF(Formula!BD10>Formula!$B$4,\"\",CONCATENATE(\"v\",Formula!BD9)),\"\")","v":""},{"$f":"IF($A$4=Formula!$A$35,IF(Formula!BE10>Formula!$B$4,\"\",CONCATENATE(\"v\",Formula!BE9)),\"\")","v":""},{"$f":"IF($A$4=Formula!$A$35,IF(Formula!BF10>Formula!$B$4,\"\",CONCATENATE(\"v\",Formula!BF9)),\"\")","v":""},{"$f":"IF($A$4=Formula!$A$35,IF(Formula!BG10>Formula!$B$4,\"\",CONCATENATE(\"v\",Formula!BG9)),\"\")","v":""},{"$f":"IF($A$4=Formula!$A$35,IF(Formula!BH10>Formula!$B$4,\"\",CONCATENATE(\"v\",Formula!BH9)),\"\")","v":""},{"$f":"IF($A$4=Formula!$A$35,IF(Formula!BI10>Formula!$B$4,\"\",CONCATENATE(\"v\",Formula!BI9)),\"\")","v":""},{"$f":"IF($A$4=Formula!$A$35,IF(Formula!BJ10>Formula!$B$4,\"\",CONCATENATE(\"v\",Formula!BJ9)),\"\")","v":""},{"$f":"IF($A$4=Formula!$A$35,IF(Formula!BK10>Formula!$B$4,\"\",CONCATENATE(\"v\",Formula!BK9)),\"\")","v":""},{"$f":"IF($A$4=Formula!$A$35,IF(Formula!BL10>Formula!$B$4,\"\",CONCATENATE(\"v\",Formula!BL9)),\"\")","v":""},{"$f":"IF($A$4=Formula!$A$35,IF(Formula!BM10>Formula!$B$4,\"\",CONCATENATE(\"v\",Formula!BM9)),\"\")","v":""},{"$f":"IF($A$4=Formula!$A$35,IF(Formula!BN10>Formula!$B$4,\"\",CONCATENATE(\"v\",Formula!BN9)),\"\")","v":""},{"$f":"IF($A$4=Formula!$A$35,IF(Formula!BO10>Formula!$B$4,\"\",CONCATENATE(\"v\",Formula!BO9)),\"\")","v":""},{"$f":"IF($A$4=Formula!$A$35,IF(Formula!BP10>Formula!$B$4,\"\",CONCATENATE(\"v\",Formula!BP9)),\"\")","v":""},{"$f":"IF($A$4=Formula!$A$35,IF(Formula!BQ10>Formula!$B$4,\"\",CONCATENATE(\"v\",Formula!BQ9)),\"\")","v":""},{"$f":"IF($A$4=Formula!$A$35,IF(Formula!BR10>Formula!$B$4,\"\",CONCATENATE(\"v\",Formula!BR9)),\"\")","v":""},{"$f":"IF($A$4=Formula!$A$35,IF(Formula!BS10>Formula!$B$4,\"\",CONCATENATE(\"v\",Formula!BS9)),\"\")","v":""},{"$f":"IF($A$4=Formula!$A$35,IF(Formula!BT10>Formula!$B$4,\"\",CONCATENATE(\"v\",Formula!BT9)),\"\")","v":""},{"$f":"IF($A$4=Formula!$A$35,IF(Formula!BU10>Formula!$B$4,\"\",CONCATENATE(\"v\",Formula!BU9)),\"\")","v":""},{"$f":"IF($A$4=Formula!$A$35,IF(Formula!BV10>Formula!$B$4,\"\",CONCATENATE(\"v\",Formula!BV9)),\"\")","v":""},{"$f":"IF($A$4=Formula!$A$35,IF(Formula!BW10>Formula!$B$4,\"\",CONCATENATE(\"v\",Formula!BW9)),\"\")","v":""},{"$f":"IF($A$4=Formula!$A$35,IF(Formula!BX10>Formula!$B$4,\"\",CONCATENATE(\"v\",Formula!BX9)),\"\")","v":""},{"$f":"IF($A$4=Formula!$A$35,IF(Formula!BY10>Formula!$B$4,\"\",CONCATENATE(\"v\",Formula!BY9)),\"\")","v":""},{"$f":"IF($A$4=Formula!$A$35,IF(Formula!BZ10>Formula!$B$4,\"\",CONCATENATE(\"v\",Formula!BZ9)),\"\")","v":""},{"$f":"IF($A$4=Formula!$A$35,IF(Formula!CA10>Formula!$B$4,\"\",CONCATENATE(\"v\",Formula!CA9)),\"\")","v":""},{"$f":"IF($A$4=Formula!$A$35,IF(Formula!CB10>Formula!$B$4,\"\",CONCATENATE(\"v\",Formula!CB9)),\"\")","v":""},{"$f":"IF($A$4=Formula!$A$35,IF(Formula!CC10>Formula!$B$4,\"\",CONCATENATE(\"v\",Formula!CC9)),\"\")","v":""},{"$f":"IF($A$4=Formula!$A$35,IF(Formula!CD10>Formula!$B$4,\"\",CONCATENATE(\"v\",Formula!CD9)),\"\")","v":""},{"$f":"IF($A$4=Formula!$A$35,IF(Formula!CE10>Formula!$B$4,\"\",CONCATENATE(\"v\",Formula!CE9)),\"\")","v":""},{"$f":"IF($A$4=Formula!$A$35,IF(Formula!CF10>Formula!$B$4,\"\",CONCATENATE(\"v\",Formula!CF9)),\"\")","v":""},{"$f":"IF($A$4=Formula!$A$35,IF(Formula!CG10>Formula!$B$4,\"\",CONCATENATE(\"v\",Formula!CG9)),\"\")","v":""},{"$f":"IF($A$4=Formula!$A$35,IF(Formula!CH10>Formula!$B$4,\"\",CONCATENATE(\"v\",Formula!CH9)),\"\")","v":""},{"$f":"IF($A$4=Formula!$A$35,IF(Formula!CI10>Formula!$B$4,\"\",CONCATENATE(\"v\",Formula!CI9)),\"\")","v":""},{"$f":"IF($A$4=Formula!$A$35,IF(Formula!CJ10>Formula!$B$4,\"\",CONCATENATE(\"v\",Formula!CJ9)),\"\")","v":""},{"$f":"IF($A$4=Formula!$A$35,IF(Formula!CK10>Formula!$B$4,\"\",CONCATENATE(\"v\",Formula!CK9)),\"\")","v":""},{"$f":"IF($A$4=Formula!$A$35,IF(Formula!CL10>Formula!$B$4,\"\",CONCATENATE(\"v\",Formula!CL9)),\"\")","v":""},{"$f":"IF($A$4=Formula!$A$35,IF(Formula!CM10>Formula!$B$4,\"\",CONCATENATE(\"v\",Formula!CM9)),\"\")","v":""},{"$f":"IF($A$4=Formula!$A$35,IF(Formula!CN10>Formula!$B$4,\"\",CONCATENATE(\"v\",Formula!CN9)),\"\")","v":""},{"$f":"IF($A$4=Formula!$A$35,IF(Formula!CO10>Formula!$B$4,\"\",CONCATENATE(\"v\",Formula!CO9)),\"\")","v":""},{"$f":"IF($A$4=Formula!$A$35,IF(Formula!CP10>Formula!$B$4,\"\",CONCATENATE(\"v\",Formula!CP9)),\"\")","v":""},{"$f":"IF($A$4=Formula!$A$35,IF(Formula!CQ10>Formula!$B$4,\"\",CONCATENATE(\"v\",Formula!CQ9)),\"\")","v":""},{"$f":"IF($A$4=Formula!$A$35,IF(Formula!CR10>Formula!$B$4,\"\",CONCATENATE(\"v\",Formula!CR9)),\"\")","v":""},{"$f":"IF($A$4=Formula!$A$35,IF(Formula!CS10>Formula!$B$4,\"\",CONCATENATE(\"v\",Formula!CS9)),\"\")","v":""},{"$f":"IF($A$4=Formula!$A$35,IF(Formula!CT10>Formula!$B$4,\"\",CONCATENATE(\"v\",Formula!CT9)),\"\")","v":""},{"$f":"IF($A$4=Formula!$A$35,IF(Formula!CU10>Formula!$B$4,\"\",CONCATENATE(\"v\",Formula!CU9)),\"\")","v":""},{"$f":"IF($A$4=Formula!$A$35,IF(Formula!CV10>Formula!$B$4,\"\",CONCATENATE(\"v\",Formula!CV9)),\"\")","v":""},{"$f":"IF($A$4=Formula!$A$35,IF(Formula!CW10>Formula!$B$4,\"\",CONCATENATE(\"v\",Formula!CW9)),\"\")","v":""},{"$f":"IF($A$4=Formula!$A$35,IF(Formula!CX10>Formula!$B$4,\"\",CONCATENATE(\"v\",Formula!CX9)),\"\")","v":""},{"$f":"IF($A$4=Formula!$A$35,IF(Formula!CY10>Formula!$B$4,\"\",CONCATENATE(\"v\",Formula!CY9)),\"\")","v":""},{"$f":"IF($A$4=Formula!$A$35,IF(Formula!CZ10>Formula!$B$4,\"\",CONCATENATE(\"v\",Formula!CZ9)),\"\")","v":""},{"$f":"IF($A$4=Formula!$A$35,IF(Formula!DA10>Formula!$B$4,\"\",CONCATENATE(\"v\",Formula!DA9)),\"\")","v":""},{"$f":"IF($A$4=Formula!$A$35,IF(Formula!DB10>Formula!$B$4,\"\",CONCATENATE(\"v\",Formula!DB9)),\"\")","v":""},{"$f":"IF($A$4=Formula!$A$35,IF(Formula!DC10>Formula!$B$4,\"\",CONCATENATE(\"v\",Formula!DC9)),\"\")","v":""},{"$f":"IF($A$4=Formula!$A$35,IF(Formula!DD10>Formula!$B$4,\"\",CONCATENATE(\"v\",Formula!DD9)),\"\")","v":""},{"$f":"IF($A$4=Formula!$A$35,IF(Formula!DE10>Formula!$B$4,\"\",CONCATENATE(\"v\",Formula!DE9)),\"\")","v":""},{"$f":"IF($A$4=Formula!$A$35,IF(Formula!DF10>Formula!$B$4,\"\",CONCATENATE(\"v\",Formula!DF9)),\"\")","v":""},{"$f":"IF($A$4=Formula!$A$35,IF(Formula!DG10>Formula!$B$4,\"\",CONCATENATE(\"v\",Formula!DG9)),\"\")","v":""},{"$f":"IF($A$4=Formula!$A$35,IF(Formula!DH10>Formula!$B$4,\"\",CONCATENATE(\"v\",Formula!DH9)),\"\")","v":""},{"$f":"IF($A$4=Formula!$A$35,IF(Formula!DI10>Formula!$B$4,\"\",CONCATENATE(\"v\",Formula!DI9)),\"\")","v":""},{"$f":"IF($A$4=Formula!$A$35,IF(Formula!DJ10>Formula!$B$4,\"\",CONCATENATE(\"v\",Formula!DJ9)),\"\")","v":""},{"$f":"IF($A$4=Formula!$A$35,IF(Formula!DK10>Formula!$B$4,\"\",CONCATENATE(\"v\",Formula!DK9)),\"\")","v":""},{"$f":"IF($A$4=Formula!$A$35,IF(Formula!DL10>Formula!$B$4,\"\",CONCATENATE(\"v\",Formula!DL9)),\"\")","v":""},{"$f":"IF($A$4=Formula!$A$35,IF(Formula!DM10>Formula!$B$4,\"\",CONCATENATE(\"v\",Formula!DM9)),\"\")","v":""},{"$f":"IF($A$4=Formula!$A$35,IF(Formula!DN10>Formula!$B$4,\"\",CONCATENATE(\"v\",Formula!DN9)),\"\")","v":""},{"$f":"IF($A$4=Formula!$A$35,IF(Formula!DO10>Formula!$B$4,\"\",CONCATENATE(\"v\",Formula!DO9)),\"\")","v":""},{"$f":"IF($A$4=Formula!$A$35,IF(Formula!DP10>Formula!$B$4,\"\",CONCATENATE(\"v\",Formula!DP9)),\"\")","v":""},{"$f":"IF($A$4=Formula!$A$35,IF(Formula!DQ10>Formula!$B$4,\"\",CONCATENATE(\"v\",Formula!DQ9)),\"\")","v":""},{"$f":"IF($A$4=Formula!$A$35,IF(Formula!DR10>Formula!$B$4,\"\",CONCATENATE(\"v\",Formula!DR9)),\"\")","v":""},{"$f":"IF($A$4=Formula!$A$35,IF(Formula!DS10>Formula!$B$4,\"\",CONCATENATE(\"v\",Formula!DS9)),\"\")","v":""},{"$f":"IF($A$4=Formula!$A$35,IF(Formula!DT10>Formula!$B$4,\"\",CONCATENATE(\"v\",Formula!DT9)),\"\")","v":""},{"$f":"IF($A$4=Formula!$A$35,IF(Formula!DU10>Formula!$B$4,\"\",CONCATENATE(\"v\",Formula!DU9)),\"\")","v":""},{"$f":"IF($A$4=Formula!$A$35,IF(Formula!DV10>Formula!$B$4,\"\",CONCATENATE(\"v\",Formula!DV9)),\"\")","v":""},{"$f":"IF($A$4=Formula!$A$35,IF(Formula!DW10>Formula!$B$4,\"\",CONCATENATE(\"v\",Formula!DW9)),\"\")","v":""},{"$f":"IF($A$4=Formula!$A$35,IF(Formula!DX10>Formula!$B$4,\"\",CONCATENATE(\"v\",Formula!DX9)),\"\")","v":""},{"$f":"IF($A$4=Formula!$A$35,IF(Formula!DY10>Formula!$B$4,\"\",CONCATENATE(\"v\",Formula!DY9)),\"\")","v":""},{"$f":"IF($A$4=Formula!$A$35,IF(Formula!DZ10>Formula!$B$4,\"\",CONCATENATE(\"v\",Formula!DZ9)),\"\")","v":""},{"$f":"IF($A$4=Formula!$A$35,IF(Formula!EA10>Formula!$B$4,\"\",CONCATENATE(\"v\",Formula!EA9)),\"\")","v":""},{"$f":"IF($A$4=Formula!$A$35,IF(Formula!EB10>Formula!$B$4,\"\",CONCATENATE(\"v\",Formula!EB9)),\"\")","v":""},{"$f":"IF($A$4=Formula!$A$35,IF(Formula!EC10>Formula!$B$4,\"\",CONCATENATE(\"v\",Formula!EC9)),\"\")","v":""},{"$f":"IF($A$4=Formula!$A$35,IF(Formula!ED10>Formula!$B$4,\"\",CONCATENATE(\"v\",Formula!ED9)),\"\")","v":""},{"$f":"IF($A$4=Formula!$A$35,IF(Formula!EE10>Formula!$B$4,\"\",CONCATENATE(\"v\",Formula!EE9)),\"\")","v":""},{"$f":"IF($A$4=Formula!$A$35,IF(Formula!EF10>Formula!$B$4,\"\",CONCATENATE(\"v\",Formula!EF9)),\"\")","v":""},{"$f":"IF($A$4=Formula!$A$35,IF(Formula!EG10>Formula!$B$4,\"\",CONCATENATE(\"v\",Formula!EG9)),\"\")","v":""},{"$f":"IF($A$4=Formula!$A$35,IF(Formula!EH10>Formula!$B$4,\"\",CONCATENATE(\"v\",Formula!EH9)),\"\")","v":""},{"$f":"IF($A$4=Formula!$A$35,IF(Formula!EI10>Formula!$B$4,\"\",CONCATENATE(\"v\",Formula!EI9)),\"\")","v":""},{"$f":"IF($A$4=Formula!$A$35,IF(Formula!EJ10>Formula!$B$4,\"\",CONCATENATE(\"v\",Formula!EJ9)),\"\")","v":""},{"$f":"IF($A$4=Formula!$A$35,IF(Formula!EK10>Formula!$B$4,\"\",CONCATENATE(\"v\",Formula!EK9)),\"\")","v":""},{"$f":"IF($A$4=Formula!$A$35,IF(Formula!EL10>Formula!$B$4,\"\",CONCATENATE(\"v\",Formula!EL9)),\"\")","v":""},{"$f":"IF($A$4=Formula!$A$35,IF(Formula!EM10>Formula!$B$4,\"\",CONCATENATE(\"v\",Formula!EM9)),\"\")","v":""},{"$f":"IF($A$4=Formula!$A$35,IF(Formula!EN10>Formula!$B$4,\"\",CONCATENATE(\"v\",Formula!EN9)),\"\")","v":""},{"$f":"IF($A$4=Formula!$A$35,IF(Formula!EO10>Formula!$B$4,\"\",CONCATENATE(\"v\",Formula!EO9)),\"\")","v":""},{"$f":"IF($A$4=Formula!$A$35,IF(Formula!EP10>Formula!$B$4,\"\",CONCATENATE(\"v\",Formula!EP9)),\"\")","v":""},{"$f":"IF($A$4=Formula!$A$35,IF(Formula!EQ10>Formula!$B$4,\"\",CONCATENATE(\"v\",Formula!EQ9)),\"\")","v":""},{"$f":"IF($A$4=Formula!$A$35,IF(Formula!ER10>Formula!$B$4,\"\",CONCATENATE(\"v\",Formula!ER9)),\"\")","v":""},{"$f":"IF($A$4=Formula!$A$35,IF(Formula!ES10>Formula!$B$4,\"\",CONCATENATE(\"v\",Formula!ES9)),\"\")","v":""},{"$f":"IF($A$4=Formula!$A$35,IF(Formula!ET10>Formula!$B$4,\"\",CONCATENATE(\"v\",Formula!ET9)),\"\")","v":""},{"$f":"IF($A$4=Formula!$A$35,IF(Formula!EU10>Formula!$B$4,\"\",CONCATENATE(\"v\",Formula!EU9)),\"\")","v":""},{"$f":"IF($A$4=Formula!$A$35,IF(Formula!EV10>Formula!$B$4,\"\",CONCATENATE(\"v\",Formula!EV9)),\"\")","v":""},{"$f":"IF($A$4=Formula!$A$35,IF(Formula!EW10>Formula!$B$4,\"\",CONCATENATE(\"v\",Formula!EW9)),\"\")","v":""},{"$f":"IF($A$4=Formula!$A$35,IF(Formula!EX10>Formula!$B$4,\"\",CONCATENATE(\"v\",Formula!EX9)),\"\")","v":""},{"$f":"IF($A$4=Formula!$A$35,IF(Formula!EY10>Formula!$B$4,\"\",CONCATENATE(\"v\",Formula!EY9)),\"\")","v":""},{"$f":"IF($A$4=Formula!$A$35,IF(Formula!EZ10>Formula!$B$4,\"\",CONCATENATE(\"v\",Formula!EZ9)),\"\")","v":""},{"$f":"IF($A$4=Formula!$A$35,IF(Formula!FA10>Formula!$B$4,\"\",CONCATENATE(\"v\",Formula!FA9)),\"\")","v":""},{"$f":"IF($A$4=Formula!$A$35,IF(Formula!FB10>Formula!$B$4,\"\",CONCATENATE(\"v\",Formula!FB9)),\"\")","v":""},{"$f":"IF($A$4=Formula!$A$35,IF(Formula!FC10>Formula!$B$4,\"\",CONCATENATE(\"v\",Formula!FC9)),\"\")","v":""},{"$f":"IF($A$4=Formula!$A$35,IF(Formula!FD10>Formula!$B$4,\"\",CONCATENATE(\"v\",Formula!FD9)),\"\")","v":""},{"$f":"IF($A$4=Formula!$A$35,IF(Formula!FE10>Formula!$B$4,\"\",CONCATENATE(\"v\",Formula!FE9)),\"\")","v":""},{"$f":"IF($A$4=Formula!$A$35,IF(Formula!FF10>Formula!$B$4,\"\",CONCATENATE(\"v\",Formula!FF9)),\"\")","v":""},{"$f":"IF($A$4=Formula!$A$35,IF(Formula!FG10>Formula!$B$4,\"\",CONCATENATE(\"v\",Formula!FG9)),\"\")","v":""},{"$f":"IF($A$4=Formula!$A$35,IF(Formula!FH10>Formula!$B$4,\"\",CONCATENATE(\"v\",Formula!FH9)),\"\")","v":""},{"$f":"IF($A$4=Formula!$A$35,IF(Formula!FI10>Formula!$B$4,\"\",CONCATENATE(\"v\",Formula!FI9)),\"\")","v":""},{"$f":"IF($A$4=Formula!$A$35,IF(Formula!FJ10>Formula!$B$4,\"\",CONCATENATE(\"v\",Formula!FJ9)),\"\")","v":""},{"$f":"IF($A$4=Formula!$A$35,IF(Formula!FK10>Formula!$B$4,\"\",CONCATENATE(\"v\",Formula!FK9)),\"\")","v":""},{"$f":"IF($A$4=Formula!$A$35,IF(Formula!FL10>Formula!$B$4,\"\",CONCATENATE(\"v\",Formula!FL9)),\"\")","v":""},{"$f":"IF($A$4=Formula!$A$35,IF(Formula!FM10>Formula!$B$4,\"\",CONCATENATE(\"v\",Formula!FM9)),\"\")","v":""},{"$f":"IF($A$4=Formula!$A$35,IF(Formula!FN10>Formula!$B$4,\"\",CONCATENATE(\"v\",Formula!FN9)),\"\")","v":""},{"$f":"IF($A$4=Formula!$A$35,IF(Formula!FO10>Formula!$B$4,\"\",CONCATENATE(\"v\",Formula!FO9)),\"\")","v":""},{"$f":"IF($A$4=Formula!$A$35,IF(Formula!FP10>Formula!$B$4,\"\",CONCATENATE(\"v\",Formula!FP9)),\"\")","v":""},{"$f":"IF($A$4=Formula!$A$35,IF(Formula!FQ10>Formula!$B$4,\"\",CONCATENATE(\"v\",Formula!FQ9)),\"\")","v":""},{"$f":"IF($A$4=Formula!$A$35,IF(Formula!FR10>Formula!$B$4,\"\",CONCATENATE(\"v\",Formula!FR9)),\"\")","v":""},{"$f":"IF($A$4=Formula!$A$35,IF(Formula!FS10>Formula!$B$4,\"\",CONCATENATE(\"v\",Formula!FS9)),\"\")","v":""},{"$f":"IF($A$4=Formula!$A$35,IF(Formula!FT10>Formula!$B$4,\"\",CONCATENATE(\"v\",Formula!FT9)),\"\")","v":""},{"$f":"IF($A$4=Formula!$A$35,IF(Formula!FU10>Formula!$B$4,\"\",CONCATENATE(\"v\",Formula!FU9)),\"\")","v":""},{"$f":"IF($A$4=Formula!$A$35,IF(Formula!FV10>Formula!$B$4,\"\",CONCATENATE(\"v\",Formula!FV9)),\"\")","v":""},{"$f":"IF($A$4=Formula!$A$35,IF(Formula!FW10>Formula!$B$4,\"\",CONCATENATE(\"v\",Formula!FW9)),\"\")","v":""},{"$f":"IF($A$4=Formula!$A$35,IF(Formula!FX10>Formula!$B$4,\"\",CONCATENATE(\"v\",Formula!FX9)),\"\")","v":""},{"$f":"IF($A$4=Formula!$A$35,IF(Formula!FY10>Formula!$B$4,\"\",CONCATENATE(\"v\",Formula!FY9)),\"\")","v":""},{"$f":"IF($A$4=Formula!$A$35,IF(Formula!FZ10>Formula!$B$4,\"\",CONCATENATE(\"v\",Formula!FZ9)),\"\")","v":""},{"$f":"IF($A$4=Formula!$A$35,IF(Formula!GA10>Formula!$B$4,\"\",CONCATENATE(\"v\",Formula!GA9)),\"\")","v":""},{"$f":"IF($A$4=Formula!$A$35,IF(Formula!GB10>Formula!$B$4,\"\",CONCATENATE(\"v\",Formula!GB9)),\"\")","v":""},{"$f":"IF($A$4=Formula!$A$35,IF(Formula!GC10>Formula!$B$4,\"\",CONCATENATE(\"v\",Formula!GC9)),\"\")","v":""},{"$f":"IF($A$4=Formula!$A$35,IF(Formula!GD10>Formula!$B$4,\"\",CONCATENATE(\"v\",Formula!GD9)),\"\")","v":""},{"$f":"IF($A$4=Formula!$A$35,IF(Formula!GE10>Formula!$B$4,\"\",CONCATENATE(\"v\",Formula!GE9)),\"\")","v":""},{"$f":"IF($A$4=Formula!$A$35,IF(Formula!GF10>Formula!$B$4,\"\",CONCATENATE(\"v\",Formula!GF9)),\"\")","v":""},{"$f":"IF($A$4=Formula!$A$35,IF(Formula!GG10>Formula!$B$4,\"\",CONCATENATE(\"v\",Formula!GG9)),\"\")","v":""},{"$f":"IF($A$4=Formula!$A$35,IF(Formula!GH10>Formula!$B$4,\"\",CONCATENATE(\"v\",Formula!GH9)),\"\")","v":""},{"$f":"IF($A$4=Formula!$A$35,IF(Formula!GI10>Formula!$B$4,\"\",CONCATENATE(\"v\",Formula!GI9)),\"\")","v":""},{"$f":"IF($A$4=Formula!$A$35,IF(Formula!GJ10>Formula!$B$4,\"\",CONCATENATE(\"v\",Formula!GJ9)),\"\")","v":""},{"$f":"IF($A$4=Formula!$A$35,IF(Formula!GK10>Formula!$B$4,\"\",CONCATENATE(\"v\",Formula!GK9)),\"\")","v":""},{"$f":"IF($A$4=Formula!$A$35,IF(Formula!GL10>Formula!$B$4,\"\",CONCATENATE(\"v\",Formula!GL9)),\"\")","v":""},{"$f":"IF($A$4=Formula!$A$35,IF(Formula!GM10>Formula!$B$4,\"\",CONCATENATE(\"v\",Formula!GM9)),\"\")","v":""},{"$f":"IF($A$4=Formula!$A$35,IF(Formula!GN10>Formula!$B$4,\"\",CONCATENATE(\"v\",Formula!GN9)),\"\")","v":""},{"$f":"IF($A$4=Formula!$A$35,IF(Formula!GO10>Formula!$B$4,\"\",CONCATENATE(\"v\",Formula!GO9)),\"\")","v":""},{"$f":"IF($A$4=Formula!$A$35,IF(Formula!GP10>Formula!$B$4,\"\",CONCATENATE(\"v\",Formula!GP9)),\"\")","v":""},{"$f":"IF($A$4=Formula!$A$35,IF(Formula!GQ10>Formula!$B$4,\"\",CONCATENATE(\"v\",Formula!GQ9)),\"\")","v":""},{"$f":"IF($A$4=Formula!$A$35,IF(Formula!GR10>Formula!$B$4,\"\",CONCATENATE(\"v\",Formula!GR9)),\"\")","v":""},{"$f":"IF($A$4=Formula!$A$35,IF(Formula!GS10>Formula!$B$4,\"\",CONCATENATE(\"v\",Formula!GS9)),\"\")","v":""},{"$f":"IF($A$4=Formula!$A$35,IF(Formula!GT10>Formula!$B$4,\"\",CONCATENATE(\"v\",Formula!GT9)),\"\")","v":""},{"$f":"IF($A$4=Formula!$A$35,IF(Formula!GU10>Formula!$B$4,\"\",CONCATENATE(\"v\",Formula!GU9)),\"\")","v":""},{"$f":"IF($A$4=Formula!$A$35,IF(Formula!GV10>Formula!$B$4,\"\",CONCATENATE(\"v\",Formula!GV9)),\"\")","v":""},{"$f":"IF($A$4=Formula!$A$35,IF(Formula!GW10>Formula!$B$4,\"\",CONCATENATE(\"v\",Formula!GW9)),\"\")","v":""},{"$f":"IF($A$4=Formula!$A$35,IF(Formula!GX10>Formula!$B$4,\"\",CONCATENATE(\"v\",Formula!GX9)),\"\")","v":""},{"$f":"IF($A$4=Formula!$A$35,IF(Formula!GY10>Formula!$B$4,\"\",CONCATENATE(\"v\",Formula!GY9)),\"\")","v":""},{"$f":"IF($A$4=Formula!$A$35,IF(Formula!GZ10>Formula!$B$4,\"\",CONCATENATE(\"v\",Formula!GZ9)),\"\")","v":""},{"$f":"IF($A$4=Formula!$A$35,IF(Formula!HA10>Formula!$B$4,\"\",CONCATENATE(\"v\",Formula!HA9)),\"\")","v":""},{"$f":"IF($A$4=Formula!$A$35,IF(Formula!HB10>Formula!$B$4,\"\",CONCATENATE(\"v\",Formula!HB9)),\"\")","v":""},{"$f":"IF($A$4=Formula!$A$35,IF(Formula!HC10>Formula!$B$4,\"\",CONCATENATE(\"v\",Formula!HC9)),\"\")","v":""},{"$f":"IF($A$4=Formula!$A$35,IF(Formula!HD10>Formula!$B$4,\"\",CONCATENATE(\"v\",Formula!HD9)),\"\")","v":""},{"$f":"IF($A$4=Formula!$A$35,IF(Formula!HE10>Formula!$B$4,\"\",CONCATENATE(\"v\",Formula!HE9)),\"\")","v":""},{"$f":"IF($A$4=Formula!$A$35,IF(Formula!HF10>Formula!$B$4,\"\",CONCATENATE(\"v\",Formula!HF9)),\"\")","v":""},{"$f":"IF($A$4=Formula!$A$35,IF(Formula!HG10>Formula!$B$4,\"\",CONCATENATE(\"v\",Formula!HG9)),\"\")","v":""},{"$f":"IF($A$4=Formula!$A$35,IF(Formula!HH10>Formula!$B$4,\"\",CONCATENATE(\"v\",Formula!HH9)),\"\")","v":""},{"$f":"IF($A$4=Formula!$A$35,IF(Formula!HI10>Formula!$B$4,\"\",CONCATENATE(\"v\",Formula!HI9)),\"\")","v":""},{"$f":"IF($A$4=Formula!$A$35,IF(Formula!HJ10>Formula!$B$4,\"\",CONCATENATE(\"v\",Formula!HJ9)),\"\")","v":""},{"$f":"IF($A$4=Formula!$A$35,IF(Formula!HK10>Formula!$B$4,\"\",CONCATENATE(\"v\",Formula!HK9)),\"\")","v":""},{"$f":"IF($A$4=Formula!$A$35,IF(Formula!HL10>Formula!$B$4,\"\",CONCATENATE(\"v\",Formula!HL9)),\"\")","v":""},{"$f":"IF($A$4=Formula!$A$35,IF(Formula!HM10>Formula!$B$4,\"\",CONCATENATE(\"v\",Formula!HM9)),\"\")","v":""},{"$f":"IF($A$4=Formula!$A$35,IF(Formula!HN10>Formula!$B$4,\"\",CONCATENATE(\"v\",Formula!HN9)),\"\")","v":""},{"$f":"IF($A$4=Formula!$A$35,IF(Formula!HO10>Formula!$B$4,\"\",CONCATENATE(\"v\",Formula!HO9)),\"\")","v":""},{"$f":"IF($A$4=Formula!$A$35,IF(Formula!HP10>Formula!$B$4,\"\",CONCATENATE(\"v\",Formula!HP9)),\"\")","v":""},{"$f":"IF($A$4=Formula!$A$35,IF(Formula!HQ10>Formula!$B$4,\"\",CONCATENATE(\"v\",Formula!HQ9)),\"\")","v":""},{"$f":"IF($A$4=Formula!$A$35,IF(Formula!HR10>Formula!$B$4,\"\",CONCATENATE(\"v\",Formula!HR9)),\"\")","v":""},{"$f":"IF($A$4=Formula!$A$35,IF(Formula!HS10>Formula!$B$4,\"\",CONCATENATE(\"v\",Formula!HS9)),\"\")","v":""},{"$f":"IF($A$4=Formula!$A$35,IF(Formula!HT10>Formula!$B$4,\"\",CONCATENATE(\"v\",Formula!HT9)),\"\")","v":""},{"$f":"IF($A$4=Formula!$A$35,IF(Formula!HU10>Formula!$B$4,\"\",CONCATENATE(\"v\",Formula!HU9)),\"\")","v":""},{"$f":"IF($A$4=Formula!$A$35,IF(Formula!HV10>Formula!$B$4,\"\",CONCATENATE(\"v\",Formula!HV9)),\"\")","v":""},{"$f":"IF($A$4=Formula!$A$35,IF(Formula!HW10>Formula!$B$4,\"\",CONCATENATE(\"v\",Formula!HW9)),\"\")","v":""},{"$f":"IF($A$4=Formula!$A$35,IF(Formula!HX10>Formula!$B$4,\"\",CONCATENATE(\"v\",Formula!HX9)),\"\")","v":""},{"$f":"IF($A$4=Formula!$A$35,IF(Formula!HY10>Formula!$B$4,\"\",CONCATENATE(\"v\",Formula!HY9)),\"\")","v":""},{"$f":"IF($A$4=Formula!$A$35,IF(Formula!HZ10>Formula!$B$4,\"\",CONCATENATE(\"v\",Formula!HZ9)),\"\")","v":""},{"$f":"IF($A$4=Formula!$A$35,IF(Formula!IA10>Formula!$B$4,\"\",CONCATENATE(\"v\",Formula!IA9)),\"\")","v":""},{"$f":"IF($A$4=Formula!$A$35,IF(Formula!IB10>Formula!$B$4,\"\",CONCATENATE(\"v\",Formula!IB9)),\"\")","v":""},{"$f":"IF($A$4=Formula!$A$35,IF(Formula!IC10>Formula!$B$4,\"\",CONCATENATE(\"v\",Formula!IC9)),\"\")","v":""},{"$f":"IF($A$4=Formula!$A$35,IF(Formula!ID10>Formula!$B$4,\"\",CONCATENATE(\"v\",Formula!ID9)),\"\")","v":""},{"$f":"IF($A$4=Formula!$A$35,IF(Formula!IE10>Formula!$B$4,\"\",CONCATENATE(\"v\",Formula!IE9)),\"\")","v":""},{"$f":"IF($A$4=Formula!$A$35,IF(Formula!IF10>Formula!$B$4,\"\",CONCATENATE(\"v\",Formula!IF9)),\"\")","v":""},{"$f":"IF($A$4=Formula!$A$35,IF(Formula!IG10>Formula!$B$4,\"\",CONCATENATE(\"v\",Formula!IG9)),\"\")","v":""},{"$f":"IF($A$4=Formula!$A$35,IF(Formula!IH10>Formula!$B$4,\"\",CONCATENATE(\"v\",Formula!IH9)),\"\")","v":""},{"$f":"IF($A$4=Formula!$A$35,IF(Formula!II10>Formula!$B$4,\"\",CONCATENATE(\"v\",Formula!II9)),\"\")","v":""},{"$f":"IF($A$4=Formula!$A$35,IF(Formula!IJ10>Formula!$B$4,\"\",CONCATENATE(\"v\",Formula!IJ9)),\"\")","v":""},{"$f":"IF($A$4=Formula!$A$35,IF(Formula!IK10>Formula!$B$4,\"\",CONCATENATE(\"v\",Formula!IK9)),\"\")","v":""},{"$f":"IF($A$4=Formula!$A$35,IF(Formula!IL10>Formula!$B$4,\"\",CONCATENATE(\"v\",Formula!IL9)),\"\")","v":""},{"$f":"IF($A$4=Formula!$A$35,IF(Formula!IM10>Formula!$B$4,\"\",CONCATENATE(\"v\",Formula!IM9)),\"\")","v":""},{"$f":"IF($A$4=Formula!$A$35,IF(Formula!IN10>Formula!$B$4,\"\",CONCATENATE(\"v\",Formula!IN9)),\"\")","v":""},{"$f":"IF($A$4=Formula!$A$35,IF(Formula!IO10>Formula!$B$4,\"\",CONCATENATE(\"v\",Formula!IO9)),\"\")","v":""},{"$f":"IF($A$4=Formula!$A$35,IF(Formula!IP10>Formula!$B$4,\"\",CONCATENATE(\"v\",Formula!IP9)),\"\")","v":""},{"$f":"IF($A$4=Formula!$A$35,IF(Formula!IQ10>Formula!$B$4,\"\",CONCATENATE(\"v\",Formula!IQ9)),\"\")","v":""},{"$f":"IF($A$4=Formula!$A$35,IF(Formula!IR10>Formula!$B$4,\"\",CONCATENATE(\"v\",Formula!IR9)),\"\")","v":""},{"$f":"IF($A$4=Formula!$A$35,IF(Formula!IS10>Formula!$B$4,\"\",CONCATENATE(\"v\",Formula!IS9)),\"\")","v":""},{"$f":"IF($A$4=Formula!$A$35,IF(Formula!IT10>Formula!$B$4,\"\",CONCATENATE(\"v\",Formula!IT9)),\"\")","v":""},{"$f":"IF($A$4=Formula!$A$35,IF(Formula!IU10>Formula!$B$4,\"\",CONCATENATE(\"v\",Formula!IU9)),\"\")","v":""},{"$f":"IF($A$4=Formula!$A$35,IF(Formula!IV10>Formula!$B$4,\"\",CONCATENATE(\"v\",Formula!IV9)),\"\")","v":""},{"$f":"IF($A$4=Formula!$A$35,IF(Formula!IW10>Formula!$B$4,\"\",CONCATENATE(\"v\",Formula!IW9)),\"\")","v":""},{"$f":"IF($A$4=Formula!$A$35,IF(Formula!IX10>Formula!$B$4,\"\",CONCATENATE(\"v\",Formula!IX9)),\"\")","v":""},{"$f":"IF($A$4=Formula!$A$35,IF(Formula!IY10>Formula!$B$4,\"\",CONCATENATE(\"v\",Formula!IY9)),\"\")","v":""},{"$f":"IF($A$4=Formula!$A$35,IF(Formula!IZ10>Formula!$B$4,\"\",CONCATENATE(\"v\",Formula!IZ9)),\"\")","v":""},{"$f":"IF($A$4=Formula!$A$35,IF(Formula!JA10>Formula!$B$4,\"\",CONCATENATE(\"v\",Formula!JA9)),\"\")","v":""},{"$f":"IF($A$4=Formula!$A$35,IF(Formula!JB10>Formula!$B$4,\"\",CONCATENATE(\"v\",Formula!JB9)),\"\")","v":""},{"$f":"IF($A$4=Formula!$A$35,IF(Formula!JC10>Formula!$B$4,\"\",CONCATENATE(\"v\",Formula!JC9)),\"\")","v":""},{"$f":"IF($A$4=Formula!$A$35,IF(Formula!JD10>Formula!$B$4,\"\",CONCATENATE(\"v\",Formula!JD9)),\"\")","v":""},{"$f":"IF($A$4=Formula!$A$35,IF(Formula!JE10>Formula!$B$4,\"\",CONCATENATE(\"v\",Formula!JE9)),\"\")","v":""},{"$f":"IF($A$4=Formula!$A$35,IF(Formula!JF10>Formula!$B$4,\"\",CONCATENATE(\"v\",Formula!JF9)),\"\")","v":""},{"$f":"IF($A$4=Formula!$A$35,IF(Formula!JG10>Formula!$B$4,\"\",CONCATENATE(\"v\",Formula!JG9)),\"\")","v":""},{"$f":"IF($A$4=Formula!$A$35,IF(Formula!JH10>Formula!$B$4,\"\",CONCATENATE(\"v\",Formula!JH9)),\"\")","v":""},{"$f":"IF($A$4=Formula!$A$35,IF(Formula!JI10>Formula!$B$4,\"\",CONCATENATE(\"v\",Formula!JI9)),\"\")","v":""},{"$f":"IF($A$4=Formula!$A$35,IF(Formula!JJ10>Formula!$B$4,\"\",CONCATENATE(\"v\",Formula!JJ9)),\"\")","v":""},{"$f":"IF($A$4=Formula!$A$35,IF(Formula!JK10>Formula!$B$4,\"\",CONCATENATE(\"v\",Formula!JK9)),\"\")","v":""},{"$f":"IF($A$4=Formula!$A$35,IF(Formula!JL10>Formula!$B$4,\"\",CONCATENATE(\"v\",Formula!JL9)),\"\")","v":""},{"$f":"IF($A$4=Formula!$A$35,IF(Formula!JM10>Formula!$B$4,\"\",CONCATENATE(\"v\",Formula!JM9)),\"\")","v":""},{"$f":"IF($A$4=Formula!$A$35,IF(Formula!JN10>Formula!$B$4,\"\",CONCATENATE(\"v\",Formula!JN9)),\"\")","v":""},{"$f":"IF($A$4=Formula!$A$35,IF(Formula!JO10>Formula!$B$4,\"\",CONCATENATE(\"v\",Formula!JO9)),\"\")","v":""},{"$f":"IF($A$4=Formula!$A$35,IF(Formula!JP10>Formula!$B$4,\"\",CONCATENATE(\"v\",Formula!JP9)),\"\")","v":""},{"$f":"IF($A$4=Formula!$A$35,IF(Formula!JQ10>Formula!$B$4,\"\",CONCATENATE(\"v\",Formula!JQ9)),\"\")","v":""},{"$f":"IF($A$4=Formula!$A$35,IF(Formula!JR10>Formula!$B$4,\"\",CONCATENATE(\"v\",Formula!JR9)),\"\")","v":""},{"$f":"IF($A$4=Formula!$A$35,IF(Formula!JS10>Formula!$B$4,\"\",CONCATENATE(\"v\",Formula!JS9)),\"\")","v":""},{"$f":"IF($A$4=Formula!$A$35,IF(Formula!JT10>Formula!$B$4,\"\",CONCATENATE(\"v\",Formula!JT9)),\"\")","v":""},{"$f":"IF($A$4=Formula!$A$35,IF(Formula!JU10>Formula!$B$4,\"\",CONCATENATE(\"v\",Formula!JU9)),\"\")","v":""},{"$f":"IF($A$4=Formula!$A$35,IF(Formula!JV10>Formula!$B$4,\"\",CONCATENATE(\"v\",Formula!JV9)),\"\")","v":""},{"$f":"IF($A$4=Formula!$A$35,IF(Formula!JW10>Formula!$B$4,\"\",CONCATENATE(\"v\",Formula!JW9)),\"\")","v":""},{"$f":"IF($A$4=Formula!$A$35,IF(Formula!JX10>Formula!$B$4,\"\",CONCATENATE(\"v\",Formula!JX9)),\"\")","v":""},{"$f":"IF($A$4=Formula!$A$35,IF(Formula!JY10>Formula!$B$4,\"\",CONCATENATE(\"v\",Formula!JY9)),\"\")","v":""},{"$f":"IF($A$4=Formula!$A$35,IF(Formula!JZ10>Formula!$B$4,\"\",CONCATENATE(\"v\",Formula!JZ9)),\"\")","v":""},{"$f":"IF($A$4=Formula!$A$35,IF(Formula!KA10>Formula!$B$4,\"\",CONCATENATE(\"v\",Formula!KA9)),\"\")","v":""},{"$f":"IF($A$4=Formula!$A$35,IF(Formula!KB10>Formula!$B$4,\"\",CONCATENATE(\"v\",Formula!KB9)),\"\")","v":""},{"$f":"IF($A$4=Formula!$A$35,IF(Formula!KC10>Formula!$B$4,\"\",CONCATENATE(\"v\",Formula!KC9)),\"\")","v":""},{"$f":"IF($A$4=Formula!$A$35,IF(Formula!KD10>Formula!$B$4,\"\",CONCATENATE(\"v\",Formula!KD9)),\"\")","v":""},{"$f":"IF($A$4=Formula!$A$35,IF(Formula!KE10>Formula!$B$4,\"\",CONCATENATE(\"v\",Formula!KE9)),\"\")","v":""},{"$f":"IF($A$4=Formula!$A$35,IF(Formula!KF10>Formula!$B$4,\"\",CONCATENATE(\"v\",Formula!KF9)),\"\")","v":""},{"$f":"IF($A$4=Formula!$A$35,IF(Formula!KG10>Formula!$B$4,\"\",CONCATENATE(\"v\",Formula!KG9)),\"\")","v":""},{"$f":"IF($A$4=Formula!$A$35,IF(Formula!KH10>Formula!$B$4,\"\",CONCATENATE(\"v\",Formula!KH9)),\"\")","v":""},{"$f":"IF($A$4=Formula!$A$35,IF(Formula!KI10>Formula!$B$4,\"\",CONCATENATE(\"v\",Formula!KI9)),\"\")","v":""},{"$f":"IF($A$4=Formula!$A$35,IF(Formula!KJ10>Formula!$B$4,\"\",CONCATENATE(\"v\",Formula!KJ9)),\"\")","v":""},{"$f":"IF($A$4=Formula!$A$35,IF(Formula!KK10>Formula!$B$4,\"\",CONCATENATE(\"v\",Formula!KK9)),\"\")","v":""},{"$f":"IF($A$4=Formula!$A$35,IF(Formula!KL10>Formula!$B$4,\"\",CONCATENATE(\"v\",Formula!KL9)),\"\")","v":""},{"$f":"IF($A$4=Formula!$A$35,IF(Formula!KM10>Formula!$B$4,\"\",CONCATENATE(\"v\",Formula!KM9)),\"\")","v":""},{"$f":"IF($A$4=Formula!$A$35,IF(Formula!KN10>Formula!$B$4,\"\",CONCATENATE(\"v\",Formula!KN9)),\"\")","v":""},{"$f":"IF($A$4=Formula!$A$35,IF(Formula!KO10>Formula!$B$4,\"\",CONCATENATE(\"v\",Formula!KO9)),\"\")","v":""},{"$f":"IF($A$4=Formula!$A$35,IF(Formula!KP10>Formula!$B$4,\"\",CONCATENATE(\"v\",Formula!KP9)),\"\")","v":""},{"$f":"IF($A$4=Formula!$A$35,IF(Formula!KQ10>Formula!$B$4,\"\",CONCATENATE(\"v\",Formula!KQ9)),\"\")","v":""},{"$f":"IF($A$4=Formula!$A$35,IF(Formula!KR10>Formula!$B$4,\"\",CONCATENATE(\"v\",Formula!KR9)),\"\")","v":""},{"$f":"IF($A$4=Formula!$A$35,IF(Formula!KS10>Formula!$B$4,\"\",CONCATENATE(\"v\",Formula!KS9)),\"\")","v":""},{"$f":"IF($A$4=Formula!$A$35,IF(Formula!KT10>Formula!$B$4,\"\",CONCATENATE(\"v\",Formula!KT9)),\"\")","v":""},{"$f":"IF($A$4=Formula!$A$35,IF(Formula!KU10>Formula!$B$4,\"\",CONCATENATE(\"v\",Formula!KU9)),\"\")","v":""},{"$f":"IF($A$4=Formula!$A$35,IF(Formula!KV10>Formula!$B$4,\"\",CONCATENATE(\"v\",Formula!KV9)),\"\")","v":""},{"$f":"IF($A$4=Formula!$A$35,IF(Formula!KW10>Formula!$B$4,\"\",CONCATENATE(\"v\",Formula!KW9)),\"\")","v":""},{"$f":"IF($A$4=Formula!$A$35,IF(Formula!KX10>Formula!$B$4,\"\",CONCATENATE(\"v\",Formula!KX9)),\"\")","v":""},{"$f":"IF($A$4=Formula!$A$35,IF(Formula!KY10>Formula!$B$4,\"\",CONCATENATE(\"v\",Formula!KY9)),\"\")","v":""},{"$f":"IF($A$4=Formula!$A$35,IF(Formula!KZ10>Formula!$B$4,\"\",CONCATENATE(\"v\",Formula!KZ9)),\"\")","v":""},{"$f":"IF($A$4=Formula!$A$35,IF(Formula!LA10>Formula!$B$4,\"\",CONCATENATE(\"v\",Formula!LA9)),\"\")","v":""},{"$f":"IF($A$4=Formula!$A$35,IF(Formula!LB10>Formula!$B$4,\"\",CONCATENATE(\"v\",Formula!LB9)),\"\")","v":""},{"$f":"IF($A$4=Formula!$A$35,IF(Formula!LC10>Formula!$B$4,\"\",CONCATENATE(\"v\",Formula!LC9)),\"\")","v":""},{"$f":"IF($A$4=Formula!$A$35,IF(Formula!LD10>Formula!$B$4,\"\",CONCATENATE(\"v\",Formula!LD9)),\"\")","v":""},{"$f":"IF($A$4=Formula!$A$35,IF(Formula!LE10>Formula!$B$4,\"\",CONCATENATE(\"v\",Formula!LE9)),\"\")","v":""},{"$f":"IF($A$4=Formula!$A$35,IF(Formula!LF10>Formula!$B$4,\"\",CONCATENATE(\"v\",Formula!LF9)),\"\")","v":""},{"$f":"IF($A$4=Formula!$A$35,IF(Formula!LG10>Formula!$B$4,\"\",CONCATENATE(\"v\",Formula!LG9)),\"\")","v":""},{"$f":"IF($A$4=Formula!$A$35,IF(Formula!LH10>Formula!$B$4,\"\",CONCATENATE(\"v\",Formula!LH9)),\"\")","v":""},{"$f":"IF($A$4=Formula!$A$35,IF(Formula!LI10>Formula!$B$4,\"\",CONCATENATE(\"v\",Formula!LI9)),\"\")","v":""},{"$f":"IF($A$4=Formula!$A$35,IF(Formula!LJ10>Formula!$B$4,\"\",CONCATENATE(\"v\",Formula!LJ9)),\"\")","v":""},{"$f":"IF($A$4=Formula!$A$35,IF(Formula!LK10>Formula!$B$4,\"\",CONCATENATE(\"v\",Formula!LK9)),\"\")","v":""},{"$f":"IF($A$4=Formula!$A$35,IF(Formula!LL10>Formula!$B$4,\"\",CONCATENATE(\"v\",Formula!LL9)),\"\")","v":""},{"$f":"IF($A$4=Formula!$A$35,IF(Formula!LM10>Formula!$B$4,\"\",CONCATENATE(\"v\",Formula!LM9)),\"\")","v":""},{"$f":"IF($A$4=Formula!$A$35,IF(Formula!LN10>Formula!$B$4,\"\",CONCATENATE(\"v\",Formula!LN9)),\"\")","v":""},{"$f":"IF($A$4=Formula!$A$35,IF(Formula!LO10>Formula!$B$4,\"\",CONCATENATE(\"v\",Formula!LO9)),\"\")","v":""},{"$f":"IF($A$4=Formula!$A$35,IF(Formula!LP10>Formula!$B$4,\"\",CONCATENATE(\"v\",Formula!LP9)),\"\")","v":""},{"$f":"IF($A$4=Formula!$A$35,IF(Formula!LQ10>Formula!$B$4,\"\",CONCATENATE(\"v\",Formula!LQ9)),\"\")","v":""},{"$f":"IF($A$4=Formula!$A$35,IF(Formula!LR10>Formula!$B$4,\"\",CONCATENATE(\"v\",Formula!LR9)),\"\")","v":""},{"$f":"IF($A$4=Formula!$A$35,IF(Formula!LS10>Formula!$B$4,\"\",CONCATENATE(\"v\",Formula!LS9)),\"\")","v":""},{"$f":"IF($A$4=Formula!$A$35,IF(Formula!LT10>Formula!$B$4,\"\",CONCATENATE(\"v\",Formula!LT9)),\"\")","v":""},{"$f":"IF($A$4=Formula!$A$35,IF(Formula!LU10>Formula!$B$4,\"\",CONCATENATE(\"v\",Formula!LU9)),\"\")","v":""},{"$f":"IF($A$4=Formula!$A$35,IF(Formula!LV10>Formula!$B$4,\"\",CONCATENATE(\"v\",Formula!LV9)),\"\")","v":""},{"$f":"IF($A$4=Formula!$A$35,IF(Formula!LW10>Formula!$B$4,\"\",CONCATENATE(\"v\",Formula!LW9)),\"\")","v":""},{"$f":"IF($A$4=Formula!$A$35,IF(Formula!LX10>Formula!$B$4,\"\",CONCATENATE(\"v\",Formula!LX9)),\"\")","v":""},{"$f":"IF($A$4=Formula!$A$35,IF(Formula!LY10>Formula!$B$4,\"\",CONCATENATE(\"v\",Formula!LY9)),\"\")","v":""},{"$f":"IF($A$4=Formula!$A$35,IF(Formula!LZ10>Formula!$B$4,\"\",CONCATENATE(\"v\",Formula!LZ9)),\"\")","v":""},{"$f":"IF($A$4=Formula!$A$35,IF(Formula!MA10>Formula!$B$4,\"\",CONCATENATE(\"v\",Formula!MA9)),\"\")","v":""},{"$f":"IF($A$4=Formula!$A$35,IF(Formula!MB10>Formula!$B$4,\"\",CONCATENATE(\"v\",Formula!MB9)),\"\")","v":""},{"$f":"IF($A$4=Formula!$A$35,IF(Formula!MC10>Formula!$B$4,\"\",CONCATENATE(\"v\",Formula!MC9)),\"\")","v":""},{"$f":"IF($A$4=Formula!$A$35,IF(Formula!MD10>Formula!$B$4,\"\",CONCATENATE(\"v\",Formula!MD9)),\"\")","v":""},{"$f":"IF($A$4=Formula!$A$35,IF(Formula!ME10>Formula!$B$4,\"\",CONCATENATE(\"v\",Formula!ME9)),\"\")","v":""},{"$f":"IF($A$4=Formula!$A$35,IF(Formula!MF10>Formula!$B$4,\"\",CONCATENATE(\"v\",Formula!MF9)),\"\")","v":""},{"$f":"IF($A$4=Formula!$A$35,IF(Formula!MG10>Formula!$B$4,\"\",CONCATENATE(\"v\",Formula!MG9)),\"\")","v":""},{"$f":"IF($A$4=Formula!$A$35,IF(Formula!MH10>Formula!$B$4,\"\",CONCATENATE(\"v\",Formula!MH9)),\"\")","v":""},{"$f":"IF($A$4=Formula!$A$35,IF(Formula!MI10>Formula!$B$4,\"\",CONCATENATE(\"v\",Formula!MI9)),\"\")","v":""},{"$f":"IF($A$4=Formula!$A$35,IF(Formula!MJ10>Formula!$B$4,\"\",CONCATENATE(\"v\",Formula!MJ9)),\"\")","v":""},{"$f":"IF($A$4=Formula!$A$35,IF(Formula!MK10>Formula!$B$4,\"\",CONCATENATE(\"v\",Formula!MK9)),\"\")","v":""},{"$f":"IF($A$4=Formula!$A$35,IF(Formula!ML10>Formula!$B$4,\"\",CONCATENATE(\"v\",Formula!ML9)),\"\")","v":""},{"$f":"IF($A$4=Formula!$A$35,IF(Formula!MM10>Formula!$B$4,\"\",CONCATENATE(\"v\",Formula!MM9)),\"\")","v":""},{"$f":"IF($A$4=Formula!$A$35,IF(Formula!MN10>Formula!$B$4,\"\",CONCATENATE(\"v\",Formula!MN9)),\"\")","v":""},{"$f":"IF($A$4=Formula!$A$35,IF(Formula!MO10>Formula!$B$4,\"\",CONCATENATE(\"v\",Formula!MO9)),\"\")","v":""},{"$f":"IF($A$4=Formula!$A$35,IF(Formula!MP10>Formula!$B$4,\"\",CONCATENATE(\"v\",Formula!MP9)),\"\")","v":""},{"$f":"IF($A$4=Formula!$A$35,IF(Formula!MQ10>Formula!$B$4,\"\",CONCATENATE(\"v\",Formula!MQ9)),\"\")","v":""},{"$f":"IF($A$4=Formula!$A$35,IF(Formula!MR10>Formula!$B$4,\"\",CONCATENATE(\"v\",Formula!MR9)),\"\")","v":""},{"$f":"IF($A$4=Formula!$A$35,IF(Formula!MS10>Formula!$B$4,\"\",CONCATENATE(\"v\",Formula!MS9)),\"\")","v":""},{"$f":"IF($A$4=Formula!$A$35,IF(Formula!MT10>Formula!$B$4,\"\",CONCATENATE(\"v\",Formula!MT9)),\"\")","v":""},{"$f":"IF($A$4=Formula!$A$35,IF(Formula!MU10>Formula!$B$4,\"\",CONCATENATE(\"v\",Formula!MU9)),\"\")","v":""},{"$f":"IF($A$4=Formula!$A$35,IF(Formula!MV10>Formula!$B$4,\"\",CONCATENATE(\"v\",Formula!MV9)),\"\")","v":""},{"$f":"IF($A$4=Formula!$A$35,IF(Formula!MW10>Formula!$B$4,\"\",CONCATENATE(\"v\",Formula!MW9)),\"\")","v":""},{"$f":"IF($A$4=Formula!$A$35,IF(Formula!MX10>Formula!$B$4,\"\",CONCATENATE(\"v\",Formula!MX9)),\"\")","v":""},{"$f":"IF($A$4=Formula!$A$35,IF(Formula!MY10>Formula!$B$4,\"\",CONCATENATE(\"v\",Formula!MY9)),\"\")","v":""},{"$f":"IF($A$4=Formula!$A$35,IF(Formula!MZ10>Formula!$B$4,\"\",CONCATENATE(\"v\",Formula!MZ9)),\"\")","v":""},{"$f":"IF($A$4=Formula!$A$35,IF(Formula!NA10>Formula!$B$4,\"\",CONCATENATE(\"v\",Formula!NA9)),\"\")","v":""},{"$f":"IF($A$4=Formula!$A$35,IF(Formula!NB10>Formula!$B$4,\"\",CONCATENATE(\"v\",Formula!NB9)),\"\")","v":""},{"$f":"IF($A$4=Formula!$A$35,IF(Formula!NC10>Formula!$B$4,\"\",CONCATENATE(\"v\",Formula!NC9)),\"\")","v":""},{"$f":"IF($A$4=Formula!$A$35,IF(Formula!ND10>Formula!$B$4,\"\",CONCATENATE(\"v\",Formula!ND9)),\"\")","v":""},{"$f":"IF($A$4=Formula!$A$35,IF(Formula!NE10>Formula!$B$4,\"\",CONCATENATE(\"v\",Formula!NE9)),\"\")","v":""},{"$f":"IF($A$4=Formula!$A$35,IF(Formula!NF10>Formula!$B$4,\"\",CONCATENATE(\"v\",Formula!NF9)),\"\")","v":""},{"$f":"IF($A$4=Formula!$A$35,IF(Formula!NG10>Formula!$B$4,\"\",CONCATENATE(\"v\",Formula!NG9)),\"\")","v":""},{"$f":"IF($A$4=Formula!$A$35,IF(Formula!NH10>Formula!$B$4,\"\",CONCATENATE(\"v\",Formula!NH9)),\"\")","v":""},{"$f":"IF($A$4=Formula!$A$35,IF(Formula!NI10>Formula!$B$4,\"\",CONCATENATE(\"v\",Formula!NI9)),\"\")","v":""},{"$f":"IF($A$4=Formula!$A$35,IF(Formula!NJ10>Formula!$B$4,\"\",CONCATENATE(\"v\",Formula!NJ9)),\"\")","v":""},{"$f":"IF($A$4=Formula!$A$35,IF(Formula!NK10>Formula!$B$4,\"\",CONCATENATE(\"v\",Formula!NK9)),\"\")","v":""},{"$f":"IF($A$4=Formula!$A$35,IF(Formula!NL10>Formula!$B$4,\"\",CONCATENATE(\"v\",Formula!NL9)),\"\")","v":""},{"$f":"IF($A$4=Formula!$A$35,IF(Formula!NM10>Formula!$B$4,\"\",CONCATENATE(\"v\",Formula!NM9)),\"\")","v":""},{"$f":"IF($A$4=Formula!$A$35,IF(Formula!NN10>Formula!$B$4,\"\",CONCATENATE(\"v\",Formula!NN9)),\"\")","v":""},{"$f":"IF($A$4=Formula!$A$35,IF(Formula!NO10>Formula!$B$4,\"\",CONCATENATE(\"v\",Formula!NO9)),\"\")","v":""},{"$f":"IF($A$4=Formula!$A$35,IF(Formula!NP10>Formula!$B$4,\"\",CONCATENATE(\"v\",Formula!NP9)),\"\")","v":""},{"$f":"IF($A$4=Formula!$A$35,IF(Formula!NQ10>Formula!$B$4,\"\",CONCATENATE(\"v\",Formula!NQ9)),\"\")","v":""},{"$f":"IF($A$4=Formula!$A$35,IF(Formula!NR10>Formula!$B$4,\"\",CONCATENATE(\"v\",Formula!NR9)),\"\")","v":""},{"$f":"IF($A$4=Formula!$A$35,IF(Formula!NS10>Formula!$B$4,\"\",CONCATENATE(\"v\",Formula!NS9)),\"\")","v":""},{"$f":"IF($A$4=Formula!$A$35,IF(Formula!NT10>Formula!$B$4,\"\",CONCATENATE(\"v\",Formula!NT9)),\"\")","v":""},{"$f":"IF($A$4=Formula!$A$35,IF(Formula!NU10>Formula!$B$4,\"\",CONCATENATE(\"v\",Formula!NU9)),\"\")","v":""},{"$f":"IF($A$4=Formula!$A$35,IF(Formula!NV10>Formula!$B$4,\"\",CONCATENATE(\"v\",Formula!NV9)),\"\")","v":""},{"$f":"IF($A$4=Formula!$A$35,IF(Formula!NW10>Formula!$B$4,\"\",CONCATENATE(\"v\",Formula!NW9)),\"\")","v":""},{"$f":"IF($A$4=Formula!$A$35,IF(Formula!NX10>Formula!$B$4,\"\",CONCATENATE(\"v\",Formula!NX9)),\"\")","v":""},{"$f":"IF($A$4=Formula!$A$35,IF(Formula!NY10>Formula!$B$4,\"\",CONCATENATE(\"v\",Formula!NY9)),\"\")","v":""},{"$f":"IF($A$4=Formula!$A$35,IF(Formula!NZ10>Formula!$B$4,\"\",CONCATENATE(\"v\",Formula!NZ9)),\"\")","v":""},{"$f":"IF($A$4=Formula!$A$35,IF(Formula!OA10>Formula!$B$4,\"\",CONCATENATE(\"v\",Formula!OA9)),\"\")","v":""},{"$f":"IF($A$4=Formula!$A$35,IF(Formula!OB10>Formula!$B$4,\"\",CONCATENATE(\"v\",Formula!OB9)),\"\")","v":""},{"$f":"IF($A$4=Formula!$A$35,IF(Formula!OC10>Formula!$B$4,\"\",CONCATENATE(\"v\",Formula!OC9)),\"\")","v":""},{"$f":"IF($A$4=Formula!$A$35,IF(Formula!OD10>Formula!$B$4,\"\",CONCATENATE(\"v\",Formula!OD9)),\"\")","v":""},{"$f":"IF($A$4=Formula!$A$35,IF(Formula!OE10>Formula!$B$4,\"\",CONCATENATE(\"v\",Formula!OE9)),\"\")","v":""},{"$f":"IF($A$4=Formula!$A$35,IF(Formula!OF10>Formula!$B$4,\"\",CONCATENATE(\"v\",Formula!OF9)),\"\")","v":""},{"$f":"IF($A$4=Formula!$A$35,IF(Formula!OG10>Formula!$B$4,\"\",CONCATENATE(\"v\",Formula!OG9)),\"\")","v":""},{"$f":"IF($A$4=Formula!$A$35,IF(Formula!OH10>Formula!$B$4,\"\",CONCATENATE(\"v\",Formula!OH9)),\"\")","v":""},{"$f":"IF($A$4=Formula!$A$35,IF(Formula!OI10>Formula!$B$4,\"\",CONCATENATE(\"v\",Formula!OI9)),\"\")","v":""},{"$f":"IF($A$4=Formula!$A$35,IF(Formula!OJ10>Formula!$B$4,\"\",CONCATENATE(\"v\",Formula!OJ9)),\"\")","v":""},{"$f":"IF($A$4=Formula!$A$35,IF(Formula!OK10>Formula!$B$4,\"\",CONCATENATE(\"v\",Formula!OK9)),\"\")","v":""},{"$f":"IF($A$4=Formula!$A$35,IF(Formula!OL10>Formula!$B$4,\"\",CONCATENATE(\"v\",Formula!OL9)),\"\")","v":""},{"$f":"IF($A$4=Formula!$A$35,IF(Formula!OM10>Formula!$B$4,\"\",CONCATENATE(\"v\",Formula!OM9)),\"\")","v":""},{"$f":"IF($A$4=Formula!$A$35,IF(Formula!ON10>Formula!$B$4,\"\",CONCATENATE(\"v\",Formula!ON9)),\"\")","v":""},{"$f":"IF($A$4=Formula!$A$35,IF(Formula!OO10>Formula!$B$4,\"\",CONCATENATE(\"v\",Formula!OO9)),\"\")","v":""},{"$f":"IF($A$4=Formula!$A$35,IF(Formula!OP10>Formula!$B$4,\"\",CONCATENATE(\"v\",Formula!OP9)),\"\")","v":""},{"$f":"IF($A$4=Formula!$A$35,IF(Formula!OQ10>Formula!$B$4,\"\",CONCATENATE(\"v\",Formula!OQ9)),\"\")","v":""},{"$f":"IF($A$4=Formula!$A$35,IF(Formula!OR10>Formula!$B$4,\"\",CONCATENATE(\"v\",Formula!OR9)),\"\")","v":""},{"$f":"IF($A$4=Formula!$A$35,IF(Formula!OS10>Formula!$B$4,\"\",CONCATENATE(\"v\",Formula!OS9)),\"\")","v":""},{"$f":"IF($A$4=Formula!$A$35,IF(Formula!OT10>Formula!$B$4,\"\",CONCATENATE(\"v\",Formula!OT9)),\"\")","v":""},{"$f":"IF($A$4=Formula!$A$35,IF(Formula!OU10>Formula!$B$4,\"\",CONCATENATE(\"v\",Formula!OU9)),\"\")","v":""},{"$f":"IF($A$4=Formula!$A$35,IF(Formula!OV10>Formula!$B$4,\"\",CONCATENATE(\"v\",Formula!OV9)),\"\")","v":""},{"$f":"IF($A$4=Formula!$A$35,IF(Formula!OW10>Formula!$B$4,\"\",CONCATENATE(\"v\",Formula!OW9)),\"\")","v":""},{"$f":"IF($A$4=Formula!$A$35,IF(Formula!OX10>Formula!$B$4,\"\",CONCATENATE(\"v\",Formula!OX9)),\"\")","v":""},{"$f":"IF($A$4=Formula!$A$35,IF(Formula!OY10>Formula!$B$4,\"\",CONCATENATE(\"v\",Formula!OY9)),\"\")","v":""},{"$f":"IF($A$4=Formula!$A$35,IF(Formula!OZ10>Formula!$B$4,\"\",CONCATENATE(\"v\",Formula!OZ9)),\"\")","v":""},{"$f":"IF($A$4=Formula!$A$35,IF(Formula!PA10>Formula!$B$4,\"\",CONCATENATE(\"v\",Formula!PA9)),\"\")","v":""},{"$f":"IF($A$4=Formula!$A$35,IF(Formula!PB10>Formula!$B$4,\"\",CONCATENATE(\"v\",Formula!PB9)),\"\")","v":""},{"$f":"IF($A$4=Formula!$A$35,IF(Formula!PC10>Formula!$B$4,\"\",CONCATENATE(\"v\",Formula!PC9)),\"\")","v":""},{"$f":"IF($A$4=Formula!$A$35,IF(Formula!PD10>Formula!$B$4,\"\",CONCATENATE(\"v\",Formula!PD9)),\"\")","v":""},{"$f":"IF($A$4=Formula!$A$35,IF(Formula!PE10>Formula!$B$4,\"\",CONCATENATE(\"v\",Formula!PE9)),\"\")","v":""},{"$f":"IF($A$4=Formula!$A$35,IF(Formula!PF10>Formula!$B$4,\"\",CONCATENATE(\"v\",Formula!PF9)),\"\")","v":""},{"$f":"IF($A$4=Formula!$A$35,IF(Formula!PG10>Formula!$B$4,\"\",CONCATENATE(\"v\",Formula!PG9)),\"\")","v":""},{"$f":"IF($A$4=Formula!$A$35,IF(Formula!PH10>Formula!$B$4,\"\",CONCATENATE(\"v\",Formula!PH9)),\"\")","v":""},{"$f":"IF($A$4=Formula!$A$35,IF(Formula!PI10>Formula!$B$4,\"\",CONCATENATE(\"v\",Formula!PI9)),\"\")","v":""},{"$f":"IF($A$4=Formula!$A$35,IF(Formula!PJ10>Formula!$B$4,\"\",CONCATENATE(\"v\",Formula!PJ9)),\"\")","v":""},{"$f":"IF($A$4=Formula!$A$35,IF(Formula!PK10>Formula!$B$4,\"\",CONCATENATE(\"v\",Formula!PK9)),\"\")","v":""},{"$f":"IF($A$4=Formula!$A$35,IF(Formula!PL10>Formula!$B$4,\"\",CONCATENATE(\"v\",Formula!PL9)),\"\")","v":""},{"$f":"IF($A$4=Formula!$A$35,IF(Formula!PM10>Formula!$B$4,\"\",CONCATENATE(\"v\",Formula!PM9)),\"\")","v":""},{"$f":"IF($A$4=Formula!$A$35,IF(Formula!PN10>Formula!$B$4,\"\",CONCATENATE(\"v\",Formula!PN9)),\"\")","v":""},{"$f":"IF($A$4=Formula!$A$35,IF(Formula!PO10>Formula!$B$4,\"\",CONCATENATE(\"v\",Formula!PO9)),\"\")","v":""},{"$f":"IF($A$4=Formula!$A$35,IF(Formula!PP10>Formula!$B$4,\"\",CONCATENATE(\"v\",Formula!PP9)),\"\")","v":""},{"$f":"IF($A$4=Formula!$A$35,IF(Formula!PQ10>Formula!$B$4,\"\",CONCATENATE(\"v\",Formula!PQ9)),\"\")","v":""},{"$f":"IF($A$4=Formula!$A$35,IF(Formula!PR10>Formula!$B$4,\"\",CONCATENATE(\"v\",Formula!PR9)),\"\")","v":""},{"$f":"IF($A$4=Formula!$A$35,IF(Formula!PS10>Formula!$B$4,\"\",CONCATENATE(\"v\",Formula!PS9)),\"\")","v":""},{"$f":"IF($A$4=Formula!$A$35,IF(Formula!PT10>Formula!$B$4,\"\",CONCATENATE(\"v\",Formula!PT9)),\"\")","v":""},{"$f":"IF($A$4=Formula!$A$35,IF(Formula!PU10>Formula!$B$4,\"\",CONCATENATE(\"v\",Formula!PU9)),\"\")","v":""},{"$f":"IF($A$4=Formula!$A$35,IF(Formula!PV10>Formula!$B$4,\"\",CONCATENATE(\"v\",Formula!PV9)),\"\")","v":""},{"$f":"IF($A$4=Formula!$A$35,IF(Formula!PW10>Formula!$B$4,\"\",CONCATENATE(\"v\",Formula!PW9)),\"\")","v":""},{"$f":"IF($A$4=Formula!$A$35,IF(Formula!PX10>Formula!$B$4,\"\",CONCATENATE(\"v\",Formula!PX9)),\"\")","v":""},{"$f":"IF($A$4=Formula!$A$35,IF(Formula!PY10>Formula!$B$4,\"\",CONCATENATE(\"v\",Formula!PY9)),\"\")","v":""},{"$f":"IF($A$4=Formula!$A$35,IF(Formula!PZ10>Formula!$B$4,\"\",CONCATENATE(\"v\",Formula!PZ9)),\"\")","v":""},{"$f":"IF($A$4=Formula!$A$35,IF(Formula!QA10>Formula!$B$4,\"\",CONCATENATE(\"v\",Formula!QA9)),\"\")","v":""},{"$f":"IF($A$4=Formula!$A$35,IF(Formula!QB10>Formula!$B$4,\"\",CONCATENATE(\"v\",Formula!QB9)),\"\")","v":""},{"$f":"IF($A$4=Formula!$A$35,IF(Formula!QC10>Formula!$B$4,\"\",CONCATENATE(\"v\",Formula!QC9)),\"\")","v":""},{"$f":"IF($A$4=Formula!$A$35,IF(Formula!QD10>Formula!$B$4,\"\",CONCATENATE(\"v\",Formula!QD9)),\"\")","v":""},{"$f":"IF($A$4=Formula!$A$35,IF(Formula!QE10>Formula!$B$4,\"\",CONCATENATE(\"v\",Formula!QE9)),\"\")","v":""},{"$f":"IF($A$4=Formula!$A$35,IF(Formula!QF10>Formula!$B$4,\"\",CONCATENATE(\"v\",Formula!QF9)),\"\")","v":""},{"$f":"IF($A$4=Formula!$A$35,IF(Formula!QG10>Formula!$B$4,\"\",CONCATENATE(\"v\",Formula!QG9)),\"\")","v":""},{"$f":"IF($A$4=Formula!$A$35,IF(Formula!QH10>Formula!$B$4,\"\",CONCATENATE(\"v\",Formula!QH9)),\"\")","v":""},{"$f":"IF($A$4=Formula!$A$35,IF(Formula!QI10>Formula!$B$4,\"\",CONCATENATE(\"v\",Formula!QI9)),\"\")","v":""},{"$f":"IF($A$4=Formula!$A$35,IF(Formula!QJ10>Formula!$B$4,\"\",CONCATENATE(\"v\",Formula!QJ9)),\"\")","v":""},{"$f":"IF($A$4=Formula!$A$35,IF(Formula!QK10>Formula!$B$4,\"\",CONCATENATE(\"v\",Formula!QK9)),\"\")","v":""},{"$f":"IF($A$4=Formula!$A$35,IF(Formula!QL10>Formula!$B$4,\"\",CONCATENATE(\"v\",Formula!QL9)),\"\")","v":""},{"$f":"IF($A$4=Formula!$A$35,IF(Formula!QM10>Formula!$B$4,\"\",CONCATENATE(\"v\",Formula!QM9)),\"\")","v":""},{"$f":"IF($A$4=Formula!$A$35,IF(Formula!QN10>Formula!$B$4,\"\",CONCATENATE(\"v\",Formula!QN9)),\"\")","v":""},{"$f":"IF($A$4=Formula!$A$35,IF(Formula!QO10>Formula!$B$4,\"\",CONCATENATE(\"v\",Formula!QO9)),\"\")","v":""},{"$f":"IF($A$4=Formula!$A$35,IF(Formula!QP10>Formula!$B$4,\"\",CONCATENATE(\"v\",Formula!QP9)),\"\")","v":""},{"$f":"IF($A$4=Formula!$A$35,IF(Formula!QQ10>Formula!$B$4,\"\",CONCATENATE(\"v\",Formula!QQ9)),\"\")","v":""},{"$f":"IF($A$4=Formula!$A$35,IF(Formula!QR10>Formula!$B$4,\"\",CONCATENATE(\"v\",Formula!QR9)),\"\")","v":""},{"$f":"IF($A$4=Formula!$A$35,IF(Formula!QS10>Formula!$B$4,\"\",CONCATENATE(\"v\",Formula!QS9)),\"\")","v":""},{"$f":"IF($A$4=Formula!$A$35,IF(Formula!QT10>Formula!$B$4,\"\",CONCATENATE(\"v\",Formula!QT9)),\"\")","v":""},{"$f":"IF($A$4=Formula!$A$35,IF(Formula!QU10>Formula!$B$4,\"\",CONCATENATE(\"v\",Formula!QU9)),\"\")","v":""},{"$f":"IF($A$4=Formula!$A$35,IF(Formula!QV10>Formula!$B$4,\"\",CONCATENATE(\"v\",Formula!QV9)),\"\")","v":""},{"$f":"IF($A$4=Formula!$A$35,IF(Formula!QW10>Formula!$B$4,\"\",CONCATENATE(\"v\",Formula!QW9)),\"\")","v":""},{"$f":"IF($A$4=Formula!$A$35,IF(Formula!QX10>Formula!$B$4,\"\",CONCATENATE(\"v\",Formula!QX9)),\"\")","v":""},{"$f":"IF($A$4=Formula!$A$35,IF(Formula!QY10>Formula!$B$4,\"\",CONCATENATE(\"v\",Formula!QY9)),\"\")","v":""},{"$f":"IF($A$4=Formula!$A$35,IF(Formula!QZ10>Formula!$B$4,\"\",CONCATENATE(\"v\",Formula!QZ9)),\"\")","v":""},{"$f":"IF($A$4=Formula!$A$35,IF(Formula!RA10>Formula!$B$4,\"\",CONCATENATE(\"v\",Formula!RA9)),\"\")","v":""},{"$f":"IF($A$4=Formula!$A$35,IF(Formula!RB10>Formula!$B$4,\"\",CONCATENATE(\"v\",Formula!RB9)),\"\")","v":""},{"$f":"IF($A$4=Formula!$A$35,IF(Formula!RC10>Formula!$B$4,\"\",CONCATENATE(\"v\",Formula!RC9)),\"\")","v":""},{"$f":"IF($A$4=Formula!$A$35,IF(Formula!RD10>Formula!$B$4,\"\",CONCATENATE(\"v\",Formula!RD9)),\"\")","v":""},{"$f":"IF($A$4=Formula!$A$35,IF(Formula!RE10>Formula!$B$4,\"\",CONCATENATE(\"v\",Formula!RE9)),\"\")","v":""},{"$f":"IF($A$4=Formula!$A$35,IF(Formula!RF10>Formula!$B$4,\"\",CONCATENATE(\"v\",Formula!RF9)),\"\")","v":""},{"$f":"IF($A$4=Formula!$A$35,IF(Formula!RG10>Formula!$B$4,\"\",CONCATENATE(\"v\",Formula!RG9)),\"\")","v":""},{"$f":"IF($A$4=Formula!$A$35,IF(Formula!RH10>Formula!$B$4,\"\",CONCATENATE(\"v\",Formula!RH9)),\"\")","v":""},{"$f":"IF($A$4=Formula!$A$35,IF(Formula!RI10>Formula!$B$4,\"\",CONCATENATE(\"v\",Formula!RI9)),\"\")","v":""},{"$f":"IF($A$4=Formula!$A$35,IF(Formula!RJ10>Formula!$B$4,\"\",CONCATENATE(\"v\",Formula!RJ9)),\"\")","v":""},{"$f":"IF($A$4=Formula!$A$35,IF(Formula!RK10>Formula!$B$4,\"\",CONCATENATE(\"v\",Formula!RK9)),\"\")","v":""},{"$f":"IF($A$4=Formula!$A$35,IF(Formula!RL10>Formula!$B$4,\"\",CONCATENATE(\"v\",Formula!RL9)),\"\")","v":""},{"$f":"IF($A$4=Formula!$A$35,IF(Formula!RM10>Formula!$B$4,\"\",CONCATENATE(\"v\",Formula!RM9)),\"\")","v":""},{"$f":"IF($A$4=Formula!$A$35,IF(Formula!RN10>Formula!$B$4,\"\",CONCATENATE(\"v\",Formula!RN9)),\"\")","v":""},{"$f":"IF($A$4=Formula!$A$35,IF(Formula!RO10>Formula!$B$4,\"\",CONCATENATE(\"v\",Formula!RO9)),\"\")","v":""},{"$f":"IF($A$4=Formula!$A$35,IF(Formula!RP10>Formula!$B$4,\"\",CONCATENATE(\"v\",Formula!RP9)),\"\")","v":""},{"$f":"IF($A$4=Formula!$A$35,IF(Formula!RQ10>Formula!$B$4,\"\",CONCATENATE(\"v\",Formula!RQ9)),\"\")","v":""},{"$f":"IF($A$4=Formula!$A$35,IF(Formula!RR10>Formula!$B$4,\"\",CONCATENATE(\"v\",Formula!RR9)),\"\")","v":""},{"$f":"IF($A$4=Formula!$A$35,IF(Formula!RS10>Formula!$B$4,\"\",CONCATENATE(\"v\",Formula!RS9)),\"\")","v":""},{"$f":"IF($A$4=Formula!$A$35,IF(Formula!RT10>Formula!$B$4,\"\",CONCATENATE(\"v\",Formula!RT9)),\"\")","v":""},{"$f":"IF($A$4=Formula!$A$35,IF(Formula!RU10>Formula!$B$4,\"\",CONCATENATE(\"v\",Formula!RU9)),\"\")","v":""},{"$f":"IF($A$4=Formula!$A$35,IF(Formula!RV10>Formula!$B$4,\"\",CONCATENATE(\"v\",Formula!RV9)),\"\")","v":""},{"$f":"IF($A$4=Formula!$A$35,IF(Formula!RW10>Formula!$B$4,\"\",CONCATENATE(\"v\",Formula!RW9)),\"\")","v":""},{"$f":"IF($A$4=Formula!$A$35,IF(Formula!RX10>Formula!$B$4,\"\",CONCATENATE(\"v\",Formula!RX9)),\"\")","v":""},{"$f":"IF($A$4=Formula!$A$35,IF(Formula!RY10>Formula!$B$4,\"\",CONCATENATE(\"v\",Formula!RY9)),\"\")","v":""},{"$f":"IF($A$4=Formula!$A$35,IF(Formula!RZ10>Formula!$B$4,\"\",CONCATENATE(\"v\",Formula!RZ9)),\"\")","v":""},{"$f":"IF($A$4=Formula!$A$35,IF(Formula!SA10>Formula!$B$4,\"\",CONCATENATE(\"v\",Formula!SA9)),\"\")","v":""},{"$f":"IF($A$4=Formula!$A$35,IF(Formula!SB10>Formula!$B$4,\"\",CONCATENATE(\"v\",Formula!SB9)),\"\")","v":""},{"$f":"IF($A$4=Formula!$A$35,IF(Formula!SC10>Formula!$B$4,\"\",CONCATENATE(\"v\",Formula!SC9)),\"\")","v":""},{"$f":"IF($A$4=Formula!$A$35,IF(Formula!SD10>Formula!$B$4,\"\",CONCATENATE(\"v\",Formula!SD9)),\"\")","v":""},{"$f":"IF($A$4=Formula!$A$35,IF(Formula!SE10>Formula!$B$4,\"\",CONCATENATE(\"v\",Formula!SE9)),\"\")","v":""},{"$f":"IF($A$4=Formula!$A$35,IF(Formula!SF10>Formula!$B$4,\"\",CONCATENATE(\"v\",Formula!SF9)),\"\")","v":""},{"$f":"IF($A$4=Formula!$A$35,IF(Formula!SG10>Formula!$B$4,\"\",CONCATENATE(\"v\",Formula!SG9)),\"\")","v":""},{"$f":"IF($A$4=Formula!$A$35,IF(Formula!SH10>Formula!$B$4,\"\",CONCATENATE(\"v\",Formula!SH9)),\"\")","v":""},{"$f":"IF($A$4=Formula!$A$35,IF(Formula!SI10>Formula!$B$4,\"\",CONCATENATE(\"v\",Formula!SI9)),\"\")","v":""},{"$f":"IF($A$4=Formula!$A$35,IF(Formula!SJ10>Formula!$B$4,\"\",CONCATENATE(\"v\",Formula!SJ9)),\"\")","v":""},{"$f":"IF($A$4=Formula!$A$35,IF(Formula!SK10>Formula!$B$4,\"\",CONCATENATE(\"v\",Formula!SK9)),\"\")","v":""},{"$f":"IF($A$4=Formula!$A$35,IF(Formula!SL10>Formula!$B$4,\"\",CONCATENATE(\"v\",Formula!SL9)),\"\")","v":""},{"$f":"IF($A$4=Formula!$A$35,IF(Formula!SM10>Formula!$B$4,\"\",CONCATENATE(\"v\",Formula!SM9)),\"\")","v":""},{"$f":"IF($A$4=Formula!$A$35,IF(Formula!SN10>Formula!$B$4,\"\",CONCATENATE(\"v\",Formula!SN9)),\"\")","v":""},{"$f":"IF($A$4=Formula!$A$35,IF(Formula!SO10>Formula!$B$4,\"\",CONCATENATE(\"v\",Formula!SO9)),\"\")","v":""},{"$f":"IF($A$4=Formula!$A$35,IF(Formula!SP10>Formula!$B$4,\"\",CONCATENATE(\"v\",Formula!SP9)),\"\")","v":""},{"$f":"IF($A$4=Formula!$A$35,IF(Formula!SQ10>Formula!$B$4,\"\",CONCATENATE(\"v\",Formula!SQ9)),\"\")","v":""},{"$f":"IF($A$4=Formula!$A$35,IF(Formula!SR10>Formula!$B$4,\"\",CONCATENATE(\"v\",Formula!SR9)),\"\")","v":""},{"$f":"IF($A$4=Formula!$A$35,IF(Formula!SS10>Formula!$B$4,\"\",CONCATENATE(\"v\",Formula!SS9)),\"\")","v":""},{"$f":"IF($A$4=Formula!$A$35,IF(Formula!ST10>Formula!$B$4,\"\",CONCATENATE(\"v\",Formula!ST9)),\"\")","v":""},{"$f":"IF($A$4=Formula!$A$35,IF(Formula!SU10>Formula!$B$4,\"\",CONCATENATE(\"v\",Formula!SU9)),\"\")","v":""},{"$f":"IF($A$4=Formula!$A$35,IF(Formula!SV10>Formula!$B$4,\"\",CONCATENATE(\"v\",Formula!SV9)),\"\")","v":""},{"$f":"IF($A$4=Formula!$A$35,IF(Formula!SW10>Formula!$B$4,\"\",CONCATENATE(\"v\",Formula!SW9)),\"\")","v":""},{"$f":"IF($A$4=Formula!$A$35,IF(Formula!SX10>Formula!$B$4,\"\",CONCATENATE(\"v\",Formula!SX9)),\"\")","v":""},{"$f":"IF($A$4=Formula!$A$35,IF(Formula!SY10>Formula!$B$4,\"\",CONCATENATE(\"v\",Formula!SY9)),\"\")","v":""},{"$f":"IF($A$4=Formula!$A$35,IF(Formula!SZ10>Formula!$B$4,\"\",CONCATENATE(\"v\",Formula!SZ9)),\"\")","v":""},{"$f":"IF($A$4=Formula!$A$35,IF(Formula!TA10>Formula!$B$4,\"\",CONCATENATE(\"v\",Formula!TA9)),\"\")","v":""},{"$f":"IF($A$4=Formula!$A$35,IF(Formula!TB10>Formula!$B$4,\"\",CONCATENATE(\"v\",Formula!TB9)),\"\")","v":""},{"$f":"IF($A$4=Formula!$A$35,IF(Formula!TC10>Formula!$B$4,\"\",CONCATENATE(\"v\",Formula!TC9)),\"\")","v":""},{"$f":"IF($A$4=Formula!$A$35,IF(Formula!TD10>Formula!$B$4,\"\",CONCATENATE(\"v\",Formula!TD9)),\"\")","v":""},{"$f":"IF($A$4=Formula!$A$35,IF(Formula!TE10>Formula!$B$4,\"\",CONCATENATE(\"v\",Formula!TE9)),\"\")","v":""},{"$f":"IF($A$4=Formula!$A$35,IF(Formula!TF10>Formula!$B$4,\"\",CONCATENATE(\"v\",Formula!TF9)),\"\")","v":""},{"$f":"IF($A$4=Formula!$A$35,IF(Formula!TG10>Formula!$B$4,\"\",CONCATENATE(\"v\",Formula!TG9)),\"\")","v":""},{"$f":"IF($A$4=Formula!$A$35,IF(Formula!TH10>Formula!$B$4,\"\",CONCATENATE(\"v\",Formula!TH9)),\"\")","v":""},{"$f":"IF($A$4=Formula!$A$35,IF(Formula!TI10>Formula!$B$4,\"\",CONCATENATE(\"v\",Formula!TI9)),\"\")","v":""},{"$f":"IF($A$4=Formula!$A$35,IF(Formula!TJ10>Formula!$B$4,\"\",CONCATENATE(\"v\",Formula!TJ9)),\"\")","v":""},{"$f":"IF($A$4=Formula!$A$35,IF(Formula!TK10>Formula!$B$4,\"\",CONCATENATE(\"v\",Formula!TK9)),\"\")","v":""},{"$f":"IF($A$4=Formula!$A$35,IF(Formula!TL10>Formula!$B$4,\"\",CONCATENATE(\"v\",Formula!TL9)),\"\")","v":""},{"$f":"IF($A$4=Formula!$A$35,IF(Formula!TM10>Formula!$B$4,\"\",CONCATENATE(\"v\",Formula!TM9)),\"\")","v":""},{"$f":"IF($A$4=Formula!$A$35,IF(Formula!TN10>Formula!$B$4,\"\",CONCATENATE(\"v\",Formula!TN9)),\"\")","v":""},{"$f":"IF($A$4=Formula!$A$35,IF(Formula!TO10>Formula!$B$4,\"\",CONCATENATE(\"v\",Formula!TO9)),\"\")","v":""},{"$f":"IF($A$4=Formula!$A$35,IF(Formula!TP10>Formula!$B$4,\"\",CONCATENATE(\"v\",Formula!TP9)),\"\")","v":""},{"$f":"IF($A$4=Formula!$A$35,IF(Formula!TQ10>Formula!$B$4,\"\",CONCATENATE(\"v\",Formula!TQ9)),\"\")","v":""},{"$f":"IF($A$4=Formula!$A$35,IF(Formula!TR10>Formula!$B$4,\"\",CONCATENATE(\"v\",Formula!TR9)),\"\")","v":""},{"$f":"IF($A$4=Formula!$A$35,IF(Formula!TS10>Formula!$B$4,\"\",CONCATENATE(\"v\",Formula!TS9)),\"\")","v":""},{"$f":"IF($A$4=Formula!$A$35,IF(Formula!TT10>Formula!$B$4,\"\",CONCATENATE(\"v\",Formula!TT9)),\"\")","v":""},{"$f":"IF($A$4=Formula!$A$35,IF(Formula!TU10>Formula!$B$4,\"\",CONCATENATE(\"v\",Formula!TU9)),\"\")","v":""},{"$f":"IF($A$4=Formula!$A$35,IF(Formula!TV10>Formula!$B$4,\"\",CONCATENATE(\"v\",Formula!TV9)),\"\")","v":""},{"$f":"IF($A$4=Formula!$A$35,IF(Formula!TW10>Formula!$B$4,\"\",CONCATENATE(\"v\",Formula!TW9)),\"\")","v":""},{"$f":"IF($A$4=Formula!$A$35,IF(Formula!TX10>Formula!$B$4,\"\",CONCATENATE(\"v\",Formula!TX9)),\"\")","v":""},{"$f":"IF($A$4=Formula!$A$35,IF(Formula!TY10>Formula!$B$4,\"\",CONCATENATE(\"v\",Formula!TY9)),\"\")","v":""},{"$f":"IF($A$4=Formula!$A$35,IF(Formula!TZ10>Formula!$B$4,\"\",CONCATENATE(\"v\",Formula!TZ9)),\"\")","v":""},{"$f":"IF($A$4=Formula!$A$35,IF(Formula!UA10>Formula!$B$4,\"\",CONCATENATE(\"v\",Formula!UA9)),\"\")","v":""},{"$f":"IF($A$4=Formula!$A$35,IF(Formula!UB10>Formula!$B$4,\"\",CONCATENATE(\"v\",Formula!UB9)),\"\")","v":""},{"$f":"IF($A$4=Formula!$A$35,IF(Formula!UC10>Formula!$B$4,\"\",CONCATENATE(\"v\",Formula!UC9)),\"\")","v":""},{"$f":"IF($A$4=Formula!$A$35,IF(Formula!UD10>Formula!$B$4,\"\",CONCATENATE(\"v\",Formula!UD9)),\"\")","v":""},{"$f":"IF($A$4=Formula!$A$35,IF(Formula!UE10>Formula!$B$4,\"\",CONCATENATE(\"v\",Formula!UE9)),\"\")","v":""},{"$f":"IF($A$4=Formula!$A$35,IF(Formula!UF10>Formula!$B$4,\"\",CONCATENATE(\"v\",Formula!UF9)),\"\")","v":""},{"$f":"IF($A$4=Formula!$A$35,IF(Formula!UG10>Formula!$B$4,\"\",CONCATENATE(\"v\",Formula!UG9)),\"\")","v":""},{"$f":"IF($A$4=Formula!$A$35,IF(Formula!UH10>Formula!$B$4,\"\",CONCATENATE(\"v\",Formula!UH9)),\"\")","v":""},{"$f":"IF($A$4=Formula!$A$35,IF(Formula!UI10>Formula!$B$4,\"\",CONCATENATE(\"v\",Formula!UI9)),\"\")","v":""},{"$f":"IF($A$4=Formula!$A$35,IF(Formula!UJ10>Formula!$B$4,\"\",CONCATENATE(\"v\",Formula!UJ9)),\"\")","v":""},{"$f":"IF($A$4=Formula!$A$35,IF(Formula!UK10>Formula!$B$4,\"\",CONCATENATE(\"v\",Formula!UK9)),\"\")","v":""},{"$f":"IF($A$4=Formula!$A$35,IF(Formula!UL10>Formula!$B$4,\"\",CONCATENATE(\"v\",Formula!UL9)),\"\")","v":""},{"$f":"IF($A$4=Formula!$A$35,IF(Formula!UM10>Formula!$B$4,\"\",CONCATENATE(\"v\",Formula!UM9)),\"\")","v":""},{"$f":"IF($A$4=Formula!$A$35,IF(Formula!UN10>Formula!$B$4,\"\",CONCATENATE(\"v\",Formula!UN9)),\"\")","v":""},{"$f":"IF($A$4=Formula!$A$35,IF(Formula!UO10>Formula!$B$4,\"\",CONCATENATE(\"v\",Formula!UO9)),\"\")","v":""},{"$f":"IF($A$4=Formula!$A$35,IF(Formula!UP10>Formula!$B$4,\"\",CONCATENATE(\"v\",Formula!UP9)),\"\")","v":""},{"$f":"IF($A$4=Formula!$A$35,IF(Formula!UQ10>Formula!$B$4,\"\",CONCATENATE(\"v\",Formula!UQ9)),\"\")","v":""},{"$f":"IF($A$4=Formula!$A$35,IF(Formula!UR10>Formula!$B$4,\"\",CONCATENATE(\"v\",Formula!UR9)),\"\")","v":""},{"$f":"IF($A$4=Formula!$A$35,IF(Formula!US10>Formula!$B$4,\"\",CONCATENATE(\"v\",Formula!US9)),\"\")","v":""},{"$f":"IF($A$4=Formula!$A$35,IF(Formula!UT10>Formula!$B$4,\"\",CONCATENATE(\"v\",Formula!UT9)),\"\")","v":""},{"$f":"IF($A$4=Formula!$A$35,IF(Formula!UU10>Formula!$B$4,\"\",CONCATENATE(\"v\",Formula!UU9)),\"\")","v":""},{"$f":"IF($A$4=Formula!$A$35,IF(Formula!UV10>Formula!$B$4,\"\",CONCATENATE(\"v\",Formula!UV9)),\"\")","v":""},{"$f":"IF($A$4=Formula!$A$35,IF(Formula!UW10>Formula!$B$4,\"\",CONCATENATE(\"v\",Formula!UW9)),\"\")","v":""},{"$f":"IF($A$4=Formula!$A$35,IF(Formula!UX10>Formula!$B$4,\"\",CONCATENATE(\"v\",Formula!UX9)),\"\")","v":""},{"$f":"IF($A$4=Formula!$A$35,IF(Formula!UY10>Formula!$B$4,\"\",CONCATENATE(\"v\",Formula!UY9)),\"\")","v":""},{"$f":"IF($A$4=Formula!$A$35,IF(Formula!UZ10>Formula!$B$4,\"\",CONCATENATE(\"v\",Formula!UZ9)),\"\")","v":""},{"$f":"IF($A$4=Formula!$A$35,IF(Formula!VA10>Formula!$B$4,\"\",CONCATENATE(\"v\",Formula!VA9)),\"\")","v":""},{"$f":"IF($A$4=Formula!$A$35,IF(Formula!VB10>Formula!$B$4,\"\",CONCATENATE(\"v\",Formula!VB9)),\"\")","v":""},{"$f":"IF($A$4=Formula!$A$35,IF(Formula!VC10>Formula!$B$4,\"\",CONCATENATE(\"v\",Formula!VC9)),\"\")","v":""},{"$f":"IF($A$4=Formula!$A$35,IF(Formula!VD10>Formula!$B$4,\"\",CONCATENATE(\"v\",Formula!VD9)),\"\")","v":""},{"$f":"IF($A$4=Formula!$A$35,IF(Formula!VE10>Formula!$B$4,\"\",CONCATENATE(\"v\",Formula!VE9)),\"\")","v":""},{"$f":"IF($A$4=Formula!$A$35,IF(Formula!VF10>Formula!$B$4,\"\",CONCATENATE(\"v\",Formula!VF9)),\"\")","v":""},{"$f":"IF($A$4=Formula!$A$35,IF(Formula!VG10>Formula!$B$4,\"\",CONCATENATE(\"v\",Formula!VG9)),\"\")","v":""},{"$f":"IF($A$4=Formula!$A$35,IF(Formula!VH10>Formula!$B$4,\"\",CONCATENATE(\"v\",Formula!VH9)),\"\")","v":""},{"$f":"IF($A$4=Formula!$A$35,IF(Formula!VI10>Formula!$B$4,\"\",CONCATENATE(\"v\",Formula!VI9)),\"\")","v":""},{"$f":"IF($A$4=Formula!$A$35,IF(Formula!VJ10>Formula!$B$4,\"\",CONCATENATE(\"v\",Formula!VJ9)),\"\")","v":""},{"$f":"IF($A$4=Formula!$A$35,IF(Formula!VK10>Formula!$B$4,\"\",CONCATENATE(\"v\",Formula!VK9)),\"\")","v":""},{"$f":"IF($A$4=Formula!$A$35,IF(Formula!VL10>Formula!$B$4,\"\",CONCATENATE(\"v\",Formula!VL9)),\"\")","v":""},{"$f":"IF($A$4=Formula!$A$35,IF(Formula!VM10>Formula!$B$4,\"\",CONCATENATE(\"v\",Formula!VM9)),\"\")","v":""},{"$f":"IF($A$4=Formula!$A$35,IF(Formula!VN10>Formula!$B$4,\"\",CONCATENATE(\"v\",Formula!VN9)),\"\")","v":""},{"$f":"IF($A$4=Formula!$A$35,IF(Formula!VO10>Formula!$B$4,\"\",CONCATENATE(\"v\",Formula!VO9)),\"\")","v":""},{"$f":"IF($A$4=Formula!$A$35,IF(Formula!VP10>Formula!$B$4,\"\",CONCATENATE(\"v\",Formula!VP9)),\"\")","v":""},{"$f":"IF($A$4=Formula!$A$35,IF(Formula!VQ10>Formula!$B$4,\"\",CONCATENATE(\"v\",Formula!VQ9)),\"\")","v":""},{"$f":"IF($A$4=Formula!$A$35,IF(Formula!VR10>Formula!$B$4,\"\",CONCATENATE(\"v\",Formula!VR9)),\"\")","v":""},{"$f":"IF($A$4=Formula!$A$35,IF(Formula!VS10>Formula!$B$4,\"\",CONCATENATE(\"v\",Formula!VS9)),\"\")","v":""},{"$f":"IF($A$4=Formula!$A$35,IF(Formula!VT10>Formula!$B$4,\"\",CONCATENATE(\"v\",Formula!VT9)),\"\")","v":""},{"$f":"IF($A$4=Formula!$A$35,IF(Formula!VU10>Formula!$B$4,\"\",CONCATENATE(\"v\",Formula!VU9)),\"\")","v":""},{"$f":"IF($A$4=Formula!$A$35,IF(Formula!VV10>Formula!$B$4,\"\",CONCATENATE(\"v\",Formula!VV9)),\"\")","v":""},{"$f":"IF($A$4=Formula!$A$35,IF(Formula!VW10>Formula!$B$4,\"\",CONCATENATE(\"v\",Formula!VW9)),\"\")","v":""},{"$f":"IF($A$4=Formula!$A$35,IF(Formula!VX10>Formula!$B$4,\"\",CONCATENATE(\"v\",Formula!VX9)),\"\")","v":""},{"$f":"IF($A$4=Formula!$A$35,IF(Formula!VY10>Formula!$B$4,\"\",CONCATENATE(\"v\",Formula!VY9)),\"\")","v":""},{"$f":"IF($A$4=Formula!$A$35,IF(Formula!VZ10>Formula!$B$4,\"\",CONCATENATE(\"v\",Formula!VZ9)),\"\")","v":""},{"$f":"IF($A$4=Formula!$A$35,IF(Formula!WA10>Formula!$B$4,\"\",CONCATENATE(\"v\",Formula!WA9)),\"\")","v":""},{"$f":"IF($A$4=Formula!$A$35,IF(Formula!WB10>Formula!$B$4,\"\",CONCATENATE(\"v\",Formula!WB9)),\"\")","v":""},{"$f":"IF($A$4=Formula!$A$35,IF(Formula!WC10>Formula!$B$4,\"\",CONCATENATE(\"v\",Formula!WC9)),\"\")","v":""},{"$f":"IF($A$4=Formula!$A$35,IF(Formula!WD10>Formula!$B$4,\"\",CONCATENATE(\"v\",Formula!WD9)),\"\")","v":""},{"$f":"IF($A$4=Formula!$A$35,IF(Formula!WE10>Formula!$B$4,\"\",CONCATENATE(\"v\",Formula!WE9)),\"\")","v":""},{"$f":"IF($A$4=Formula!$A$35,IF(Formula!WF10>Formula!$B$4,\"\",CONCATENATE(\"v\",Formula!WF9)),\"\")","v":""},{"$f":"IF($A$4=Formula!$A$35,IF(Formula!WG10>Formula!$B$4,\"\",CONCATENATE(\"v\",Formula!WG9)),\"\")","v":""},{"$f":"IF($A$4=Formula!$A$35,IF(Formula!WH10>Formula!$B$4,\"\",CONCATENATE(\"v\",Formula!WH9)),\"\")","v":""},{"$f":"IF($A$4=Formula!$A$35,IF(Formula!WI10>Formula!$B$4,\"\",CONCATENATE(\"v\",Formula!WI9)),\"\")","v":""},{"$f":"IF($A$4=Formula!$A$35,IF(Formula!WJ10>Formula!$B$4,\"\",CONCATENATE(\"v\",Formula!WJ9)),\"\")","v":""},{"$f":"IF($A$4=Formula!$A$35,IF(Formula!WK10>Formula!$B$4,\"\",CONCATENATE(\"v\",Formula!WK9)),\"\")","v":""},{"$f":"IF($A$4=Formula!$A$35,IF(Formula!WL10>Formula!$B$4,\"\",CONCATENATE(\"v\",Formula!WL9)),\"\")","v":""},{"$f":"IF($A$4=Formula!$A$35,IF(Formula!WM10>Formula!$B$4,\"\",CONCATENATE(\"v\",Formula!WM9)),\"\")","v":""},{"$f":"IF($A$4=Formula!$A$35,IF(Formula!WN10>Formula!$B$4,\"\",CONCATENATE(\"v\",Formula!WN9)),\"\")","v":""},{"$f":"IF($A$4=Formula!$A$35,IF(Formula!WO10>Formula!$B$4,\"\",CONCATENATE(\"v\",Formula!WO9)),\"\")","v":""},{"$f":"IF($A$4=Formula!$A$35,IF(Formula!WP10>Formula!$B$4,\"\",CONCATENATE(\"v\",Formula!WP9)),\"\")","v":""},{"$f":"IF($A$4=Formula!$A$35,IF(Formula!WQ10>Formula!$B$4,\"\",CONCATENATE(\"v\",Formula!WQ9)),\"\")","v":""},{"$f":"IF($A$4=Formula!$A$35,IF(Formula!WR10>Formula!$B$4,\"\",CONCATENATE(\"v\",Formula!WR9)),\"\")","v":""},{"$f":"IF($A$4=Formula!$A$35,IF(Formula!WS10>Formula!$B$4,\"\",CONCATENATE(\"v\",Formula!WS9)),\"\")","v":""},{"$f":"IF($A$4=Formula!$A$35,IF(Formula!WT10>Formula!$B$4,\"\",CONCATENATE(\"v\",Formula!WT9)),\"\")","v":""},{"$f":"IF($A$4=Formula!$A$35,IF(Formula!WU10>Formula!$B$4,\"\",CONCATENATE(\"v\",Formula!WU9)),\"\")","v":""},{"$f":"IF($A$4=Formula!$A$35,IF(Formula!WV10>Formula!$B$4,\"\",CONCATENATE(\"v\",Formula!WV9)),\"\")","v":""},{"$f":"IF($A$4=Formula!$A$35,IF(Formula!WW10>Formula!$B$4,\"\",CONCATENATE(\"v\",Formula!WW9)),\"\")","v":""},{"$f":"IF($A$4=Formula!$A$35,IF(Formula!WX10>Formula!$B$4,\"\",CONCATENATE(\"v\",Formula!WX9)),\"\")","v":""},{"$f":"IF($A$4=Formula!$A$35,IF(Formula!WY10>Formula!$B$4,\"\",CONCATENATE(\"v\",Formula!WY9)),\"\")","v":""},{"$f":"IF($A$4=Formula!$A$35,IF(Formula!WZ10>Formula!$B$4,\"\",CONCATENATE(\"v\",Formula!WZ9)),\"\")","v":""},{"$f":"IF($A$4=Formula!$A$35,IF(Formula!XA10>Formula!$B$4,\"\",CONCATENATE(\"v\",Formula!XA9)),\"\")","v":""},{"$f":"IF($A$4=Formula!$A$35,IF(Formula!XB10>Formula!$B$4,\"\",CONCATENATE(\"v\",Formula!XB9)),\"\")","v":""},{"$f":"IF($A$4=Formula!$A$35,IF(Formula!XC10>Formula!$B$4,\"\",CONCATENATE(\"v\",Formula!XC9)),\"\")","v":""},{"$f":"IF($A$4=Formula!$A$35,IF(Formula!XD10>Formula!$B$4,\"\",CONCATENATE(\"v\",Formula!XD9)),\"\")","v":""},{"$f":"IF($A$4=Formula!$A$35,IF(Formula!XE10>Formula!$B$4,\"\",CONCATENATE(\"v\",Formula!XE9)),\"\")","v":""},{"$f":"IF($A$4=Formula!$A$35,IF(Formula!XF10>Formula!$B$4,\"\",CONCATENATE(\"v\",Formula!XF9)),\"\")","v":""},{"$f":"IF($A$4=Formula!$A$35,IF(Formula!XG10>Formula!$B$4,\"\",CONCATENATE(\"v\",Formula!XG9)),\"\")","v":""},{"$f":"IF($A$4=Formula!$A$35,IF(Formula!XH10>Formula!$B$4,\"\",CONCATENATE(\"v\",Formula!XH9)),\"\")","v":""},{"$f":"IF($A$4=Formula!$A$35,IF(Formula!XI10>Formula!$B$4,\"\",CONCATENATE(\"v\",Formula!XI9)),\"\")","v":""},{"$f":"IF($A$4=Formula!$A$35,IF(Formula!XJ10>Formula!$B$4,\"\",CONCATENATE(\"v\",Formula!XJ9)),\"\")","v":""},{"$f":"IF($A$4=Formula!$A$35,IF(Formula!XK10>Formula!$B$4,\"\",CONCATENATE(\"v\",Formula!XK9)),\"\")","v":""},{"$f":"IF($A$4=Formula!$A$35,IF(Formula!XL10>Formula!$B$4,\"\",CONCATENATE(\"v\",Formula!XL9)),\"\")","v":""},{"$f":"IF($A$4=Formula!$A$35,IF(Formula!XM10>Formula!$B$4,\"\",CONCATENATE(\"v\",Formula!XM9)),\"\")","v":""},{"$f":"IF($A$4=Formula!$A$35,IF(Formula!XN10>Formula!$B$4,\"\",CONCATENATE(\"v\",Formula!XN9)),\"\")","v":""},{"$f":"IF($A$4=Formula!$A$35,IF(Formula!XO10>Formula!$B$4,\"\",CONCATENATE(\"v\",Formula!XO9)),\"\")","v":""},{"$f":"IF($A$4=Formula!$A$35,IF(Formula!XP10>Formula!$B$4,\"\",CONCATENATE(\"v\",Formula!XP9)),\"\")","v":""},{"$f":"IF($A$4=Formula!$A$35,IF(Formula!XQ10>Formula!$B$4,\"\",CONCATENATE(\"v\",Formula!XQ9)),\"\")","v":""},{"$f":"IF($A$4=Formula!$A$35,IF(Formula!XR10>Formula!$B$4,\"\",CONCATENATE(\"v\",Formula!XR9)),\"\")","v":""},{"$f":"IF($A$4=Formula!$A$35,IF(Formula!XS10>Formula!$B$4,\"\",CONCATENATE(\"v\",Formula!XS9)),\"\")","v":""},{"$f":"IF($A$4=Formula!$A$35,IF(Formula!XT10>Formula!$B$4,\"\",CONCATENATE(\"v\",Formula!XT9)),\"\")","v":""},{"$f":"IF($A$4=Formula!$A$35,IF(Formula!XU10>Formula!$B$4,\"\",CONCATENATE(\"v\",Formula!XU9)),\"\")","v":""},{"$f":"IF($A$4=Formula!$A$35,IF(Formula!XV10>Formula!$B$4,\"\",CONCATENATE(\"v\",Formula!XV9)),\"\")","v":""},{"$f":"IF($A$4=Formula!$A$35,IF(Formula!XW10>Formula!$B$4,\"\",CONCATENATE(\"v\",Formula!XW9)),\"\")","v":""},{"$f":"IF($A$4=Formula!$A$35,IF(Formula!XX10>Formula!$B$4,\"\",CONCATENATE(\"v\",Formula!XX9)),\"\")","v":""},{"$f":"IF($A$4=Formula!$A$35,IF(Formula!XY10>Formula!$B$4,\"\",CONCATENATE(\"v\",Formula!XY9)),\"\")","v":""},{"$f":"IF($A$4=Formula!$A$35,IF(Formula!XZ10>Formula!$B$4,\"\",CONCATENATE(\"v\",Formula!XZ9)),\"\")","v":""},{"$f":"IF($A$4=Formula!$A$35,IF(Formula!YA10>Formula!$B$4,\"\",CONCATENATE(\"v\",Formula!YA9)),\"\")","v":""},{"$f":"IF($A$4=Formula!$A$35,IF(Formula!YB10>Formula!$B$4,\"\",CONCATENATE(\"v\",Formula!YB9)),\"\")","v":""},{"$f":"IF($A$4=Formula!$A$35,IF(Formula!YC10>Formula!$B$4,\"\",CONCATENATE(\"v\",Formula!YC9)),\"\")","v":""},{"$f":"IF($A$4=Formula!$A$35,IF(Formula!YD10>Formula!$B$4,\"\",CONCATENATE(\"v\",Formula!YD9)),\"\")","v":""},{"$f":"IF($A$4=Formula!$A$35,IF(Formula!YE10>Formula!$B$4,\"\",CONCATENATE(\"v\",Formula!YE9)),\"\")","v":""},{"$f":"IF($A$4=Formula!$A$35,IF(Formula!YF10>Formula!$B$4,\"\",CONCATENATE(\"v\",Formula!YF9)),\"\")","v":""},{"$f":"IF($A$4=Formula!$A$35,IF(Formula!YG10>Formula!$B$4,\"\",CONCATENATE(\"v\",Formula!YG9)),\"\")","v":""},{"$f":"IF($A$4=Formula!$A$35,IF(Formula!YH10>Formula!$B$4,\"\",CONCATENATE(\"v\",Formula!YH9)),\"\")","v":""},{"$f":"IF($A$4=Formula!$A$35,IF(Formula!YI10>Formula!$B$4,\"\",CONCATENATE(\"v\",Formula!YI9)),\"\")","v":""},{"$f":"IF($A$4=Formula!$A$35,IF(Formula!YJ10>Formula!$B$4,\"\",CONCATENATE(\"v\",Formula!YJ9)),\"\")","v":""},{"$f":"IF($A$4=Formula!$A$35,IF(Formula!YK10>Formula!$B$4,\"\",CONCATENATE(\"v\",Formula!YK9)),\"\")","v":""},{"$f":"IF($A$4=Formula!$A$35,IF(Formula!YL10>Formula!$B$4,\"\",CONCATENATE(\"v\",Formula!YL9)),\"\")","v":""},{"$f":"IF($A$4=Formula!$A$35,IF(Formula!YM10>Formula!$B$4,\"\",CONCATENATE(\"v\",Formula!YM9)),\"\")","v":""},{"$f":"IF($A$4=Formula!$A$35,IF(Formula!YN10>Formula!$B$4,\"\",CONCATENATE(\"v\",Formula!YN9)),\"\")","v":""},{"$f":"IF($A$4=Formula!$A$35,IF(Formula!YO10>Formula!$B$4,\"\",CONCATENATE(\"v\",Formula!YO9)),\"\")","v":""},{"$f":"IF($A$4=Formula!$A$35,IF(Formula!YP10>Formula!$B$4,\"\",CONCATENATE(\"v\",Formula!YP9)),\"\")","v":""},{"$f":"IF($A$4=Formula!$A$35,IF(Formula!YQ10>Formula!$B$4,\"\",CONCATENATE(\"v\",Formula!YQ9)),\"\")","v":""},{"$f":"IF($A$4=Formula!$A$35,IF(Formula!YR10>Formula!$B$4,\"\",CONCATENATE(\"v\",Formula!YR9)),\"\")","v":""},{"$f":"IF($A$4=Formula!$A$35,IF(Formula!YS10>Formula!$B$4,\"\",CONCATENATE(\"v\",Formula!YS9)),\"\")","v":""},{"$f":"IF($A$4=Formula!$A$35,IF(Formula!YT10>Formula!$B$4,\"\",CONCATENATE(\"v\",Formula!YT9)),\"\")","v":""},{"$f":"IF($A$4=Formula!$A$35,IF(Formula!YU10>Formula!$B$4,\"\",CONCATENATE(\"v\",Formula!YU9)),\"\")","v":""},{"$f":"IF($A$4=Formula!$A$35,IF(Formula!YV10>Formula!$B$4,\"\",CONCATENATE(\"v\",Formula!YV9)),\"\")","v":""},{"$f":"IF($A$4=Formula!$A$35,IF(Formula!YW10>Formula!$B$4,\"\",CONCATENATE(\"v\",Formula!YW9)),\"\")","v":""},{"$f":"IF($A$4=Formula!$A$35,IF(Formula!YX10>Formula!$B$4,\"\",CONCATENATE(\"v\",Formula!YX9)),\"\")","v":""},{"$f":"IF($A$4=Formula!$A$35,IF(Formula!YY10>Formula!$B$4,\"\",CONCATENATE(\"v\",Formula!YY9)),\"\")","v":""},{"$f":"IF($A$4=Formula!$A$35,IF(Formula!YZ10>Formula!$B$4,\"\",CONCATENATE(\"v\",Formula!YZ9)),\"\")","v":""},{"$f":"IF($A$4=Formula!$A$35,IF(Formula!ZA10>Formula!$B$4,\"\",CONCATENATE(\"v\",Formula!ZA9)),\"\")","v":""},{"$f":"IF($A$4=Formula!$A$35,IF(Formula!ZB10>Formula!$B$4,\"\",CONCATENATE(\"v\",Formula!ZB9)),\"\")","v":""},{"$f":"IF($A$4=Formula!$A$35,IF(Formula!ZC10>Formula!$B$4,\"\",CONCATENATE(\"v\",Formula!ZC9)),\"\")","v":""},{"$f":"IF($A$4=Formula!$A$35,IF(Formula!ZD10>Formula!$B$4,\"\",CONCATENATE(\"v\",Formula!ZD9)),\"\")","v":""},{"$f":"IF($A$4=Formula!$A$35,IF(Formula!ZE10>Formula!$B$4,\"\",CONCATENATE(\"v\",Formula!ZE9)),\"\")","v":""},{"$f":"IF($A$4=Formula!$A$35,IF(Formula!ZF10>Formula!$B$4,\"\",CONCATENATE(\"v\",Formula!ZF9)),\"\")","v":""},{"$f":"IF($A$4=Formula!$A$35,IF(Formula!ZG10>Formula!$B$4,\"\",CONCATENATE(\"v\",Formula!ZG9)),\"\")","v":""},{"$f":"IF($A$4=Formula!$A$35,IF(Formula!ZH10>Formula!$B$4,\"\",CONCATENATE(\"v\",Formula!ZH9)),\"\")","v":""},{"$f":"IF($A$4=Formula!$A$35,IF(Formula!ZI10>Formula!$B$4,\"\",CONCATENATE(\"v\",Formula!ZI9)),\"\")","v":""},{"$f":"IF($A$4=Formula!$A$35,IF(Formula!ZJ10>Formula!$B$4,\"\",CONCATENATE(\"v\",Formula!ZJ9)),\"\")","v":""},{"$f":"IF($A$4=Formula!$A$35,IF(Formula!ZK10>Formula!$B$4,\"\",CONCATENATE(\"v\",Formula!ZK9)),\"\")","v":""},{"$f":"IF($A$4=Formula!$A$35,IF(Formula!ZL10>Formula!$B$4,\"\",CONCATENATE(\"v\",Formula!ZL9)),\"\")","v":""},{"$f":"IF($A$4=Formula!$A$35,IF(Formula!ZM10>Formula!$B$4,\"\",CONCATENATE(\"v\",Formula!ZM9)),\"\")","v":""},{"$f":"IF($A$4=Formula!$A$35,IF(Formula!ZN10>Formula!$B$4,\"\",CONCATENATE(\"v\",Formula!ZN9)),\"\")","v":""}]
[null,null,null,null,null,null,null,null,null,null,null,null,null,{"$f":"IF(Formula!B23>Formula!$B$4,\"\",Formula!B27)","v":22},{"$f":"IF(Formula!C23>Formula!$B$4,\"\",Formula!C27)","v":""},{"$f":"IF(Formula!D23>Formula!$B$4,\"\",Formula!D27)","v":""},{"$f":"IF(Formula!E23>Formula!$B$4,\"\",Formula!E27)","v":""},{"$f":"IF(Formula!F23>Formula!$B$4,\"\",Formula!F27)","v":""},{"$f":"IF(Formula!G23>Formula!$B$4,\"\",Formula!G27)","v":""},{"$f":"IF(Formula!H23>Formula!$B$4,\"\",Formula!H27)","v":""},{"$f":"IF(Formula!I23>Formula!$B$4,\"\",Formula!I27)","v":23},{"$f":"IF(Formula!J23>Formula!$B$4,\"\",Formula!J27)","v":""},{"$f":"IF(Formula!K23>Formula!$B$4,\"\",Formula!K27)","v":""},{"$f":"IF(Formula!L23>Formula!$B$4,\"\",Formula!L27)","v":""},{"$f":"IF(Formula!M23>Formula!$B$4,\"\",Formula!M27)","v":""},{"$f":"IF(Formula!N23>Formula!$B$4,\"\",Formula!N27)","v":""},{"$f":"IF(Formula!O23>Formula!$B$4,\"\",Formula!O27)","v":""},{"$f":"IF(Formula!P23>Formula!$B$4,\"\",Formula!P27)","v":24},{"$f":"IF(Formula!Q23>Formula!$B$4,\"\",Formula!Q27)","v":""},{"$f":"IF(Formula!R23>Formula!$B$4,\"\",Formula!R27)","v":""},{"$f":"IF(Formula!S23>Formula!$B$4,\"\",Formula!S27)","v":""},{"$f":"IF(Formula!T23>Formula!$B$4,\"\",Formula!T27)","v":""},{"$f":"IF(Formula!U23>Formula!$B$4,\"\",Formula!U27)","v":""},{"$f":"IF(Formula!V23>Formula!$B$4,\"\",Formula!V27)","v":""},{"$f":"IF(Formula!W23>Formula!$B$4,\"\",Formula!W27)","v":25},{"$f":"IF(Formula!X23>Formula!$B$4,\"\",Formula!X27)","v":""},{"$f":"IF(Formula!Y23>Formula!$B$4,\"\",Formula!Y27)","v":""},{"$f":"IF(Formula!Z23>Formula!$B$4,\"\",Formula!Z27)","v":""},{"$f":"IF(Formula!AA23>Formula!$B$4,\"\",Formula!AA27)","v":""},{"$f":"IF(Formula!AB23>Formula!$B$4,\"\",Formula!AB27)","v":""},{"$f":"IF(Formula!AC23>Formula!$B$4,\"\",Formula!AC27)","v":""},{"$f":"IF(Formula!AD23>Formula!$B$4,\"\",Formula!AD27)","v":26},{"$f":"IF(Formula!AE23>Formula!$B$4,\"\",Formula!AE27)","v":""},{"$f":"IF(Formula!AF23>Formula!$B$4,\"\",Formula!AF27)","v":""},{"$f":"IF(Formula!AG23>Formula!$B$4,\"\",Formula!AG27)","v":""},{"$f":"IF(Formula!AH23>Formula!$B$4,\"\",Formula!AH27)","v":""},{"$f":"IF(Formula!AI23>Formula!$B$4,\"\",Formula!AI27)","v":""},{"$f":"IF(Formula!AJ23>Formula!$B$4,\"\",Formula!AJ27)","v":""},{"$f":"IF(Formula!AK23>Formula!$B$4,\"\",Formula!AK27)","v":27},{"$f":"IF(Formula!AL23>Formula!$B$4,\"\",Formula!AL27)","v":""},{"$f":"IF(Formula!AM23>Formula!$B$4,\"\",Formula!AM27)","v":""},{"$f":"IF(Formula!AN23>Formula!$B$4,\"\",Formula!AN27)","v":""},{"$f":"IF(Formula!AO23>Formula!$B$4,\"\",Formula!AO27)","v":""},{"$f":"IF(Formula!AP23>Formula!$B$4,\"\",Formula!AP27)","v":""},{"$f":"IF(Formula!AQ23>Formula!$B$4,\"\",Formula!AQ27)","v":""},{"$f":"IF(Formula!AR23>Formula!$B$4,\"\",Formula!AR27)","v":28},{"$f":"IF(Formula!AS23>Formula!$B$4,\"\",Formula!AS27)","v":""},{"$f":"IF(Formula!AT23>Formula!$B$4,\"\",Formula!AT27)","v":""},{"$f":"IF(Formula!AU23>Formula!$B$4,\"\",Formula!AU27)","v":""},{"$f":"IF(Formula!AV23>Formula!$B$4,\"\",Formula!AV27)","v":""},{"$f":"IF(Formula!AW23>Formula!$B$4,\"\",Formula!AW27)","v":""},{"$f":"IF(Formula!AX23>Formula!$B$4,\"\",Formula!AX27)","v":""},{"$f":"IF(Formula!AY23>Formula!$B$4,\"\",Formula!AY27)","v":29},{"$f":"IF(Formula!AZ23>Formula!$B$4,\"\",Formula!AZ27)","v":""},{"$f":"IF(Formula!BA23>Formula!$B$4,\"\",Formula!BA27)","v":""},{"$f":"IF(Formula!BB23>Formula!$B$4,\"\",Formula!BB27)","v":""},{"$f":"IF(Formula!BC23>Formula!$B$4,\"\",Formula!BC27)","v":""},{"$f":"IF(Formula!BD23>Formula!$B$4,\"\",Formula!BD27)","v":""},{"$f":"IF(Formula!BE23>Formula!$B$4,\"\",Formula!BE27)","v":""},{"$f":"IF(Formula!BF23>Formula!$B$4,\"\",Formula!BF27)","v":30},{"$f":"IF(Formula!BG23>Formula!$B$4,\"\",Formula!BG27)","v":""},{"$f":"IF(Formula!BH23>Formula!$B$4,\"\",Formula!BH27)","v":""},{"$f":"IF(Formula!BI23>Formula!$B$4,\"\",Formula!BI27)","v":""},{"$f":"IF(Formula!BJ23>Formula!$B$4,\"\",Formula!BJ27)","v":""},{"$f":"IF(Formula!BK23>Formula!$B$4,\"\",Formula!BK27)","v":""},{"$f":"IF(Formula!BL23>Formula!$B$4,\"\",Formula!BL27)","v":""},{"$f":"IF(Formula!BM23>Formula!$B$4,\"\",Formula!BM27)","v":31},{"$f":"IF(Formula!BN23>Formula!$B$4,\"\",Formula!BN27)","v":""},{"$f":"IF(Formula!BO23>Formula!$B$4,\"\",Formula!BO27)","v":""},{"$f":"IF(Formula!BP23>Formula!$B$4,\"\",Formula!BP27)","v":""},{"$f":"IF(Formula!BQ23>Formula!$B$4,\"\",Formula!BQ27)","v":""},{"$f":"IF(Formula!BR23>Formula!$B$4,\"\",Formula!BR27)","v":""},{"$f":"IF(Formula!BS23>Formula!$B$4,\"\",Formula!BS27)","v":""},{"$f":"IF(Formula!BT23>Formula!$B$4,\"\",Formula!BT27)","v":""},{"$f":"IF(Formula!BU23>Formula!$B$4,\"\",Formula!BU27)","v":""},{"$f":"IF(Formula!BV23>Formula!$B$4,\"\",Formula!BV27)","v":""},{"$f":"IF(Formula!BW23>Formula!$B$4,\"\",Formula!BW27)","v":""},{"$f":"IF(Formula!BX23>Formula!$B$4,\"\",Formula!BX27)","v":""},{"$f":"IF(Formula!BY23>Formula!$B$4,\"\",Formula!BY27)","v":""},{"$f":"IF(Formula!BZ23>Formula!$B$4,\"\",Formula!BZ27)","v":""},{"$f":"IF(Formula!CA23>Formula!$B$4,\"\",Formula!CA27)","v":""},{"$f":"IF(Formula!CB23>Formula!$B$4,\"\",Formula!CB27)","v":""},{"$f":"IF(Formula!CC23>Formula!$B$4,\"\",Formula!CC27)","v":""},{"$f":"IF(Formula!CD23>Formula!$B$4,\"\",Formula!CD27)","v":""},{"$f":"IF(Formula!CE23>Formula!$B$4,\"\",Formula!CE27)","v":""},{"$f":"IF(Formula!CF23>Formula!$B$4,\"\",Formula!CF27)","v":""},{"$f":"IF(Formula!CG23>Formula!$B$4,\"\",Formula!CG27)","v":""},{"$f":"IF(Formula!CH23>Formula!$B$4,\"\",Formula!CH27)","v":""},{"$f":"IF(Formula!CI23>Formula!$B$4,\"\",Formula!CI27)","v":""},{"$f":"IF(Formula!CJ23>Formula!$B$4,\"\",Formula!CJ27)","v":""},{"$f":"IF(Formula!CK23>Formula!$B$4,\"\",Formula!CK27)","v":""},{"$f":"IF(Formula!CL23>Formula!$B$4,\"\",Formula!CL27)","v":""},{"$f":"IF(Formula!CM23>Formula!$B$4,\"\",Formula!CM27)","v":""},{"$f":"IF(Formula!CN23>Formula!$B$4,\"\",Formula!CN27)","v":""},{"$f":"IF(Formula!CO23>Formula!$B$4,\"\",Formula!CO27)","v":""},{"$f":"IF(Formula!CP23>Formula!$B$4,\"\",Formula!CP27)","v":""},{"$f":"IF(Formula!CQ23>Formula!$B$4,\"\",Formula!CQ27)","v":""},{"$f":"IF(Formula!CR23>Formula!$B$4,\"\",Formula!CR27)","v":""},{"$f":"IF(Formula!CS23>Formula!$B$4,\"\",Formula!CS27)","v":""},{"$f":"IF(Formula!CT23>Formula!$B$4,\"\",Formula!CT27)","v":""},{"$f":"IF(Formula!CU23>Formula!$B$4,\"\",Formula!CU27)","v":""},{"$f":"IF(Formula!CV23>Formula!$B$4,\"\",Formula!CV27)","v":""},{"$f":"IF(Formula!CW23>Formula!$B$4,\"\",Formula!CW27)","v":""},{"$f":"IF(Formula!CX23>Formula!$B$4,\"\",Formula!CX27)","v":""},{"$f":"IF(Formula!CY23>Formula!$B$4,\"\",Formula!CY27)","v":""},{"$f":"IF(Formula!CZ23>Formula!$B$4,\"\",Formula!CZ27)","v":""},{"$f":"IF(Formula!DA23>Formula!$B$4,\"\",Formula!DA27)","v":""},{"$f":"IF(Formula!DB23>Formula!$B$4,\"\",Formula!DB27)","v":""},{"$f":"IF(Formula!DC23>Formula!$B$4,\"\",Formula!DC27)","v":""},{"$f":"IF(Formula!DD23>Formula!$B$4,\"\",Formula!DD27)","v":""},{"$f":"IF(Formula!DE23>Formula!$B$4,\"\",Formula!DE27)","v":""},{"$f":"IF(Formula!DF23>Formula!$B$4,\"\",Formula!DF27)","v":""},{"$f":"IF(Formula!DG23>Formula!$B$4,\"\",Formula!DG27)","v":""},{"$f":"IF(Formula!DH23>Formula!$B$4,\"\",Formula!DH27)","v":""},{"$f":"IF(Formula!DI23>Formula!$B$4,\"\",Formula!DI27)","v":""},{"$f":"IF(Formula!DJ23>Formula!$B$4,\"\",Formula!DJ27)","v":""},{"$f":"IF(Formula!DK23>Formula!$B$4,\"\",Formula!DK27)","v":""},{"$f":"IF(Formula!DL23>Formula!$B$4,\"\",Formula!DL27)","v":""},{"$f":"IF(Formula!DM23>Formula!$B$4,\"\",Formula!DM27)","v":""},{"$f":"IF(Formula!DN23>Formula!$B$4,\"\",Formula!DN27)","v":""},{"$f":"IF(Formula!DO23>Formula!$B$4,\"\",Formula!DO27)","v":""},{"$f":"IF(Formula!DP23>Formula!$B$4,\"\",Formula!DP27)","v":""},{"$f":"IF(Formula!DQ23>Formula!$B$4,\"\",Formula!DQ27)","v":""},{"$f":"IF(Formula!DR23>Formula!$B$4,\"\",Formula!DR27)","v":""},{"$f":"IF(Formula!DS23>Formula!$B$4,\"\",Formula!DS27)","v":""},{"$f":"IF(Formula!DT23>Formula!$B$4,\"\",Formula!DT27)","v":""},{"$f":"IF(Formula!DU23>Formula!$B$4,\"\",Formula!DU27)","v":""},{"$f":"IF(Formula!DV23>Formula!$B$4,\"\",Formula!DV27)","v":""},{"$f":"IF(Formula!DW23>Formula!$B$4,\"\",Formula!DW27)","v":""},{"$f":"IF(Formula!DX23>Formula!$B$4,\"\",Formula!DX27)","v":""},{"$f":"IF(Formula!DY23>Formula!$B$4,\"\",Formula!DY27)","v":""},{"$f":"IF(Formula!DZ23>Formula!$B$4,\"\",Formula!DZ27)","v":""},{"$f":"IF(Formula!EA23>Formula!$B$4,\"\",Formula!EA27)","v":""},{"$f":"IF(Formula!EB23>Formula!$B$4,\"\",Formula!EB27)","v":""},{"$f":"IF(Formula!EC23>Formula!$B$4,\"\",Formula!EC27)","v":""},{"$f":"IF(Formula!ED23>Formula!$B$4,\"\",Formula!ED27)","v":""},{"$f":"IF(Formula!EE23>Formula!$B$4,\"\",Formula!EE27)","v":""},{"$f":"IF(Formula!EF23>Formula!$B$4,\"\",Formula!EF27)","v":""},{"$f":"IF(Formula!EG23>Formula!$B$4,\"\",Formula!EG27)","v":""},{"$f":"IF(Formula!EH23>Formula!$B$4,\"\",Formula!EH27)","v":""},{"$f":"IF(Formula!EI23>Formula!$B$4,\"\",Formula!EI27)","v":""},{"$f":"IF(Formula!EJ23>Formula!$B$4,\"\",Formula!EJ27)","v":""},{"$f":"IF(Formula!EK23>Formula!$B$4,\"\",Formula!EK27)","v":""},{"$f":"IF(Formula!EL23>Formula!$B$4,\"\",Formula!EL27)","v":""},{"$f":"IF(Formula!EM23>Formula!$B$4,\"\",Formula!EM27)","v":""},{"$f":"IF(Formula!EN23>Formula!$B$4,\"\",Formula!EN27)","v":""},{"$f":"IF(Formula!EO23>Formula!$B$4,\"\",Formula!EO27)","v":""},{"$f":"IF(Formula!EP23>Formula!$B$4,\"\",Formula!EP27)","v":""},{"$f":"IF(Formula!EQ23>Formula!$B$4,\"\",Formula!EQ27)","v":""},{"$f":"IF(Formula!ER23>Formula!$B$4,\"\",Formula!ER27)","v":""},{"$f":"IF(Formula!ES23>Formula!$B$4,\"\",Formula!ES27)","v":""},{"$f":"IF(Formula!ET23>Formula!$B$4,\"\",Formula!ET27)","v":""},{"$f":"IF(Formula!EU23>Formula!$B$4,\"\",Formula!EU27)","v":""},{"$f":"IF(Formula!EV23>Formula!$B$4,\"\",Formula!EV27)","v":""},{"$f":"IF(Formula!EW23>Formula!$B$4,\"\",Formula!EW27)","v":""},{"$f":"IF(Formula!EX23>Formula!$B$4,\"\",Formula!EX27)","v":""},{"$f":"IF(Formula!EY23>Formula!$B$4,\"\",Formula!EY27)","v":""},{"$f":"IF(Formula!EZ23>Formula!$B$4,\"\",Formula!EZ27)","v":""},{"$f":"IF(Formula!FA23>Formula!$B$4,\"\",Formula!FA27)","v":""},{"$f":"IF(Formula!FB23>Formula!$B$4,\"\",Formula!FB27)","v":""},{"$f":"IF(Formula!FC23>Formula!$B$4,\"\",Formula!FC27)","v":""},{"$f":"IF(Formula!FD23>Formula!$B$4,\"\",Formula!FD27)","v":""},{"$f":"IF(Formula!FE23>Formula!$B$4,\"\",Formula!FE27)","v":""},{"$f":"IF(Formula!FF23>Formula!$B$4,\"\",Formula!FF27)","v":""},{"$f":"IF(Formula!FG23>Formula!$B$4,\"\",Formula!FG27)","v":""},{"$f":"IF(Formula!FH23>Formula!$B$4,\"\",Formula!FH27)","v":""},{"$f":"IF(Formula!FI23>Formula!$B$4,\"\",Formula!FI27)","v":""},{"$f":"IF(Formula!FJ23>Formula!$B$4,\"\",Formula!FJ27)","v":""},{"$f":"IF(Formula!FK23>Formula!$B$4,\"\",Formula!FK27)","v":""},{"$f":"IF(Formula!FL23>Formula!$B$4,\"\",Formula!FL27)","v":""},{"$f":"IF(Formula!FM23>Formula!$B$4,\"\",Formula!FM27)","v":""},{"$f":"IF(Formula!FN23>Formula!$B$4,\"\",Formula!FN27)","v":""},{"$f":"IF(Formula!FO23>Formula!$B$4,\"\",Formula!FO27)","v":""},{"$f":"IF(Formula!FP23>Formula!$B$4,\"\",Formula!FP27)","v":""},{"$f":"IF(Formula!FQ23>Formula!$B$4,\"\",Formula!FQ27)","v":""},{"$f":"IF(Formula!FR23>Formula!$B$4,\"\",Formula!FR27)","v":""},{"$f":"IF(Formula!FS23>Formula!$B$4,\"\",Formula!FS27)","v":""},{"$f":"IF(Formula!FT23>Formula!$B$4,\"\",Formula!FT27)","v":""},{"$f":"IF(Formula!FU23>Formula!$B$4,\"\",Formula!FU27)","v":""},{"$f":"IF(Formula!FV23>Formula!$B$4,\"\",Formula!FV27)","v":""},{"$f":"IF(Formula!FW23>Formula!$B$4,\"\",Formula!FW27)","v":""},{"$f":"IF(Formula!FX23>Formula!$B$4,\"\",Formula!FX27)","v":""},{"$f":"IF(Formula!FY23>Formula!$B$4,\"\",Formula!FY27)","v":""},{"$f":"IF(Formula!FZ23>Formula!$B$4,\"\",Formula!FZ27)","v":""},{"$f":"IF(Formula!GA23>Formula!$B$4,\"\",Formula!GA27)","v":""},{"$f":"IF(Formula!GB23>Formula!$B$4,\"\",Formula!GB27)","v":""},{"$f":"IF(Formula!GC23>Formula!$B$4,\"\",Formula!GC27)","v":""},{"$f":"IF(Formula!GD23>Formula!$B$4,\"\",Formula!GD27)","v":""},{"$f":"IF(Formula!GE23>Formula!$B$4,\"\",Formula!GE27)","v":""},{"$f":"IF(Formula!GF23>Formula!$B$4,\"\",Formula!GF27)","v":""},{"$f":"IF(Formula!GG23>Formula!$B$4,\"\",Formula!GG27)","v":""},{"$f":"IF(Formula!GH23>Formula!$B$4,\"\",Formula!GH27)","v":""},{"$f":"IF(Formula!GI23>Formula!$B$4,\"\",Formula!GI27)","v":""},{"$f":"IF(Formula!GJ23>Formula!$B$4,\"\",Formula!GJ27)","v":""},{"$f":"IF(Formula!GK23>Formula!$B$4,\"\",Formula!GK27)","v":""},{"$f":"IF(Formula!GL23>Formula!$B$4,\"\",Formula!GL27)","v":""},{"$f":"IF(Formula!GM23>Formula!$B$4,\"\",Formula!GM27)","v":""},{"$f":"IF(Formula!GN23>Formula!$B$4,\"\",Formula!GN27)","v":""},{"$f":"IF(Formula!GO23>Formula!$B$4,\"\",Formula!GO27)","v":""},{"$f":"IF(Formula!GP23>Formula!$B$4,\"\",Formula!GP27)","v":""},{"$f":"IF(Formula!GQ23>Formula!$B$4,\"\",Formula!GQ27)","v":""},{"$f":"IF(Formula!GR23>Formula!$B$4,\"\",Formula!GR27)","v":""},{"$f":"IF(Formula!GS23>Formula!$B$4,\"\",Formula!GS27)","v":""},{"$f":"IF(Formula!GT23>Formula!$B$4,\"\",Formula!GT27)","v":""},{"$f":"IF(Formula!GU23>Formula!$B$4,\"\",Formula!GU27)","v":""},{"$f":"IF(Formula!GV23>Formula!$B$4,\"\",Formula!GV27)","v":""},{"$f":"IF(Formula!GW23>Formula!$B$4,\"\",Formula!GW27)","v":""},{"$f":"IF(Formula!GX23>Formula!$B$4,\"\",Formula!GX27)","v":""},{"$f":"IF(Formula!GY23>Formula!$B$4,\"\",Formula!GY27)","v":""},{"$f":"IF(Formula!GZ23>Formula!$B$4,\"\",Formula!GZ27)","v":""},{"$f":"IF(Formula!HA23>Formula!$B$4,\"\",Formula!HA27)","v":""},{"$f":"IF(Formula!HB23>Formula!$B$4,\"\",Formula!HB27)","v":""},{"$f":"IF(Formula!HC23>Formula!$B$4,\"\",Formula!HC27)","v":""},{"$f":"IF(Formula!HD23>Formula!$B$4,\"\",Formula!HD27)","v":""},{"$f":"IF(Formula!HE23>Formula!$B$4,\"\",Formula!HE27)","v":""},{"$f":"IF(Formula!HF23>Formula!$B$4,\"\",Formula!HF27)","v":""},{"$f":"IF(Formula!HG23>Formula!$B$4,\"\",Formula!HG27)","v":""},{"$f":"IF(Formula!HH23>Formula!$B$4,\"\",Formula!HH27)","v":""},{"$f":"IF(Formula!HI23>Formula!$B$4,\"\",Formula!HI27)","v":""},{"$f":"IF(Formula!HJ23>Formula!$B$4,\"\",Formula!HJ27)","v":""},{"$f":"IF(Formula!HK23>Formula!$B$4,\"\",Formula!HK27)","v":""},{"$f":"IF(Formula!HL23>Formula!$B$4,\"\",Formula!HL27)","v":""},{"$f":"IF(Formula!HM23>Formula!$B$4,\"\",Formula!HM27)","v":""},{"$f":"IF(Formula!HN23>Formula!$B$4,\"\",Formula!HN27)","v":""},{"$f":"IF(Formula!HO23>Formula!$B$4,\"\",Formula!HO27)","v":""},{"$f":"IF(Formula!HP23>Formula!$B$4,\"\",Formula!HP27)","v":""},{"$f":"IF(Formula!HQ23>Formula!$B$4,\"\",Formula!HQ27)","v":""},{"$f":"IF(Formula!HR23>Formula!$B$4,\"\",Formula!HR27)","v":""},{"$f":"IF(Formula!HS23>Formula!$B$4,\"\",Formula!HS27)","v":""},{"$f":"IF(Formula!HT23>Formula!$B$4,\"\",Formula!HT27)","v":""},{"$f":"IF(Formula!HU23>Formula!$B$4,\"\",Formula!HU27)","v":""},{"$f":"IF(Formula!HV23>Formula!$B$4,\"\",Formula!HV27)","v":""},{"$f":"IF(Formula!HW23>Formula!$B$4,\"\",Formula!HW27)","v":""},{"$f":"IF(Formula!HX23>Formula!$B$4,\"\",Formula!HX27)","v":""},{"$f":"IF(Formula!HY23>Formula!$B$4,\"\",Formula!HY27)","v":""},{"$f":"IF(Formula!HZ23>Formula!$B$4,\"\",Formula!HZ27)","v":""},{"$f":"IF(Formula!IA23>Formula!$B$4,\"\",Formula!IA27)","v":""},{"$f":"IF(Formula!IB23>Formula!$B$4,\"\",Formula!IB27)","v":""},{"$f":"IF(Formula!IC23>Formula!$B$4,\"\",Formula!IC27)","v":""},{"$f":"IF(Formula!ID23>Formula!$B$4,\"\",Formula!ID27)","v":""},{"$f":"IF(Formula!IE23>Formula!$B$4,\"\",Formula!IE27)","v":""},{"$f":"IF(Formula!IF23>Formula!$B$4,\"\",Formula!IF27)","v":""},{"$f":"IF(Formula!IG23>Formula!$B$4,\"\",Formula!IG27)","v":""},{"$f":"IF(Formula!IH23>Formula!$B$4,\"\",Formula!IH27)","v":""},{"$f":"IF(Formula!II23>Formula!$B$4,\"\",Formula!II27)","v":""},{"$f":"IF(Formula!IJ23>Formula!$B$4,\"\",Formula!IJ27)","v":""},{"$f":"IF(Formula!IK23>Formula!$B$4,\"\",Formula!IK27)","v":""},{"$f":"IF(Formula!IL23>Formula!$B$4,\"\",Formula!IL27)","v":""},{"$f":"IF(Formula!IM23>Formula!$B$4,\"\",Formula!IM27)","v":""},{"$f":"IF(Formula!IN23>Formula!$B$4,\"\",Formula!IN27)","v":""},{"$f":"IF(Formula!IO23>Formula!$B$4,\"\",Formula!IO27)","v":""},{"$f":"IF(Formula!IP23>Formula!$B$4,\"\",Formula!IP27)","v":""},{"$f":"IF(Formula!IQ23>Formula!$B$4,\"\",Formula!IQ27)","v":""},{"$f":"IF(Formula!IR23>Formula!$B$4,\"\",Formula!IR27)","v":""},{"$f":"IF(Formula!IS23>Formula!$B$4,\"\",Formula!IS27)","v":""},{"$f":"IF(Formula!IT23>Formula!$B$4,\"\",Formula!IT27)","v":""},{"$f":"IF(Formula!IU23>Formula!$B$4,\"\",Formula!IU27)","v":""},{"$f":"IF(Formula!IV23>Formula!$B$4,\"\",Formula!IV27)","v":""},{"$f":"IF(Formula!IW23>Formula!$B$4,\"\",Formula!IW27)","v":""},{"$f":"IF(Formula!IX23>Formula!$B$4,\"\",Formula!IX27)","v":""},{"$f":"IF(Formula!IY23>Formula!$B$4,\"\",Formula!IY27)","v":""},{"$f":"IF(Formula!IZ23>Formula!$B$4,\"\",Formula!IZ27)","v":""},{"$f":"IF(Formula!JA23>Formula!$B$4,\"\",Formula!JA27)","v":""},{"$f":"IF(Formula!JB23>Formula!$B$4,\"\",Formula!JB27)","v":""},{"$f":"IF(Formula!JC23>Formula!$B$4,\"\",Formula!JC27)","v":""},{"$f":"IF(Formula!JD23>Formula!$B$4,\"\",Formula!JD27)","v":""},{"$f":"IF(Formula!JE23>Formula!$B$4,\"\",Formula!JE27)","v":""},{"$f":"IF(Formula!JF23>Formula!$B$4,\"\",Formula!JF27)","v":""},{"$f":"IF(Formula!JG23>Formula!$B$4,\"\",Formula!JG27)","v":""},{"$f":"IF(Formula!JH23>Formula!$B$4,\"\",Formula!JH27)","v":""},{"$f":"IF(Formula!JI23>Formula!$B$4,\"\",Formula!JI27)","v":""},{"$f":"IF(Formula!JJ23>Formula!$B$4,\"\",Formula!JJ27)","v":""},{"$f":"IF(Formula!JK23>Formula!$B$4,\"\",Formula!JK27)","v":""},{"$f":"IF(Formula!JL23>Formula!$B$4,\"\",Formula!JL27)","v":""},{"$f":"IF(Formula!JM23>Formula!$B$4,\"\",Formula!JM27)","v":""},{"$f":"IF(Formula!JN23>Formula!$B$4,\"\",Formula!JN27)","v":""},{"$f":"IF(Formula!JO23>Formula!$B$4,\"\",Formula!JO27)","v":""},{"$f":"IF(Formula!JP23>Formula!$B$4,\"\",Formula!JP27)","v":""},{"$f":"IF(Formula!JQ23>Formula!$B$4,\"\",Formula!JQ27)","v":""},{"$f":"IF(Formula!JR23>Formula!$B$4,\"\",Formula!JR27)","v":""},{"$f":"IF(Formula!JS23>Formula!$B$4,\"\",Formula!JS27)","v":""},{"$f":"IF(Formula!JT23>Formula!$B$4,\"\",Formula!JT27)","v":""},{"$f":"IF(Formula!JU23>Formula!$B$4,\"\",Formula!JU27)","v":""},{"$f":"IF(Formula!JV23>Formula!$B$4,\"\",Formula!JV27)","v":""},{"$f":"IF(Formula!JW23>Formula!$B$4,\"\",Formula!JW27)","v":""},{"$f":"IF(Formula!JX23>Formula!$B$4,\"\",Formula!JX27)","v":""},{"$f":"IF(Formula!JY23>Formula!$B$4,\"\",Formula!JY27)","v":""},{"$f":"IF(Formula!JZ23>Formula!$B$4,\"\",Formula!JZ27)","v":""},{"$f":"IF(Formula!KA23>Formula!$B$4,\"\",Formula!KA27)","v":""},{"$f":"IF(Formula!KB23>Formula!$B$4,\"\",Formula!KB27)","v":""},{"$f":"IF(Formula!KC23>Formula!$B$4,\"\",Formula!KC27)","v":""},{"$f":"IF(Formula!KD23>Formula!$B$4,\"\",Formula!KD27)","v":""},{"$f":"IF(Formula!KE23>Formula!$B$4,\"\",Formula!KE27)","v":""},{"$f":"IF(Formula!KF23>Formula!$B$4,\"\",Formula!KF27)","v":""},{"$f":"IF(Formula!KG23>Formula!$B$4,\"\",Formula!KG27)","v":""},{"$f":"IF(Formula!KH23>Formula!$B$4,\"\",Formula!KH27)","v":""},{"$f":"IF(Formula!KI23>Formula!$B$4,\"\",Formula!KI27)","v":""},{"$f":"IF(Formula!KJ23>Formula!$B$4,\"\",Formula!KJ27)","v":""},{"$f":"IF(Formula!KK23>Formula!$B$4,\"\",Formula!KK27)","v":""},{"$f":"IF(Formula!KL23>Formula!$B$4,\"\",Formula!KL27)","v":""},{"$f":"IF(Formula!KM23>Formula!$B$4,\"\",Formula!KM27)","v":""},{"$f":"IF(Formula!KN23>Formula!$B$4,\"\",Formula!KN27)","v":""},{"$f":"IF(Formula!KO23>Formula!$B$4,\"\",Formula!KO27)","v":""},{"$f":"IF(Formula!KP23>Formula!$B$4,\"\",Formula!KP27)","v":""},{"$f":"IF(Formula!KQ23>Formula!$B$4,\"\",Formula!KQ27)","v":""},{"$f":"IF(Formula!KR23>Formula!$B$4,\"\",Formula!KR27)","v":""},{"$f":"IF(Formula!KS23>Formula!$B$4,\"\",Formula!KS27)","v":""},{"$f":"IF(Formula!KT23>Formula!$B$4,\"\",Formula!KT27)","v":""},{"$f":"IF(Formula!KU23>Formula!$B$4,\"\",Formula!KU27)","v":""},{"$f":"IF(Formula!KV23>Formula!$B$4,\"\",Formula!KV27)","v":""},{"$f":"IF(Formula!KW23>Formula!$B$4,\"\",Formula!KW27)","v":""},{"$f":"IF(Formula!KX23>Formula!$B$4,\"\",Formula!KX27)","v":""},{"$f":"IF(Formula!KY23>Formula!$B$4,\"\",Formula!KY27)","v":""},{"$f":"IF(Formula!KZ23>Formula!$B$4,\"\",Formula!KZ27)","v":""},{"$f":"IF(Formula!LA23>Formula!$B$4,\"\",Formula!LA27)","v":""},{"$f":"IF(Formula!LB23>Formula!$B$4,\"\",Formula!LB27)","v":""},{"$f":"IF(Formula!LC23>Formula!$B$4,\"\",Formula!LC27)","v":""},{"$f":"IF(Formula!LD23>Formula!$B$4,\"\",Formula!LD27)","v":""},{"$f":"IF(Formula!LE23>Formula!$B$4,\"\",Formula!LE27)","v":""},{"$f":"IF(Formula!LF23>Formula!$B$4,\"\",Formula!LF27)","v":""},{"$f":"IF(Formula!LG23>Formula!$B$4,\"\",Formula!LG27)","v":""},{"$f":"IF(Formula!LH23>Formula!$B$4,\"\",Formula!LH27)","v":""},{"$f":"IF(Formula!LI23>Formula!$B$4,\"\",Formula!LI27)","v":""},{"$f":"IF(Formula!LJ23>Formula!$B$4,\"\",Formula!LJ27)","v":""},{"$f":"IF(Formula!LK23>Formula!$B$4,\"\",Formula!LK27)","v":""},{"$f":"IF(Formula!LL23>Formula!$B$4,\"\",Formula!LL27)","v":""},{"$f":"IF(Formula!LM23>Formula!$B$4,\"\",Formula!LM27)","v":""},{"$f":"IF(Formula!LN23>Formula!$B$4,\"\",Formula!LN27)","v":""},{"$f":"IF(Formula!LO23>Formula!$B$4,\"\",Formula!LO27)","v":""},{"$f":"IF(Formula!LP23>Formula!$B$4,\"\",Formula!LP27)","v":""},{"$f":"IF(Formula!LQ23>Formula!$B$4,\"\",Formula!LQ27)","v":""},{"$f":"IF(Formula!LR23>Formula!$B$4,\"\",Formula!LR27)","v":""},{"$f":"IF(Formula!LS23>Formula!$B$4,\"\",Formula!LS27)","v":""},{"$f":"IF(Formula!LT23>Formula!$B$4,\"\",Formula!LT27)","v":""},{"$f":"IF(Formula!LU23>Formula!$B$4,\"\",Formula!LU27)","v":""},{"$f":"IF(Formula!LV23>Formula!$B$4,\"\",Formula!LV27)","v":""},{"$f":"IF(Formula!LW23>Formula!$B$4,\"\",Formula!LW27)","v":""},{"$f":"IF(Formula!LX23>Formula!$B$4,\"\",Formula!LX27)","v":""},{"$f":"IF(Formula!LY23>Formula!$B$4,\"\",Formula!LY27)","v":""},{"$f":"IF(Formula!LZ23>Formula!$B$4,\"\",Formula!LZ27)","v":""},{"$f":"IF(Formula!MA23>Formula!$B$4,\"\",Formula!MA27)","v":""},{"$f":"IF(Formula!MB23>Formula!$B$4,\"\",Formula!MB27)","v":""},{"$f":"IF(Formula!MC23>Formula!$B$4,\"\",Formula!MC27)","v":""},{"$f":"IF(Formula!MD23>Formula!$B$4,\"\",Formula!MD27)","v":""},{"$f":"IF(Formula!ME23>Formula!$B$4,\"\",Formula!ME27)","v":""},{"$f":"IF(Formula!MF23>Formula!$B$4,\"\",Formula!MF27)","v":""},{"$f":"IF(Formula!MG23>Formula!$B$4,\"\",Formula!MG27)","v":""},{"$f":"IF(Formula!MH23>Formula!$B$4,\"\",Formula!MH27)","v":""},{"$f":"IF(Formula!MI23>Formula!$B$4,\"\",Formula!MI27)","v":""},{"$f":"IF(Formula!MJ23>Formula!$B$4,\"\",Formula!MJ27)","v":""},{"$f":"IF(Formula!MK23>Formula!$B$4,\"\",Formula!MK27)","v":""},{"$f":"IF(Formula!ML23>Formula!$B$4,\"\",Formula!ML27)","v":""},{"$f":"IF(Formula!MM23>Formula!$B$4,\"\",Formula!MM27)","v":""},{"$f":"IF(Formula!MN23>Formula!$B$4,\"\",Formula!MN27)","v":""},{"$f":"IF(Formula!MO23>Formula!$B$4,\"\",Formula!MO27)","v":""},{"$f":"IF(Formula!MP23>Formula!$B$4,\"\",Formula!MP27)","v":""},{"$f":"IF(Formula!MQ23>Formula!$B$4,\"\",Formula!MQ27)","v":""},{"$f":"IF(Formula!MR23>Formula!$B$4,\"\",Formula!MR27)","v":""},{"$f":"IF(Formula!MS23>Formula!$B$4,\"\",Formula!MS27)","v":""},{"$f":"IF(Formula!MT23>Formula!$B$4,\"\",Formula!MT27)","v":""},{"$f":"IF(Formula!MU23>Formula!$B$4,\"\",Formula!MU27)","v":""},{"$f":"IF(Formula!MV23>Formula!$B$4,\"\",Formula!MV27)","v":""},{"$f":"IF(Formula!MW23>Formula!$B$4,\"\",Formula!MW27)","v":""},{"$f":"IF(Formula!MX23>Formula!$B$4,\"\",Formula!MX27)","v":""},{"$f":"IF(Formula!MY23>Formula!$B$4,\"\",Formula!MY27)","v":""},{"$f":"IF(Formula!MZ23>Formula!$B$4,\"\",Formula!MZ27)","v":""},{"$f":"IF(Formula!NA23>Formula!$B$4,\"\",Formula!NA27)","v":""},{"$f":"IF(Formula!NB23>Formula!$B$4,\"\",Formula!NB27)","v":""},{"$f":"IF(Formula!NC23>Formula!$B$4,\"\",Formula!NC27)","v":""},{"$f":"IF(Formula!ND23>Formula!$B$4,\"\",Formula!ND27)","v":""},{"$f":"IF(Formula!NE23>Formula!$B$4,\"\",Formula!NE27)","v":""},{"$f":"IF(Formula!NF23>Formula!$B$4,\"\",Formula!NF27)","v":""},{"$f":"IF(Formula!NG23>Formula!$B$4,\"\",Formula!NG27)","v":""},{"$f":"IF(Formula!NH23>Formula!$B$4,\"\",Formula!NH27)","v":""},{"$f":"IF(Formula!NI23>Formula!$B$4,\"\",Formula!NI27)","v":""},{"$f":"IF(Formula!NJ23>Formula!$B$4,\"\",Formula!NJ27)","v":""},{"$f":"IF(Formula!NK23>Formula!$B$4,\"\",Formula!NK27)","v":""},{"$f":"IF(Formula!NL23>Formula!$B$4,\"\",Formula!NL27)","v":""},{"$f":"IF(Formula!NM23>Formula!$B$4,\"\",Formula!NM27)","v":""},{"$f":"IF(Formula!NN23>Formula!$B$4,\"\",Formula!NN27)","v":""},{"$f":"IF(Formula!NO23>Formula!$B$4,\"\",Formula!NO27)","v":""},{"$f":"IF(Formula!NP23>Formula!$B$4,\"\",Formula!NP27)","v":""},{"$f":"IF(Formula!NQ23>Formula!$B$4,\"\",Formula!NQ27)","v":""},{"$f":"IF(Formula!NR23>Formula!$B$4,\"\",Formula!NR27)","v":""},{"$f":"IF(Formula!NS23>Formula!$B$4,\"\",Formula!NS27)","v":""},{"$f":"IF(Formula!NT23>Formula!$B$4,\"\",Formula!NT27)","v":""},{"$f":"IF(Formula!NU23>Formula!$B$4,\"\",Formula!NU27)","v":""},{"$f":"IF(Formula!NV23>Formula!$B$4,\"\",Formula!NV27)","v":""},{"$f":"IF(Formula!NW23>Formula!$B$4,\"\",Formula!NW27)","v":""},{"$f":"IF(Formula!NX23>Formula!$B$4,\"\",Formula!NX27)","v":""},{"$f":"IF(Formula!NY23>Formula!$B$4,\"\",Formula!NY27)","v":""},{"$f":"IF(Formula!NZ23>Formula!$B$4,\"\",Formula!NZ27)","v":""},{"$f":"IF(Formula!OA23>Formula!$B$4,\"\",Formula!OA27)","v":""},{"$f":"IF(Formula!OB23>Formula!$B$4,\"\",Formula!OB27)","v":""},{"$f":"IF(Formula!OC23>Formula!$B$4,\"\",Formula!OC27)","v":""},{"$f":"IF(Formula!OD23>Formula!$B$4,\"\",Formula!OD27)","v":""},{"$f":"IF(Formula!OE23>Formula!$B$4,\"\",Formula!OE27)","v":""},{"$f":"IF(Formula!OF23>Formula!$B$4,\"\",Formula!OF27)","v":""},{"$f":"IF(Formula!OG23>Formula!$B$4,\"\",Formula!OG27)","v":""},{"$f":"IF(Formula!OH23>Formula!$B$4,\"\",Formula!OH27)","v":""},{"$f":"IF(Formula!OI23>Formula!$B$4,\"\",Formula!OI27)","v":""},{"$f":"IF(Formula!OJ23>Formula!$B$4,\"\",Formula!OJ27)","v":""},{"$f":"IF(Formula!OK23>Formula!$B$4,\"\",Formula!OK27)","v":""},{"$f":"IF(Formula!OL23>Formula!$B$4,\"\",Formula!OL27)","v":""},{"$f":"IF(Formula!OM23>Formula!$B$4,\"\",Formula!OM27)","v":""},{"$f":"IF(Formula!ON23>Formula!$B$4,\"\",Formula!ON27)","v":""},{"$f":"IF(Formula!OO23>Formula!$B$4,\"\",Formula!OO27)","v":""},{"$f":"IF(Formula!OP23>Formula!$B$4,\"\",Formula!OP27)","v":""},{"$f":"IF(Formula!OQ23>Formula!$B$4,\"\",Formula!OQ27)","v":""},{"$f":"IF(Formula!OR23>Formula!$B$4,\"\",Formula!OR27)","v":""},{"$f":"IF(Formula!OS23>Formula!$B$4,\"\",Formula!OS27)","v":""},{"$f":"IF(Formula!OT23>Formula!$B$4,\"\",Formula!OT27)","v":""},{"$f":"IF(Formula!OU23>Formula!$B$4,\"\",Formula!OU27)","v":""},{"$f":"IF(Formula!OV23>Formula!$B$4,\"\",Formula!OV27)","v":""},{"$f":"IF(Formula!OW23>Formula!$B$4,\"\",Formula!OW27)","v":""},{"$f":"IF(Formula!OX23>Formula!$B$4,\"\",Formula!OX27)","v":""},{"$f":"IF(Formula!OY23>Formula!$B$4,\"\",Formula!OY27)","v":""},{"$f":"IF(Formula!OZ23>Formula!$B$4,\"\",Formula!OZ27)","v":""},{"$f":"IF(Formula!PA23>Formula!$B$4,\"\",Formula!PA27)","v":""},{"$f":"IF(Formula!PB23>Formula!$B$4,\"\",Formula!PB27)","v":""},{"$f":"IF(Formula!PC23>Formula!$B$4,\"\",Formula!PC27)","v":""},{"$f":"IF(Formula!PD23>Formula!$B$4,\"\",Formula!PD27)","v":""},{"$f":"IF(Formula!PE23>Formula!$B$4,\"\",Formula!PE27)","v":""},{"$f":"IF(Formula!PF23>Formula!$B$4,\"\",Formula!PF27)","v":""},{"$f":"IF(Formula!PG23>Formula!$B$4,\"\",Formula!PG27)","v":""},{"$f":"IF(Formula!PH23>Formula!$B$4,\"\",Formula!PH27)","v":""},{"$f":"IF(Formula!PI23>Formula!$B$4,\"\",Formula!PI27)","v":""},{"$f":"IF(Formula!PJ23>Formula!$B$4,\"\",Formula!PJ27)","v":""},{"$f":"IF(Formula!PK23>Formula!$B$4,\"\",Formula!PK27)","v":""},{"$f":"IF(Formula!PL23>Formula!$B$4,\"\",Formula!PL27)","v":""},{"$f":"IF(Formula!PM23>Formula!$B$4,\"\",Formula!PM27)","v":""},{"$f":"IF(Formula!PN23>Formula!$B$4,\"\",Formula!PN27)","v":""},{"$f":"IF(Formula!PO23>Formula!$B$4,\"\",Formula!PO27)","v":""},{"$f":"IF(Formula!PP23>Formula!$B$4,\"\",Formula!PP27)","v":""},{"$f":"IF(Formula!PQ23>Formula!$B$4,\"\",Formula!PQ27)","v":""},{"$f":"IF(Formula!PR23>Formula!$B$4,\"\",Formula!PR27)","v":""},{"$f":"IF(Formula!PS23>Formula!$B$4,\"\",Formula!PS27)","v":""},{"$f":"IF(Formula!PT23>Formula!$B$4,\"\",Formula!PT27)","v":""},{"$f":"IF(Formula!PU23>Formula!$B$4,\"\",Formula!PU27)","v":""},{"$f":"IF(Formula!PV23>Formula!$B$4,\"\",Formula!PV27)","v":""},{"$f":"IF(Formula!PW23>Formula!$B$4,\"\",Formula!PW27)","v":""},{"$f":"IF(Formula!PX23>Formula!$B$4,\"\",Formula!PX27)","v":""},{"$f":"IF(Formula!PY23>Formula!$B$4,\"\",Formula!PY27)","v":""},{"$f":"IF(Formula!PZ23>Formula!$B$4,\"\",Formula!PZ27)","v":""},{"$f":"IF(Formula!QA23>Formula!$B$4,\"\",Formula!QA27)","v":""},{"$f":"IF(Formula!QB23>Formula!$B$4,\"\",Formula!QB27)","v":""},{"$f":"IF(Formula!QC23>Formula!$B$4,\"\",Formula!QC27)","v":""},{"$f":"IF(Formula!QD23>Formula!$B$4,\"\",Formula!QD27)","v":""},{"$f":"IF(Formula!QE23>Formula!$B$4,\"\",Formula!QE27)","v":""},{"$f":"IF(Formula!QF23>Formula!$B$4,\"\",Formula!QF27)","v":""},{"$f":"IF(Formula!QG23>Formula!$B$4,\"\",Formula!QG27)","v":""},{"$f":"IF(Formula!QH23>Formula!$B$4,\"\",Formula!QH27)","v":""},{"$f":"IF(Formula!QI23>Formula!$B$4,\"\",Formula!QI27)","v":""},{"$f":"IF(Formula!QJ23>Formula!$B$4,\"\",Formula!QJ27)","v":""},{"$f":"IF(Formula!QK23>Formula!$B$4,\"\",Formula!QK27)","v":""},{"$f":"IF(Formula!QL23>Formula!$B$4,\"\",Formula!QL27)","v":""},{"$f":"IF(Formula!QM23>Formula!$B$4,\"\",Formula!QM27)","v":""},{"$f":"IF(Formula!QN23>Formula!$B$4,\"\",Formula!QN27)","v":""},{"$f":"IF(Formula!QO23>Formula!$B$4,\"\",Formula!QO27)","v":""},{"$f":"IF(Formula!QP23>Formula!$B$4,\"\",Formula!QP27)","v":""},{"$f":"IF(Formula!QQ23>Formula!$B$4,\"\",Formula!QQ27)","v":""},{"$f":"IF(Formula!QR23>Formula!$B$4,\"\",Formula!QR27)","v":""},{"$f":"IF(Formula!QS23>Formula!$B$4,\"\",Formula!QS27)","v":""},{"$f":"IF(Formula!QT23>Formula!$B$4,\"\",Formula!QT27)","v":""},{"$f":"IF(Formula!QU23>Formula!$B$4,\"\",Formula!QU27)","v":""},{"$f":"IF(Formula!QV23>Formula!$B$4,\"\",Formula!QV27)","v":""},{"$f":"IF(Formula!QW23>Formula!$B$4,\"\",Formula!QW27)","v":""},{"$f":"IF(Formula!QX23>Formula!$B$4,\"\",Formula!QX27)","v":""},{"$f":"IF(Formula!QY23>Formula!$B$4,\"\",Formula!QY27)","v":""},{"$f":"IF(Formula!QZ23>Formula!$B$4,\"\",Formula!QZ27)","v":""},{"$f":"IF(Formula!RA23>Formula!$B$4,\"\",Formula!RA27)","v":""},{"$f":"IF(Formula!RB23>Formula!$B$4,\"\",Formula!RB27)","v":""},{"$f":"IF(Formula!RC23>Formula!$B$4,\"\",Formula!RC27)","v":""},{"$f":"IF(Formula!RD23>Formula!$B$4,\"\",Formula!RD27)","v":""},{"$f":"IF(Formula!RE23>Formula!$B$4,\"\",Formula!RE27)","v":""},{"$f":"IF(Formula!RF23>Formula!$B$4,\"\",Formula!RF27)","v":""},{"$f":"IF(Formula!RG23>Formula!$B$4,\"\",Formula!RG27)","v":""},{"$f":"IF(Formula!RH23>Formula!$B$4,\"\",Formula!RH27)","v":""},{"$f":"IF(Formula!RI23>Formula!$B$4,\"\",Formula!RI27)","v":""},{"$f":"IF(Formula!RJ23>Formula!$B$4,\"\",Formula!RJ27)","v":""},{"$f":"IF(Formula!RK23>Formula!$B$4,\"\",Formula!RK27)","v":""},{"$f":"IF(Formula!RL23>Formula!$B$4,\"\",Formula!RL27)","v":""},{"$f":"IF(Formula!RM23>Formula!$B$4,\"\",Formula!RM27)","v":""},{"$f":"IF(Formula!RN23>Formula!$B$4,\"\",Formula!RN27)","v":""},{"$f":"IF(Formula!RO23>Formula!$B$4,\"\",Formula!RO27)","v":""},{"$f":"IF(Formula!RP23>Formula!$B$4,\"\",Formula!RP27)","v":""},{"$f":"IF(Formula!RQ23>Formula!$B$4,\"\",Formula!RQ27)","v":""},{"$f":"IF(Formula!RR23>Formula!$B$4,\"\",Formula!RR27)","v":""},{"$f":"IF(Formula!RS23>Formula!$B$4,\"\",Formula!RS27)","v":""},{"$f":"IF(Formula!RT23>Formula!$B$4,\"\",Formula!RT27)","v":""},{"$f":"IF(Formula!RU23>Formula!$B$4,\"\",Formula!RU27)","v":""},{"$f":"IF(Formula!RV23>Formula!$B$4,\"\",Formula!RV27)","v":""},{"$f":"IF(Formula!RW23>Formula!$B$4,\"\",Formula!RW27)","v":""},{"$f":"IF(Formula!RX23>Formula!$B$4,\"\",Formula!RX27)","v":""},{"$f":"IF(Formula!RY23>Formula!$B$4,\"\",Formula!RY27)","v":""},{"$f":"IF(Formula!RZ23>Formula!$B$4,\"\",Formula!RZ27)","v":""},{"$f":"IF(Formula!SA23>Formula!$B$4,\"\",Formula!SA27)","v":""},{"$f":"IF(Formula!SB23>Formula!$B$4,\"\",Formula!SB27)","v":""},{"$f":"IF(Formula!SC23>Formula!$B$4,\"\",Formula!SC27)","v":""},{"$f":"IF(Formula!SD23>Formula!$B$4,\"\",Formula!SD27)","v":""},{"$f":"IF(Formula!SE23>Formula!$B$4,\"\",Formula!SE27)","v":""},{"$f":"IF(Formula!SF23>Formula!$B$4,\"\",Formula!SF27)","v":""},{"$f":"IF(Formula!SG23>Formula!$B$4,\"\",Formula!SG27)","v":""},{"$f":"IF(Formula!SH23>Formula!$B$4,\"\",Formula!SH27)","v":""},{"$f":"IF(Formula!SI23>Formula!$B$4,\"\",Formula!SI27)","v":""},{"$f":"IF(Formula!SJ23>Formula!$B$4,\"\",Formula!SJ27)","v":""},{"$f":"IF(Formula!SK23>Formula!$B$4,\"\",Formula!SK27)","v":""},{"$f":"IF(Formula!SL23>Formula!$B$4,\"\",Formula!SL27)","v":""},{"$f":"IF(Formula!SM23>Formula!$B$4,\"\",Formula!SM27)","v":""},{"$f":"IF(Formula!SN23>Formula!$B$4,\"\",Formula!SN27)","v":""},{"$f":"IF(Formula!SO23>Formula!$B$4,\"\",Formula!SO27)","v":""},{"$f":"IF(Formula!SP23>Formula!$B$4,\"\",Formula!SP27)","v":""},{"$f":"IF(Formula!SQ23>Formula!$B$4,\"\",Formula!SQ27)","v":""},{"$f":"IF(Formula!SR23>Formula!$B$4,\"\",Formula!SR27)","v":""},{"$f":"IF(Formula!SS23>Formula!$B$4,\"\",Formula!SS27)","v":""},{"$f":"IF(Formula!ST23>Formula!$B$4,\"\",Formula!ST27)","v":""},{"$f":"IF(Formula!SU23>Formula!$B$4,\"\",Formula!SU27)","v":""},{"$f":"IF(Formula!SV23>Formula!$B$4,\"\",Formula!SV27)","v":""},{"$f":"IF(Formula!SW23>Formula!$B$4,\"\",Formula!SW27)","v":""},{"$f":"IF(Formula!SX23>Formula!$B$4,\"\",Formula!SX27)","v":""},{"$f":"IF(Formula!SY23>Formula!$B$4,\"\",Formula!SY27)","v":""},{"$f":"IF(Formula!SZ23>Formula!$B$4,\"\",Formula!SZ27)","v":""},{"$f":"IF(Formula!TA23>Formula!$B$4,\"\",Formula!TA27)","v":""},{"$f":"IF(Formula!TB23>Formula!$B$4,\"\",Formula!TB27)","v":""},{"$f":"IF(Formula!TC23>Formula!$B$4,\"\",Formula!TC27)","v":""},{"$f":"IF(Formula!TD23>Formula!$B$4,\"\",Formula!TD27)","v":""},{"$f":"IF(Formula!TE23>Formula!$B$4,\"\",Formula!TE27)","v":""},{"$f":"IF(Formula!TF23>Formula!$B$4,\"\",Formula!TF27)","v":""},{"$f":"IF(Formula!TG23>Formula!$B$4,\"\",Formula!TG27)","v":""},{"$f":"IF(Formula!TH23>Formula!$B$4,\"\",Formula!TH27)","v":""},{"$f":"IF(Formula!TI23>Formula!$B$4,\"\",Formula!TI27)","v":""},{"$f":"IF(Formula!TJ23>Formula!$B$4,\"\",Formula!TJ27)","v":""},{"$f":"IF(Formula!TK23>Formula!$B$4,\"\",Formula!TK27)","v":""},{"$f":"IF(Formula!TL23>Formula!$B$4,\"\",Formula!TL27)","v":""},{"$f":"IF(Formula!TM23>Formula!$B$4,\"\",Formula!TM27)","v":""},{"$f":"IF(Formula!TN23>Formula!$B$4,\"\",Formula!TN27)","v":""},{"$f":"IF(Formula!TO23>Formula!$B$4,\"\",Formula!TO27)","v":""},{"$f":"IF(Formula!TP23>Formula!$B$4,\"\",Formula!TP27)","v":""},{"$f":"IF(Formula!TQ23>Formula!$B$4,\"\",Formula!TQ27)","v":""},{"$f":"IF(Formula!TR23>Formula!$B$4,\"\",Formula!TR27)","v":""},{"$f":"IF(Formula!TS23>Formula!$B$4,\"\",Formula!TS27)","v":""},{"$f":"IF(Formula!TT23>Formula!$B$4,\"\",Formula!TT27)","v":""},{"$f":"IF(Formula!TU23>Formula!$B$4,\"\",Formula!TU27)","v":""},{"$f":"IF(Formula!TV23>Formula!$B$4,\"\",Formula!TV27)","v":""},{"$f":"IF(Formula!TW23>Formula!$B$4,\"\",Formula!TW27)","v":""},{"$f":"IF(Formula!TX23>Formula!$B$4,\"\",Formula!TX27)","v":""},{"$f":"IF(Formula!TY23>Formula!$B$4,\"\",Formula!TY27)","v":""},{"$f":"IF(Formula!TZ23>Formula!$B$4,\"\",Formula!TZ27)","v":""},{"$f":"IF(Formula!UA23>Formula!$B$4,\"\",Formula!UA27)","v":""},{"$f":"IF(Formula!UB23>Formula!$B$4,\"\",Formula!UB27)","v":""},{"$f":"IF(Formula!UC23>Formula!$B$4,\"\",Formula!UC27)","v":""},{"$f":"IF(Formula!UD23>Formula!$B$4,\"\",Formula!UD27)","v":""},{"$f":"IF(Formula!UE23>Formula!$B$4,\"\",Formula!UE27)","v":""},{"$f":"IF(Formula!UF23>Formula!$B$4,\"\",Formula!UF27)","v":""},{"$f":"IF(Formula!UG23>Formula!$B$4,\"\",Formula!UG27)","v":""},{"$f":"IF(Formula!UH23>Formula!$B$4,\"\",Formula!UH27)","v":""},{"$f":"IF(Formula!UI23>Formula!$B$4,\"\",Formula!UI27)","v":""},{"$f":"IF(Formula!UJ23>Formula!$B$4,\"\",Formula!UJ27)","v":""},{"$f":"IF(Formula!UK23>Formula!$B$4,\"\",Formula!UK27)","v":""},{"$f":"IF(Formula!UL23>Formula!$B$4,\"\",Formula!UL27)","v":""},{"$f":"IF(Formula!UM23>Formula!$B$4,\"\",Formula!UM27)","v":""},{"$f":"IF(Formula!UN23>Formula!$B$4,\"\",Formula!UN27)","v":""},{"$f":"IF(Formula!UO23>Formula!$B$4,\"\",Formula!UO27)","v":""},{"$f":"IF(Formula!UP23>Formula!$B$4,\"\",Formula!UP27)","v":""},{"$f":"IF(Formula!UQ23>Formula!$B$4,\"\",Formula!UQ27)","v":""},{"$f":"IF(Formula!UR23>Formula!$B$4,\"\",Formula!UR27)","v":""},{"$f":"IF(Formula!US23>Formula!$B$4,\"\",Formula!US27)","v":""},{"$f":"IF(Formula!UT23>Formula!$B$4,\"\",Formula!UT27)","v":""},{"$f":"IF(Formula!UU23>Formula!$B$4,\"\",Formula!UU27)","v":""},{"$f":"IF(Formula!UV23>Formula!$B$4,\"\",Formula!UV27)","v":""},{"$f":"IF(Formula!UW23>Formula!$B$4,\"\",Formula!UW27)","v":""},{"$f":"IF(Formula!UX23>Formula!$B$4,\"\",Formula!UX27)","v":""},{"$f":"IF(Formula!UY23>Formula!$B$4,\"\",Formula!UY27)","v":""},{"$f":"IF(Formula!UZ23>Formula!$B$4,\"\",Formula!UZ27)","v":""},{"$f":"IF(Formula!VA23>Formula!$B$4,\"\",Formula!VA27)","v":""},{"$f":"IF(Formula!VB23>Formula!$B$4,\"\",Formula!VB27)","v":""},{"$f":"IF(Formula!VC23>Formula!$B$4,\"\",Formula!VC27)","v":""},{"$f":"IF(Formula!VD23>Formula!$B$4,\"\",Formula!VD27)","v":""},{"$f":"IF(Formula!VE23>Formula!$B$4,\"\",Formula!VE27)","v":""},{"$f":"IF(Formula!VF23>Formula!$B$4,\"\",Formula!VF27)","v":""},{"$f":"IF(Formula!VG23>Formula!$B$4,\"\",Formula!VG27)","v":""},{"$f":"IF(Formula!VH23>Formula!$B$4,\"\",Formula!VH27)","v":""},{"$f":"IF(Formula!VI23>Formula!$B$4,\"\",Formula!VI27)","v":""},{"$f":"IF(Formula!VJ23>Formula!$B$4,\"\",Formula!VJ27)","v":""},{"$f":"IF(Formula!VK23>Formula!$B$4,\"\",Formula!VK27)","v":""},{"$f":"IF(Formula!VL23>Formula!$B$4,\"\",Formula!VL27)","v":""},{"$f":"IF(Formula!VM23>Formula!$B$4,\"\",Formula!VM27)","v":""},{"$f":"IF(Formula!VN23>Formula!$B$4,\"\",Formula!VN27)","v":""},{"$f":"IF(Formula!VO23>Formula!$B$4,\"\",Formula!VO27)","v":""},{"$f":"IF(Formula!VP23>Formula!$B$4,\"\",Formula!VP27)","v":""},{"$f":"IF(Formula!VQ23>Formula!$B$4,\"\",Formula!VQ27)","v":""},{"$f":"IF(Formula!VR23>Formula!$B$4,\"\",Formula!VR27)","v":""},{"$f":"IF(Formula!VS23>Formula!$B$4,\"\",Formula!VS27)","v":""},{"$f":"IF(Formula!VT23>Formula!$B$4,\"\",Formula!VT27)","v":""},{"$f":"IF(Formula!VU23>Formula!$B$4,\"\",Formula!VU27)","v":""},{"$f":"IF(Formula!VV23>Formula!$B$4,\"\",Formula!VV27)","v":""},{"$f":"IF(Formula!VW23>Formula!$B$4,\"\",Formula!VW27)","v":""},{"$f":"IF(Formula!VX23>Formula!$B$4,\"\",Formula!VX27)","v":""},{"$f":"IF(Formula!VY23>Formula!$B$4,\"\",Formula!VY27)","v":""},{"$f":"IF(Formula!VZ23>Formula!$B$4,\"\",Formula!VZ27)","v":""},{"$f":"IF(Formula!WA23>Formula!$B$4,\"\",Formula!WA27)","v":""},{"$f":"IF(Formula!WB23>Formula!$B$4,\"\",Formula!WB27)","v":""},{"$f":"IF(Formula!WC23>Formula!$B$4,\"\",Formula!WC27)","v":""},{"$f":"IF(Formula!WD23>Formula!$B$4,\"\",Formula!WD27)","v":""},{"$f":"IF(Formula!WE23>Formula!$B$4,\"\",Formula!WE27)","v":""},{"$f":"IF(Formula!WF23>Formula!$B$4,\"\",Formula!WF27)","v":""},{"$f":"IF(Formula!WG23>Formula!$B$4,\"\",Formula!WG27)","v":""},{"$f":"IF(Formula!WH23>Formula!$B$4,\"\",Formula!WH27)","v":""},{"$f":"IF(Formula!WI23>Formula!$B$4,\"\",Formula!WI27)","v":""},{"$f":"IF(Formula!WJ23>Formula!$B$4,\"\",Formula!WJ27)","v":""},{"$f":"IF(Formula!WK23>Formula!$B$4,\"\",Formula!WK27)","v":""},{"$f":"IF(Formula!WL23>Formula!$B$4,\"\",Formula!WL27)","v":""},{"$f":"IF(Formula!WM23>Formula!$B$4,\"\",Formula!WM27)","v":""},{"$f":"IF(Formula!WN23>Formula!$B$4,\"\",Formula!WN27)","v":""},{"$f":"IF(Formula!WO23>Formula!$B$4,\"\",Formula!WO27)","v":""},{"$f":"IF(Formula!WP23>Formula!$B$4,\"\",Formula!WP27)","v":""},{"$f":"IF(Formula!WQ23>Formula!$B$4,\"\",Formula!WQ27)","v":""},{"$f":"IF(Formula!WR23>Formula!$B$4,\"\",Formula!WR27)","v":""},{"$f":"IF(Formula!WS23>Formula!$B$4,\"\",Formula!WS27)","v":""},{"$f":"IF(Formula!WT23>Formula!$B$4,\"\",Formula!WT27)","v":""},{"$f":"IF(Formula!WU23>Formula!$B$4,\"\",Formula!WU27)","v":""},{"$f":"IF(Formula!WV23>Formula!$B$4,\"\",Formula!WV27)","v":""},{"$f":"IF(Formula!WW23>Formula!$B$4,\"\",Formula!WW27)","v":""},{"$f":"IF(Formula!WX23>Formula!$B$4,\"\",Formula!WX27)","v":""},{"$f":"IF(Formula!WY23>Formula!$B$4,\"\",Formula!WY27)","v":""},{"$f":"IF(Formula!WZ23>Formula!$B$4,\"\",Formula!WZ27)","v":""},{"$f":"IF(Formula!XA23>Formula!$B$4,\"\",Formula!XA27)","v":""},{"$f":"IF(Formula!XB23>Formula!$B$4,\"\",Formula!XB27)","v":""},{"$f":"IF(Formula!XC23>Formula!$B$4,\"\",Formula!XC27)","v":""},{"$f":"IF(Formula!XD23>Formula!$B$4,\"\",Formula!XD27)","v":""},{"$f":"IF(Formula!XE23>Formula!$B$4,\"\",Formula!XE27)","v":""},{"$f":"IF(Formula!XF23>Formula!$B$4,\"\",Formula!XF27)","v":""},{"$f":"IF(Formula!XG23>Formula!$B$4,\"\",Formula!XG27)","v":""},{"$f":"IF(Formula!XH23>Formula!$B$4,\"\",Formula!XH27)","v":""},{"$f":"IF(Formula!XI23>Formula!$B$4,\"\",Formula!XI27)","v":""},{"$f":"IF(Formula!XJ23>Formula!$B$4,\"\",Formula!XJ27)","v":""},{"$f":"IF(Formula!XK23>Formula!$B$4,\"\",Formula!XK27)","v":""},{"$f":"IF(Formula!XL23>Formula!$B$4,\"\",Formula!XL27)","v":""},{"$f":"IF(Formula!XM23>Formula!$B$4,\"\",Formula!XM27)","v":""},{"$f":"IF(Formula!XN23>Formula!$B$4,\"\",Formula!XN27)","v":""},{"$f":"IF(Formula!XO23>Formula!$B$4,\"\",Formula!XO27)","v":""},{"$f":"IF(Formula!XP23>Formula!$B$4,\"\",Formula!XP27)","v":""},{"$f":"IF(Formula!XQ23>Formula!$B$4,\"\",Formula!XQ27)","v":""},{"$f":"IF(Formula!XR23>Formula!$B$4,\"\",Formula!XR27)","v":""},{"$f":"IF(Formula!XS23>Formula!$B$4,\"\",Formula!XS27)","v":""},{"$f":"IF(Formula!XT23>Formula!$B$4,\"\",Formula!XT27)","v":""},{"$f":"IF(Formula!XU23>Formula!$B$4,\"\",Formula!XU27)","v":""},{"$f":"IF(Formula!XV23>Formula!$B$4,\"\",Formula!XV27)","v":""},{"$f":"IF(Formula!XW23>Formula!$B$4,\"\",Formula!XW27)","v":""},{"$f":"IF(Formula!XX23>Formula!$B$4,\"\",Formula!XX27)","v":""},{"$f":"IF(Formula!XY23>Formula!$B$4,\"\",Formula!XY27)","v":""},{"$f":"IF(Formula!XZ23>Formula!$B$4,\"\",Formula!XZ27)","v":""},{"$f":"IF(Formula!YA23>Formula!$B$4,\"\",Formula!YA27)","v":""},{"$f":"IF(Formula!YB23>Formula!$B$4,\"\",Formula!YB27)","v":""},{"$f":"IF(Formula!YC23>Formula!$B$4,\"\",Formula!YC27)","v":""},{"$f":"IF(Formula!YD23>Formula!$B$4,\"\",Formula!YD27)","v":""},{"$f":"IF(Formula!YE23>Formula!$B$4,\"\",Formula!YE27)","v":""},{"$f":"IF(Formula!YF23>Formula!$B$4,\"\",Formula!YF27)","v":""},{"$f":"IF(Formula!YG23>Formula!$B$4,\"\",Formula!YG27)","v":""},{"$f":"IF(Formula!YH23>Formula!$B$4,\"\",Formula!YH27)","v":""},{"$f":"IF(Formula!YI23>Formula!$B$4,\"\",Formula!YI27)","v":""},{"$f":"IF(Formula!YJ23>Formula!$B$4,\"\",Formula!YJ27)","v":""},{"$f":"IF(Formula!YK23>Formula!$B$4,\"\",Formula!YK27)","v":""},{"$f":"IF(Formula!YL23>Formula!$B$4,\"\",Formula!YL27)","v":""},{"$f":"IF(Formula!YM23>Formula!$B$4,\"\",Formula!YM27)","v":""},{"$f":"IF(Formula!YN23>Formula!$B$4,\"\",Formula!YN27)","v":""},{"$f":"IF(Formula!YO23>Formula!$B$4,\"\",Formula!YO27)","v":""},{"$f":"IF(Formula!YP23>Formula!$B$4,\"\",Formula!YP27)","v":""},{"$f":"IF(Formula!YQ23>Formula!$B$4,\"\",Formula!YQ27)","v":""},{"$f":"IF(Formula!YR23>Formula!$B$4,\"\",Formula!YR27)","v":""},{"$f":"IF(Formula!YS23>Formula!$B$4,\"\",Formula!YS27)","v":""},{"$f":"IF(Formula!YT23>Formula!$B$4,\"\",Formula!YT27)","v":""},{"$f":"IF(Formula!YU23>Formula!$B$4,\"\",Formula!YU27)","v":""},{"$f":"IF(Formula!YV23>Formula!$B$4,\"\",Formula!YV27)","v":""},{"$f":"IF(Formula!YW23>Formula!$B$4,\"\",Formula!YW27)","v":""},{"$f":"IF(Formula!YX23>Formula!$B$4,\"\",Formula!YX27)","v":""},{"$f":"IF(Formula!YY23>Formula!$B$4,\"\",Formula!YY27)","v":""},{"$f":"IF(Formula!YZ23>Formula!$B$4,\"\",Formula!YZ27)","v":""},{"$f":"IF(Formula!ZA23>Formula!$B$4,\"\",Formula!ZA27)","v":""},{"$f":"IF(Formula!ZB23>Formula!$B$4,\"\",Formula!ZB27)","v":""},{"$f":"IF(Formula!ZC23>Formula!$B$4,\"\",Formula!ZC27)","v":""},{"$f":"IF(Formula!ZD23>Formula!$B$4,\"\",Formula!ZD27)","v":""},{"$f":"IF(Formula!ZE23>Formula!$B$4,\"\",Formula!ZE27)","v":""},{"$f":"IF(Formula!ZF23>Formula!$B$4,\"\",Formula!ZF27)","v":""},{"$f":"IF(Formula!ZG23>Formula!$B$4,\"\",Formula!ZG27)","v":""},{"$f":"IF(Formula!ZH23>Formula!$B$4,\"\",Formula!ZH27)","v":""},{"$f":"IF(Formula!ZI23>Formula!$B$4,\"\",Formula!ZI27)","v":""},{"$f":"IF(Formula!ZJ23>Formula!$B$4,\"\",Formula!ZJ27)","v":""},{"$f":"IF(Formula!ZK23>Formula!$B$4,\"\",Formula!ZK27)","v":""},{"$f":"IF(Formula!ZL23>Formula!$B$4,\"\",Formula!ZL27)","v":""},{"$f":"IF(Formula!ZM23>Formula!$B$4,\"\",Formula!ZM27)","v":""},{"$f":"IF(Formula!ZN23>Formula!$B$4,\"\",Formula!ZN27)","v":""}]
[null,null,null,null,null,null,null,null,{"$f":"SUM(I10:I98)","v":0},{"$f":"SUM(J10:J98)","v":0},{"$f":"SUM(K10:K98)","v":0},{"$f":"SUM(L10:L98)","v":0},{"$f":"SUM(M10:M98)","v":0},{"$f":"IF($A$4=Formula!$A$34,IF(Formula!B23>Formula!$B$4,\"\",Formula!B26),\"\")","v":"m"},{"$f":"IF($A$4=Formula!$A$34,IF(Formula!C23>Formula!$B$4,\"\",Formula!C26),\"\")","v":"t"},{"$f":"IF($A$4=Formula!$A$34,IF(Formula!D23>Formula!$B$4,\"\",Formula!D26),\"\")","v":"o"},{"$f":"IF($A$4=Formula!$A$34,IF(Formula!E23>Formula!$B$4,\"\",Formula!E26),\"\")","v":"t"},{"$f":"IF($A$4=Formula!$A$34,IF(Formula!F23>Formula!$B$4,\"\",Formula!F26),\"\")","v":"f"},{"$f":"IF($A$4=Formula!$A$34,IF(Formula!G23>Formula!$B$4,\"\",Formula!G26),\"\")","v":"l"},{"$f":"IF($A$4=Formula!$A$34,IF(Formula!H23>Formula!$B$4,\"\",Formula!H26),\"\")","v":"s"},{"$f":"IF($A$4=Formula!$A$34,IF(Formula!I23>Formula!$B$4,\"\",Formula!I26),\"\")","v":"m"},{"$f":"IF($A$4=Formula!$A$34,IF(Formula!J23>Formula!$B$4,\"\",Formula!J26),\"\")","v":"t"},{"$f":"IF($A$4=Formula!$A$34,IF(Formula!K23>Formula!$B$4,\"\",Formula!K26),\"\")","v":"o"},{"$f":"IF($A$4=Formula!$A$34,IF(Formula!L23>Formula!$B$4,\"\",Formula!L26),\"\")","v":"t"},{"$f":"IF($A$4=Formula!$A$34,IF(Formula!M23>Formula!$B$4,\"\",Formula!M26),\"\")","v":"f"},{"$f":"IF($A$4=Formula!$A$34,IF(Formula!N23>Formula!$B$4,\"\",Formula!N26),\"\")","v":"l"},{"$f":"IF($A$4=Formula!$A$34,IF(Formula!O23>Formula!$B$4,\"\",Formula!O26),\"\")","v":"s"},{"$f":"IF($A$4=Formula!$A$34,IF(Formula!P23>Formula!$B$4,\"\",Formula!P26),\"\")","v":"m"},{"$f":"IF($A$4=Formula!$A$34,IF(Formula!Q23>Formula!$B$4,\"\",Formula!Q26),\"\")","v":"t"},{"$f":"IF($A$4=Formula!$A$34,IF(Formula!R23>Formula!$B$4,\"\",Formula!R26),\"\")","v":"o"},{"$f":"IF($A$4=Formula!$A$34,IF(Formula!S23>Formula!$B$4,\"\",Formula!S26),\"\")","v":"t"},{"$f":"IF($A$4=Formula!$A$34,IF(Formula!T23>Formula!$B$4,\"\",Formula!T26),\"\")","v":"f"},{"$f":"IF($A$4=Formula!$A$34,IF(Formula!U23>Formula!$B$4,\"\",Formula!U26),\"\")","v":"l"},{"$f":"IF($A$4=Formula!$A$34,IF(Formula!V23>Formula!$B$4,\"\",Formula!V26),\"\")","v":"s"},{"$f":"IF($A$4=Formula!$A$34,IF(Formula!W23>Formula!$B$4,\"\",Formula!W26),\"\")","v":"m"},{"$f":"IF($A$4=Formula!$A$34,IF(Formula!X23>Formula!$B$4,\"\",Formula!X26),\"\")","v":"t"},{"$f":"IF($A$4=Formula!$A$34,IF(Formula!Y23>Formula!$B$4,\"\",Formula!Y26),\"\")","v":"o"},{"$f":"IF($A$4=Formula!$A$34,IF(Formula!Z23>Formula!$B$4,\"\",Formula!Z26),\"\")","v":"t"},{"$f":"IF($A$4=Formula!$A$34,IF(Formula!AA23>Formula!$B$4,\"\",Formula!AA26),\"\")","v":"f"},{"$f":"IF($A$4=Formula!$A$34,IF(Formula!AB23>Formula!$B$4,\"\",Formula!AB26),\"\")","v":"l"},{"$f":"IF($A$4=Formula!$A$34,IF(Formula!AC23>Formula!$B$4,\"\",Formula!AC26),\"\")","v":"s"},{"$f":"IF($A$4=Formula!$A$34,IF(Formula!AD23>Formula!$B$4,\"\",Formula!AD26),\"\")","v":"m"},{"$f":"IF($A$4=Formula!$A$34,IF(Formula!AE23>Formula!$B$4,\"\",Formula!AE26),\"\")","v":"t"},{"$f":"IF($A$4=Formula!$A$34,IF(Formula!AF23>Formula!$B$4,\"\",Formula!AF26),\"\")","v":"o"},{"$f":"IF($A$4=Formula!$A$34,IF(Formula!AG23>Formula!$B$4,\"\",Formula!AG26),\"\")","v":"t"},{"$f":"IF($A$4=Formula!$A$34,IF(Formula!AH23>Formula!$B$4,\"\",Formula!AH26),\"\")","v":"f"},{"$f":"IF($A$4=Formula!$A$34,IF(Formula!AI23>Formula!$B$4,\"\",Formula!AI26),\"\")","v":"l"},{"$f":"IF($A$4=Formula!$A$34,IF(Formula!AJ23>Formula!$B$4,\"\",Formula!AJ26),\"\")","v":"s"},{"$f":"IF($A$4=Formula!$A$34,IF(Formula!AK23>Formula!$B$4,\"\",Formula!AK26),\"\")","v":"m"},{"$f":"IF($A$4=Formula!$A$34,IF(Formula!AL23>Formula!$B$4,\"\",Formula!AL26),\"\")","v":"t"},{"$f":"IF($A$4=Formula!$A$34,IF(Formula!AM23>Formula!$B$4,\"\",Formula!AM26),\"\")","v":"o"},{"$f":"IF($A$4=Formula!$A$34,IF(Formula!AN23>Formula!$B$4,\"\",Formula!AN26),\"\")","v":"t"},{"$f":"IF($A$4=Formula!$A$34,IF(Formula!AO23>Formula!$B$4,\"\",Formula!AO26),\"\")","v":"f"},{"$f":"IF($A$4=Formula!$A$34,IF(Formula!AP23>Formula!$B$4,\"\",Formula!AP26),\"\")","v":"l"},{"$f":"IF($A$4=Formula!$A$34,IF(Formula!AQ23>Formula!$B$4,\"\",Formula!AQ26),\"\")","v":"s"},{"$f":"IF($A$4=Formula!$A$34,IF(Formula!AR23>Formula!$B$4,\"\",Formula!AR26),\"\")","v":"m"},{"$f":"IF($A$4=Formula!$A$34,IF(Formula!AS23>Formula!$B$4,\"\",Formula!AS26),\"\")","v":"t"},{"$f":"IF($A$4=Formula!$A$34,IF(Formula!AT23>Formula!$B$4,\"\",Formula!AT26),\"\")","v":"o"},{"$f":"IF($A$4=Formula!$A$34,IF(Formula!AU23>Formula!$B$4,\"\",Formula!AU26),\"\")","v":"t"},{"$f":"IF($A$4=Formula!$A$34,IF(Formula!AV23>Formula!$B$4,\"\",Formula!AV26),\"\")","v":"f"},{"$f":"IF($A$4=Formula!$A$34,IF(Formula!AW23>Formula!$B$4,\"\",Formula!AW26),\"\")","v":"l"},{"$f":"IF($A$4=Formula!$A$34,IF(Formula!AX23>Formula!$B$4,\"\",Formula!AX26),\"\")","v":"s"},{"$f":"IF($A$4=Formula!$A$34,IF(Formula!AY23>Formula!$B$4,\"\",Formula!AY26),\"\")","v":"m"},{"$f":"IF($A$4=Formula!$A$34,IF(Formula!AZ23>Formula!$B$4,\"\",Formula!AZ26),\"\")","v":"t"},{"$f":"IF($A$4=Formula!$A$34,IF(Formula!BA23>Formula!$B$4,\"\",Formula!BA26),\"\")","v":"o"},{"$f":"IF($A$4=Formula!$A$34,IF(Formula!BB23>Formula!$B$4,\"\",Formula!BB26),\"\")","v":"t"},{"$f":"IF($A$4=Formula!$A$34,IF(Formula!BC23>Formula!$B$4,\"\",Formula!BC26),\"\")","v":"f"},{"$f":"IF($A$4=Formula!$A$34,IF(Formula!BD23>Formula!$B$4,\"\",Formula!BD26),\"\")","v":"l"},{"$f":"IF($A$4=Formula!$A$34,IF(Formula!BE23>Formula!$B$4,\"\",Formula!BE26),\"\")","v":"s"},{"$f":"IF($A$4=Formula!$A$34,IF(Formula!BF23>Formula!$B$4,\"\",Formula!BF26),\"\")","v":"m"},{"$f":"IF($A$4=Formula!$A$34,IF(Formula!BG23>Formula!$B$4,\"\",Formula!BG26),\"\")","v":"t"},{"$f":"IF($A$4=Formula!$A$34,IF(Formula!BH23>Formula!$B$4,\"\",Formula!BH26),\"\")","v":"o"},{"$f":"IF($A$4=Formula!$A$34,IF(Formula!BI23>Formula!$B$4,\"\",Formula!BI26),\"\")","v":"t"},{"$f":"IF($A$4=Formula!$A$34,IF(Formula!BJ23>Formula!$B$4,\"\",Formula!BJ26),\"\")","v":"f"},{"$f":"IF($A$4=Formula!$A$34,IF(Formula!BK23>Formula!$B$4,\"\",Formula!BK26),\"\")","v":"l"},{"$f":"IF($A$4=Formula!$A$34,IF(Formula!BL23>Formula!$B$4,\"\",Formula!BL26),\"\")","v":"s"},{"$f":"IF($A$4=Formula!$A$34,IF(Formula!BM23>Formula!$B$4,\"\",Formula!BM26),\"\")","v":"m"},{"$f":"IF($A$4=Formula!$A$34,IF(Formula!BN23>Formula!$B$4,\"\",Formula!BN26),\"\")","v":""},{"$f":"IF($A$4=Formula!$A$34,IF(Formula!BO23>Formula!$B$4,\"\",Formula!BO26),\"\")","v":""},{"$f":"IF($A$4=Formula!$A$34,IF(Formula!BP23>Formula!$B$4,\"\",Formula!BP26),\"\")","v":""},{"$f":"IF($A$4=Formula!$A$34,IF(Formula!BQ23>Formula!$B$4,\"\",Formula!BQ26),\"\")","v":""},{"$f":"IF($A$4=Formula!$A$34,IF(Formula!BR23>Formula!$B$4,\"\",Formula!BR26),\"\")","v":""},{"$f":"IF($A$4=Formula!$A$34,IF(Formula!BS23>Formula!$B$4,\"\",Formula!BS26),\"\")","v":""},{"$f":"IF($A$4=Formula!$A$34,IF(Formula!BT23>Formula!$B$4,\"\",Formula!BT26),\"\")","v":""},{"$f":"IF($A$4=Formula!$A$34,IF(Formula!BU23>Formula!$B$4,\"\",Formula!BU26),\"\")","v":""},{"$f":"IF($A$4=Formula!$A$34,IF(Formula!BV23>Formula!$B$4,\"\",Formula!BV26),\"\")","v":""},{"$f":"IF($A$4=Formula!$A$34,IF(Formula!BW23>Formula!$B$4,\"\",Formula!BW26),\"\")","v":""},{"$f":"IF($A$4=Formula!$A$34,IF(Formula!BX23>Formula!$B$4,\"\",Formula!BX26),\"\")","v":""},{"$f":"IF($A$4=Formula!$A$34,IF(Formula!BY23>Formula!$B$4,\"\",Formula!BY26),\"\")","v":""},{"$f":"IF($A$4=Formula!$A$34,IF(Formula!BZ23>Formula!$B$4,\"\",Formula!BZ26),\"\")","v":""},{"$f":"IF($A$4=Formula!$A$34,IF(Formula!CA23>Formula!$B$4,\"\",Formula!CA26),\"\")","v":""},{"$f":"IF($A$4=Formula!$A$34,IF(Formula!CB23>Formula!$B$4,\"\",Formula!CB26),\"\")","v":""},{"$f":"IF($A$4=Formula!$A$34,IF(Formula!CC23>Formula!$B$4,\"\",Formula!CC26),\"\")","v":""},{"$f":"IF($A$4=Formula!$A$34,IF(Formula!CD23>Formula!$B$4,\"\",Formula!CD26),\"\")","v":""},{"$f":"IF($A$4=Formula!$A$34,IF(Formula!CE23>Formula!$B$4,\"\",Formula!CE26),\"\")","v":""},{"$f":"IF($A$4=Formula!$A$34,IF(Formula!CF23>Formula!$B$4,\"\",Formula!CF26),\"\")","v":""},{"$f":"IF($A$4=Formula!$A$34,IF(Formula!CG23>Formula!$B$4,\"\",Formula!CG26),\"\")","v":""},{"$f":"IF($A$4=Formula!$A$34,IF(Formula!CH23>Formula!$B$4,\"\",Formula!CH26),\"\")","v":""},{"$f":"IF($A$4=Formula!$A$34,IF(Formula!CI23>Formula!$B$4,\"\",Formula!CI26),\"\")","v":""},{"$f":"IF($A$4=Formula!$A$34,IF(Formula!CJ23>Formula!$B$4,\"\",Formula!CJ26),\"\")","v":""},{"$f":"IF($A$4=Formula!$A$34,IF(Formula!CK23>Formula!$B$4,\"\",Formula!CK26),\"\")","v":""},{"$f":"IF($A$4=Formula!$A$34,IF(Formula!CL23>Formula!$B$4,\"\",Formula!CL26),\"\")","v":""},{"$f":"IF($A$4=Formula!$A$34,IF(Formula!CM23>Formula!$B$4,\"\",Formula!CM26),\"\")","v":""},{"$f":"IF($A$4=Formula!$A$34,IF(Formula!CN23>Formula!$B$4,\"\",Formula!CN26),\"\")","v":""},{"$f":"IF($A$4=Formula!$A$34,IF(Formula!CO23>Formula!$B$4,\"\",Formula!CO26),\"\")","v":""},{"$f":"IF($A$4=Formula!$A$34,IF(Formula!CP23>Formula!$B$4,\"\",Formula!CP26),\"\")","v":""},{"$f":"IF($A$4=Formula!$A$34,IF(Formula!CQ23>Formula!$B$4,\"\",Formula!CQ26),\"\")","v":""},{"$f":"IF($A$4=Formula!$A$34,IF(Formula!CR23>Formula!$B$4,\"\",Formula!CR26),\"\")","v":""},{"$f":"IF($A$4=Formula!$A$34,IF(Formula!CS23>Formula!$B$4,\"\",Formula!CS26),\"\")","v":""},{"$f":"IF($A$4=Formula!$A$34,IF(Formula!CT23>Formula!$B$4,\"\",Formula!CT26),\"\")","v":""},{"$f":"IF($A$4=Formula!$A$34,IF(Formula!CU23>Formula!$B$4,\"\",Formula!CU26),\"\")","v":""},{"$f":"IF($A$4=Formula!$A$34,IF(Formula!CV23>Formula!$B$4,\"\",Formula!CV26),\"\")","v":""},{"$f":"IF($A$4=Formula!$A$34,IF(Formula!CW23>Formula!$B$4,\"\",Formula!CW26),\"\")","v":""},{"$f":"IF($A$4=Formula!$A$34,IF(Formula!CX23>Formula!$B$4,\"\",Formula!CX26),\"\")","v":""},{"$f":"IF($A$4=Formula!$A$34,IF(Formula!CY23>Formula!$B$4,\"\",Formula!CY26),\"\")","v":""},{"$f":"IF($A$4=Formula!$A$34,IF(Formula!CZ23>Formula!$B$4,\"\",Formula!CZ26),\"\")","v":""},{"$f":"IF($A$4=Formula!$A$34,IF(Formula!DA23>Formula!$B$4,\"\",Formula!DA26),\"\")","v":""},{"$f":"IF($A$4=Formula!$A$34,IF(Formula!DB23>Formula!$B$4,\"\",Formula!DB26),\"\")","v":""},{"$f":"IF($A$4=Formula!$A$34,IF(Formula!DC23>Formula!$B$4,\"\",Formula!DC26),\"\")","v":""},{"$f":"IF($A$4=Formula!$A$34,IF(Formula!DD23>Formula!$B$4,\"\",Formula!DD26),\"\")","v":""},{"$f":"IF($A$4=Formula!$A$34,IF(Formula!DE23>Formula!$B$4,\"\",Formula!DE26),\"\")","v":""},{"$f":"IF($A$4=Formula!$A$34,IF(Formula!DF23>Formula!$B$4,\"\",Formula!DF26),\"\")","v":""},{"$f":"IF($A$4=Formula!$A$34,IF(Formula!DG23>Formula!$B$4,\"\",Formula!DG26),\"\")","v":""},{"$f":"IF($A$4=Formula!$A$34,IF(Formula!DH23>Formula!$B$4,\"\",Formula!DH26),\"\")","v":""},{"$f":"IF($A$4=Formula!$A$34,IF(Formula!DI23>Formula!$B$4,\"\",Formula!DI26),\"\")","v":""},{"$f":"IF($A$4=Formula!$A$34,IF(Formula!DJ23>Formula!$B$4,\"\",Formula!DJ26),\"\")","v":""},{"$f":"IF($A$4=Formula!$A$34,IF(Formula!DK23>Formula!$B$4,\"\",Formula!DK26),\"\")","v":""},{"$f":"IF($A$4=Formula!$A$34,IF(Formula!DL23>Formula!$B$4,\"\",Formula!DL26),\"\")","v":""},{"$f":"IF($A$4=Formula!$A$34,IF(Formula!DM23>Formula!$B$4,\"\",Formula!DM26),\"\")","v":""},{"$f":"IF($A$4=Formula!$A$34,IF(Formula!DN23>Formula!$B$4,\"\",Formula!DN26),\"\")","v":""},{"$f":"IF($A$4=Formula!$A$34,IF(Formula!DO23>Formula!$B$4,\"\",Formula!DO26),\"\")","v":""},{"$f":"IF($A$4=Formula!$A$34,IF(Formula!DP23>Formula!$B$4,\"\",Formula!DP26),\"\")","v":""},{"$f":"IF($A$4=Formula!$A$34,IF(Formula!DQ23>Formula!$B$4,\"\",Formula!DQ26),\"\")","v":""},{"$f":"IF($A$4=Formula!$A$34,IF(Formula!DR23>Formula!$B$4,\"\",Formula!DR26),\"\")","v":""},{"$f":"IF($A$4=Formula!$A$34,IF(Formula!DS23>Formula!$B$4,\"\",Formula!DS26),\"\")","v":""},{"$f":"IF($A$4=Formula!$A$34,IF(Formula!DT23>Formula!$B$4,\"\",Formula!DT26),\"\")","v":""},{"$f":"IF($A$4=Formula!$A$34,IF(Formula!DU23>Formula!$B$4,\"\",Formula!DU26),\"\")","v":""},{"$f":"IF($A$4=Formula!$A$34,IF(Formula!DV23>Formula!$B$4,\"\",Formula!DV26),\"\")","v":""},{"$f":"IF($A$4=Formula!$A$34,IF(Formula!DW23>Formula!$B$4,\"\",Formula!DW26),\"\")","v":""},{"$f":"IF($A$4=Formula!$A$34,IF(Formula!DX23>Formula!$B$4,\"\",Formula!DX26),\"\")","v":""},{"$f":"IF($A$4=Formula!$A$34,IF(Formula!DY23>Formula!$B$4,\"\",Formula!DY26),\"\")","v":""},{"$f":"IF($A$4=Formula!$A$34,IF(Formula!DZ23>Formula!$B$4,\"\",Formula!DZ26),\"\")","v":""},{"$f":"IF($A$4=Formula!$A$34,IF(Formula!EA23>Formula!$B$4,\"\",Formula!EA26),\"\")","v":""},{"$f":"IF($A$4=Formula!$A$34,IF(Formula!EB23>Formula!$B$4,\"\",Formula!EB26),\"\")","v":""},{"$f":"IF($A$4=Formula!$A$34,IF(Formula!EC23>Formula!$B$4,\"\",Formula!EC26),\"\")","v":""},{"$f":"IF($A$4=Formula!$A$34,IF(Formula!ED23>Formula!$B$4,\"\",Formula!ED26),\"\")","v":""},{"$f":"IF($A$4=Formula!$A$34,IF(Formula!EE23>Formula!$B$4,\"\",Formula!EE26),\"\")","v":""},{"$f":"IF($A$4=Formula!$A$34,IF(Formula!EF23>Formula!$B$4,\"\",Formula!EF26),\"\")","v":""},{"$f":"IF($A$4=Formula!$A$34,IF(Formula!EG23>Formula!$B$4,\"\",Formula!EG26),\"\")","v":""},{"$f":"IF($A$4=Formula!$A$34,IF(Formula!EH23>Formula!$B$4,\"\",Formula!EH26),\"\")","v":""},{"$f":"IF($A$4=Formula!$A$34,IF(Formula!EI23>Formula!$B$4,\"\",Formula!EI26),\"\")","v":""},{"$f":"IF($A$4=Formula!$A$34,IF(Formula!EJ23>Formula!$B$4,\"\",Formula!EJ26),\"\")","v":""},{"$f":"IF($A$4=Formula!$A$34,IF(Formula!EK23>Formula!$B$4,\"\",Formula!EK26),\"\")","v":""},{"$f":"IF($A$4=Formula!$A$34,IF(Formula!EL23>Formula!$B$4,\"\",Formula!EL26),\"\")","v":""},{"$f":"IF($A$4=Formula!$A$34,IF(Formula!EM23>Formula!$B$4,\"\",Formula!EM26),\"\")","v":""},{"$f":"IF($A$4=Formula!$A$34,IF(Formula!EN23>Formula!$B$4,\"\",Formula!EN26),\"\")","v":""},{"$f":"IF($A$4=Formula!$A$34,IF(Formula!EO23>Formula!$B$4,\"\",Formula!EO26),\"\")","v":""},{"$f":"IF($A$4=Formula!$A$34,IF(Formula!EP23>Formula!$B$4,\"\",Formula!EP26),\"\")","v":""},{"$f":"IF($A$4=Formula!$A$34,IF(Formula!EQ23>Formula!$B$4,\"\",Formula!EQ26),\"\")","v":""},{"$f":"IF($A$4=Formula!$A$34,IF(Formula!ER23>Formula!$B$4,\"\",Formula!ER26),\"\")","v":""},{"$f":"IF($A$4=Formula!$A$34,IF(Formula!ES23>Formula!$B$4,\"\",Formula!ES26),\"\")","v":""},{"$f":"IF($A$4=Formula!$A$34,IF(Formula!ET23>Formula!$B$4,\"\",Formula!ET26),\"\")","v":""},{"$f":"IF($A$4=Formula!$A$34,IF(Formula!EU23>Formula!$B$4,\"\",Formula!EU26),\"\")","v":""},{"$f":"IF($A$4=Formula!$A$34,IF(Formula!EV23>Formula!$B$4,\"\",Formula!EV26),\"\")","v":""},{"$f":"IF($A$4=Formula!$A$34,IF(Formula!EW23>Formula!$B$4,\"\",Formula!EW26),\"\")","v":""},{"$f":"IF($A$4=Formula!$A$34,IF(Formula!EX23>Formula!$B$4,\"\",Formula!EX26),\"\")","v":""},{"$f":"IF($A$4=Formula!$A$34,IF(Formula!EY23>Formula!$B$4,\"\",Formula!EY26),\"\")","v":""},{"$f":"IF($A$4=Formula!$A$34,IF(Formula!EZ23>Formula!$B$4,\"\",Formula!EZ26),\"\")","v":""},{"$f":"IF($A$4=Formula!$A$34,IF(Formula!FA23>Formula!$B$4,\"\",Formula!FA26),\"\")","v":""},{"$f":"IF($A$4=Formula!$A$34,IF(Formula!FB23>Formula!$B$4,\"\",Formula!FB26),\"\")","v":""},{"$f":"IF($A$4=Formula!$A$34,IF(Formula!FC23>Formula!$B$4,\"\",Formula!FC26),\"\")","v":""},{"$f":"IF($A$4=Formula!$A$34,IF(Formula!FD23>Formula!$B$4,\"\",Formula!FD26),\"\")","v":""},{"$f":"IF($A$4=Formula!$A$34,IF(Formula!FE23>Formula!$B$4,\"\",Formula!FE26),\"\")","v":""},{"$f":"IF($A$4=Formula!$A$34,IF(Formula!FF23>Formula!$B$4,\"\",Formula!FF26),\"\")","v":""},{"$f":"IF($A$4=Formula!$A$34,IF(Formula!FG23>Formula!$B$4,\"\",Formula!FG26),\"\")","v":""},{"$f":"IF($A$4=Formula!$A$34,IF(Formula!FH23>Formula!$B$4,\"\",Formula!FH26),\"\")","v":""},{"$f":"IF($A$4=Formula!$A$34,IF(Formula!FI23>Formula!$B$4,\"\",Formula!FI26),\"\")","v":""},{"$f":"IF($A$4=Formula!$A$34,IF(Formula!FJ23>Formula!$B$4,\"\",Formula!FJ26),\"\")","v":""},{"$f":"IF($A$4=Formula!$A$34,IF(Formula!FK23>Formula!$B$4,\"\",Formula!FK26),\"\")","v":""},{"$f":"IF($A$4=Formula!$A$34,IF(Formula!FL23>Formula!$B$4,\"\",Formula!FL26),\"\")","v":""},{"$f":"IF($A$4=Formula!$A$34,IF(Formula!FM23>Formula!$B$4,\"\",Formula!FM26),\"\")","v":""},{"$f":"IF($A$4=Formula!$A$34,IF(Formula!FN23>Formula!$B$4,\"\",Formula!FN26),\"\")","v":""},{"$f":"IF($A$4=Formula!$A$34,IF(Formula!FO23>Formula!$B$4,\"\",Formula!FO26),\"\")","v":""},{"$f":"IF($A$4=Formula!$A$34,IF(Formula!FP23>Formula!$B$4,\"\",Formula!FP26),\"\")","v":""},{"$f":"IF($A$4=Formula!$A$34,IF(Formula!FQ23>Formula!$B$4,\"\",Formula!FQ26),\"\")","v":""},{"$f":"IF($A$4=Formula!$A$34,IF(Formula!FR23>Formula!$B$4,\"\",Formula!FR26),\"\")","v":""},{"$f":"IF($A$4=Formula!$A$34,IF(Formula!FS23>Formula!$B$4,\"\",Formula!FS26),\"\")","v":""},{"$f":"IF($A$4=Formula!$A$34,IF(Formula!FT23>Formula!$B$4,\"\",Formula!FT26),\"\")","v":""},{"$f":"IF($A$4=Formula!$A$34,IF(Formula!FU23>Formula!$B$4,\"\",Formula!FU26),\"\")","v":""},{"$f":"IF($A$4=Formula!$A$34,IF(Formula!FV23>Formula!$B$4,\"\",Formula!FV26),\"\")","v":""},{"$f":"IF($A$4=Formula!$A$34,IF(Formula!FW23>Formula!$B$4,\"\",Formula!FW26),\"\")","v":""},{"$f":"IF($A$4=Formula!$A$34,IF(Formula!FX23>Formula!$B$4,\"\",Formula!FX26),\"\")","v":""},{"$f":"IF($A$4=Formula!$A$34,IF(Formula!FY23>Formula!$B$4,\"\",Formula!FY26),\"\")","v":""},{"$f":"IF($A$4=Formula!$A$34,IF(Formula!FZ23>Formula!$B$4,\"\",Formula!FZ26),\"\")","v":""},{"$f":"IF($A$4=Formula!$A$34,IF(Formula!GA23>Formula!$B$4,\"\",Formula!GA26),\"\")","v":""},{"$f":"IF($A$4=Formula!$A$34,IF(Formula!GB23>Formula!$B$4,\"\",Formula!GB26),\"\")","v":""},{"$f":"IF($A$4=Formula!$A$34,IF(Formula!GC23>Formula!$B$4,\"\",Formula!GC26),\"\")","v":""},{"$f":"IF($A$4=Formula!$A$34,IF(Formula!GD23>Formula!$B$4,\"\",Formula!GD26),\"\")","v":""},{"$f":"IF($A$4=Formula!$A$34,IF(Formula!GE23>Formula!$B$4,\"\",Formula!GE26),\"\")","v":""},{"$f":"IF($A$4=Formula!$A$34,IF(Formula!GF23>Formula!$B$4,\"\",Formula!GF26),\"\")","v":""},{"$f":"IF($A$4=Formula!$A$34,IF(Formula!GG23>Formula!$B$4,\"\",Formula!GG26),\"\")","v":""},{"$f":"IF($A$4=Formula!$A$34,IF(Formula!GH23>Formula!$B$4,\"\",Formula!GH26),\"\")","v":""},{"$f":"IF($A$4=Formula!$A$34,IF(Formula!GI23>Formula!$B$4,\"\",Formula!GI26),\"\")","v":""},{"$f":"IF($A$4=Formula!$A$34,IF(Formula!GJ23>Formula!$B$4,\"\",Formula!GJ26),\"\")","v":""},{"$f":"IF($A$4=Formula!$A$34,IF(Formula!GK23>Formula!$B$4,\"\",Formula!GK26),\"\")","v":""},{"$f":"IF($A$4=Formula!$A$34,IF(Formula!GL23>Formula!$B$4,\"\",Formula!GL26),\"\")","v":""},{"$f":"IF($A$4=Formula!$A$34,IF(Formula!GM23>Formula!$B$4,\"\",Formula!GM26),\"\")","v":""},{"$f":"IF($A$4=Formula!$A$34,IF(Formula!GN23>Formula!$B$4,\"\",Formula!GN26),\"\")","v":""},{"$f":"IF($A$4=Formula!$A$34,IF(Formula!GO23>Formula!$B$4,\"\",Formula!GO26),\"\")","v":""},{"$f":"IF($A$4=Formula!$A$34,IF(Formula!GP23>Formula!$B$4,\"\",Formula!GP26),\"\")","v":""},{"$f":"IF($A$4=Formula!$A$34,IF(Formula!GQ23>Formula!$B$4,\"\",Formula!GQ26),\"\")","v":""},{"$f":"IF($A$4=Formula!$A$34,IF(Formula!GR23>Formula!$B$4,\"\",Formula!GR26),\"\")","v":""},{"$f":"IF($A$4=Formula!$A$34,IF(Formula!GS23>Formula!$B$4,\"\",Formula!GS26),\"\")","v":""},{"$f":"IF($A$4=Formula!$A$34,IF(Formula!GT23>Formula!$B$4,\"\",Formula!GT26),\"\")","v":""},{"$f":"IF($A$4=Formula!$A$34,IF(Formula!GU23>Formula!$B$4,\"\",Formula!GU26),\"\")","v":""},{"$f":"IF($A$4=Formula!$A$34,IF(Formula!GV23>Formula!$B$4,\"\",Formula!GV26),\"\")","v":""},{"$f":"IF($A$4=Formula!$A$34,IF(Formula!GW23>Formula!$B$4,\"\",Formula!GW26),\"\")","v":""},{"$f":"IF($A$4=Formula!$A$34,IF(Formula!GX23>Formula!$B$4,\"\",Formula!GX26),\"\")","v":""},{"$f":"IF($A$4=Formula!$A$34,IF(Formula!GY23>Formula!$B$4,\"\",Formula!GY26),\"\")","v":""},{"$f":"IF($A$4=Formula!$A$34,IF(Formula!GZ23>Formula!$B$4,\"\",Formula!GZ26),\"\")","v":""},{"$f":"IF($A$4=Formula!$A$34,IF(Formula!HA23>Formula!$B$4,\"\",Formula!HA26),\"\")","v":""},{"$f":"IF($A$4=Formula!$A$34,IF(Formula!HB23>Formula!$B$4,\"\",Formula!HB26),\"\")","v":""},{"$f":"IF($A$4=Formula!$A$34,IF(Formula!HC23>Formula!$B$4,\"\",Formula!HC26),\"\")","v":""},{"$f":"IF($A$4=Formula!$A$34,IF(Formula!HD23>Formula!$B$4,\"\",Formula!HD26),\"\")","v":""},{"$f":"IF($A$4=Formula!$A$34,IF(Formula!HE23>Formula!$B$4,\"\",Formula!HE26),\"\")","v":""},{"$f":"IF($A$4=Formula!$A$34,IF(Formula!HF23>Formula!$B$4,\"\",Formula!HF26),\"\")","v":""},{"$f":"IF($A$4=Formula!$A$34,IF(Formula!HG23>Formula!$B$4,\"\",Formula!HG26),\"\")","v":""},{"$f":"IF($A$4=Formula!$A$34,IF(Formula!HH23>Formula!$B$4,\"\",Formula!HH26),\"\")","v":""},{"$f":"IF($A$4=Formula!$A$34,IF(Formula!HI23>Formula!$B$4,\"\",Formula!HI26),\"\")","v":""},{"$f":"IF($A$4=Formula!$A$34,IF(Formula!HJ23>Formula!$B$4,\"\",Formula!HJ26),\"\")","v":""},{"$f":"IF($A$4=Formula!$A$34,IF(Formula!HK23>Formula!$B$4,\"\",Formula!HK26),\"\")","v":""},{"$f":"IF($A$4=Formula!$A$34,IF(Formula!HL23>Formula!$B$4,\"\",Formula!HL26),\"\")","v":""},{"$f":"IF($A$4=Formula!$A$34,IF(Formula!HM23>Formula!$B$4,\"\",Formula!HM26),\"\")","v":""},{"$f":"IF($A$4=Formula!$A$34,IF(Formula!HN23>Formula!$B$4,\"\",Formula!HN26),\"\")","v":""},{"$f":"IF($A$4=Formula!$A$34,IF(Formula!HO23>Formula!$B$4,\"\",Formula!HO26),\"\")","v":""},{"$f":"IF($A$4=Formula!$A$34,IF(Formula!HP23>Formula!$B$4,\"\",Formula!HP26),\"\")","v":""},{"$f":"IF($A$4=Formula!$A$34,IF(Formula!HQ23>Formula!$B$4,\"\",Formula!HQ26),\"\")","v":""},{"$f":"IF($A$4=Formula!$A$34,IF(Formula!HR23>Formula!$B$4,\"\",Formula!HR26),\"\")","v":""},{"$f":"IF($A$4=Formula!$A$34,IF(Formula!HS23>Formula!$B$4,\"\",Formula!HS26),\"\")","v":""},{"$f":"IF($A$4=Formula!$A$34,IF(Formula!HT23>Formula!$B$4,\"\",Formula!HT26),\"\")","v":""},{"$f":"IF($A$4=Formula!$A$34,IF(Formula!HU23>Formula!$B$4,\"\",Formula!HU26),\"\")","v":""},{"$f":"IF($A$4=Formula!$A$34,IF(Formula!HV23>Formula!$B$4,\"\",Formula!HV26),\"\")","v":""},{"$f":"IF($A$4=Formula!$A$34,IF(Formula!HW23>Formula!$B$4,\"\",Formula!HW26),\"\")","v":""},{"$f":"IF($A$4=Formula!$A$34,IF(Formula!HX23>Formula!$B$4,\"\",Formula!HX26),\"\")","v":""},{"$f":"IF($A$4=Formula!$A$34,IF(Formula!HY23>Formula!$B$4,\"\",Formula!HY26),\"\")","v":""},{"$f":"IF($A$4=Formula!$A$34,IF(Formula!HZ23>Formula!$B$4,\"\",Formula!HZ26),\"\")","v":""},{"$f":"IF($A$4=Formula!$A$34,IF(Formula!IA23>Formula!$B$4,\"\",Formula!IA26),\"\")","v":""},{"$f":"IF($A$4=Formula!$A$34,IF(Formula!IB23>Formula!$B$4,\"\",Formula!IB26),\"\")","v":""},{"$f":"IF($A$4=Formula!$A$34,IF(Formula!IC23>Formula!$B$4,\"\",Formula!IC26),\"\")","v":""},{"$f":"IF($A$4=Formula!$A$34,IF(Formula!ID23>Formula!$B$4,\"\",Formula!ID26),\"\")","v":""},{"$f":"IF($A$4=Formula!$A$34,IF(Formula!IE23>Formula!$B$4,\"\",Formula!IE26),\"\")","v":""},{"$f":"IF($A$4=Formula!$A$34,IF(Formula!IF23>Formula!$B$4,\"\",Formula!IF26),\"\")","v":""},{"$f":"IF($A$4=Formula!$A$34,IF(Formula!IG23>Formula!$B$4,\"\",Formula!IG26),\"\")","v":""},{"$f":"IF($A$4=Formula!$A$34,IF(Formula!IH23>Formula!$B$4,\"\",Formula!IH26),\"\")","v":""},{"$f":"IF($A$4=Formula!$A$34,IF(Formula!II23>Formula!$B$4,\"\",Formula!II26),\"\")","v":""},{"$f":"IF($A$4=Formula!$A$34,IF(Formula!IJ23>Formula!$B$4,\"\",Formula!IJ26),\"\")","v":""},{"$f":"IF($A$4=Formula!$A$34,IF(Formula!IK23>Formula!$B$4,\"\",Formula!IK26),\"\")","v":""},{"$f":"IF($A$4=Formula!$A$34,IF(Formula!IL23>Formula!$B$4,\"\",Formula!IL26),\"\")","v":""},{"$f":"IF($A$4=Formula!$A$34,IF(Formula!IM23>Formula!$B$4,\"\",Formula!IM26),\"\")","v":""},{"$f":"IF($A$4=Formula!$A$34,IF(Formula!IN23>Formula!$B$4,\"\",Formula!IN26),\"\")","v":""},{"$f":"IF($A$4=Formula!$A$34,IF(Formula!IO23>Formula!$B$4,\"\",Formula!IO26),\"\")","v":""},{"$f":"IF($A$4=Formula!$A$34,IF(Formula!IP23>Formula!$B$4,\"\",Formula!IP26),\"\")","v":""},{"$f":"IF($A$4=Formula!$A$34,IF(Formula!IQ23>Formula!$B$4,\"\",Formula!IQ26),\"\")","v":""},{"$f":"IF($A$4=Formula!$A$34,IF(Formula!IR23>Formula!$B$4,\"\",Formula!IR26),\"\")","v":""},{"$f":"IF($A$4=Formula!$A$34,IF(Formula!IS23>Formula!$B$4,\"\",Formula!IS26),\"\")","v":""},{"$f":"IF($A$4=Formula!$A$34,IF(Formula!IT23>Formula!$B$4,\"\",Formula!IT26),\"\")","v":""},{"$f":"IF($A$4=Formula!$A$34,IF(Formula!IU23>Formula!$B$4,\"\",Formula!IU26),\"\")","v":""},{"$f":"IF($A$4=Formula!$A$34,IF(Formula!IV23>Formula!$B$4,\"\",Formula!IV26),\"\")","v":""},{"$f":"IF($A$4=Formula!$A$34,IF(Formula!IW23>Formula!$B$4,\"\",Formula!IW26),\"\")","v":""},{"$f":"IF($A$4=Formula!$A$34,IF(Formula!IX23>Formula!$B$4,\"\",Formula!IX26),\"\")","v":""},{"$f":"IF($A$4=Formula!$A$34,IF(Formula!IY23>Formula!$B$4,\"\",Formula!IY26),\"\")","v":""},{"$f":"IF($A$4=Formula!$A$34,IF(Formula!IZ23>Formula!$B$4,\"\",Formula!IZ26),\"\")","v":""},{"$f":"IF($A$4=Formula!$A$34,IF(Formula!JA23>Formula!$B$4,\"\",Formula!JA26),\"\")","v":""},{"$f":"IF($A$4=Formula!$A$34,IF(Formula!JB23>Formula!$B$4,\"\",Formula!JB26),\"\")","v":""},{"$f":"IF($A$4=Formula!$A$34,IF(Formula!JC23>Formula!$B$4,\"\",Formula!JC26),\"\")","v":""},{"$f":"IF($A$4=Formula!$A$34,IF(Formula!JD23>Formula!$B$4,\"\",Formula!JD26),\"\")","v":""},{"$f":"IF($A$4=Formula!$A$34,IF(Formula!JE23>Formula!$B$4,\"\",Formula!JE26),\"\")","v":""},{"$f":"IF($A$4=Formula!$A$34,IF(Formula!JF23>Formula!$B$4,\"\",Formula!JF26),\"\")","v":""},{"$f":"IF($A$4=Formula!$A$34,IF(Formula!JG23>Formula!$B$4,\"\",Formula!JG26),\"\")","v":""},{"$f":"IF($A$4=Formula!$A$34,IF(Formula!JH23>Formula!$B$4,\"\",Formula!JH26),\"\")","v":""},{"$f":"IF($A$4=Formula!$A$34,IF(Formula!JI23>Formula!$B$4,\"\",Formula!JI26),\"\")","v":""},{"$f":"IF($A$4=Formula!$A$34,IF(Formula!JJ23>Formula!$B$4,\"\",Formula!JJ26),\"\")","v":""},{"$f":"IF($A$4=Formula!$A$34,IF(Formula!JK23>Formula!$B$4,\"\",Formula!JK26),\"\")","v":""},{"$f":"IF($A$4=Formula!$A$34,IF(Formula!JL23>Formula!$B$4,\"\",Formula!JL26),\"\")","v":""},{"$f":"IF($A$4=Formula!$A$34,IF(Formula!JM23>Formula!$B$4,\"\",Formula!JM26),\"\")","v":""},{"$f":"IF($A$4=Formula!$A$34,IF(Formula!JN23>Formula!$B$4,\"\",Formula!JN26),\"\")","v":""},{"$f":"IF($A$4=Formula!$A$34,IF(Formula!JO23>Formula!$B$4,\"\",Formula!JO26),\"\")","v":""},{"$f":"IF($A$4=Formula!$A$34,IF(Formula!JP23>Formula!$B$4,\"\",Formula!JP26),\"\")","v":""},{"$f":"IF($A$4=Formula!$A$34,IF(Formula!JQ23>Formula!$B$4,\"\",Formula!JQ26),\"\")","v":""},{"$f":"IF($A$4=Formula!$A$34,IF(Formula!JR23>Formula!$B$4,\"\",Formula!JR26),\"\")","v":""},{"$f":"IF($A$4=Formula!$A$34,IF(Formula!JS23>Formula!$B$4,\"\",Formula!JS26),\"\")","v":""},{"$f":"IF($A$4=Formula!$A$34,IF(Formula!JT23>Formula!$B$4,\"\",Formula!JT26),\"\")","v":""},{"$f":"IF($A$4=Formula!$A$34,IF(Formula!JU23>Formula!$B$4,\"\",Formula!JU26),\"\")","v":""},{"$f":"IF($A$4=Formula!$A$34,IF(Formula!JV23>Formula!$B$4,\"\",Formula!JV26),\"\")","v":""},{"$f":"IF($A$4=Formula!$A$34,IF(Formula!JW23>Formula!$B$4,\"\",Formula!JW26),\"\")","v":""},{"$f":"IF($A$4=Formula!$A$34,IF(Formula!JX23>Formula!$B$4,\"\",Formula!JX26),\"\")","v":""},{"$f":"IF($A$4=Formula!$A$34,IF(Formula!JY23>Formula!$B$4,\"\",Formula!JY26),\"\")","v":""},{"$f":"IF($A$4=Formula!$A$34,IF(Formula!JZ23>Formula!$B$4,\"\",Formula!JZ26),\"\")","v":""},{"$f":"IF($A$4=Formula!$A$34,IF(Formula!KA23>Formula!$B$4,\"\",Formula!KA26),\"\")","v":""},{"$f":"IF($A$4=Formula!$A$34,IF(Formula!KB23>Formula!$B$4,\"\",Formula!KB26),\"\")","v":""},{"$f":"IF($A$4=Formula!$A$34,IF(Formula!KC23>Formula!$B$4,\"\",Formula!KC26),\"\")","v":""},{"$f":"IF($A$4=Formula!$A$34,IF(Formula!KD23>Formula!$B$4,\"\",Formula!KD26),\"\")","v":""},{"$f":"IF($A$4=Formula!$A$34,IF(Formula!KE23>Formula!$B$4,\"\",Formula!KE26),\"\")","v":""},{"$f":"IF($A$4=Formula!$A$34,IF(Formula!KF23>Formula!$B$4,\"\",Formula!KF26),\"\")","v":""},{"$f":"IF($A$4=Formula!$A$34,IF(Formula!KG23>Formula!$B$4,\"\",Formula!KG26),\"\")","v":""},{"$f":"IF($A$4=Formula!$A$34,IF(Formula!KH23>Formula!$B$4,\"\",Formula!KH26),\"\")","v":""},{"$f":"IF($A$4=Formula!$A$34,IF(Formula!KI23>Formula!$B$4,\"\",Formula!KI26),\"\")","v":""},{"$f":"IF($A$4=Formula!$A$34,IF(Formula!KJ23>Formula!$B$4,\"\",Formula!KJ26),\"\")","v":""},{"$f":"IF($A$4=Formula!$A$34,IF(Formula!KK23>Formula!$B$4,\"\",Formula!KK26),\"\")","v":""},{"$f":"IF($A$4=Formula!$A$34,IF(Formula!KL23>Formula!$B$4,\"\",Formula!KL26),\"\")","v":""},{"$f":"IF($A$4=Formula!$A$34,IF(Formula!KM23>Formula!$B$4,\"\",Formula!KM26),\"\")","v":""},{"$f":"IF($A$4=Formula!$A$34,IF(Formula!KN23>Formula!$B$4,\"\",Formula!KN26),\"\")","v":""},{"$f":"IF($A$4=Formula!$A$34,IF(Formula!KO23>Formula!$B$4,\"\",Formula!KO26),\"\")","v":""},{"$f":"IF($A$4=Formula!$A$34,IF(Formula!KP23>Formula!$B$4,\"\",Formula!KP26),\"\")","v":""},{"$f":"IF($A$4=Formula!$A$34,IF(Formula!KQ23>Formula!$B$4,\"\",Formula!KQ26),\"\")","v":""},{"$f":"IF($A$4=Formula!$A$34,IF(Formula!KR23>Formula!$B$4,\"\",Formula!KR26),\"\")","v":""},{"$f":"IF($A$4=Formula!$A$34,IF(Formula!KS23>Formula!$B$4,\"\",Formula!KS26),\"\")","v":""},{"$f":"IF($A$4=Formula!$A$34,IF(Formula!KT23>Formula!$B$4,\"\",Formula!KT26),\"\")","v":""},{"$f":"IF($A$4=Formula!$A$34,IF(Formula!KU23>Formula!$B$4,\"\",Formula!KU26),\"\")","v":""},{"$f":"IF($A$4=Formula!$A$34,IF(Formula!KV23>Formula!$B$4,\"\",Formula!KV26),\"\")","v":""},{"$f":"IF($A$4=Formula!$A$34,IF(Formula!KW23>Formula!$B$4,\"\",Formula!KW26),\"\")","v":""},{"$f":"IF($A$4=Formula!$A$34,IF(Formula!KX23>Formula!$B$4,\"\",Formula!KX26),\"\")","v":""},{"$f":"IF($A$4=Formula!$A$34,IF(Formula!KY23>Formula!$B$4,\"\",Formula!KY26),\"\")","v":""},{"$f":"IF($A$4=Formula!$A$34,IF(Formula!KZ23>Formula!$B$4,\"\",Formula!KZ26),\"\")","v":""},{"$f":"IF($A$4=Formula!$A$34,IF(Formula!LA23>Formula!$B$4,\"\",Formula!LA26),\"\")","v":""},{"$f":"IF($A$4=Formula!$A$34,IF(Formula!LB23>Formula!$B$4,\"\",Formula!LB26),\"\")","v":""},{"$f":"IF($A$4=Formula!$A$34,IF(Formula!LC23>Formula!$B$4,\"\",Formula!LC26),\"\")","v":""},{"$f":"IF($A$4=Formula!$A$34,IF(Formula!LD23>Formula!$B$4,\"\",Formula!LD26),\"\")","v":""},{"$f":"IF($A$4=Formula!$A$34,IF(Formula!LE23>Formula!$B$4,\"\",Formula!LE26),\"\")","v":""},{"$f":"IF($A$4=Formula!$A$34,IF(Formula!LF23>Formula!$B$4,\"\",Formula!LF26),\"\")","v":""},{"$f":"IF($A$4=Formula!$A$34,IF(Formula!LG23>Formula!$B$4,\"\",Formula!LG26),\"\")","v":""},{"$f":"IF($A$4=Formula!$A$34,IF(Formula!LH23>Formula!$B$4,\"\",Formula!LH26),\"\")","v":""},{"$f":"IF($A$4=Formula!$A$34,IF(Formula!LI23>Formula!$B$4,\"\",Formula!LI26),\"\")","v":""},{"$f":"IF($A$4=Formula!$A$34,IF(Formula!LJ23>Formula!$B$4,\"\",Formula!LJ26),\"\")","v":""},{"$f":"IF($A$4=Formula!$A$34,IF(Formula!LK23>Formula!$B$4,\"\",Formula!LK26),\"\")","v":""},{"$f":"IF($A$4=Formula!$A$34,IF(Formula!LL23>Formula!$B$4,\"\",Formula!LL26),\"\")","v":""},{"$f":"IF($A$4=Formula!$A$34,IF(Formula!LM23>Formula!$B$4,\"\",Formula!LM26),\"\")","v":""},{"$f":"IF($A$4=Formula!$A$34,IF(Formula!LN23>Formula!$B$4,\"\",Formula!LN26),\"\")","v":""},{"$f":"IF($A$4=Formula!$A$34,IF(Formula!LO23>Formula!$B$4,\"\",Formula!LO26),\"\")","v":""},{"$f":"IF($A$4=Formula!$A$34,IF(Formula!LP23>Formula!$B$4,\"\",Formula!LP26),\"\")","v":""},{"$f":"IF($A$4=Formula!$A$34,IF(Formula!LQ23>Formula!$B$4,\"\",Formula!LQ26),\"\")","v":""},{"$f":"IF($A$4=Formula!$A$34,IF(Formula!LR23>Formula!$B$4,\"\",Formula!LR26),\"\")","v":""},{"$f":"IF($A$4=Formula!$A$34,IF(Formula!LS23>Formula!$B$4,\"\",Formula!LS26),\"\")","v":""},{"$f":"IF($A$4=Formula!$A$34,IF(Formula!LT23>Formula!$B$4,\"\",Formula!LT26),\"\")","v":""},{"$f":"IF($A$4=Formula!$A$34,IF(Formula!LU23>Formula!$B$4,\"\",Formula!LU26),\"\")","v":""},{"$f":"IF($A$4=Formula!$A$34,IF(Formula!LV23>Formula!$B$4,\"\",Formula!LV26),\"\")","v":""},{"$f":"IF($A$4=Formula!$A$34,IF(Formula!LW23>Formula!$B$4,\"\",Formula!LW26),\"\")","v":""},{"$f":"IF($A$4=Formula!$A$34,IF(Formula!LX23>Formula!$B$4,\"\",Formula!LX26),\"\")","v":""},{"$f":"IF($A$4=Formula!$A$34,IF(Formula!LY23>Formula!$B$4,\"\",Formula!LY26),\"\")","v":""},{"$f":"IF($A$4=Formula!$A$34,IF(Formula!LZ23>Formula!$B$4,\"\",Formula!LZ26),\"\")","v":""},{"$f":"IF($A$4=Formula!$A$34,IF(Formula!MA23>Formula!$B$4,\"\",Formula!MA26),\"\")","v":""},{"$f":"IF($A$4=Formula!$A$34,IF(Formula!MB23>Formula!$B$4,\"\",Formula!MB26),\"\")","v":""},{"$f":"IF($A$4=Formula!$A$34,IF(Formula!MC23>Formula!$B$4,\"\",Formula!MC26),\"\")","v":""},{"$f":"IF($A$4=Formula!$A$34,IF(Formula!MD23>Formula!$B$4,\"\",Formula!MD26),\"\")","v":""},{"$f":"IF($A$4=Formula!$A$34,IF(Formula!ME23>Formula!$B$4,\"\",Formula!ME26),\"\")","v":""},{"$f":"IF($A$4=Formula!$A$34,IF(Formula!MF23>Formula!$B$4,\"\",Formula!MF26),\"\")","v":""},{"$f":"IF($A$4=Formula!$A$34,IF(Formula!MG23>Formula!$B$4,\"\",Formula!MG26),\"\")","v":""},{"$f":"IF($A$4=Formula!$A$34,IF(Formula!MH23>Formula!$B$4,\"\",Formula!MH26),\"\")","v":""},{"$f":"IF($A$4=Formula!$A$34,IF(Formula!MI23>Formula!$B$4,\"\",Formula!MI26),\"\")","v":""},{"$f":"IF($A$4=Formula!$A$34,IF(Formula!MJ23>Formula!$B$4,\"\",Formula!MJ26),\"\")","v":""},{"$f":"IF($A$4=Formula!$A$34,IF(Formula!MK23>Formula!$B$4,\"\",Formula!MK26),\"\")","v":""},{"$f":"IF($A$4=Formula!$A$34,IF(Formula!ML23>Formula!$B$4,\"\",Formula!ML26),\"\")","v":""},{"$f":"IF($A$4=Formula!$A$34,IF(Formula!MM23>Formula!$B$4,\"\",Formula!MM26),\"\")","v":""},{"$f":"IF($A$4=Formula!$A$34,IF(Formula!MN23>Formula!$B$4,\"\",Formula!MN26),\"\")","v":""},{"$f":"IF($A$4=Formula!$A$34,IF(Formula!MO23>Formula!$B$4,\"\",Formula!MO26),\"\")","v":""},{"$f":"IF($A$4=Formula!$A$34,IF(Formula!MP23>Formula!$B$4,\"\",Formula!MP26),\"\")","v":""},{"$f":"IF($A$4=Formula!$A$34,IF(Formula!MQ23>Formula!$B$4,\"\",Formula!MQ26),\"\")","v":""},{"$f":"IF($A$4=Formula!$A$34,IF(Formula!MR23>Formula!$B$4,\"\",Formula!MR26),\"\")","v":""},{"$f":"IF($A$4=Formula!$A$34,IF(Formula!MS23>Formula!$B$4,\"\",Formula!MS26),\"\")","v":""},{"$f":"IF($A$4=Formula!$A$34,IF(Formula!MT23>Formula!$B$4,\"\",Formula!MT26),\"\")","v":""},{"$f":"IF($A$4=Formula!$A$34,IF(Formula!MU23>Formula!$B$4,\"\",Formula!MU26),\"\")","v":""},{"$f":"IF($A$4=Formula!$A$34,IF(Formula!MV23>Formula!$B$4,\"\",Formula!MV26),\"\")","v":""},{"$f":"IF($A$4=Formula!$A$34,IF(Formula!MW23>Formula!$B$4,\"\",Formula!MW26),\"\")","v":""},{"$f":"IF($A$4=Formula!$A$34,IF(Formula!MX23>Formula!$B$4,\"\",Formula!MX26),\"\")","v":""},{"$f":"IF($A$4=Formula!$A$34,IF(Formula!MY23>Formula!$B$4,\"\",Formula!MY26),\"\")","v":""},{"$f":"IF($A$4=Formula!$A$34,IF(Formula!MZ23>Formula!$B$4,\"\",Formula!MZ26),\"\")","v":""},{"$f":"IF($A$4=Formula!$A$34,IF(Formula!NA23>Formula!$B$4,\"\",Formula!NA26),\"\")","v":""},{"$f":"IF($A$4=Formula!$A$34,IF(Formula!NB23>Formula!$B$4,\"\",Formula!NB26),\"\")","v":""},{"$f":"IF($A$4=Formula!$A$34,IF(Formula!NC23>Formula!$B$4,\"\",Formula!NC26),\"\")","v":""},{"$f":"IF($A$4=Formula!$A$34,IF(Formula!ND23>Formula!$B$4,\"\",Formula!ND26),\"\")","v":""},{"$f":"IF($A$4=Formula!$A$34,IF(Formula!NE23>Formula!$B$4,\"\",Formula!NE26),\"\")","v":""},{"$f":"IF($A$4=Formula!$A$34,IF(Formula!NF23>Formula!$B$4,\"\",Formula!NF26),\"\")","v":""},{"$f":"IF($A$4=Formula!$A$34,IF(Formula!NG23>Formula!$B$4,\"\",Formula!NG26),\"\")","v":""},{"$f":"IF($A$4=Formula!$A$34,IF(Formula!NH23>Formula!$B$4,\"\",Formula!NH26),\"\")","v":""},{"$f":"IF($A$4=Formula!$A$34,IF(Formula!NI23>Formula!$B$4,\"\",Formula!NI26),\"\")","v":""},{"$f":"IF($A$4=Formula!$A$34,IF(Formula!NJ23>Formula!$B$4,\"\",Formula!NJ26),\"\")","v":""},{"$f":"IF($A$4=Formula!$A$34,IF(Formula!NK23>Formula!$B$4,\"\",Formula!NK26),\"\")","v":""},{"$f":"IF($A$4=Formula!$A$34,IF(Formula!NL23>Formula!$B$4,\"\",Formula!NL26),\"\")","v":""},{"$f":"IF($A$4=Formula!$A$34,IF(Formula!NM23>Formula!$B$4,\"\",Formula!NM26),\"\")","v":""},{"$f":"IF($A$4=Formula!$A$34,IF(Formula!NN23>Formula!$B$4,\"\",Formula!NN26),\"\")","v":""},{"$f":"IF($A$4=Formula!$A$34,IF(Formula!NO23>Formula!$B$4,\"\",Formula!NO26),\"\")","v":""},{"$f":"IF($A$4=Formula!$A$34,IF(Formula!NP23>Formula!$B$4,\"\",Formula!NP26),\"\")","v":""},{"$f":"IF($A$4=Formula!$A$34,IF(Formula!NQ23>Formula!$B$4,\"\",Formula!NQ26),\"\")","v":""},{"$f":"IF($A$4=Formula!$A$34,IF(Formula!NR23>Formula!$B$4,\"\",Formula!NR26),\"\")","v":""},{"$f":"IF($A$4=Formula!$A$34,IF(Formula!NS23>Formula!$B$4,\"\",Formula!NS26),\"\")","v":""},{"$f":"IF($A$4=Formula!$A$34,IF(Formula!NT23>Formula!$B$4,\"\",Formula!NT26),\"\")","v":""},{"$f":"IF($A$4=Formula!$A$34,IF(Formula!NU23>Formula!$B$4,\"\",Formula!NU26),\"\")","v":""},{"$f":"IF($A$4=Formula!$A$34,IF(Formula!NV23>Formula!$B$4,\"\",Formula!NV26),\"\")","v":""},{"$f":"IF($A$4=Formula!$A$34,IF(Formula!NW23>Formula!$B$4,\"\",Formula!NW26),\"\")","v":""},{"$f":"IF($A$4=Formula!$A$34,IF(Formula!NX23>Formula!$B$4,\"\",Formula!NX26),\"\")","v":""},{"$f":"IF($A$4=Formula!$A$34,IF(Formula!NY23>Formula!$B$4,\"\",Formula!NY26),\"\")","v":""},{"$f":"IF($A$4=Formula!$A$34,IF(Formula!NZ23>Formula!$B$4,\"\",Formula!NZ26),\"\")","v":""},{"$f":"IF($A$4=Formula!$A$34,IF(Formula!OA23>Formula!$B$4,\"\",Formula!OA26),\"\")","v":""},{"$f":"IF($A$4=Formula!$A$34,IF(Formula!OB23>Formula!$B$4,\"\",Formula!OB26),\"\")","v":""},{"$f":"IF($A$4=Formula!$A$34,IF(Formula!OC23>Formula!$B$4,\"\",Formula!OC26),\"\")","v":""},{"$f":"IF($A$4=Formula!$A$34,IF(Formula!OD23>Formula!$B$4,\"\",Formula!OD26),\"\")","v":""},{"$f":"IF($A$4=Formula!$A$34,IF(Formula!OE23>Formula!$B$4,\"\",Formula!OE26),\"\")","v":""},{"$f":"IF($A$4=Formula!$A$34,IF(Formula!OF23>Formula!$B$4,\"\",Formula!OF26),\"\")","v":""},{"$f":"IF($A$4=Formula!$A$34,IF(Formula!OG23>Formula!$B$4,\"\",Formula!OG26),\"\")","v":""},{"$f":"IF($A$4=Formula!$A$34,IF(Formula!OH23>Formula!$B$4,\"\",Formula!OH26),\"\")","v":""},{"$f":"IF($A$4=Formula!$A$34,IF(Formula!OI23>Formula!$B$4,\"\",Formula!OI26),\"\")","v":""},{"$f":"IF($A$4=Formula!$A$34,IF(Formula!OJ23>Formula!$B$4,\"\",Formula!OJ26),\"\")","v":""},{"$f":"IF($A$4=Formula!$A$34,IF(Formula!OK23>Formula!$B$4,\"\",Formula!OK26),\"\")","v":""},{"$f":"IF($A$4=Formula!$A$34,IF(Formula!OL23>Formula!$B$4,\"\",Formula!OL26),\"\")","v":""},{"$f":"IF($A$4=Formula!$A$34,IF(Formula!OM23>Formula!$B$4,\"\",Formula!OM26),\"\")","v":""},{"$f":"IF($A$4=Formula!$A$34,IF(Formula!ON23>Formula!$B$4,\"\",Formula!ON26),\"\")","v":""},{"$f":"IF($A$4=Formula!$A$34,IF(Formula!OO23>Formula!$B$4,\"\",Formula!OO26),\"\")","v":""},{"$f":"IF($A$4=Formula!$A$34,IF(Formula!OP23>Formula!$B$4,\"\",Formula!OP26),\"\")","v":""},{"$f":"IF($A$4=Formula!$A$34,IF(Formula!OQ23>Formula!$B$4,\"\",Formula!OQ26),\"\")","v":""},{"$f":"IF($A$4=Formula!$A$34,IF(Formula!OR23>Formula!$B$4,\"\",Formula!OR26),\"\")","v":""},{"$f":"IF($A$4=Formula!$A$34,IF(Formula!OS23>Formula!$B$4,\"\",Formula!OS26),\"\")","v":""},{"$f":"IF($A$4=Formula!$A$34,IF(Formula!OT23>Formula!$B$4,\"\",Formula!OT26),\"\")","v":""},{"$f":"IF($A$4=Formula!$A$34,IF(Formula!OU23>Formula!$B$4,\"\",Formula!OU26),\"\")","v":""},{"$f":"IF($A$4=Formula!$A$34,IF(Formula!OV23>Formula!$B$4,\"\",Formula!OV26),\"\")","v":""},{"$f":"IF($A$4=Formula!$A$34,IF(Formula!OW23>Formula!$B$4,\"\",Formula!OW26),\"\")","v":""},{"$f":"IF($A$4=Formula!$A$34,IF(Formula!OX23>Formula!$B$4,\"\",Formula!OX26),\"\")","v":""},{"$f":"IF($A$4=Formula!$A$34,IF(Formula!OY23>Formula!$B$4,\"\",Formula!OY26),\"\")","v":""},{"$f":"IF($A$4=Formula!$A$34,IF(Formula!OZ23>Formula!$B$4,\"\",Formula!OZ26),\"\")","v":""},{"$f":"IF($A$4=Formula!$A$34,IF(Formula!PA23>Formula!$B$4,\"\",Formula!PA26),\"\")","v":""},{"$f":"IF($A$4=Formula!$A$34,IF(Formula!PB23>Formula!$B$4,\"\",Formula!PB26),\"\")","v":""},{"$f":"IF($A$4=Formula!$A$34,IF(Formula!PC23>Formula!$B$4,\"\",Formula!PC26),\"\")","v":""},{"$f":"IF($A$4=Formula!$A$34,IF(Formula!PD23>Formula!$B$4,\"\",Formula!PD26),\"\")","v":""},{"$f":"IF($A$4=Formula!$A$34,IF(Formula!PE23>Formula!$B$4,\"\",Formula!PE26),\"\")","v":""},{"$f":"IF($A$4=Formula!$A$34,IF(Formula!PF23>Formula!$B$4,\"\",Formula!PF26),\"\")","v":""},{"$f":"IF($A$4=Formula!$A$34,IF(Formula!PG23>Formula!$B$4,\"\",Formula!PG26),\"\")","v":""},{"$f":"IF($A$4=Formula!$A$34,IF(Formula!PH23>Formula!$B$4,\"\",Formula!PH26),\"\")","v":""},{"$f":"IF($A$4=Formula!$A$34,IF(Formula!PI23>Formula!$B$4,\"\",Formula!PI26),\"\")","v":""},{"$f":"IF($A$4=Formula!$A$34,IF(Formula!PJ23>Formula!$B$4,\"\",Formula!PJ26),\"\")","v":""},{"$f":"IF($A$4=Formula!$A$34,IF(Formula!PK23>Formula!$B$4,\"\",Formula!PK26),\"\")","v":""},{"$f":"IF($A$4=Formula!$A$34,IF(Formula!PL23>Formula!$B$4,\"\",Formula!PL26),\"\")","v":""},{"$f":"IF($A$4=Formula!$A$34,IF(Formula!PM23>Formula!$B$4,\"\",Formula!PM26),\"\")","v":""},{"$f":"IF($A$4=Formula!$A$34,IF(Formula!PN23>Formula!$B$4,\"\",Formula!PN26),\"\")","v":""},{"$f":"IF($A$4=Formula!$A$34,IF(Formula!PO23>Formula!$B$4,\"\",Formula!PO26),\"\")","v":""},{"$f":"IF($A$4=Formula!$A$34,IF(Formula!PP23>Formula!$B$4,\"\",Formula!PP26),\"\")","v":""},{"$f":"IF($A$4=Formula!$A$34,IF(Formula!PQ23>Formula!$B$4,\"\",Formula!PQ26),\"\")","v":""},{"$f":"IF($A$4=Formula!$A$34,IF(Formula!PR23>Formula!$B$4,\"\",Formula!PR26),\"\")","v":""},{"$f":"IF($A$4=Formula!$A$34,IF(Formula!PS23>Formula!$B$4,\"\",Formula!PS26),\"\")","v":""},{"$f":"IF($A$4=Formula!$A$34,IF(Formula!PT23>Formula!$B$4,\"\",Formula!PT26),\"\")","v":""},{"$f":"IF($A$4=Formula!$A$34,IF(Formula!PU23>Formula!$B$4,\"\",Formula!PU26),\"\")","v":""},{"$f":"IF($A$4=Formula!$A$34,IF(Formula!PV23>Formula!$B$4,\"\",Formula!PV26),\"\")","v":""},{"$f":"IF($A$4=Formula!$A$34,IF(Formula!PW23>Formula!$B$4,\"\",Formula!PW26),\"\")","v":""},{"$f":"IF($A$4=Formula!$A$34,IF(Formula!PX23>Formula!$B$4,\"\",Formula!PX26),\"\")","v":""},{"$f":"IF($A$4=Formula!$A$34,IF(Formula!PY23>Formula!$B$4,\"\",Formula!PY26),\"\")","v":""},{"$f":"IF($A$4=Formula!$A$34,IF(Formula!PZ23>Formula!$B$4,\"\",Formula!PZ26),\"\")","v":""},{"$f":"IF($A$4=Formula!$A$34,IF(Formula!QA23>Formula!$B$4,\"\",Formula!QA26),\"\")","v":""},{"$f":"IF($A$4=Formula!$A$34,IF(Formula!QB23>Formula!$B$4,\"\",Formula!QB26),\"\")","v":""},{"$f":"IF($A$4=Formula!$A$34,IF(Formula!QC23>Formula!$B$4,\"\",Formula!QC26),\"\")","v":""},{"$f":"IF($A$4=Formula!$A$34,IF(Formula!QD23>Formula!$B$4,\"\",Formula!QD26),\"\")","v":""},{"$f":"IF($A$4=Formula!$A$34,IF(Formula!QE23>Formula!$B$4,\"\",Formula!QE26),\"\")","v":""},{"$f":"IF($A$4=Formula!$A$34,IF(Formula!QF23>Formula!$B$4,\"\",Formula!QF26),\"\")","v":""},{"$f":"IF($A$4=Formula!$A$34,IF(Formula!QG23>Formula!$B$4,\"\",Formula!QG26),\"\")","v":""},{"$f":"IF($A$4=Formula!$A$34,IF(Formula!QH23>Formula!$B$4,\"\",Formula!QH26),\"\")","v":""},{"$f":"IF($A$4=Formula!$A$34,IF(Formula!QI23>Formula!$B$4,\"\",Formula!QI26),\"\")","v":""},{"$f":"IF($A$4=Formula!$A$34,IF(Formula!QJ23>Formula!$B$4,\"\",Formula!QJ26),\"\")","v":""},{"$f":"IF($A$4=Formula!$A$34,IF(Formula!QK23>Formula!$B$4,\"\",Formula!QK26),\"\")","v":""},{"$f":"IF($A$4=Formula!$A$34,IF(Formula!QL23>Formula!$B$4,\"\",Formula!QL26),\"\")","v":""},{"$f":"IF($A$4=Formula!$A$34,IF(Formula!QM23>Formula!$B$4,\"\",Formula!QM26),\"\")","v":""},{"$f":"IF($A$4=Formula!$A$34,IF(Formula!QN23>Formula!$B$4,\"\",Formula!QN26),\"\")","v":""},{"$f":"IF($A$4=Formula!$A$34,IF(Formula!QO23>Formula!$B$4,\"\",Formula!QO26),\"\")","v":""},{"$f":"IF($A$4=Formula!$A$34,IF(Formula!QP23>Formula!$B$4,\"\",Formula!QP26),\"\")","v":""},{"$f":"IF($A$4=Formula!$A$34,IF(Formula!QQ23>Formula!$B$4,\"\",Formula!QQ26),\"\")","v":""},{"$f":"IF($A$4=Formula!$A$34,IF(Formula!QR23>Formula!$B$4,\"\",Formula!QR26),\"\")","v":""},{"$f":"IF($A$4=Formula!$A$34,IF(Formula!QS23>Formula!$B$4,\"\",Formula!QS26),\"\")","v":""},{"$f":"IF($A$4=Formula!$A$34,IF(Formula!QT23>Formula!$B$4,\"\",Formula!QT26),\"\")","v":""},{"$f":"IF($A$4=Formula!$A$34,IF(Formula!QU23>Formula!$B$4,\"\",Formula!QU26),\"\")","v":""},{"$f":"IF($A$4=Formula!$A$34,IF(Formula!QV23>Formula!$B$4,\"\",Formula!QV26),\"\")","v":""},{"$f":"IF($A$4=Formula!$A$34,IF(Formula!QW23>Formula!$B$4,\"\",Formula!QW26),\"\")","v":""},{"$f":"IF($A$4=Formula!$A$34,IF(Formula!QX23>Formula!$B$4,\"\",Formula!QX26),\"\")","v":""},{"$f":"IF($A$4=Formula!$A$34,IF(Formula!QY23>Formula!$B$4,\"\",Formula!QY26),\"\")","v":""},{"$f":"IF($A$4=Formula!$A$34,IF(Formula!QZ23>Formula!$B$4,\"\",Formula!QZ26),\"\")","v":""},{"$f":"IF($A$4=Formula!$A$34,IF(Formula!RA23>Formula!$B$4,\"\",Formula!RA26),\"\")","v":""},{"$f":"IF($A$4=Formula!$A$34,IF(Formula!RB23>Formula!$B$4,\"\",Formula!RB26),\"\")","v":""},{"$f":"IF($A$4=Formula!$A$34,IF(Formula!RC23>Formula!$B$4,\"\",Formula!RC26),\"\")","v":""},{"$f":"IF($A$4=Formula!$A$34,IF(Formula!RD23>Formula!$B$4,\"\",Formula!RD26),\"\")","v":""},{"$f":"IF($A$4=Formula!$A$34,IF(Formula!RE23>Formula!$B$4,\"\",Formula!RE26),\"\")","v":""},{"$f":"IF($A$4=Formula!$A$34,IF(Formula!RF23>Formula!$B$4,\"\",Formula!RF26),\"\")","v":""},{"$f":"IF($A$4=Formula!$A$34,IF(Formula!RG23>Formula!$B$4,\"\",Formula!RG26),\"\")","v":""},{"$f":"IF($A$4=Formula!$A$34,IF(Formula!RH23>Formula!$B$4,\"\",Formula!RH26),\"\")","v":""},{"$f":"IF($A$4=Formula!$A$34,IF(Formula!RI23>Formula!$B$4,\"\",Formula!RI26),\"\")","v":""},{"$f":"IF($A$4=Formula!$A$34,IF(Formula!RJ23>Formula!$B$4,\"\",Formula!RJ26),\"\")","v":""},{"$f":"IF($A$4=Formula!$A$34,IF(Formula!RK23>Formula!$B$4,\"\",Formula!RK26),\"\")","v":""},{"$f":"IF($A$4=Formula!$A$34,IF(Formula!RL23>Formula!$B$4,\"\",Formula!RL26),\"\")","v":""},{"$f":"IF($A$4=Formula!$A$34,IF(Formula!RM23>Formula!$B$4,\"\",Formula!RM26),\"\")","v":""},{"$f":"IF($A$4=Formula!$A$34,IF(Formula!RN23>Formula!$B$4,\"\",Formula!RN26),\"\")","v":""},{"$f":"IF($A$4=Formula!$A$34,IF(Formula!RO23>Formula!$B$4,\"\",Formula!RO26),\"\")","v":""},{"$f":"IF($A$4=Formula!$A$34,IF(Formula!RP23>Formula!$B$4,\"\",Formula!RP26),\"\")","v":""},{"$f":"IF($A$4=Formula!$A$34,IF(Formula!RQ23>Formula!$B$4,\"\",Formula!RQ26),\"\")","v":""},{"$f":"IF($A$4=Formula!$A$34,IF(Formula!RR23>Formula!$B$4,\"\",Formula!RR26),\"\")","v":""},{"$f":"IF($A$4=Formula!$A$34,IF(Formula!RS23>Formula!$B$4,\"\",Formula!RS26),\"\")","v":""},{"$f":"IF($A$4=Formula!$A$34,IF(Formula!RT23>Formula!$B$4,\"\",Formula!RT26),\"\")","v":""},{"$f":"IF($A$4=Formula!$A$34,IF(Formula!RU23>Formula!$B$4,\"\",Formula!RU26),\"\")","v":""},{"$f":"IF($A$4=Formula!$A$34,IF(Formula!RV23>Formula!$B$4,\"\",Formula!RV26),\"\")","v":""},{"$f":"IF($A$4=Formula!$A$34,IF(Formula!RW23>Formula!$B$4,\"\",Formula!RW26),\"\")","v":""},{"$f":"IF($A$4=Formula!$A$34,IF(Formula!RX23>Formula!$B$4,\"\",Formula!RX26),\"\")","v":""},{"$f":"IF($A$4=Formula!$A$34,IF(Formula!RY23>Formula!$B$4,\"\",Formula!RY26),\"\")","v":""},{"$f":"IF($A$4=Formula!$A$34,IF(Formula!RZ23>Formula!$B$4,\"\",Formula!RZ26),\"\")","v":""},{"$f":"IF($A$4=Formula!$A$34,IF(Formula!SA23>Formula!$B$4,\"\",Formula!SA26),\"\")","v":""},{"$f":"IF($A$4=Formula!$A$34,IF(Formula!SB23>Formula!$B$4,\"\",Formula!SB26),\"\")","v":""},{"$f":"IF($A$4=Formula!$A$34,IF(Formula!SC23>Formula!$B$4,\"\",Formula!SC26),\"\")","v":""},{"$f":"IF($A$4=Formula!$A$34,IF(Formula!SD23>Formula!$B$4,\"\",Formula!SD26),\"\")","v":""},{"$f":"IF($A$4=Formula!$A$34,IF(Formula!SE23>Formula!$B$4,\"\",Formula!SE26),\"\")","v":""},{"$f":"IF($A$4=Formula!$A$34,IF(Formula!SF23>Formula!$B$4,\"\",Formula!SF26),\"\")","v":""},{"$f":"IF($A$4=Formula!$A$34,IF(Formula!SG23>Formula!$B$4,\"\",Formula!SG26),\"\")","v":""},{"$f":"IF($A$4=Formula!$A$34,IF(Formula!SH23>Formula!$B$4,\"\",Formula!SH26),\"\")","v":""},{"$f":"IF($A$4=Formula!$A$34,IF(Formula!SI23>Formula!$B$4,\"\",Formula!SI26),\"\")","v":""},{"$f":"IF($A$4=Formula!$A$34,IF(Formula!SJ23>Formula!$B$4,\"\",Formula!SJ26),\"\")","v":""},{"$f":"IF($A$4=Formula!$A$34,IF(Formula!SK23>Formula!$B$4,\"\",Formula!SK26),\"\")","v":""},{"$f":"IF($A$4=Formula!$A$34,IF(Formula!SL23>Formula!$B$4,\"\",Formula!SL26),\"\")","v":""},{"$f":"IF($A$4=Formula!$A$34,IF(Formula!SM23>Formula!$B$4,\"\",Formula!SM26),\"\")","v":""},{"$f":"IF($A$4=Formula!$A$34,IF(Formula!SN23>Formula!$B$4,\"\",Formula!SN26),\"\")","v":""},{"$f":"IF($A$4=Formula!$A$34,IF(Formula!SO23>Formula!$B$4,\"\",Formula!SO26),\"\")","v":""},{"$f":"IF($A$4=Formula!$A$34,IF(Formula!SP23>Formula!$B$4,\"\",Formula!SP26),\"\")","v":""},{"$f":"IF($A$4=Formula!$A$34,IF(Formula!SQ23>Formula!$B$4,\"\",Formula!SQ26),\"\")","v":""},{"$f":"IF($A$4=Formula!$A$34,IF(Formula!SR23>Formula!$B$4,\"\",Formula!SR26),\"\")","v":""},{"$f":"IF($A$4=Formula!$A$34,IF(Formula!SS23>Formula!$B$4,\"\",Formula!SS26),\"\")","v":""},{"$f":"IF($A$4=Formula!$A$34,IF(Formula!ST23>Formula!$B$4,\"\",Formula!ST26),\"\")","v":""},{"$f":"IF($A$4=Formula!$A$34,IF(Formula!SU23>Formula!$B$4,\"\",Formula!SU26),\"\")","v":""},{"$f":"IF($A$4=Formula!$A$34,IF(Formula!SV23>Formula!$B$4,\"\",Formula!SV26),\"\")","v":""},{"$f":"IF($A$4=Formula!$A$34,IF(Formula!SW23>Formula!$B$4,\"\",Formula!SW26),\"\")","v":""},{"$f":"IF($A$4=Formula!$A$34,IF(Formula!SX23>Formula!$B$4,\"\",Formula!SX26),\"\")","v":""},{"$f":"IF($A$4=Formula!$A$34,IF(Formula!SY23>Formula!$B$4,\"\",Formula!SY26),\"\")","v":""},{"$f":"IF($A$4=Formula!$A$34,IF(Formula!SZ23>Formula!$B$4,\"\",Formula!SZ26),\"\")","v":""},{"$f":"IF($A$4=Formula!$A$34,IF(Formula!TA23>Formula!$B$4,\"\",Formula!TA26),\"\")","v":""},{"$f":"IF($A$4=Formula!$A$34,IF(Formula!TB23>Formula!$B$4,\"\",Formula!TB26),\"\")","v":""},{"$f":"IF($A$4=Formula!$A$34,IF(Formula!TC23>Formula!$B$4,\"\",Formula!TC26),\"\")","v":""},{"$f":"IF($A$4=Formula!$A$34,IF(Formula!TD23>Formula!$B$4,\"\",Formula!TD26),\"\")","v":""},{"$f":"IF($A$4=Formula!$A$34,IF(Formula!TE23>Formula!$B$4,\"\",Formula!TE26),\"\")","v":""},{"$f":"IF($A$4=Formula!$A$34,IF(Formula!TF23>Formula!$B$4,\"\",Formula!TF26),\"\")","v":""},{"$f":"IF($A$4=Formula!$A$34,IF(Formula!TG23>Formula!$B$4,\"\",Formula!TG26),\"\")","v":""},{"$f":"IF($A$4=Formula!$A$34,IF(Formula!TH23>Formula!$B$4,\"\",Formula!TH26),\"\")","v":""},{"$f":"IF($A$4=Formula!$A$34,IF(Formula!TI23>Formula!$B$4,\"\",Formula!TI26),\"\")","v":""},{"$f":"IF($A$4=Formula!$A$34,IF(Formula!TJ23>Formula!$B$4,\"\",Formula!TJ26),\"\")","v":""},{"$f":"IF($A$4=Formula!$A$34,IF(Formula!TK23>Formula!$B$4,\"\",Formula!TK26),\"\")","v":""},{"$f":"IF($A$4=Formula!$A$34,IF(Formula!TL23>Formula!$B$4,\"\",Formula!TL26),\"\")","v":""},{"$f":"IF($A$4=Formula!$A$34,IF(Formula!TM23>Formula!$B$4,\"\",Formula!TM26),\"\")","v":""},{"$f":"IF($A$4=Formula!$A$34,IF(Formula!TN23>Formula!$B$4,\"\",Formula!TN26),\"\")","v":""},{"$f":"IF($A$4=Formula!$A$34,IF(Formula!TO23>Formula!$B$4,\"\",Formula!TO26),\"\")","v":""},{"$f":"IF($A$4=Formula!$A$34,IF(Formula!TP23>Formula!$B$4,\"\",Formula!TP26),\"\")","v":""},{"$f":"IF($A$4=Formula!$A$34,IF(Formula!TQ23>Formula!$B$4,\"\",Formula!TQ26),\"\")","v":""},{"$f":"IF($A$4=Formula!$A$34,IF(Formula!TR23>Formula!$B$4,\"\",Formula!TR26),\"\")","v":""},{"$f":"IF($A$4=Formula!$A$34,IF(Formula!TS23>Formula!$B$4,\"\",Formula!TS26),\"\")","v":""},{"$f":"IF($A$4=Formula!$A$34,IF(Formula!TT23>Formula!$B$4,\"\",Formula!TT26),\"\")","v":""},{"$f":"IF($A$4=Formula!$A$34,IF(Formula!TU23>Formula!$B$4,\"\",Formula!TU26),\"\")","v":""},{"$f":"IF($A$4=Formula!$A$34,IF(Formula!TV23>Formula!$B$4,\"\",Formula!TV26),\"\")","v":""},{"$f":"IF($A$4=Formula!$A$34,IF(Formula!TW23>Formula!$B$4,\"\",Formula!TW26),\"\")","v":""},{"$f":"IF($A$4=Formula!$A$34,IF(Formula!TX23>Formula!$B$4,\"\",Formula!TX26),\"\")","v":""},{"$f":"IF($A$4=Formula!$A$34,IF(Formula!TY23>Formula!$B$4,\"\",Formula!TY26),\"\")","v":""},{"$f":"IF($A$4=Formula!$A$34,IF(Formula!TZ23>Formula!$B$4,\"\",Formula!TZ26),\"\")","v":""},{"$f":"IF($A$4=Formula!$A$34,IF(Formula!UA23>Formula!$B$4,\"\",Formula!UA26),\"\")","v":""},{"$f":"IF($A$4=Formula!$A$34,IF(Formula!UB23>Formula!$B$4,\"\",Formula!UB26),\"\")","v":""},{"$f":"IF($A$4=Formula!$A$34,IF(Formula!UC23>Formula!$B$4,\"\",Formula!UC26),\"\")","v":""},{"$f":"IF($A$4=Formula!$A$34,IF(Formula!UD23>Formula!$B$4,\"\",Formula!UD26),\"\")","v":""},{"$f":"IF($A$4=Formula!$A$34,IF(Formula!UE23>Formula!$B$4,\"\",Formula!UE26),\"\")","v":""},{"$f":"IF($A$4=Formula!$A$34,IF(Formula!UF23>Formula!$B$4,\"\",Formula!UF26),\"\")","v":""},{"$f":"IF($A$4=Formula!$A$34,IF(Formula!UG23>Formula!$B$4,\"\",Formula!UG26),\"\")","v":""},{"$f":"IF($A$4=Formula!$A$34,IF(Formula!UH23>Formula!$B$4,\"\",Formula!UH26),\"\")","v":""},{"$f":"IF($A$4=Formula!$A$34,IF(Formula!UI23>Formula!$B$4,\"\",Formula!UI26),\"\")","v":""},{"$f":"IF($A$4=Formula!$A$34,IF(Formula!UJ23>Formula!$B$4,\"\",Formula!UJ26),\"\")","v":""},{"$f":"IF($A$4=Formula!$A$34,IF(Formula!UK23>Formula!$B$4,\"\",Formula!UK26),\"\")","v":""},{"$f":"IF($A$4=Formula!$A$34,IF(Formula!UL23>Formula!$B$4,\"\",Formula!UL26),\"\")","v":""},{"$f":"IF($A$4=Formula!$A$34,IF(Formula!UM23>Formula!$B$4,\"\",Formula!UM26),\"\")","v":""},{"$f":"IF($A$4=Formula!$A$34,IF(Formula!UN23>Formula!$B$4,\"\",Formula!UN26),\"\")","v":""},{"$f":"IF($A$4=Formula!$A$34,IF(Formula!UO23>Formula!$B$4,\"\",Formula!UO26),\"\")","v":""},{"$f":"IF($A$4=Formula!$A$34,IF(Formula!UP23>Formula!$B$4,\"\",Formula!UP26),\"\")","v":""},{"$f":"IF($A$4=Formula!$A$34,IF(Formula!UQ23>Formula!$B$4,\"\",Formula!UQ26),\"\")","v":""},{"$f":"IF($A$4=Formula!$A$34,IF(Formula!UR23>Formula!$B$4,\"\",Formula!UR26),\"\")","v":""},{"$f":"IF($A$4=Formula!$A$34,IF(Formula!US23>Formula!$B$4,\"\",Formula!US26),\"\")","v":""},{"$f":"IF($A$4=Formula!$A$34,IF(Formula!UT23>Formula!$B$4,\"\",Formula!UT26),\"\")","v":""},{"$f":"IF($A$4=Formula!$A$34,IF(Formula!UU23>Formula!$B$4,\"\",Formula!UU26),\"\")","v":""},{"$f":"IF($A$4=Formula!$A$34,IF(Formula!UV23>Formula!$B$4,\"\",Formula!UV26),\"\")","v":""},{"$f":"IF($A$4=Formula!$A$34,IF(Formula!UW23>Formula!$B$4,\"\",Formula!UW26),\"\")","v":""},{"$f":"IF($A$4=Formula!$A$34,IF(Formula!UX23>Formula!$B$4,\"\",Formula!UX26),\"\")","v":""},{"$f":"IF($A$4=Formula!$A$34,IF(Formula!UY23>Formula!$B$4,\"\",Formula!UY26),\"\")","v":""},{"$f":"IF($A$4=Formula!$A$34,IF(Formula!UZ23>Formula!$B$4,\"\",Formula!UZ26),\"\")","v":""},{"$f":"IF($A$4=Formula!$A$34,IF(Formula!VA23>Formula!$B$4,\"\",Formula!VA26),\"\")","v":""},{"$f":"IF($A$4=Formula!$A$34,IF(Formula!VB23>Formula!$B$4,\"\",Formula!VB26),\"\")","v":""},{"$f":"IF($A$4=Formula!$A$34,IF(Formula!VC23>Formula!$B$4,\"\",Formula!VC26),\"\")","v":""},{"$f":"IF($A$4=Formula!$A$34,IF(Formula!VD23>Formula!$B$4,\"\",Formula!VD26),\"\")","v":""},{"$f":"IF($A$4=Formula!$A$34,IF(Formula!VE23>Formula!$B$4,\"\",Formula!VE26),\"\")","v":""},{"$f":"IF($A$4=Formula!$A$34,IF(Formula!VF23>Formula!$B$4,\"\",Formula!VF26),\"\")","v":""},{"$f":"IF($A$4=Formula!$A$34,IF(Formula!VG23>Formula!$B$4,\"\",Formula!VG26),\"\")","v":""},{"$f":"IF($A$4=Formula!$A$34,IF(Formula!VH23>Formula!$B$4,\"\",Formula!VH26),\"\")","v":""},{"$f":"IF($A$4=Formula!$A$34,IF(Formula!VI23>Formula!$B$4,\"\",Formula!VI26),\"\")","v":""},{"$f":"IF($A$4=Formula!$A$34,IF(Formula!VJ23>Formula!$B$4,\"\",Formula!VJ26),\"\")","v":""},{"$f":"IF($A$4=Formula!$A$34,IF(Formula!VK23>Formula!$B$4,\"\",Formula!VK26),\"\")","v":""},{"$f":"IF($A$4=Formula!$A$34,IF(Formula!VL23>Formula!$B$4,\"\",Formula!VL26),\"\")","v":""},{"$f":"IF($A$4=Formula!$A$34,IF(Formula!VM23>Formula!$B$4,\"\",Formula!VM26),\"\")","v":""},{"$f":"IF($A$4=Formula!$A$34,IF(Formula!VN23>Formula!$B$4,\"\",Formula!VN26),\"\")","v":""},{"$f":"IF($A$4=Formula!$A$34,IF(Formula!VO23>Formula!$B$4,\"\",Formula!VO26),\"\")","v":""},{"$f":"IF($A$4=Formula!$A$34,IF(Formula!VP23>Formula!$B$4,\"\",Formula!VP26),\"\")","v":""},{"$f":"IF($A$4=Formula!$A$34,IF(Formula!VQ23>Formula!$B$4,\"\",Formula!VQ26),\"\")","v":""},{"$f":"IF($A$4=Formula!$A$34,IF(Formula!VR23>Formula!$B$4,\"\",Formula!VR26),\"\")","v":""},{"$f":"IF($A$4=Formula!$A$34,IF(Formula!VS23>Formula!$B$4,\"\",Formula!VS26),\"\")","v":""},{"$f":"IF($A$4=Formula!$A$34,IF(Formula!VT23>Formula!$B$4,\"\",Formula!VT26),\"\")","v":""},{"$f":"IF($A$4=Formula!$A$34,IF(Formula!VU23>Formula!$B$4,\"\",Formula!VU26),\"\")","v":""},{"$f":"IF($A$4=Formula!$A$34,IF(Formula!VV23>Formula!$B$4,\"\",Formula!VV26),\"\")","v":""},{"$f":"IF($A$4=Formula!$A$34,IF(Formula!VW23>Formula!$B$4,\"\",Formula!VW26),\"\")","v":""},{"$f":"IF($A$4=Formula!$A$34,IF(Formula!VX23>Formula!$B$4,\"\",Formula!VX26),\"\")","v":""},{"$f":"IF($A$4=Formula!$A$34,IF(Formula!VY23>Formula!$B$4,\"\",Formula!VY26),\"\")","v":""},{"$f":"IF($A$4=Formula!$A$34,IF(Formula!VZ23>Formula!$B$4,\"\",Formula!VZ26),\"\")","v":""},{"$f":"IF($A$4=Formula!$A$34,IF(Formula!WA23>Formula!$B$4,\"\",Formula!WA26),\"\")","v":""},{"$f":"IF($A$4=Formula!$A$34,IF(Formula!WB23>Formula!$B$4,\"\",Formula!WB26),\"\")","v":""},{"$f":"IF($A$4=Formula!$A$34,IF(Formula!WC23>Formula!$B$4,\"\",Formula!WC26),\"\")","v":""},{"$f":"IF($A$4=Formula!$A$34,IF(Formula!WD23>Formula!$B$4,\"\",Formula!WD26),\"\")","v":""},{"$f":"IF($A$4=Formula!$A$34,IF(Formula!WE23>Formula!$B$4,\"\",Formula!WE26),\"\")","v":""},{"$f":"IF($A$4=Formula!$A$34,IF(Formula!WF23>Formula!$B$4,\"\",Formula!WF26),\"\")","v":""},{"$f":"IF($A$4=Formula!$A$34,IF(Formula!WG23>Formula!$B$4,\"\",Formula!WG26),\"\")","v":""},{"$f":"IF($A$4=Formula!$A$34,IF(Formula!WH23>Formula!$B$4,\"\",Formula!WH26),\"\")","v":""},{"$f":"IF($A$4=Formula!$A$34,IF(Formula!WI23>Formula!$B$4,\"\",Formula!WI26),\"\")","v":""},{"$f":"IF($A$4=Formula!$A$34,IF(Formula!WJ23>Formula!$B$4,\"\",Formula!WJ26),\"\")","v":""},{"$f":"IF($A$4=Formula!$A$34,IF(Formula!WK23>Formula!$B$4,\"\",Formula!WK26),\"\")","v":""},{"$f":"IF($A$4=Formula!$A$34,IF(Formula!WL23>Formula!$B$4,\"\",Formula!WL26),\"\")","v":""},{"$f":"IF($A$4=Formula!$A$34,IF(Formula!WM23>Formula!$B$4,\"\",Formula!WM26),\"\")","v":""},{"$f":"IF($A$4=Formula!$A$34,IF(Formula!WN23>Formula!$B$4,\"\",Formula!WN26),\"\")","v":""},{"$f":"IF($A$4=Formula!$A$34,IF(Formula!WO23>Formula!$B$4,\"\",Formula!WO26),\"\")","v":""},{"$f":"IF($A$4=Formula!$A$34,IF(Formula!WP23>Formula!$B$4,\"\",Formula!WP26),\"\")","v":""},{"$f":"IF($A$4=Formula!$A$34,IF(Formula!WQ23>Formula!$B$4,\"\",Formula!WQ26),\"\")","v":""},{"$f":"IF($A$4=Formula!$A$34,IF(Formula!WR23>Formula!$B$4,\"\",Formula!WR26),\"\")","v":""},{"$f":"IF($A$4=Formula!$A$34,IF(Formula!WS23>Formula!$B$4,\"\",Formula!WS26),\"\")","v":""},{"$f":"IF($A$4=Formula!$A$34,IF(Formula!WT23>Formula!$B$4,\"\",Formula!WT26),\"\")","v":""},{"$f":"IF($A$4=Formula!$A$34,IF(Formula!WU23>Formula!$B$4,\"\",Formula!WU26),\"\")","v":""},{"$f":"IF($A$4=Formula!$A$34,IF(Formula!WV23>Formula!$B$4,\"\",Formula!WV26),\"\")","v":""},{"$f":"IF($A$4=Formula!$A$34,IF(Formula!WW23>Formula!$B$4,\"\",Formula!WW26),\"\")","v":""},{"$f":"IF($A$4=Formula!$A$34,IF(Formula!WX23>Formula!$B$4,\"\",Formula!WX26),\"\")","v":""},{"$f":"IF($A$4=Formula!$A$34,IF(Formula!WY23>Formula!$B$4,\"\",Formula!WY26),\"\")","v":""},{"$f":"IF($A$4=Formula!$A$34,IF(Formula!WZ23>Formula!$B$4,\"\",Formula!WZ26),\"\")","v":""},{"$f":"IF($A$4=Formula!$A$34,IF(Formula!XA23>Formula!$B$4,\"\",Formula!XA26),\"\")","v":""},{"$f":"IF($A$4=Formula!$A$34,IF(Formula!XB23>Formula!$B$4,\"\",Formula!XB26),\"\")","v":""},{"$f":"IF($A$4=Formula!$A$34,IF(Formula!XC23>Formula!$B$4,\"\",Formula!XC26),\"\")","v":""},{"$f":"IF($A$4=Formula!$A$34,IF(Formula!XD23>Formula!$B$4,\"\",Formula!XD26),\"\")","v":""},{"$f":"IF($A$4=Formula!$A$34,IF(Formula!XE23>Formula!$B$4,\"\",Formula!XE26),\"\")","v":""},{"$f":"IF($A$4=Formula!$A$34,IF(Formula!XF23>Formula!$B$4,\"\",Formula!XF26),\"\")","v":""},{"$f":"IF($A$4=Formula!$A$34,IF(Formula!XG23>Formula!$B$4,\"\",Formula!XG26),\"\")","v":""},{"$f":"IF($A$4=Formula!$A$34,IF(Formula!XH23>Formula!$B$4,\"\",Formula!XH26),\"\")","v":""},{"$f":"IF($A$4=Formula!$A$34,IF(Formula!XI23>Formula!$B$4,\"\",Formula!XI26),\"\")","v":""},{"$f":"IF($A$4=Formula!$A$34,IF(Formula!XJ23>Formula!$B$4,\"\",Formula!XJ26),\"\")","v":""},{"$f":"IF($A$4=Formula!$A$34,IF(Formula!XK23>Formula!$B$4,\"\",Formula!XK26),\"\")","v":""},{"$f":"IF($A$4=Formula!$A$34,IF(Formula!XL23>Formula!$B$4,\"\",Formula!XL26),\"\")","v":""},{"$f":"IF($A$4=Formula!$A$34,IF(Formula!XM23>Formula!$B$4,\"\",Formula!XM26),\"\")","v":""},{"$f":"IF($A$4=Formula!$A$34,IF(Formula!XN23>Formula!$B$4,\"\",Formula!XN26),\"\")","v":""},{"$f":"IF($A$4=Formula!$A$34,IF(Formula!XO23>Formula!$B$4,\"\",Formula!XO26),\"\")","v":""},{"$f":"IF($A$4=Formula!$A$34,IF(Formula!XP23>Formula!$B$4,\"\",Formula!XP26),\"\")","v":""},{"$f":"IF($A$4=Formula!$A$34,IF(Formula!XQ23>Formula!$B$4,\"\",Formula!XQ26),\"\")","v":""},{"$f":"IF($A$4=Formula!$A$34,IF(Formula!XR23>Formula!$B$4,\"\",Formula!XR26),\"\")","v":""},{"$f":"IF($A$4=Formula!$A$34,IF(Formula!XS23>Formula!$B$4,\"\",Formula!XS26),\"\")","v":""},{"$f":"IF($A$4=Formula!$A$34,IF(Formula!XT23>Formula!$B$4,\"\",Formula!XT26),\"\")","v":""},{"$f":"IF($A$4=Formula!$A$34,IF(Formula!XU23>Formula!$B$4,\"\",Formula!XU26),\"\")","v":""},{"$f":"IF($A$4=Formula!$A$34,IF(Formula!XV23>Formula!$B$4,\"\",Formula!XV26),\"\")","v":""},{"$f":"IF($A$4=Formula!$A$34,IF(Formula!XW23>Formula!$B$4,\"\",Formula!XW26),\"\")","v":""},{"$f":"IF($A$4=Formula!$A$34,IF(Formula!XX23>Formula!$B$4,\"\",Formula!XX26),\"\")","v":""},{"$f":"IF($A$4=Formula!$A$34,IF(Formula!XY23>Formula!$B$4,\"\",Formula!XY26),\"\")","v":""},{"$f":"IF($A$4=Formula!$A$34,IF(Formula!XZ23>Formula!$B$4,\"\",Formula!XZ26),\"\")","v":""},{"$f":"IF($A$4=Formula!$A$34,IF(Formula!YA23>Formula!$B$4,\"\",Formula!YA26),\"\")","v":""},{"$f":"IF($A$4=Formula!$A$34,IF(Formula!YB23>Formula!$B$4,\"\",Formula!YB26),\"\")","v":""},{"$f":"IF($A$4=Formula!$A$34,IF(Formula!YC23>Formula!$B$4,\"\",Formula!YC26),\"\")","v":""},{"$f":"IF($A$4=Formula!$A$34,IF(Formula!YD23>Formula!$B$4,\"\",Formula!YD26),\"\")","v":""},{"$f":"IF($A$4=Formula!$A$34,IF(Formula!YE23>Formula!$B$4,\"\",Formula!YE26),\"\")","v":""},{"$f":"IF($A$4=Formula!$A$34,IF(Formula!YF23>Formula!$B$4,\"\",Formula!YF26),\"\")","v":""},{"$f":"IF($A$4=Formula!$A$34,IF(Formula!YG23>Formula!$B$4,\"\",Formula!YG26),\"\")","v":""},{"$f":"IF($A$4=Formula!$A$34,IF(Formula!YH23>Formula!$B$4,\"\",Formula!YH26),\"\")","v":""},{"$f":"IF($A$4=Formula!$A$34,IF(Formula!YI23>Formula!$B$4,\"\",Formula!YI26),\"\")","v":""},{"$f":"IF($A$4=Formula!$A$34,IF(Formula!YJ23>Formula!$B$4,\"\",Formula!YJ26),\"\")","v":""},{"$f":"IF($A$4=Formula!$A$34,IF(Formula!YK23>Formula!$B$4,\"\",Formula!YK26),\"\")","v":""},{"$f":"IF($A$4=Formula!$A$34,IF(Formula!YL23>Formula!$B$4,\"\",Formula!YL26),\"\")","v":""},{"$f":"IF($A$4=Formula!$A$34,IF(Formula!YM23>Formula!$B$4,\"\",Formula!YM26),\"\")","v":""},{"$f":"IF($A$4=Formula!$A$34,IF(Formula!YN23>Formula!$B$4,\"\",Formula!YN26),\"\")","v":""},{"$f":"IF($A$4=Formula!$A$34,IF(Formula!YO23>Formula!$B$4,\"\",Formula!YO26),\"\")","v":""},{"$f":"IF($A$4=Formula!$A$34,IF(Formula!YP23>Formula!$B$4,\"\",Formula!YP26),\"\")","v":""},{"$f":"IF($A$4=Formula!$A$34,IF(Formula!YQ23>Formula!$B$4,\"\",Formula!YQ26),\"\")","v":""},{"$f":"IF($A$4=Formula!$A$34,IF(Formula!YR23>Formula!$B$4,\"\",Formula!YR26),\"\")","v":""},{"$f":"IF($A$4=Formula!$A$34,IF(Formula!YS23>Formula!$B$4,\"\",Formula!YS26),\"\")","v":""},{"$f":"IF($A$4=Formula!$A$34,IF(Formula!YT23>Formula!$B$4,\"\",Formula!YT26),\"\")","v":""},{"$f":"IF($A$4=Formula!$A$34,IF(Formula!YU23>Formula!$B$4,\"\",Formula!YU26),\"\")","v":""},{"$f":"IF($A$4=Formula!$A$34,IF(Formula!YV23>Formula!$B$4,\"\",Formula!YV26),\"\")","v":""},{"$f":"IF($A$4=Formula!$A$34,IF(Formula!YW23>Formula!$B$4,\"\",Formula!YW26),\"\")","v":""},{"$f":"IF($A$4=Formula!$A$34,IF(Formula!YX23>Formula!$B$4,\"\",Formula!YX26),\"\")","v":""},{"$f":"IF($A$4=Formula!$A$34,IF(Formula!YY23>Formula!$B$4,\"\",Formula!YY26),\"\")","v":""},{"$f":"IF($A$4=Formula!$A$34,IF(Formula!YZ23>Formula!$B$4,\"\",Formula!YZ26),\"\")","v":""},{"$f":"IF($A$4=Formula!$A$34,IF(Formula!ZA23>Formula!$B$4,\"\",Formula!ZA26),\"\")","v":""},{"$f":"IF($A$4=Formula!$A$34,IF(Formula!ZB23>Formula!$B$4,\"\",Formula!ZB26),\"\")","v":""},{"$f":"IF($A$4=Formula!$A$34,IF(Formula!ZC23>Formula!$B$4,\"\",Formula!ZC26),\"\")","v":""},{"$f":"IF($A$4=Formula!$A$34,IF(Formula!ZD23>Formula!$B$4,\"\",Formula!ZD26),\"\")","v":""},{"$f":"IF($A$4=Formula!$A$34,IF(Formula!ZE23>Formula!$B$4,\"\",Formula!ZE26),\"\")","v":""},{"$f":"IF($A$4=Formula!$A$34,IF(Formula!ZF23>Formula!$B$4,\"\",Formula!ZF26),\"\")","v":""},{"$f":"IF($A$4=Formula!$A$34,IF(Formula!ZG23>Formula!$B$4,\"\",Formula!ZG26),\"\")","v":""},{"$f":"IF($A$4=Formula!$A$34,IF(Formula!ZH23>Formula!$B$4,\"\",Formula!ZH26),\"\")","v":""},{"$f":"IF($A$4=Formula!$A$34,IF(Formula!ZI23>Formula!$B$4,\"\",Formula!ZI26),\"\")","v":""},{"$f":"IF($A$4=Formula!$A$34,IF(Formula!ZJ23>Formula!$B$4,\"\",Formula!ZJ26),\"\")","v":""},{"$f":"IF($A$4=Formula!$A$34,IF(Formula!ZK23>Formula!$B$4,\"\",Formula!ZK26),\"\")","v":""},{"$f":"IF($A$4=Formula!$A$34,IF(Formula!ZL23>Formula!$B$4,\"\",Formula!ZL26),\"\")","v":""},{"$f":"IF($A$4=Formula!$A$34,IF(Formula!ZM23>Formula!$B$4,\"\",Formula!ZM26),\"\")","v":""},{"$f":"IF($A$4=Formula!$A$34,IF(Formula!ZN23>Formula!$B$4,\"\",Formula!ZN26),\"\")","v":""}]
[null,null,null,null,null,null,null,null,null,null,null,{"$f":"IF(AND(J10<>\"\",K10<>\"\"),J10+K10,\"\")","v":""},{"$f":"IF(L10=\"\",\"\",I10-L10)","v":""}]
[null,null,null,null,null,null,null,null,null,null,null,{"$f":"IF(AND(J11<>\"\",K11<>\"\"),J11+K11,\"\")","v":""},{"$f":"IF(L11=\"\",\"\",I11-L11)","v":""}]
[null,null,null,null,null,null,null,null,null,null,null,"",{"$f":"IF(L12=\"\",\"\",I12-L12)","v":""}]
[null,null,null,null,null,null,null,null,null,null,null,"",{"$f":"IF(L13=\"\",\"\",I13-L13)","v":""}]
[null,null,null,null,null,null,null,null,null,null,null,"",{"$f":"IF(L14=\"\",\"\",I14-L14)","v":""}]
[null,null,null,null,null,null," ",null,null,null,null,"",{"$f":"IF(L15=\"\",\"\",I15-L15)","v":""}]
[null,null,null,null,null,null,null,null,null,null,null,"",""]
[null,null,null,null,null,null,null,null,null,null,null,"",""]
[null,null,null,null,null,null,null,null,null,null,null,"",""]
[null,null,null,null,null,null,null,null,null,null,null,"",""]
[null,null,null,null,null,null,null,null,null,null,null,"",""]
[null,null,null,null,null,null,null,null,null,null,null,"",""]
[null,null,null,null,null,null,null,null,null,null,null,"",""]
[null,null,null,null,null,null,null,null,null,null,null,"",""]
[null,null,null,null,null,null,null,null,null,null,null,"",""]
[null,null,null,null,null,null,null,null,null,null,null,"",""]
[null,null,null,null,null,null,null,null,null,null,null,"",""]
[null,null,null,null,null,null,null,null,null,null,null,"",""]
[null,null,null,null,null,null,null,null,null,null,null,"",""]
[null,null,null,null,null,null,null,null,null,null,null,"",""]
[null,null,null,null,null,null,null,null,null,null,null,"",""]
[null,null,null,null,null,null,null,null,null,null,null,"",""]
[null,null,null,null,null,null,null,null,null,null,null,"",""]
[null,null,null,null,null,null,null,null,null,null,null,"",""]
[null,null,null,null,null,null,null,null,null,null,null,"",""]
[null,null,null,null,null,null,null,null,null,null,null,"",""]
[null,null,null,null,null,null,null,null,null,null,null,"",""]
[null,null,null,null,null,null,null,null,null,null,null,"",""]
[null,null,null,null,null,null,null,null,null,null,null,"",""]
[null,null,null,null,null,null,null,null,null,null,null,"",""]
[null,null,null,null,null,null,null,null,null,null,null,"",""]
[null,null,null,null,null,null,null,null,null,null,null,"",""]
[null,null,null,null,null,null,null,null,null,null,null,"",""]
[null,null,null,null,null,null,null,null,null,null,null,"",""]
[null,null,null,null,null,null,null,null,null,null,null,"",""]
[null,null,null,null,null,null,null,null,null,null,null,"",""]
[null,null,null,null,null,null,null,null,null,null,null,"",""]
[null,null,null,null,null,null,null,null,null,null,null,"",""]
[null,null,null,null,null,null,null,null,null,null,null,"",""]
[null,null,null,null,null,null,null,null,null,null,null,"",""]
[null,null,null,null,null,null,null,null,null,null,null,"",""]
[null,null,null,null,null,null,null,null,null,null,null,"",""]
[null,null,null,null,null,null,null,null,null,null,null,"",""]
[null,null,null,null,null,null,null,null,null,null,null,"",""]
[null,null,null,null,null,null,null,null,null,null,null,"",""]
[null,null,null,null,null,null,null,null,null,null,null,"",""]
[null,null,null,null,null,null,null,null,null,null,null,"",""]
[null,null,null,null,null,null,null,null,null,null,null,"",""]
[null,null,null,null,null,null,null,null,null,null,null,"",""]
[null,null,null,null,null,null,null,null,null,null,null,"",""]
[null,null,null,null,null,null,null,null,null,null,null,"",""]
[null,null,null,null,null,null,null,null,null,null,null,"",""]
[null,null,null,null,null,null,null,null,null,null,null,"",""]
[null,null,null,null,null,null,null,null,null,null,null,"",""]
[null,null,null,null,null,null,null,null,null,null,null,"",""]
[null,null,null,null,null,null,null,null,null,null,null,"",""]
[null,null,null,null,null,null,null,null,null,null,null,"",""]
[null,null,null,null,null,null,null,null,null,null,null,"",""]
[null,null,null,null,null,null,null,null,null,null,null,"",""]
[null,null,null,null,null,null,null,null,null,null,null,"",""]
[null,null,null,null,null,null,null,null,null,null,null,"",""]
[null,null,null,null,null,null,null,null,null,null,null,"",""]
[null,null,null,null,null,null,null,null,null,null,null,"",""]
[null,null,null,null,null,null,null,null,null,null,null,"",""]
[null,null,null,null,null,null,null,null,null,null,null,"",""]
[null,null,null,null,null,null,null,null,null,null,null,{"$f":"IF(AND(J75<>\"\",K75<>\"\"),J75+K75,\"\")","v":""},""]
[null,null,null,null,null,null,null,null,null,null,null,"",""]
[null,null,null,null,null,null,null,null,null,null,null,"",""]
[null,null,null,null,null,null,null,null,null,null,null,"",""]
[null,null,null,null,null,null,null,null,null,null,null,"",{"$f":"IF(L79=\"\",\"\",I79-L79)","v":""}]
[null,null,null,null,null,null,null,null,null,null,null,"",""]
[null,null,null,null,null,null,null,null,null,null,null,"",""]
[null,null,null,null,null,null,null,null,null,null,null,"",""]
[null,null,null,null,null,null,null,null,null,null,null,"",""]
[null,null,null,null,null,null,null,null,null,null,null,"",""]
[null,null,null,null,null,null,null,null,null,null,null,"",""]
[null,null,null,null,null,null,null,null,null,null,null,"",""]
[null,null,null,null,null,null,null,null,null,null,null,"",""]
[null,null,null,null,null,null,null,null,null,null,null,"",""]
[null,null,null,null,null,null,null,null,null,null,null,"",""]
[null,null,null,null,null,null,null,null,null,null,null,"",""]
[null,null,null,null,null,null,null,null,null,null,null,"",""]
[null,null,null,null,null,null,null,null,null,null,null,"",""]
[null,null,null,null,null,null,null,null,null,null,null,"",""]
[null,null,null,null,null,null,null,null,null,null,null,"",""]
[null,null,null,null,null,null,null,null,null,null,null,"",""]
[null,null,null,null,null,null,null,null,null,null,null,"",""]
[null,null,null,null,null,null,null,null,null,null,null,"",""]
[null,null,null,null,null,null,null,null,null,null,null,"",""]

{"sheet":"Tidsplan, veckor","index":2,"n_rows":95,"n_cols":702,"rows_kept":95,"cut":false,"hidden":false,"merged":[[4,6,7,6],[4,7,7,7],[1,1,1,18],[4,1,7,1],[4,2,7,2],[4,3,7,3],[4,4,7,4],[4,5,7,5],[4,8,7,8],[4,9,7,9],[4,10,7,10],[4,11,7,11],[4,12,7,12]]}
[null,{"$f":"Formula!A51","v":"Tidsplan, veckor"}]
[null,{"$f":"CONCATENATE(Formula!A66,\", \",Formula!A67,\", \",Formula!A68)","v":"<Projektnamn>, <Nnnn Nnnn>, <Utgåva>"}]
[null,null,null,null,null,null,{"$f":"Formula!A52","v":"Startdatum"},{"$f":"Formula!A53","v":"Slutdatum"}]
[null,null,null,null,null,null,"2016-06-01","2016-12-01"]
[null,{"$f":"Formula!A54","v":"Nr"},{"$f":"Formula!A55","v":"Beskrivning"},{"$f":"Formula!A56","v":"Ansvarig"},{"$f":"Formula!A57","v":"Typ"},{"$f":"Formula!A58","v":"Färg"},{"$f":"Formula!A59","v":"Start"},{"$f":"Formula!A60","v":"Slut"},{"$f":"Formula!A61","v":"Budget"},{"$f":"Formula!A62","v":"Upparbetat"},{"$f":"Formula!A63","v":"Återstod"},{"$f":"Formula!A64","v":"Prognos"},{"$f":"Formula!A65","v":"Avvikelse"},{"$f":"IF(Formula_week!B10>Formula_week!$B$4,\"\",Formula_week!B9)","v":22},{"$f":"IF(Formula_week!C10>Formula_week!$B$4,\"\",Formula_week!C9)","v":23},{"$f":"IF(Formula_week!D10>Formula_week!$B$4,\"\",Formula_week!D9)","v":24},{"$f":"IF(Formula_week!E10>Formula_week!$B$4,\"\",Formula_week!E9)","v":25},{"$f":"IF(Formula_week!F10>Formula_week!$B$4,\"\",Formula_week!F9)","v":26},{"$f":"IF(Formula_week!G10>Formula_week!$B$4,\"\",Formula_week!G9)","v":27},{"$f":"IF(Formula_week!H10>Formula_week!$B$4,\"\",Formula_week!H9)","v":28},{"$f":"IF(Formula_week!I10>Formula_week!$B$4,\"\",Formula_week!I9)","v":29},{"$f":"IF(Formula_week!J10>Formula_week!$B$4,\"\",Formula_week!J9)","v":30},{"$f":"IF(Formula_week!K10>Formula_week!$B$4,\"\",Formula_week!K9)","v":31},{"$f":"IF(Formula_week!L10>Formula_week!$B$4,\"\",Formula_week!L9)","v":32},{"$f":"IF(Formula_week!M10>Formula_week!$B$4,\"\",Formula_week!M9)","v":33},{"$f":"IF(Formula_week!N10>Formula_week!$B$4,\"\",Formula_week!N9)","v":34},{"$f":"IF(Formula_week!O10>Formula_week!$B$4,\"\",Formula_week!O9)","v":35},{"$f":"IF(Formula_week!P10>Formula_week!$B$4,\"\",Formula_week!P9)","v":36},{"$f":"IF(Formula_week!Q10>Formula_week!$B$4,\"\",Formula_week!Q9)","v":37},{"$f":"IF(Formula_week!R10>Formula_week!$B$4,\"\",Formula_week!R9)","v":38},{"$f":"IF(Formula_week!S10>Formula_week!$B$4,\"\",Formula_week!S9)","v":39},{"$f":"IF(Formula_week!T10>Formula_week!$B$4,\"\",Formula_week!T9)","v":40},{"$f":"IF(Formula_week!U10>Formula_week!$B$4,\"\",Formula_week!U9)","v":41},{"$f":"IF(Formula_week!V10>Formula_week!$B$4,\"\",Formula_week!V9)","v":42},{"$f":"IF(Formula_week!W10>Formula_week!$B$4,\"\",Formula_week!W9)","v":43},{"$f":"IF(Formula_week!X10>Formula_week!$B$4,\"\",Formula_week!X9)","v":44},{"$f":"IF(Formula_week!Y10>Formula_week!$B$4,\"\",Formula_week!Y9)","v":45},{"$f":"IF(Formula_week!Z10>Formula_week!$B$4,\"\",Formula_week!Z9)","v":46},{"$f":"IF(Formula_week!AA10>Formula_week!$B$4,\"\",Formula_week!AA9)","v":47},{"$f":"IF(Formula_week!AB10>Formula_week!$B$4,\"\",Formula_week!AB9)","v":48},{"$f":"IF(Formula_week!AC10>Formula_week!$B$4,\"\",Formula_week!AC9)","v":""},{"$f":"IF(Formula_week!AD10>Formula_week!$B$4,\"\",Formula_week!AD9)","v":""},{"$f":"IF(Formula_week!AE10>Formula_week!$B$4,\"\",Formula_week!AE9)","v":""},{"$f":"IF(Formula_week!AF10>Formula_week!$B$4,\"\",Formula_week!AF9)","v":""},{"$f":"IF(Formula_week!AG10>Formula_week!$B$4,\"\",Formula_week!AG9)","v":""},{"$f":"IF(Formula_week!AH10>Formula_week!$B$4,\"\",Formula_week!AH9)","v":""},{"$f":"IF(Formula_week!AI10>Formula_week!$B$4,\"\",Formula_week!AI9)","v":""},{"$f":"IF(Formula_week!AJ10>Formula_week!$B$4,\"\",Formula_week!AJ9)","v":""},{"$f":"IF(Formula_week!AK10>Formula_week!$B$4,\"\",Formula_week!AK9)","v":""},{"$f":"IF(Formula_week!AL10>Formula_week!$B$4,\"\",Formula_week!AL9)","v":""},{"$f":"IF(Formula_week!AM10>Formula_week!$B$4,\"\",Formula_week!AM9)","v":""},{"$f":"IF(Formula_week!AN10>Formula_week!$B$4,\"\",Formula_week!AN9)","v":""},{"$f":"IF(Formula_week!AO10>Formula_week!$B$4,\"\",Formula_week!AO9)","v":""},{"$f":"IF(Formula_week!AP10>Formula_week!$B$4,\"\",Formula_week!AP9)","v":""},{"$f":"IF(Formula_week!AQ10>Formula_week!$B$4,\"\",Formula_week!AQ9)","v":""},{"$f":"IF(Formula_week!AR10>Formula_week!$B$4,\"\",Formula_week!AR9)","v":""},{"$f":"IF(Formula_week!AS10>Formula_week!$B$4,\"\",Formula_week!AS9)","v":""},{"$f":"IF(Formula_week!AT10>Formula_week!$B$4,\"\",Formula_week!AT9)","v":""},{"$f":"IF(Formula_week!AU10>Formula_week!$B$4,\"\",Formula_week!AU9)","v":""},{"$f":"IF(Formula_week!AV10>Formula_week!$B$4,\"\",Formula_week!AV9)","v":""},{"$f":"IF(Formula_week!AW10>Formula_week!$B$4,\"\",Formula_week!AW9)","v":""},{"$f":"IF(Formula_week!AX10>Formula_week!$B$4,\"\",Formula_week!AX9)","v":""},{"$f":"IF(Formula_week!AY10>Formula_week!$B$4,\"\",Formula_week!AY9)","v":""},{"$f":"IF(Formula_week!AZ10>Formula_week!$B$4,\"\",Formula_week!AZ9)","v":""},{"$f":"IF(Formula_week!BA10>Formula_week!$B$4,\"\",Formula_week!BA9)","v":""},{"$f":"IF(Formula_week!BB10>Formula_week!$B$4,\"\",Formula_week!BB9)","v":""},{"$f":"IF(Formula_week!BC10>Formula_week!$B$4,\"\",Formula_week!BC9)","v":""},{"$f":"IF(Formula_week!BD10>Formula_week!$B$4,\"\",Formula_week!BD9)","v":""},{"$f":"IF(Formula_week!BE10>Formula_week!$B$4,\"\",Formula_week!BE9)","v":""},{"$f":"IF(Formula_week!BF10>Formula_week!$B$4,\"\",Formula_week!BF9)","v":""},{"$f":"IF(Formula_week!BG10>Formula_week!$B$4,\"\",Formula_week!BG9)","v":""},{"$f":"IF(Formula_week!BH10>Formula_week!$B$4,\"\",Formula_week!BH9)","v":""},{"$f":"IF(Formula_week!BI10>Formula_week!$B$4,\"\",Formula_week!BI9)","v":""},{"$f":"IF(Formula_week!BJ10>Formula_week!$B$4,\"\",Formula_week!BJ9)","v":""},{"$f":"IF(Formula_week!BK10>Formula_week!$B$4,\"\",Formula_week!BK9)","v":""},{"$f":"IF(Formula_week!BL10>Formula_week!$B$4,\"\",Formula_week!BL9)","v":""},{"$f":"IF(Formula_week!BM10>Formula_week!$B$4,\"\",Formula_week!BM9)","v":""},{"$f":"IF(Formula_week!BN10>Formula_week!$B$4,\"\",Formula_week!BN9)","v":""},{"$f":"IF(Formula_week!BO10>Formula_week!$B$4,\"\",Formula_week!BO9)","v":""},{"$f":"IF(Formula_week!BP10>Formula_week!$B$4,\"\",Formula_week!BP9)","v":""},{"$f":"IF(Formula_week!BQ10>Formula_week!$B$4,\"\",Formula_week!BQ9)","v":""},{"$f":"IF(Formula_week!BR10>Formula_week!$B$4,\"\",Formula_week!BR9)","v":""},{"$f":"IF(Formula_week!BS10>Formula_week!$B$4,\"\",Formula_week!BS9)","v":""},{"$f":"IF(Formula_week!BT10>Formula_week!$B$4,\"\",Formula_week!BT9)","v":""},{"$f":"IF(Formula_week!BU10>Formula_week!$B$4,\"\",Formula_week!BU9)","v":""},{"$f":"IF(Formula_week!BV10>Formula_week!$B$4,\"\",Formula_week!BV9)","v":""},{"$f":"IF(Formula_week!BW10>Formula_week!$B$4,\"\",Formula_week!BW9)","v":""},{"$f":"IF(Formula_week!BX10>Formula_week!$B$4,\"\",Formula_week!BX9)","v":""},{"$f":"IF(Formula_week!BY10>Formula_week!$B$4,\"\",Formula_week!BY9)","v":""},{"$f":"IF(Formula_week!BZ10>Formula_week!$B$4,\"\",Formula_week!BZ9)","v":""},{"$f":"IF(Formula_week!CA10>Formula_week!$B$4,\"\",Formula_week!CA9)","v":""},{"$f":"IF(Formula_week!CB10>Formula_week!$B$4,\"\",Formula_week!CB9)","v":""},{"$f":"IF(Formula_week!CC10>Formula_week!$B$4,\"\",Formula_week!CC9)","v":""},{"$f":"IF(Formula_week!CD10>Formula_week!$B$4,\"\",Formula_week!CD9)","v":""},{"$f":"IF(Formula_week!CE10>Formula_week!$B$4,\"\",Formula_week!CE9)","v":""},{"$f":"IF(Formula_week!CF10>Formula_week!$B$4,\"\",Formula_week!CF9)","v":""},{"$f":"IF(Formula_week!CG10>Formula_week!$B$4,\"\",Formula_week!CG9)","v":""},{"$f":"IF(Formula_week!CH10>Formula_week!$B$4,\"\",Formula_week!CH9)","v":""},{"$f":"IF(Formula_week!CI10>Formula_week!$B$4,\"\",Formula_week!CI9)","v":""},{"$f":"IF(Formula_week!CJ10>Formula_week!$B$4,\"\",Formula_week!CJ9)","v":""},{"$f":"IF(Formula_week!CK10>Formula_week!$B$4,\"\",Formula_week!CK9)","v":""},{"$f":"IF(Formula_week!CL10>Formula_week!$B$4,\"\",Formula_week!CL9)","v":""},{"$f":"IF(Formula_week!CM10>Formula_week!$B$4,\"\",Formula_week!CM9)","v":""},{"$f":"IF(Formula_week!CN10>Formula_week!$B$4,\"\",Formula_week!CN9)","v":""},{"$f":"IF(Formula_week!CO10>Formula_week!$B$4,\"\",Formula_week!CO9)","v":""},{"$f":"IF(Formula_week!CP10>Formula_week!$B$4,\"\",Formula_week!CP9)","v":""},{"$f":"IF(Formula_week!CQ10>Formula_week!$B$4,\"\",Formula_week!CQ9)","v":""},{"$f":"IF(Formula_week!CR10>Formula_week!$B$4,\"\",Formula_week!CR9)","v":""},{"$f":"IF(Formula_week!CS10>Formula_week!$B$4,\"\",Formula_week!CS9)","v":""},{"$f":"IF(Formula_week!CT10>Formula_week!$B$4,\"\",Formula_week!CT9)","v":""},{"$f":"IF(Formula_week!CU10>Formula_week!$B$4,\"\",Formula_week!CU9)","v":""},{"$f":"IF(Formula_week!CV10>Formula_week!$B$4,\"\",Formula_week!CV9)","v":""},{"$f":"IF(Formula_week!CW10>Formula_week!$B$4,\"\",Formula_week!CW9)","v":""},{"$f":"IF(Formula_week!CX10>Formula_week!$B$4,\"\",Formula_week!CX9)","v":""},{"$f":"IF(Formula_week!CY10>Formula_week!$B$4,\"\",Formula_week!CY9)","v":""},{"$f":"IF(Formula_week!CZ10>Formula_week!$B$4,\"\",Formula_week!CZ9)","v":""},{"$f":"IF(Formula_week!DA10>Formula_week!$B$4,\"\",Formula_week!DA9)","v":""},{"$f":"IF(Formula_week!DB10>Formula_week!$B$4,\"\",Formula_week!DB9)","v":""},{"$f":"IF(Formula_week!DC10>Formula_week!$B$4,\"\",Formula_week!DC9)","v":""},{"$f":"IF(Formula_week!DD10>Formula_week!$B$4,\"\",Formula_week!DD9)","v":""},{"$f":"IF(Formula_week!DE10>Formula_week!$B$4,\"\",Formula_week!DE9)","v":""},{"$f":"IF(Formula_week!DF10>Formula_week!$B$4,\"\",Formula_week!DF9)","v":""},{"$f":"IF(Formula_week!DG10>Formula_week!$B$4,\"\",Formula_week!DG9)","v":""},{"$f":"IF(Formula_week!DH10>Formula_week!$B$4,\"\",Formula_week!DH9)","v":""},{"$f":"IF(Formula_week!DI10>Formula_week!$B$4,\"\",Formula_week!DI9)","v":""},{"$f":"IF(Formula_week!DJ10>Formula_week!$B$4,\"\",Formula_week!DJ9)","v":""},{"$f":"IF(Formula_week!DK10>Formula_week!$B$4,\"\",Formula_week!DK9)","v":""},{"$f":"IF(Formula_week!DL10>Formula_week!$B$4,\"\",Formula_week!DL9)","v":""},{"$f":"IF(Formula_week!DM10>Formula_week!$B$4,\"\",Formula_week!DM9)","v":""},{"$f":"IF(Formula_week!DN10>Formula_week!$B$4,\"\",Formula_week!DN9)","v":""},{"$f":"IF(Formula_week!DO10>Formula_week!$B$4,\"\",Formula_week!DO9)","v":""},{"$f":"IF(Formula_week!DP10>Formula_week!$B$4,\"\",Formula_week!DP9)","v":""},{"$f":"IF(Formula_week!DQ10>Formula_week!$B$4,\"\",Formula_week!DQ9)","v":""},{"$f":"IF(Formula_week!DR10>Formula_week!$B$4,\"\",Formula_week!DR9)","v":""},{"$f":"IF(Formula_week!DS10>Formula_week!$B$4,\"\",Formula_week!DS9)","v":""},{"$f":"IF(Formula_week!DT10>Formula_week!$B$4,\"\",Formula_week!DT9)","v":""},{"$f":"IF(Formula_week!DU10>Formula_week!$B$4,\"\",Formula_week!DU9)","v":""},{"$f":"IF(Formula_week!DV10>Formula_week!$B$4,\"\",Formula_week!DV9)","v":""},{"$f":"IF(Formula_week!DW10>Formula_week!$B$4,\"\",Formula_week!DW9)","v":""},{"$f":"IF(Formula_week!DX10>Formula_week!$B$4,\"\",Formula_week!DX9)","v":""},{"$f":"IF(Formula_week!DY10>Formula_week!$B$4,\"\",Formula_week!DY9)","v":""},{"$f":"IF(Formula_week!DZ10>Formula_week!$B$4,\"\",Formula_week!DZ9)","v":""},{"$f":"IF(Formula_week!EA10>Formula_week!$B$4,\"\",Formula_week!EA9)","v":""},{"$f":"IF(Formula_week!EB10>Formula_week!$B$4,\"\",Formula_week!EB9)","v":""},{"$f":"IF(Formula_week!EC10>Formula_week!$B$4,\"\",Formula_week!EC9)","v":""},{"$f":"IF(Formula_week!ED10>Formula_week!$B$4,\"\",Formula_week!ED9)","v":""},{"$f":"IF(Formula_week!EE10>Formula_week!$B$4,\"\",Formula_week!EE9)","v":""},{"$f":"IF(Formula_week!EF10>Formula_week!$B$4,\"\",Formula_week!EF9)","v":""},{"$f":"IF(Formula_week!EG10>Formula_week!$B$4,\"\",Formula_week!EG9)","v":""},{"$f":"IF(Formula_week!EH10>Formula_week!$B$4,\"\",Formula_week!EH9)","v":""},{"$f":"IF(Formula_week!EI10>Formula_week!$B$4,\"\",Formula_week!EI9)","v":""},{"$f":"IF(Formula_week!EJ10>Formula_week!$B$4,\"\",Formula_week!EJ9)","v":""},{"$f":"IF(Formula_week!EK10>Formula_week!$B$4,\"\",Formula_week!EK9)","v":""},{"$f":"IF(Formula_week!EL10>Formula_week!$B$4,\"\",Formula_week!EL9)","v":""},{"$f":"IF(Formula_week!EM10>Formula_week!$B$4,\"\",Formula_week!EM9)","v":""},{"$f":"IF(Formula_week!EN10>Formula_week!$B$4,\"\",Formula_week!EN9)","v":""},{"$f":"IF(Formula_week!EO10>Formula_week!$B$4,\"\",Formula_week!EO9)","v":""},{"$f":"IF(Formula_week!EP10>Formula_week!$B$4,\"\",Formula_week!EP9)","v":""},{"$f":"IF(Formula_week!EQ10>Formula_week!$B$4,\"\",Formula_week!EQ9)","v":""},{"$f":"IF(Formula_week!ER10>Formula_week!$B$4,\"\",Formula_week!ER9)","v":""},{"$f":"IF(Formula_week!ES10>Formula_week!$B$4,\"\",Formula_week!ES9)","v":""},{"$f":"IF(Formula_week!ET10>Formula_week!$B$4,\"\",Formula_week!ET9)","v":""},{"$f":"IF(Formula_week!EU10>Formula_week!$B$4,\"\",Formula_week!EU9)","v":""},{"$f":"IF(Formula_week!EV10>Formula_week!$B$4,\"\",Formula_week!EV9)","v":""},{"$f":"IF(Formula_week!EW10>Formula_week!$B$4,\"\",Formula_week!EW9)","v":""},{"$f":"IF(Formula_week!EX10>Formula_week!$B$4,\"\",Formula_week!EX9)","v":""},{"$f":"IF(Formula_week!EY10>Formula_week!$B$4,\"\",Formula_week!EY9)","v":""},{"$f":"IF(Formula_week!EZ10>Formula_week!$B$4,\"\",Formula_week!EZ9)","v":""},{"$f":"IF(Formula_week!FA10>Formula_week!$B$4,\"\",Formula_week!FA9)","v":""},{"$f":"IF(Formula_week!FB10>Formula_week!$B$4,\"\",Formula_week!FB9)","v":""},{"$f":"IF(Formula_week!FC10>Formula_week!$B$4,\"\",Formula_week!FC9)","v":""},{"$f":"IF(Formula_week!FD10>Formula_week!$B$4,\"\",Formula_week!FD9)","v":""},{"$f":"IF(Formula_week!FE10>Formula_week!$B$4,\"\",Formula_week!FE9)","v":""},{"$f":"IF(Formula_week!FF10>Formula_week!$B$4,\"\",Formula_week!FF9)","v":""},{"$f":"IF(Formula_week!FG10>Formula_week!$B$4,\"\",Formula_week!FG9)","v":""},{"$f":"IF(Formula_week!FH10>Formula_week!$B$4,\"\",Formula_week!FH9)","v":""},{"$f":"IF(Formula_week!FI10>Formula_week!$B$4,\"\",Formula_week!FI9)","v":""},{"$f":"IF(Formula_week!FJ10>Formula_week!$B$4,\"\",Formula_week!FJ9)","v":""},{"$f":"IF(Formula_week!FK10>Formula_week!$B$4,\"\",Formula_week!FK9)","v":""},{"$f":"IF(Formula_week!FL10>Formula_week!$B$4,\"\",Formula_week!FL9)","v":""},{"$f":"IF(Formula_week!FM10>Formula_week!$B$4,\"\",Formula_week!FM9)","v":""},{"$f":"IF(Formula_week!FN10>Formula_week!$B$4,\"\",Formula_week!FN9)","v":""},{"$f":"IF(Formula_week!FO10>Formula_week!$B$4,\"\",Formula_week!FO9)","v":""},{"$f":"IF(Formula_week!FP10>Formula_week!$B$4,\"\",Formula_week!FP9)","v":""},{"$f":"IF(Formula_week!FQ10>Formula_week!$B$4,\"\",Formula_week!FQ9)","v":""},{"$f":"IF(Formula_week!FR10>Formula_week!$B$4,\"\",Formula_week!FR9)","v":""},{"$f":"IF(Formula_week!FS10>Formula_week!$B$4,\"\",Formula_week!FS9)","v":""},{"$f":"IF(Formula_week!FT10>Formula_week!$B$4,\"\",Formula_week!FT9)","v":""},{"$f":"IF(Formula_week!FU10>Formula_week!$B$4,\"\",Formula_week!FU9)","v":""},{"$f":"IF(Formula_week!FV10>Formula_week!$B$4,\"\",Formula_week!FV9)","v":""},{"$f":"IF(Formula_week!FW10>Formula_week!$B$4,\"\",Formula_week!FW9)","v":""},{"$f":"IF(Formula_week!FX10>Formula_week!$B$4,\"\",Formula_week!FX9)","v":""},{"$f":"IF(Formula_week!FY10>Formula_week!$B$4,\"\",Formula_week!FY9)","v":""},{"$f":"IF(Formula_week!FZ10>Formula_week!$B$4,\"\",Formula_week!FZ9)","v":""},{"$f":"IF(Formula_week!GA10>Formula_week!$B$4,\"\",Formula_week!GA9)","v":""},{"$f":"IF(Formula_week!GB10>Formula_week!$B$4,\"\",Formula_week!GB9)","v":""},{"$f":"IF(Formula_week!GC10>Formula_week!$B$4,\"\",Formula_week!GC9)","v":""},{"$f":"IF(Formula_week!GD10>Formula_week!$B$4,\"\",Formula_week!GD9)","v":""},{"$f":"IF(Formula_week!GE10>Formula_week!$B$4,\"\",Formula_week!GE9)","v":""},{"$f":"IF(Formula_week!GF10>Formula_week!$B$4,\"\",Formula_week!GF9)","v":""},{"$f":"IF(Formula_week!GG10>Formula_week!$B$4,\"\",Formula_week!GG9)","v":""},{"$f":"IF(Formula_week!GH10>Formula_week!$B$4,\"\",Formula_week!GH9)","v":""},{"$f":"IF(Formula_week!GI10>Formula_week!$B$4,\"\",Formula_week!GI9)","v":""},{"$f":"IF(Formula_week!GJ10>Formula_week!$B$4,\"\",Formula_week!GJ9)","v":""},{"$f":"IF(Formula_week!GK10>Formula_week!$B$4,\"\",Formula_week!GK9)","v":""},{"$f":"IF(Formula_week!GL10>Formula_week!$B$4,\"\",Formula_week!GL9)","v":""},{"$f":"IF(Formula_week!GM10>Formula_week!$B$4,\"\",Formula_week!GM9)","v":""},{"$f":"IF(Formula_week!GN10>Formula_week!$B$4,\"\",Formula_week!GN9)","v":""},{"$f":"IF(Formula_week!GO10>Formula_week!$B$4,\"\",Formula_week!GO9)","v":""},{"$f":"IF(Formula_week!GP10>Formula_week!$B$4,\"\",Formula_week!GP9)","v":""},{"$f":"IF(Formula_week!GQ10>Formula_week!$B$4,\"\",Formula_week!GQ9)","v":""},{"$f":"IF(Formula_week!GR10>Formula_week!$B$4,\"\",Formula_week!GR9)","v":""},{"$f":"IF(Formula_week!GS10>Formula_week!$B$4,\"\",Formula_week!GS9)","v":""},{"$f":"IF(Formula_week!GT10>Formula_week!$B$4,\"\",Formula_week!GT9)","v":""},{"$f":"IF(Formula_week!GU10>Formula_week!$B$4,\"\",Formula_week!GU9)","v":""},{"$f":"IF(Formula_week!GV10>Formula_week!$B$4,\"\",Formula_week!GV9)","v":""},{"$f":"IF(Formula_week!GW10>Formula_week!$B$4,\"\",Formula_week!GW9)","v":""},{"$f":"IF(Formula_week!GX10>Formula_week!$B$4,\"\",Formula_week!GX9)","v":""},{"$f":"IF(Formula_week!GY10>Formula_week!$B$4,\"\",Formula_week!GY9)","v":""},{"$f":"IF(Formula_week!GZ10>Formula_week!$B$4,\"\",Formula_week!GZ9)","v":""},{"$f":"IF(Formula_week!HA10>Formula_week!$B$4,\"\",Formula_week!HA9)","v":""},{"$f":"IF(Formula_week!HB10>Formula_week!$B$4,\"\",Formula_week!HB9)","v":""},{"$f":"IF(Formula_week!HC10>Formula_week!$B$4,\"\",Formula_week!HC9)","v":""},{"$f":"IF(Formula_week!HD10>Formula_week!$B$4,\"\",Formula_week!HD9)","v":""},{"$f":"IF(Formula_week!HE10>Formula_week!$B$4,\"\",Formula_week!HE9)","v":""},{"$f":"IF(Formula_week!HF10>Formula_week!$B$4,\"\",Formula_week!HF9)","v":""},{"$f":"IF(Formula_week!HG10>Formula_week!$B$4,\"\",Formula_week!HG9)","v":""},{"$f":"IF(Formula_week!HH10>Formula_week!$B$4,\"\",Formula_week!HH9)","v":""},{"$f":"IF(Formula_week!HI10>Formula_week!$B$4,\"\",Formula_week!HI9)","v":""},{"$f":"IF(Formula_week!HJ10>Formula_week!$B$4,\"\",Formula_week!HJ9)","v":""},{"$f":"IF(Formula_week!HK10>Formula_week!$B$4,\"\",Formula_week!HK9)","v":""},{"$f":"IF(Formula_week!HL10>Formula_week!$B$4,\"\",Formula_week!HL9)","v":""},{"$f":"IF(Formula_week!HM10>Formula_week!$B$4,\"\",Formula_week!HM9)","v":""},{"$f":"IF(Formula_week!HN10>Formula_week!$B$4,\"\",Formula_week!HN9)","v":""},{"$f":"IF(Formula_week!HO10>Formula_week!$B$4,\"\",Formula_week!HO9)","v":""},{"$f":"IF(Formula_week!HP10>Formula_week!$B$4,\"\",Formula_week!HP9)","v":""},{"$f":"IF(Formula_week!HQ10>Formula_week!$B$4,\"\",Formula_week!HQ9)","v":""},{"$f":"IF(Formula_week!HR10>Formula_week!$B$4,\"\",Formula_week!HR9)","v":""},{"$f":"IF(Formula_week!HS10>Formula_week!$B$4,\"\",Formula_week!HS9)","v":""},{"$f":"IF(Formula_week!HT10>Formula_week!$B$4,\"\",Formula_week!HT9)","v":""},{"$f":"IF(Formula_week!HU10>Formula_week!$B$4,\"\",Formula_week!HU9)","v":""},{"$f":"IF(Formula_week!HV10>Formula_week!$B$4,\"\",Formula_week!HV9)","v":""},{"$f":"IF(Formula_week!HW10>Formula_week!$B$4,\"\",Formula_week!HW9)","v":""},{"$f":"IF(Formula_week!HX10>Formula_week!$B$4,\"\",Formula_week!HX9)","v":""},{"$f":"IF(Formula_week!HY10>Formula_week!$B$4,\"\",Formula_week!HY9)","v":""},{"$f":"IF(Formula_week!HZ10>Formula_week!$B$4,\"\",Formula_week!HZ9)","v":""},{"$f":"IF(Formula_week!IA10>Formula_week!$B$4,\"\",Formula_week!IA9)","v":""},{"$f":"IF(Formula_week!IB10>Formula_week!$B$4,\"\",Formula_week!IB9)","v":""},{"$f":"IF(Formula_week!IC10>Formula_week!$B$4,\"\",Formula_week!IC9)","v":""},{"$f":"IF(Formula_week!ID10>Formula_week!$B$4,\"\",Formula_week!ID9)","v":""},{"$f":"IF(Formula_week!IE10>Formula_week!$B$4,\"\",Formula_week!IE9)","v":""},{"$f":"IF(Formula_week!IF10>Formula_week!$B$4,\"\",Formula_week!IF9)","v":""},{"$f":"IF(Formula_week!IG10>Formula_week!$B$4,\"\",Formula_week!IG9)","v":""},{"$f":"IF(Formula_week!IH10>Formula_week!$B$4,\"\",Formula_week!IH9)","v":""},{"$f":"IF(Formula_week!II10>Formula_week!$B$4,\"\",Formula_week!II9)","v":""},{"$f":"IF(Formula_week!IJ10>Formula_week!$B$4,\"\",Formula_week!IJ9)","v":""},{"$f":"IF(Formula_week!IK10>Formula_week!$B$4,\"\",Formula_week!IK9)","v":""},{"$f":"IF(Formula_week!IL10>Formula_week!$B$4,\"\",Formula_week!IL9)","v":""},{"$f":"IF(Formula_week!IM10>Formula_week!$B$4,\"\",Formula_week!IM9)","v":""},{"$f":"IF(Formula_week!IN10>Formula_week!$B$4,\"\",Formula_week!IN9)","v":""},{"$f":"IF(Formula_week!IO10>Formula_week!$B$4,\"\",Formula_week!IO9)","v":""},{"$f":"IF(Formula_week!IP10>Formula_week!$B$4,\"\",Formula_week!IP9)","v":""},{"$f":"IF(Formula_week!IQ10>Formula_week!$B$4,\"\",Formula_week!IQ9)","v":""},{"$f":"IF(Formula_week!IR10>Formula_week!$B$4,\"\",Formula_week!IR9)","v":""},{"$f":"IF(Formula_week!IS10>Formula_week!$B$4,\"\",Formula_week!IS9)","v":""},{"$f":"IF(Formula_week!IT10>Formula_week!$B$4,\"\",Formula_week!IT9)","v":""},{"$f":"IF(Formula_week!IU10>Formula_week!$B$4,\"\",Formula_week!IU9)","v":""},{"$f":"IF(Formula_week!IV10>Formula_week!$B$4,\"\",Formula_week!IV9)","v":""},{"$f":"IF(Formula_week!IW10>Formula_week!$B$4,\"\",Formula_week!IW9)","v":""},{"$f":"IF(Formula_week!IX10>Formula_week!$B$4,\"\",Formula_week!IX9)","v":""},{"$f":"IF(Formula_week!IY10>Formula_week!$B$4,\"\",Formula_week!IY9)","v":""},{"$f":"IF(Formula_week!IZ10>Formula_week!$B$4,\"\",Formula_week!IZ9)","v":""},{"$f":"IF(Formula_week!JA10>Formula_week!$B$4,\"\",Formula_week!JA9)","v":""},{"$f":"IF(Formula_week!JB10>Formula_week!$B$4,\"\",Formula_week!JB9)","v":""},{"$f":"IF(Formula_week!JC10>Formula_week!$B$4,\"\",Formula_week!JC9)","v":""},{"$f":"IF(Formula_week!JD10>Formula_week!$B$4,\"\",Formula_week!JD9)","v":""},{"$f":"IF(Formula_week!JE10>Formula_week!$B$4,\"\",Formula_week!JE9)","v":""},{"$f":"IF(Formula_week!JF10>Formula_week!$B$4,\"\",Formula_week!JF9)","v":""},{"$f":"IF(Formula_week!JG10>Formula_week!$B$4,\"\",Formula_week!JG9)","v":""},{"$f":"IF(Formula_week!JH10>Formula_week!$B$4,\"\",Formula_week!JH9)","v":""},{"$f":"IF(Formula_week!JI10>Formula_week!$B$4,\"\",Formula_week!JI9)","v":""},{"$f":"IF(Formula_week!JJ10>Formula_week!$B$4,\"\",Formula_week!JJ9)","v":""},{"$f":"IF(Formula_week!JK10>Formula_week!$B$4,\"\",Formula_week!JK9)","v":""},{"$f":"IF(Formula_week!JL10>Formula_week!$B$4,\"\",Formula_week!JL9)","v":""},{"$f":"IF(Formula_week!JM10>Formula_week!$B$4,\"\",Formula_week!JM9)","v":""},{"$f":"IF(Formula_week!JN10>Formula_week!$B$4,\"\",Formula_week!JN9)","v":""},{"$f":"IF(Formula_week!JO10>Formula_week!$B$4,\"\",Formula_week!JO9)","v":""},{"$f":"IF(Formula_week!JP10>Formula_week!$B$4,\"\",Formula_week!JP9)","v":""},{"$f":"IF(Formula_week!JQ10>Formula_week!$B$4,\"\",Formula_week!JQ9)","v":""},{"$f":"IF(Formula_week!JR10>Formula_week!$B$4,\"\",Formula_week!JR9)","v":""},{"$f":"IF(Formula_week!JS10>Formula_week!$B$4,\"\",Formula_week!JS9)","v":""},{"$f":"IF(Formula_week!JT10>Formula_week!$B$4,\"\",Formula_week!JT9)","v":""},{"$f":"IF(Formula_week!JU10>Formula_week!$B$4,\"\",Formula_week!JU9)","v":""},{"$f":"IF(Formula_week!JV10>Formula_week!$B$4,\"\",Formula_week!JV9)","v":""},{"$f":"IF(Formula_week!JW10>Formula_week!$B$4,\"\",Formula_week!JW9)","v":""},{"$f":"IF(Formula_week!JX10>Formula_week!$B$4,\"\",Formula_week!JX9)","v":""},{"$f":"IF(Formula_week!JY10>Formula_week!$B$4,\"\",Formula_week!JY9)","v":""},{"$f":"IF(Formula_week!JZ10>Formula_week!$B$4,\"\",Formula_week!JZ9)","v":""},{"$f":"IF(Formula_week!KA10>Formula_week!$B$4,\"\",Formula_week!KA9)","v":""},{"$f":"IF(Formula_week!KB10>Formula_week!$B$4,\"\",Formula_week!KB9)","v":""},{"$f":"IF(Formula_week!KC10>Formula_week!$B$4,\"\",Formula_week!KC9)","v":""},{"$f":"IF(Formula_week!KD10>Formula_week!$B$4,\"\",Formula_week!KD9)","v":""},{"$f":"IF(Formula_week!KE10>Formula_week!$B$4,\"\",Formula_week!KE9)","v":""},{"$f":"IF(Formula_week!KF10>Formula_week!$B$4,\"\",Formula_week!KF9)","v":""},{"$f":"IF(Formula_week!KG10>Formula_week!$B$4,\"\",Formula_week!KG9)","v":""},{"$f":"IF(Formula_week!KH10>Formula_week!$B$4,\"\",Formula_week!KH9)","v":""},{"$f":"IF(Formula_week!KI10>Formula_week!$B$4,\"\",Formula_week!KI9)","v":""},{"$f":"IF(Formula_week!KJ10>Formula_week!$B$4,\"\",Formula_week!KJ9)","v":""},{"$f":"IF(Formula_week!KK10>Formula_week!$B$4,\"\",Formula_week!KK9)","v":""},{"$f":"IF(Formula_week!KL10>Formula_week!$B$4,\"\",Formula_week!KL9)","v":""},{"$f":"IF(Formula_week!KM10>Formula_week!$B$4,\"\",Formula_week!KM9)","v":""},{"$f":"IF(Formula_week!KN10>Formula_week!$B$4,\"\",Formula_week!KN9)","v":""},{"$f":"IF(Formula_week!KO10>Formula_week!$B$4,\"\",Formula_week!KO9)","v":""},{"$f":"IF(Formula_week!KP10>Formula_week!$B$4,\"\",Formula_week!KP9)","v":""},{"$f":"IF(Formula_week!KQ10>Formula_week!$B$4,\"\",Formula_week!KQ9)","v":""},{"$f":"IF(Formula_week!KR10>Formula_week!$B$4,\"\",Formula_week!KR9)","v":""},{"$f":"IF(Formula_week!KS10>Formula_week!$B$4,\"\",Formula_week!KS9)","v":""},{"$f":"IF(Formula_week!KT10>Formula_week!$B$4,\"\",Formula_week!KT9)","v":""},{"$f":"IF(Formula_week!KU10>Formula_week!$B$4,\"\",Formula_week!KU9)","v":""},{"$f":"IF(Formula_week!KV10>Formula_week!$B$4,\"\",Formula_week!KV9)","v":""},{"$f":"IF(Formula_week!KW10>Formula_week!$B$4,\"\",Formula_week!KW9)","v":""},{"$f":"IF(Formula_week!KX10>Formula_week!$B$4,\"\",Formula_week!KX9)","v":""},{"$f":"IF(Formula_week!KY10>Formula_week!$B$4,\"\",Formula_week!KY9)","v":""},{"$f":"IF(Formula_week!KZ10>Formula_week!$B$4,\"\",Formula_week!KZ9)","v":""},{"$f":"IF(Formula_week!LA10>Formula_week!$B$4,\"\",Formula_week!LA9)","v":""},{"$f":"IF(Formula_week!LB10>Formula_week!$B$4,\"\",Formula_week!LB9)","v":""},{"$f":"IF(Formula_week!LC10>Formula_week!$B$4,\"\",Formula_week!LC9)","v":""},{"$f":"IF(Formula_week!LD10>Formula_week!$B$4,\"\",Formula_week!LD9)","v":""},{"$f":"IF(Formula_week!LE10>Formula_week!$B$4,\"\",Formula_week!LE9)","v":""},{"$f":"IF(Formula_week!LF10>Formula_week!$B$4,\"\",Formula_week!LF9)","v":""},{"$f":"IF(Formula_week!LG10>Formula_week!$B$4,\"\",Formula_week!LG9)","v":""},{"$f":"IF(Formula_week!LH10>Formula_week!$B$4,\"\",Formula_week!LH9)","v":""},{"$f":"IF(Formula_week!LI10>Formula_week!$B$4,\"\",Formula_week!LI9)","v":""},{"$f":"IF(Formula_week!LJ10>Formula_week!$B$4,\"\",Formula_week!LJ9)","v":""},{"$f":"IF(Formula_week!LK10>Formula_week!$B$4,\"\",Formula_week!LK9)","v":""},{"$f":"IF(Formula_week!LL10>Formula_week!$B$4,\"\",Formula_week!LL9)","v":""},{"$f":"IF(Formula_week!LM10>Formula_week!$B$4,\"\",Formula_week!LM9)","v":""},{"$f":"IF(Formula_week!LN10>Formula_week!$B$4,\"\",Formula_week!LN9)","v":""},{"$f":"IF(Formula_week!LO10>Formula_week!$B$4,\"\",Formula_week!LO9)","v":""},{"$f":"IF(Formula_week!LP10>Formula_week!$B$4,\"\",Formula_week!LP9)","v":""},{"$f":"IF(Formula_week!LQ10>Formula_week!$B$4,\"\",Formula_week!LQ9)","v":""},{"$f":"IF(Formula_week!LR10>Formula_week!$B$4,\"\",Formula_week!LR9)","v":""},{"$f":"IF(Formula_week!LS10>Formula_week!$B$4,\"\",Formula_week!LS9)","v":""},{"$f":"IF(Formula_week!LT10>Formula_week!$B$4,\"\",Formula_week!LT9)","v":""},{"$f":"IF(Formula_week!LU10>Formula_week!$B$4,\"\",Formula_week!LU9)","v":""},{"$f":"IF(Formula_week!LV10>Formula_week!$B$4,\"\",Formula_week!LV9)","v":""},{"$f":"IF(Formula_week!LW10>Formula_week!$B$4,\"\",Formula_week!LW9)","v":""},{"$f":"IF(Formula_week!LX10>Formula_week!$B$4,\"\",Formula_week!LX9)","v":""},{"$f":"IF(Formula_week!LY10>Formula_week!$B$4,\"\",Formula_week!LY9)","v":""},{"$f":"IF(Formula_week!LZ10>Formula_week!$B$4,\"\",Formula_week!LZ9)","v":""},{"$f":"IF(Formula_week!MA10>Formula_week!$B$4,\"\",Formula_week!MA9)","v":""},{"$f":"IF(Formula_week!MB10>Formula_week!$B$4,\"\",Formula_week!MB9)","v":""},{"$f":"IF(Formula_week!MC10>Formula_week!$B$4,\"\",Formula_week!MC9)","v":""},{"$f":"IF(Formula_week!MD10>Formula_week!$B$4,\"\",Formula_week!MD9)","v":""},{"$f":"IF(Formula_week!ME10>Formula_week!$B$4,\"\",Formula_week!ME9)","v":""},{"$f":"IF(Formula_week!MF10>Formula_week!$B$4,\"\",Formula_week!MF9)","v":""},{"$f":"IF(Formula_week!MG10>Formula_week!$B$4,\"\",Formula_week!MG9)","v":""},{"$f":"IF(Formula_week!MH10>Formula_week!$B$4,\"\",Formula_week!MH9)","v":""},{"$f":"IF(Formula_week!MI10>Formula_week!$B$4,\"\",Formula_week!MI9)","v":""},{"$f":"IF(Formula_week!MJ10>Formula_week!$B$4,\"\",Formula_week!MJ9)","v":""},{"$f":"IF(Formula_week!MK10>Formula_week!$B$4,\"\",Formula_week!MK9)","v":""},{"$f":"IF(Formula_week!ML10>Formula_week!$B$4,\"\",Formula_week!ML9)","v":""},{"$f":"IF(Formula_week!MM10>Formula_week!$B$4,\"\",Formula_week!MM9)","v":""},{"$f":"IF(Formula_week!MN10>Formula_week!$B$4,\"\",Formula_week!MN9)","v":""},{"$f":"IF(Formula_week!MO10>Formula_week!$B$4,\"\",Formula_week!MO9)","v":""},{"$f":"IF(Formula_week!MP10>Formula_week!$B$4,\"\",Formula_week!MP9)","v":""},{"$f":"IF(Formula_week!MQ10>Formula_week!$B$4,\"\",Formula_week!MQ9)","v":""},{"$f":"IF(Formula_week!MR10>Formula_week!$B$4,\"\",Formula_week!MR9)","v":""},{"$f":"IF(Formula_week!MS10>Formula_week!$B$4,\"\",Formula_week!MS9)","v":""},{"$f":"IF(Formula_week!MT10>Formula_week!$B$4,\"\",Formula_week!MT9)","v":""},{"$f":"IF(Formula_week!MU10>Formula_week!$B$4,\"\",Formula_week!MU9)","v":""},{"$f":"IF(Formula_week!MV10>Formula_week!$B$4,\"\",Formula_week!MV9)","v":""},{"$f":"IF(Formula_week!MW10>Formula_week!$B$4,\"\",Formula_week!MW9)","v":""},{"$f":"IF(Formula_week!MX10>Formula_week!$B$4,\"\",Formula_week!MX9)","v":""},{"$f":"IF(Formula_week!MY10>Formula_week!$B$4,\"\",Formula_week!MY9)","v":""},{"$f":"IF(Formula_week!MZ10>Formula_week!$B$4,\"\",Formula_week!MZ9)","v":""},{"$f":"IF(Formula_week!NA10>Formula_week!$B$4,\"\",Formula_week!NA9)","v":""},{"$f":"IF(Formula_week!NB10>Formula_week!$B$4,\"\",Formula_week!NB9)","v":""},{"$f":"IF(Formula_week!NC10>Formula_week!$B$4,\"\",Formula_week!NC9)","v":""},{"$f":"IF(Formula_week!ND10>Formula_week!$B$4,\"\",Formula_week!ND9)","v":""},{"$f":"IF(Formula_week!NE10>Formula_week!$B$4,\"\",Formula_week!NE9)","v":""},{"$f":"IF(Formula_week!NF10>Formula_week!$B$4,\"\",Formula_week!NF9)","v":""},{"$f":"IF(Formula_week!NG10>Formula_week!$B$4,\"\",Formula_week!NG9)","v":""},{"$f":"IF(Formula_week!NH10>Formula_week!$B$4,\"\",Formula_week!NH9)","v":""},{"$f":"IF(Formula_week!NI10>Formula_week!$B$4,\"\",Formula_week!NI9)","v":""},{"$f":"IF(Formula_week!NJ10>Formula_week!$B$4,\"\",Formula_week!NJ9)","v":""},{"$f":"IF(Formula_week!NK10>Formula_week!$B$4,\"\",Formula_week!NK9)","v":""},{"$f":"IF(Formula_week!NL10>Formula_week!$B$4,\"\",Formula_week!NL9)","v":""},{"$f":"IF(Formula_week!NM10>Formula_week!$B$4,\"\",Formula_week!NM9)","v":""},{"$f":"IF(Formula_week!NN10>Formula_week!$B$4,\"\",Formula_week!NN9)","v":""},{"$f":"IF(Formula_week!NO10>Formula_week!$B$4,\"\",Formula_week!NO9)","v":""},{"$f":"IF(Formula_week!NP10>Formula_week!$B$4,\"\",Formula_week!NP9)","v":""},{"$f":"IF(Formula_week!NQ10>Formula_week!$B$4,\"\",Formula_week!NQ9)","v":""},{"$f":"IF(Formula_week!NR10>Formula_week!$B$4,\"\",Formula_week!NR9)","v":""},{"$f":"IF(Formula_week!NS10>Formula_week!$B$4,\"\",Formula_week!NS9)","v":""},{"$f":"IF(Formula_week!NT10>Formula_week!$B$4,\"\",Formula_week!NT9)","v":""},{"$f":"IF(Formula_week!NU10>Formula_week!$B$4,\"\",Formula_week!NU9)","v":""},{"$f":"IF(Formula_week!NV10>Formula_week!$B$4,\"\",Formula_week!NV9)","v":""},{"$f":"IF(Formula_week!NW10>Formula_week!$B$4,\"\",Formula_week!NW9)","v":""},{"$f":"IF(Formula_week!NX10>Formula_week!$B$4,\"\",Formula_week!NX9)","v":""},{"$f":"IF(Formula_week!NY10>Formula_week!$B$4,\"\",Formula_week!NY9)","v":""},{"$f":"IF(Formula_week!NZ10>Formula_week!$B$4,\"\",Formula_week!NZ9)","v":""},{"$f":"IF(Formula_week!OA10>Formula_week!$B$4,\"\",Formula_week!OA9)","v":""},{"$f":"IF(Formula_week!OB10>Formula_week!$B$4,\"\",Formula_week!OB9)","v":""},{"$f":"IF(Formula_week!OC10>Formula_week!$B$4,\"\",Formula_week!OC9)","v":""},{"$f":"IF(Formula_week!OD10>Formula_week!$B$4,\"\",Formula_week!OD9)","v":""},{"$f":"IF(Formula_week!OE10>Formula_week!$B$4,\"\",Formula_week!OE9)","v":""},{"$f":"IF(Formula_week!OF10>Formula_week!$B$4,\"\",Formula_week!OF9)","v":""},{"$f":"IF(Formula_week!OG10>Formula_week!$B$4,\"\",Formula_week!OG9)","v":""},{"$f":"IF(Formula_week!OH10>Formula_week!$B$4,\"\",Formula_week!OH9)","v":""},{"$f":"IF(Formula_week!OI10>Formula_week!$B$4,\"\",Formula_week!OI9)","v":""},{"$f":"IF(Formula_week!OJ10>Formula_week!$B$4,\"\",Formula_week!OJ9)","v":""},{"$f":"IF(Formula_week!OK10>Formula_week!$B$4,\"\",Formula_week!OK9)","v":""},{"$f":"IF(Formula_week!OL10>Formula_week!$B$4,\"\",Formula_week!OL9)","v":""},{"$f":"IF(Formula_week!OM10>Formula_week!$B$4,\"\",Formula_week!OM9)","v":""},{"$f":"IF(Formula_week!ON10>Formula_week!$B$4,\"\",Formula_week!ON9)","v":""},{"$f":"IF(Formula_week!OO10>Formula_week!$B$4,\"\",Formula_week!OO9)","v":""},{"$f":"IF(Formula_week!OP10>Formula_week!$B$4,\"\",Formula_week!OP9)","v":""},{"$f":"IF(Formula_week!OQ10>Formula_week!$B$4,\"\",Formula_week!OQ9)","v":""},{"$f":"IF(Formula_week!OR10>Formula_week!$B$4,\"\",Formula_week!OR9)","v":""},{"$f":"IF(Formula_week!OS10>Formula_week!$B$4,\"\",Formula_week!OS9)","v":""},{"$f":"IF(Formula_week!OT10>Formula_week!$B$4,\"\",Formula_week!OT9)","v":""},{"$f":"IF(Formula_week!OU10>Formula_week!$B$4,\"\",Formula_week!OU9)","v":""},{"$f":"IF(Formula_week!OV10>Formula_week!$B$4,\"\",Formula_week!OV9)","v":""},{"$f":"IF(Formula_week!OW10>Formula_week!$B$4,\"\",Formula_week!OW9)","v":""},{"$f":"IF(Formula_week!OX10>Formula_week!$B$4,\"\",Formula_week!OX9)","v":""},{"$f":"IF(Formula_week!OY10>Formula_week!$B$4,\"\",Formula_week!OY9)","v":""},{"$f":"IF(Formula_week!OZ10>Formula_week!$B$4,\"\",Formula_week!OZ9)","v":""},{"$f":"IF(Formula_week!PA10>Formula_week!$B$4,\"\",Formula_week!PA9)","v":""},{"$f":"IF(Formula_week!PB10>Formula_week!$B$4,\"\",Formula_week!PB9)","v":""},{"$f":"IF(Formula_week!PC10>Formula_week!$B$4,\"\",Formula_week!PC9)","v":""},{"$f":"IF(Formula_week!PD10>Formula_week!$B$4,\"\",Formula_week!PD9)","v":""},{"$f":"IF(Formula_week!PE10>Formula_week!$B$4,\"\",Formula_week!PE9)","v":""},{"$f":"IF(Formula_week!PF10>Formula_week!$B$4,\"\",Formula_week!PF9)","v":""},{"$f":"IF(Formula_week!PG10>Formula_week!$B$4,\"\",Formula_week!PG9)","v":""},{"$f":"IF(Formula_week!PH10>Formula_week!$B$4,\"\",Formula_week!PH9)","v":""},{"$f":"IF(Formula_week!PI10>Formula_week!$B$4,\"\",Formula_week!PI9)","v":""},{"$f":"IF(Formula_week!PJ10>Formula_week!$B$4,\"\",Formula_week!PJ9)","v":""},{"$f":"IF(Formula_week!PK10>Formula_week!$B$4,\"\",Formula_week!PK9)","v":""},{"$f":"IF(Formula_week!PL10>Formula_week!$B$4,\"\",Formula_week!PL9)","v":""},{"$f":"IF(Formula_week!PM10>Formula_week!$B$4,\"\",Formula_week!PM9)","v":""},{"$f":"IF(Formula_week!PN10>Formula_week!$B$4,\"\",Formula_week!PN9)","v":""},{"$f":"IF(Formula_week!PO10>Formula_week!$B$4,\"\",Formula_week!PO9)","v":""},{"$f":"IF(Formula_week!PP10>Formula_week!$B$4,\"\",Formula_week!PP9)","v":""},{"$f":"IF(Formula_week!PQ10>Formula_week!$B$4,\"\",Formula_week!PQ9)","v":""},{"$f":"IF(Formula_week!PR10>Formula_week!$B$4,\"\",Formula_week!PR9)","v":""},{"$f":"IF(Formula_week!PS10>Formula_week!$B$4,\"\",Formula_week!PS9)","v":""},{"$f":"IF(Formula_week!PT10>Formula_week!$B$4,\"\",Formula_week!PT9)","v":""},{"$f":"IF(Formula_week!PU10>Formula_week!$B$4,\"\",Formula_week!PU9)","v":""},{"$f":"IF(Formula_week!PV10>Formula_week!$B$4,\"\",Formula_week!PV9)","v":""},{"$f":"IF(Formula_week!PW10>Formula_week!$B$4,\"\",Formula_week!PW9)","v":""},{"$f":"IF(Formula_week!PX10>Formula_week!$B$4,\"\",Formula_week!PX9)","v":""},{"$f":"IF(Formula_week!PY10>Formula_week!$B$4,\"\",Formula_week!PY9)","v":""},{"$f":"IF(Formula_week!PZ10>Formula_week!$B$4,\"\",Formula_week!PZ9)","v":""},{"$f":"IF(Formula_week!QA10>Formula_week!$B$4,\"\",Formula_week!QA9)","v":""},{"$f":"IF(Formula_week!QB10>Formula_week!$B$4,\"\",Formula_week!QB9)","v":""},{"$f":"IF(Formula_week!QC10>Formula_week!$B$4,\"\",Formula_week!QC9)","v":""},{"$f":"IF(Formula_week!QD10>Formula_week!$B$4,\"\",Formula_week!QD9)","v":""},{"$f":"IF(Formula_week!QE10>Formula_week!$B$4,\"\",Formula_week!QE9)","v":""},{"$f":"IF(Formula_week!QF10>Formula_week!$B$4,\"\",Formula_week!QF9)","v":""},{"$f":"IF(Formula_week!QG10>Formula_week!$B$4,\"\",Formula_week!QG9)","v":""},{"$f":"IF(Formula_week!QH10>Formula_week!$B$4,\"\",Formula_week!QH9)","v":""},{"$f":"IF(Formula_week!QI10>Formula_week!$B$4,\"\",Formula_week!QI9)","v":""},{"$f":"IF(Formula_week!QJ10>Formula_week!$B$4,\"\",Formula_week!QJ9)","v":""},{"$f":"IF(Formula_week!QK10>Formula_week!$B$4,\"\",Formula_week!QK9)","v":""},{"$f":"IF(Formula_week!QL10>Formula_week!$B$4,\"\",Formula_week!QL9)","v":""},{"$f":"IF(Formula_week!QM10>Formula_week!$B$4,\"\",Formula_week!QM9)","v":""},{"$f":"IF(Formula_week!QN10>Formula_week!$B$4,\"\",Formula_week!QN9)","v":""},{"$f":"IF(Formula_week!QO10>Formula_week!$B$4,\"\",Formula_week!QO9)","v":""},{"$f":"IF(Formula_week!QP10>Formula_week!$B$4,\"\",Formula_week!QP9)","v":""},{"$f":"IF(Formula_week!QQ10>Formula_week!$B$4,\"\",Formula_week!QQ9)","v":""},{"$f":"IF(Formula_week!QR10>Formula_week!$B$4,\"\",Formula_week!QR9)","v":""},{"$f":"IF(Formula_week!QS10>Formula_week!$B$4,\"\",Formula_week!QS9)","v":""},{"$f":"IF(Formula_week!QT10>Formula_week!$B$4,\"\",Formula_week!QT9)","v":""},{"$f":"IF(Formula_week!QU10>Formula_week!$B$4,\"\",Formula_week!QU9)","v":""},{"$f":"IF(Formula_week!QV10>Formula_week!$B$4,\"\",Formula_week!QV9)","v":""},{"$f":"IF(Formula_week!QW10>Formula_week!$B$4,\"\",Formula_week!QW9)","v":""},{"$f":"IF(Formula_week!QX10>Formula_week!$B$4,\"\",Formula_week!QX9)","v":""},{"$f":"IF(Formula_week!QY10>Formula_week!$B$4,\"\",Formula_week!QY9)","v":""},{"$f":"IF(Formula_week!QZ10>Formula_week!$B$4,\"\",Formula_week!QZ9)","v":""},{"$f":"IF(Formula_week!RA10>Formula_week!$B$4,\"\",Formula_week!RA9)","v":""},{"$f":"IF(Formula_week!RB10>Formula_week!$B$4,\"\",Formula_week!RB9)","v":""},{"$f":"IF(Formula_week!RC10>Formula_week!$B$4,\"\",Formula_week!RC9)","v":""},{"$f":"IF(Formula_week!RD10>Formula_week!$B$4,\"\",Formula_week!RD9)","v":""},{"$f":"IF(Formula_week!RE10>Formula_week!$B$4,\"\",Formula_week!RE9)","v":""},{"$f":"IF(Formula_week!RF10>Formula_week!$B$4,\"\",Formula_week!RF9)","v":""},{"$f":"IF(Formula_week!RG10>Formula_week!$B$4,\"\",Formula_week!RG9)","v":""},{"$f":"IF(Formula_week!RH10>Formula_week!$B$4,\"\",Formula_week!RH9)","v":""},{"$f":"IF(Formula_week!RI10>Formula_week!$B$4,\"\",Formula_week!RI9)","v":""},{"$f":"IF(Formula_week!RJ10>Formula_week!$B$4,\"\",Formula_week!RJ9)","v":""},{"$f":"IF(Formula_week!RK10>Formula_week!$B$4,\"\",Formula_week!RK9)","v":""},{"$f":"IF(Formula_week!RL10>Formula_week!$B$4,\"\",Formula_week!RL9)","v":""},{"$f":"IF(Formula_week!RM10>Formula_week!$B$4,\"\",Formula_week!RM9)","v":""},{"$f":"IF(Formula_week!RN10>Formula_week!$B$4,\"\",Formula_week!RN9)","v":""},{"$f":"IF(Formula_week!RO10>Formula_week!$B$4,\"\",Formula_week!RO9)","v":""},{"$f":"IF(Formula_week!RP10>Formula_week!$B$4,\"\",Formula_week!RP9)","v":""},{"$f":"IF(Formula_week!RQ10>Formula_week!$B$4,\"\",Formula_week!RQ9)","v":""},{"$f":"IF(Formula_week!RR10>Formula_week!$B$4,\"\",Formula_week!RR9)","v":""},{"$f":"IF(Formula_week!RS10>Formula_week!$B$4,\"\",Formula_week!RS9)","v":""},{"$f":"IF(Formula_week!RT10>Formula_week!$B$4,\"\",Formula_week!RT9)","v":""},{"$f":"IF(Formula_week!RU10>Formula_week!$B$4,\"\",Formula_week!RU9)","v":""},{"$f":"IF(Formula_week!RV10>Formula_week!$B$4,\"\",Formula_week!RV9)","v":""},{"$f":"IF(Formula_week!RW10>Formula_week!$B$4,\"\",Formula_week!RW9)","v":""},{"$f":"IF(Formula_week!RX10>Formula_week!$B$4,\"\",Formula_week!RX9)","v":""},{"$f":"IF(Formula_week!RY10>Formula_week!$B$4,\"\",Formula_week!RY9)","v":""},{"$f":"IF(Formula_week!RZ10>Formula_week!$B$4,\"\",Formula_week!RZ9)","v":""},{"$f":"IF(Formula_week!SA10>Formula_week!$B$4,\"\",Formula_week!SA9)","v":""},{"$f":"IF(Formula_week!SB10>Formula_week!$B$4,\"\",Formula_week!SB9)","v":""},{"$f":"IF(Formula_week!SC10>Formula_week!$B$4,\"\",Formula_week!SC9)","v":""},{"$f":"IF(Formula_week!SD10>Formula_week!$B$4,\"\",Formula_week!SD9)","v":""},{"$f":"IF(Formula_week!SE10>Formula_week!$B$4,\"\",Formula_week!SE9)","v":""},{"$f":"IF(Formula_week!SF10>Formula_week!$B$4,\"\",Formula_week!SF9)","v":""},{"$f":"IF(Formula_week!SG10>Formula_week!$B$4,\"\",Formula_week!SG9)","v":""},{"$f":"IF(Formula_week!SH10>Formula_week!$B$4,\"\",Formula_week!SH9)","v":""},{"$f":"IF(Formula_week!SI10>Formula_week!$B$4,\"\",Formula_week!SI9)","v":""},{"$f":"IF(Formula_week!SJ10>Formula_week!$B$4,\"\",Formula_week!SJ9)","v":""},{"$f":"IF(Formula_week!SK10>Formula_week!$B$4,\"\",Formula_week!SK9)","v":""},{"$f":"IF(Formula_week!SL10>Formula_week!$B$4,\"\",Formula_week!SL9)","v":""},{"$f":"IF(Formula_week!SM10>Formula_week!$B$4,\"\",Formula_week!SM9)","v":""},{"$f":"IF(Formula_week!SN10>Formula_week!$B$4,\"\",Formula_week!SN9)","v":""},{"$f":"IF(Formula_week!SO10>Formula_week!$B$4,\"\",Formula_week!SO9)","v":""},{"$f":"IF(Formula_week!SP10>Formula_week!$B$4,\"\",Formula_week!SP9)","v":""},{"$f":"IF(Formula_week!SQ10>Formula_week!$B$4,\"\",Formula_week!SQ9)","v":""},{"$f":"IF(Formula_week!SR10>Formula_week!$B$4,\"\",Formula_week!SR9)","v":""},{"$f":"IF(Formula_week!SS10>Formula_week!$B$4,\"\",Formula_week!SS9)","v":""},{"$f":"IF(Formula_week!ST10>Formula_week!$B$4,\"\",Formula_week!ST9)","v":""},{"$f":"IF(Formula_week!SU10>Formula_week!$B$4,\"\",Formula_week!SU9)","v":""},{"$f":"IF(Formula_week!SV10>Formula_week!$B$4,\"\",Formula_week!SV9)","v":""},{"$f":"IF(Formula_week!SW10>Formula_week!$B$4,\"\",Formula_week!SW9)","v":""},{"$f":"IF(Formula_week!SX10>Formula_week!$B$4,\"\",Formula_week!SX9)","v":""},{"$f":"IF(Formula_week!SY10>Formula_week!$B$4,\"\",Formula_week!SY9)","v":""},{"$f":"IF(Formula_week!SZ10>Formula_week!$B$4,\"\",Formula_week!SZ9)","v":""},{"$f":"IF(Formula_week!TA10>Formula_week!$B$4,\"\",Formula_week!TA9)","v":""},{"$f":"IF(Formula_week!TB10>Formula_week!$B$4,\"\",Formula_week!TB9)","v":""},{"$f":"IF(Formula_week!TC10>Formula_week!$B$4,\"\",Formula_week!TC9)","v":""},{"$f":"IF(Formula_week!TD10>Formula_week!$B$4,\"\",Formula_week!TD9)","v":""},{"$f":"IF(Formula_week!TE10>Formula_week!$B$4,\"\",Formula_week!TE9)","v":""},{"$f":"IF(Formula_week!TF10>Formula_week!$B$4,\"\",Formula_week!TF9)","v":""},{"$f":"IF(Formula_week!TG10>Formula_week!$B$4,\"\",Formula_week!TG9)","v":""},{"$f":"IF(Formula_week!TH10>Formula_week!$B$4,\"\",Formula_week!TH9)","v":""},{"$f":"IF(Formula_week!TI10>Formula_week!$B$4,\"\",Formula_week!TI9)","v":""},{"$f":"IF(Formula_week!TJ10>Formula_week!$B$4,\"\",Formula_week!TJ9)","v":""},{"$f":"IF(Formula_week!TK10>Formula_week!$B$4,\"\",Formula_week!TK9)","v":""},{"$f":"IF(Formula_week!TL10>Formula_week!$B$4,\"\",Formula_week!TL9)","v":""},{"$f":"IF(Formula_week!TM10>Formula_week!$B$4,\"\",Formula_week!TM9)","v":""},{"$f":"IF(Formula_week!TN10>Formula_week!$B$4,\"\",Formula_week!TN9)","v":""},{"$f":"IF(Formula_week!TO10>Formula_week!$B$4,\"\",Formula_week!TO9)","v":""},{"$f":"IF(Formula_week!TP10>Formula_week!$B$4,\"\",Formula_week!TP9)","v":""},{"$f":"IF(Formula_week!TQ10>Formula_week!$B$4,\"\",Formula_week!TQ9)","v":""},{"$f":"IF(Formula_week!TR10>Formula_week!$B$4,\"\",Formula_week!TR9)","v":""},{"$f":"IF(Formula_week!TS10>Formula_week!$B$4,\"\",Formula_week!TS9)","v":""},{"$f":"IF(Formula_week!TT10>Formula_week!$B$4,\"\",Formula_week!TT9)","v":""},{"$f":"IF(Formula_week!TU10>Formula_week!$B$4,\"\",Formula_week!TU9)","v":""},{"$f":"IF(Formula_week!TV10>Formula_week!$B$4,\"\",Formula_week!TV9)","v":""},{"$f":"IF(Formula_week!TW10>Formula_week!$B$4,\"\",Formula_week!TW9)","v":""},{"$f":"IF(Formula_week!TX10>Formula_week!$B$4,\"\",Formula_week!TX9)","v":""},{"$f":"IF(Formula_week!TY10>Formula_week!$B$4,\"\",Formula_week!TY9)","v":""},{"$f":"IF(Formula_week!TZ10>Formula_week!$B$4,\"\",Formula_week!TZ9)","v":""},{"$f":"IF(Formula_week!UA10>Formula_week!$B$4,\"\",Formula_week!UA9)","v":""},{"$f":"IF(Formula_week!UB10>Formula_week!$B$4,\"\",Formula_week!UB9)","v":""},{"$f":"IF(Formula_week!UC10>Formula_week!$B$4,\"\",Formula_week!UC9)","v":""},{"$f":"IF(Formula_week!UD10>Formula_week!$B$4,\"\",Formula_week!UD9)","v":""},{"$f":"IF(Formula_week!UE10>Formula_week!$B$4,\"\",Formula_week!UE9)","v":""},{"$f":"IF(Formula_week!UF10>Formula_week!$B$4,\"\",Formula_week!UF9)","v":""},{"$f":"IF(Formula_week!UG10>Formula_week!$B$4,\"\",Formula_week!UG9)","v":""},{"$f":"IF(Formula_week!UH10>Formula_week!$B$4,\"\",Formula_week!UH9)","v":""},{"$f":"IF(Formula_week!UI10>Formula_week!$B$4,\"\",Formula_week!UI9)","v":""},{"$f":"IF(Formula_week!UJ10>Formula_week!$B$4,\"\",Formula_week!UJ9)","v":""},{"$f":"IF(Formula_week!UK10>Formula_week!$B$4,\"\",Formula_week!UK9)","v":""},{"$f":"IF(Formula_week!UL10>Formula_week!$B$4,\"\",Formula_week!UL9)","v":""},{"$f":"IF(Formula_week!UM10>Formula_week!$B$4,\"\",Formula_week!UM9)","v":""},{"$f":"IF(Formula_week!UN10>Formula_week!$B$4,\"\",Formula_week!UN9)","v":""},{"$f":"IF(Formula_week!UO10>Formula_week!$B$4,\"\",Formula_week!UO9)","v":""},{"$f":"IF(Formula_week!UP10>Formula_week!$B$4,\"\",Formula_week!UP9)","v":""},{"$f":"IF(Formula_week!UQ10>Formula_week!$B$4,\"\",Formula_week!UQ9)","v":""},{"$f":"IF(Formula_week!UR10>Formula_week!$B$4,\"\",Formula_week!UR9)","v":""},{"$f":"IF(Formula_week!US10>Formula_week!$B$4,\"\",Formula_week!US9)","v":""},{"$f":"IF(Formula_week!UT10>Formula_week!$B$4,\"\",Formula_week!UT9)","v":""},{"$f":"IF(Formula_week!UU10>Formula_week!$B$4,\"\",Formula_week!UU9)","v":""},{"$f":"IF(Formula_week!UV10>Formula_week!$B$4,\"\",Formula_week!UV9)","v":""},{"$f":"IF(Formula_week!UW10>Formula_week!$B$4,\"\",Formula_week!UW9)","v":""},{"$f":"IF(Formula_week!UX10>Formula_week!$B$4,\"\",Formula_week!UX9)","v":""},{"$f":"IF(Formula_week!UY10>Formula_week!$B$4,\"\",Formula_week!UY9)","v":""},{"$f":"IF(Formula_week!UZ10>Formula_week!$B$4,\"\",Formula_week!UZ9)","v":""},{"$f":"IF(Formula_week!VA10>Formula_week!$B$4,\"\",Formula_week!VA9)","v":""},{"$f":"IF(Formula_week!VB10>Formula_week!$B$4,\"\",Formula_week!VB9)","v":""},{"$f":"IF(Formula_week!VC10>Formula_week!$B$4,\"\",Formula_week!VC9)","v":""},{"$f":"IF(Formula_week!VD10>Formula_week!$B$4,\"\",Formula_week!VD9)","v":""},{"$f":"IF(Formula_week!VE10>Formula_week!$B$4,\"\",Formula_week!VE9)","v":""},{"$f":"IF(Formula_week!VF10>Formula_week!$B$4,\"\",Formula_week!VF9)","v":""},{"$f":"IF(Formula_week!VG10>Formula_week!$B$4,\"\",Formula_week!VG9)","v":""},{"$f":"IF(Formula_week!VH10>Formula_week!$B$4,\"\",Formula_week!VH9)","v":""},{"$f":"IF(Formula_week!VI10>Formula_week!$B$4,\"\",Formula_week!VI9)","v":""},{"$f":"IF(Formula_week!VJ10>Formula_week!$B$4,\"\",Formula_week!VJ9)","v":""},{"$f":"IF(Formula_week!VK10>Formula_week!$B$4,\"\",Formula_week!VK9)","v":""},{"$f":"IF(Formula_week!VL10>Formula_week!$B$4,\"\",Formula_week!VL9)","v":""},{"$f":"IF(Formula_week!VM10>Formula_week!$B$4,\"\",Formula_week!VM9)","v":""},{"$f":"IF(Formula_week!VN10>Formula_week!$B$4,\"\",Formula_week!VN9)","v":""},{"$f":"IF(Formula_week!VO10>Formula_week!$B$4,\"\",Formula_week!VO9)","v":""},{"$f":"IF(Formula_week!VP10>Formula_week!$B$4,\"\",Formula_week!VP9)","v":""},{"$f":"IF(Formula_week!VQ10>Formula_week!$B$4,\"\",Formula_week!VQ9)","v":""},{"$f":"IF(Formula_week!VR10>Formula_week!$B$4,\"\",Formula_week!VR9)","v":""},{"$f":"IF(Formula_week!VS10>Formula_week!$B$4,\"\",Formula_week!VS9)","v":""},{"$f":"IF(Formula_week!VT10>Formula_week!$B$4,\"\",Formula_week!VT9)","v":""},{"$f":"IF(Formula_week!VU10>Formula_week!$B$4,\"\",Formula_week!VU9)","v":""},{"$f":"IF(Formula_week!VV10>Formula_week!$B$4,\"\",Formula_week!VV9)","v":""},{"$f":"IF(Formula_week!VW10>Formula_week!$B$4,\"\",Formula_week!VW9)","v":""},{"$f":"IF(Formula_week!VX10>Formula_week!$B$4,\"\",Formula_week!VX9)","v":""},{"$f":"IF(Formula_week!VY10>Formula_week!$B$4,\"\",Formula_week!VY9)","v":""},{"$f":"IF(Formula_week!VZ10>Formula_week!$B$4,\"\",Formula_week!VZ9)","v":""},{"$f":"IF(Formula_week!WA10>Formula_week!$B$4,\"\",Formula_week!WA9)","v":""},{"$f":"IF(Formula_week!WB10>Formula_week!$B$4,\"\",Formula_week!WB9)","v":""},{"$f":"IF(Formula_week!WC10>Formula_week!$B$4,\"\",Formula_week!WC9)","v":""},{"$f":"IF(Formula_week!WD10>Formula_week!$B$4,\"\",Formula_week!WD9)","v":""},{"$f":"IF(Formula_week!WE10>Formula_week!$B$4,\"\",Formula_week!WE9)","v":""},{"$f":"IF(Formula_week!WF10>Formula_week!$B$4,\"\",Formula_week!WF9)","v":""},{"$f":"IF(Formula_week!WG10>Formula_week!$B$4,\"\",Formula_week!WG9)","v":""},{"$f":"IF(Formula_week!WH10>Formula_week!$B$4,\"\",Formula_week!WH9)","v":""},{"$f":"IF(Formula_week!WI10>Formula_week!$B$4,\"\",Formula_week!WI9)","v":""},{"$f":"IF(Formula_week!WJ10>Formula_week!$B$4,\"\",Formula_week!WJ9)","v":""},{"$f":"IF(Formula_week!WK10>Formula_week!$B$4,\"\",Formula_week!WK9)","v":""},{"$f":"IF(Formula_week!WL10>Formula_week!$B$4,\"\",Formula_week!WL9)","v":""},{"$f":"IF(Formula_week!WM10>Formula_week!$B$4,\"\",Formula_week!WM9)","v":""},{"$f":"IF(Formula_week!WN10>Formula_week!$B$4,\"\",Formula_week!WN9)","v":""},{"$f":"IF(Formula_week!WO10>Formula_week!$B$4,\"\",Formula_week!WO9)","v":""},{"$f":"IF(Formula_week!WP10>Formula_week!$B$4,\"\",Formula_week!WP9)","v":""},{"$f":"IF(Formula_week!WQ10>Formula_week!$B$4,\"\",Formula_week!WQ9)","v":""},{"$f":"IF(Formula_week!WR10>Formula_week!$B$4,\"\",Formula_week!WR9)","v":""},{"$f":"IF(Formula_week!WS10>Formula_week!$B$4,\"\",Formula_week!WS9)","v":""},{"$f":"IF(Formula_week!WT10>Formula_week!$B$4,\"\",Formula_week!WT9)","v":""},{"$f":"IF(Formula_week!WU10>Formula_week!$B$4,\"\",Formula_week!WU9)","v":""},{"$f":"IF(Formula_week!WV10>Formula_week!$B$4,\"\",Formula_week!WV9)","v":""},{"$f":"IF(Formula_week!WW10>Formula_week!$B$4,\"\",Formula_week!WW9)","v":""},{"$f":"IF(Formula_week!WX10>Formula_week!$B$4,\"\",Formula_week!WX9)","v":""},{"$f":"IF(Formula_week!WY10>Formula_week!$B$4,\"\",Formula_week!WY9)","v":""},{"$f":"IF(Formula_week!WZ10>Formula_week!$B$4,\"\",Formula_week!WZ9)","v":""},{"$f":"IF(Formula_week!XA10>Formula_week!$B$4,\"\",Formula_week!XA9)","v":""},{"$f":"IF(Formula_week!XB10>Formula_week!$B$4,\"\",Formula_week!XB9)","v":""},{"$f":"IF(Formula_week!XC10>Formula_week!$B$4,\"\",Formula_week!XC9)","v":""},{"$f":"IF(Formula_week!XD10>Formula_week!$B$4,\"\",Formula_week!XD9)","v":""},{"$f":"IF(Formula_week!XE10>Formula_week!$B$4,\"\",Formula_week!XE9)","v":""},{"$f":"IF(Formula_week!XF10>Formula_week!$B$4,\"\",Formula_week!XF9)","v":""},{"$f":"IF(Formula_week!XG10>Formula_week!$B$4,\"\",Formula_week!XG9)","v":""},{"$f":"IF(Formula_week!XH10>Formula_week!$B$4,\"\",Formula_week!XH9)","v":""},{"$f":"IF(Formula_week!XI10>Formula_week!$B$4,\"\",Formula_week!XI9)","v":""},{"$f":"IF(Formula_week!XJ10>Formula_week!$B$4,\"\",Formula_week!XJ9)","v":""},{"$f":"IF(Formula_week!XK10>Formula_week!$B$4,\"\",Formula_week!XK9)","v":""},{"$f":"IF(Formula_week!XL10>Formula_week!$B$4,\"\",Formula_week!XL9)","v":""},{"$f":"IF(Formula_week!XM10>Formula_week!$B$4,\"\",Formula_week!XM9)","v":""},{"$f":"IF(Formula_week!XN10>Formula_week!$B$4,\"\",Formula_week!XN9)","v":""},{"$f":"IF(Formula_week!XO10>Formula_week!$B$4,\"\",Formula_week!XO9)","v":""},{"$f":"IF(Formula_week!XP10>Formula_week!$B$4,\"\",Formula_week!XP9)","v":""},{"$f":"IF(Formula_week!XQ10>Formula_week!$B$4,\"\",Formula_week!XQ9)","v":""},{"$f":"IF(Formula_week!XR10>Formula_week!$B$4,\"\",Formula_week!XR9)","v":""},{"$f":"IF(Formula_week!XS10>Formula_week!$B$4,\"\",Formula_week!XS9)","v":""},{"$f":"IF(Formula_week!XT10>Formula_week!$B$4,\"\",Formula_week!XT9)","v":""},{"$f":"IF(Formula_week!XU10>Formula_week!$B$4,\"\",Formula_week!XU9)","v":""},{"$f":"IF(Formula_week!XV10>Formula_week!$B$4,\"\",Formula_week!XV9)","v":""},{"$f":"IF(Formula_week!XW10>Formula_week!$B$4,\"\",Formula_week!XW9)","v":""},{"$f":"IF(Formula_week!XX10>Formula_week!$B$4,\"\",Formula_week!XX9)","v":""},{"$f":"IF(Formula_week!XY10>Formula_week!$B$4,\"\",Formula_week!XY9)","v":""},{"$f":"IF(Formula_week!XZ10>Formula_week!$B$4,\"\",Formula_week!XZ9)","v":""},{"$f":"IF(Formula_week!YA10>Formula_week!$B$4,\"\",Formula_week!YA9)","v":""},{"$f":"IF(Formula_week!YB10>Formula_week!$B$4,\"\",Formula_week!YB9)","v":""},{"$f":"IF(Formula_week!YC10>Formula_week!$B$4,\"\",Formula_week!YC9)","v":""},{"$f":"IF(Formula_week!YD10>Formula_week!$B$4,\"\",Formula_week!YD9)","v":""},{"$f":"IF(Formula_week!YE10>Formula_week!$B$4,\"\",Formula_week!YE9)","v":""},{"$f":"IF(Formula_week!YF10>Formula_week!$B$4,\"\",Formula_week!YF9)","v":""},{"$f":"IF(Formula_week!YG10>Formula_week!$B$4,\"\",Formula_week!YG9)","v":""},{"$f":"IF(Formula_week!YH10>Formula_week!$B$4,\"\",Formula_week!YH9)","v":""},{"$f":"IF(Formula_week!YI10>Formula_week!$B$4,\"\",Formula_week!YI9)","v":""},{"$f":"IF(Formula_week!YJ10>Formula_week!$B$4,\"\",Formula_week!YJ9)","v":""},{"$f":"IF(Formula_week!YK10>Formula_week!$B$4,\"\",Formula_week!YK9)","v":""},{"$f":"IF(Formula_week!YL10>Formula_week!$B$4,\"\",Formula_week!YL9)","v":""},{"$f":"IF(Formula_week!YM10>Formula_week!$B$4,\"\",Formula_week!YM9)","v":""},{"$f":"IF(Formula_week!YN10>Formula_week!$B$4,\"\",Formula_week!YN9)","v":""},{"$f":"IF(Formula_week!YO10>Formula_week!$B$4,\"\",Formula_week!YO9)","v":""},{"$f":"IF(Formula_week!YP10>Formula_week!$B$4,\"\",Formula_week!YP9)","v":""},{"$f":"IF(Formula_week!YQ10>Formula_week!$B$4,\"\",Formula_week!YQ9)","v":""},{"$f":"IF(Formula_week!YR10>Formula_week!$B$4,\"\",Formula_week!YR9)","v":""},{"$f":"IF(Formula_week!YS10>Formula_week!$B$4,\"\",Formula_week!YS9)","v":""},{"$f":"IF(Formula_week!YT10>Formula_week!$B$4,\"\",Formula_week!YT9)","v":""},{"$f":"IF(Formula_week!YU10>Formula_week!$B$4,\"\",Formula_week!YU9)","v":""},{"$f":"IF(Formula_week!YV10>Formula_week!$B$4,\"\",Formula_week!YV9)","v":""},{"$f":"IF(Formula_week!YW10>Formula_week!$B$4,\"\",Formula_week!YW9)","v":""},{"$f":"IF(Formula_week!YX10>Formula_week!$B$4,\"\",Formula_week!YX9)","v":""},{"$f":"IF(Formula_week!YY10>Formula_week!$B$4,\"\",Formula_week!YY9)","v":""},{"$f":"IF(Formula_week!YZ10>Formula_week!$B$4,\"\",Formula_week!YZ9)","v":""},{"$f":"IF(Formula_week!ZA10>Formula_week!$B$4,\"\",Formula_week!ZA9)","v":""},{"$f":"IF(Formula_week!ZB10>Formula_week!$B$4,\"\",Formula_week!ZB9)","v":""},{"$f":"IF(Formula_week!ZC10>Formula_week!$B$4,\"\",Formula_week!ZC9)","v":""},{"$f":"IF(Formula_week!ZD10>Formula_week!$B$4,\"\",Formula_week!ZD9)","v":""},{"$f":"IF(Formula_week!ZE10>Formula_week!$B$4,\"\",Formula_week!ZE9)","v":""},{"$f":"IF(Formula_week!ZF10>Formula_week!$B$4,\"\",Formula_week!ZF9)","v":""},{"$f":"IF(Formula_week!ZG10>Formula_week!$B$4,\"\",Formula_week!ZG9)","v":""},{"$f":"IF(Formula_week!ZH10>Formula_week!$B$4,\"\",Formula_week!ZH9)","v":""},{"$f":"IF(Formula_week!ZI10>Formula_week!$B$4,\"\",Formula_week!ZI9)","v":""},{"$f":"IF(Formula_week!ZJ10>Formula_week!$B$4,\"\",Formula_week!ZJ9)","v":""},{"$f":"IF(Formula_week!ZK10>Formula_week!$B$4,\"\",Formula_week!ZK9)","v":""},{"$f":"IF(Formula_week!ZL10>Formula_week!$B$4,\"\",Formula_week!ZL9)","v":""},{"$f":"IF(Formula_week!ZM10>Formula_week!$B$4,\"\",Formula_week!ZM9)","v":""},{"$f":"IF(Formula_week!ZN10>Formula_week!$B$4,\"\",Formula_week!ZN9)","v":""}]
[null,null,null,null,null,null,null,null,null,null,null,null,null,{"$f":"IF(OR(EOMONTH(Formula_week!$B$4,0)>Formula_week!B8,(AND(YEAR(Formula_week!$B$4)=YEAR(Formula_week!B8),(MONTH(Formula_week!$B$4)=MONTH(Formula_week!B8))))),Formula_week!B12,\"\")","v":"2016-06-01"},{"$f":"IF(OR(EOMONTH(Formula_week!$B$4,0)>Formula_week!C8,(AND(YEAR(Formula_week!$B$4)=YEAR(Formula_week!C8),(MONTH(Formula_week!$B$4)=MONTH(Formula_week!C8))))),Formula_week!C12,\"\")","v":""},{"$f":"IF(OR(EOMONTH(Formula_week!$B$4,0)>Formula_week!D8,(AND(YEAR(Formula_week!$B$4)=YEAR(Formula_week!D8),(MONTH(Formula_week!$B$4)=MONTH(Formula_week!D8))))),Formula_week!D12,\"\")","v":""},{"$f":"IF(OR(EOMONTH(Formula_week!$B$4,0)>Formula_week!E8,(AND(YEAR(Formula_week!$B$4)=YEAR(Formula_week!E8),(MONTH(Formula_week!$B$4)=MONTH(Formula_week!E8))))),Formula_week!E12,\"\")","v":""},{"$f":"IF(OR(EOMONTH(Formula_week!$B$4,0)>Formula_week!F8,(AND(YEAR(Formula_week!$B$4)=YEAR(Formula_week!F8),(MONTH(Formula_week!$B$4)=MONTH(Formula_week!F8))))),Formula_week!F12,\"\")","v":""},{"$f":"IF(OR(EOMONTH(Formula_week!$B$4,0)>Formula_week!G8,(AND(YEAR(Formula_week!$B$4)=YEAR(Formula_week!G8),(MONTH(Formula_week!$B$4)=MONTH(Formula_week!G8))))),Formula_week!G12,\"\")","v":"2016-07-06"},{"$f":"IF(OR(EOMONTH(Formula_week!$B$4,0)>Formula_week!H8,(AND(YEAR(Formula_week!$B$4)=YEAR(Formula_week!H8),(MONTH(Formula_week!$B$4)=MONTH(Formula_week!H8))))),Formula_week!H12,\"\")","v":""},{"$f":"IF(OR(EOMONTH(Formula_week!$B$4,0)>Formula_week!I8,(AND(YEAR(Formula_week!$B$4)=YEAR(Formula_week!I8),(MONTH(Formula_week!$B$4)=MONTH(Formula_week!I8))))),Formula_week!I12,\"\")","v":""},{"$f":"IF(OR(EOMONTH(Formula_week!$B$4,0)>Formula_week!J8,(AND(YEAR(Formula_week!$B$4)=YEAR(Formula_week!J8),(MONTH(Formula_week!$B$4)=MONTH(Formula_week!J8))))),Formula_week!J12,\"\")","v":""},{"$f":"IF(OR(EOMONTH(Formula_week!$B$4,0)>Formula_week!K8,(AND(YEAR(Formula_week!$B$4)=YEAR(Formula_week!K8),(MONTH(Formula_week!$B$4)=MONTH(Formula_week!K8))))),Formula_week!K12,\"\")","v":"2016-08-03"},{"$f":"IF(OR(EOMONTH(Formula_week!$B$4,0)>Formula_week!L8,(AND(YEAR(Formula_week!$B$4)=YEAR(Formula_week!L8),(MONTH(Formula_week!$B$4)=MONTH(Formula_week!L8))))),Formula_week!L12,\"\")","v":""},{"$f":"IF(OR(EOMONTH(Formula_week!$B$4,0)>Formula_week!M8,(AND(YEAR(Formula_week!$B$4)=YEAR(Formula_week!M8),(MONTH(Formula_week!$B$4)=MONTH(Formula_week!M8))))),Formula_week!M12,\"\")","v":""},{"$f":"IF(OR(EOMONTH(Formula_week!$B$4,0)>Formula_week!N8,(AND(YEAR(Formula_week!$B$4)=YEAR(Formula_week!N8),(MONTH(Formula_week!$B$4)=MONTH(Formula_week!N8))))),Formula_week!N12,\"\")","v":""},{"$f":"IF(OR(EOMONTH(Formula_week!$B$4,0)>Formula_week!O8,(AND(YEAR(Formula_week!$B$4)=YEAR(Formula_week!O8),(MONTH(Formula_week!$B$4)=MONTH(Formula_week!O8))))),Formula_week!O12,\"\")","v":""},{"$f":"IF(OR(EOMONTH(Formula_week!$B$4,0)>Formula_week!P8,(AND(YEAR(Formula_week!$B$4)=YEAR(Formula_week!P8),(MONTH(Formula_week!$B$4)=MONTH(Formula_week!P8))))),Formula_week!P12,\"\")","v":"2016-09-07"},{"$f":"IF(OR(EOMONTH(Formula_week!$B$4,0)>Formula_week!Q8,(AND(YEAR(Formula_week!$B$4)=YEAR(Formula_week!Q8),(MONTH(Formula_week!$B$4)=MONTH(Formula_week!Q8))))),Formula_week!Q12,\"\")","v":""},{"$f":"IF(OR(EOMONTH(Formula_week!$B$4,0)>Formula_week!R8,(AND(YEAR(Formula_week!$B$4)=YEAR(Formula_week!R8),(MONTH(Formula_week!$B$4)=MONTH(Formula_week!R8))))),Formula_week!R12,\"\")","v":""},{"$f":"IF(OR(EOMONTH(Formula_week!$B$4,0)>Formula_week!S8,(AND(YEAR(Formula_week!$B$4)=YEAR(Formula_week!S8),(MONTH(Formula_week!$B$4)=MONTH(Formula_week!S8))))),Formula_week!S12,\"\")","v":""},{"$f":"IF(OR(EOMONTH(Formula_week!$B$4,0)>Formula_week!T8,(AND(YEAR(Formula_week!$B$4)=YEAR(Formula_week!T8),(MONTH(Formula_week!$B$4)=MONTH(Formula_week!T8))))),Formula_week!T12,\"\")","v":"2016-10-05"},{"$f":"IF(OR(EOMONTH(Formula_week!$B$4,0)>Formula_week!U8,(AND(YEAR(Formula_week!$B$4)=YEAR(Formula_week!U8),(MONTH(Formula_week!$B$4)=MONTH(Formula_week!U8))))),Formula_week!U12,\"\")","v":""},{"$f":"IF(OR(EOMONTH(Formula_week!$B$4,0)>Formula_week!V8,(AND(YEAR(Formula_week!$B$4)=YEAR(Formula_week!V8),(MONTH(Formula_week!$B$4)=MONTH(Formula_week!V8))))),Formula_week!V12,\"\")","v":""},{"$f":"IF(OR(EOMONTH(Formula_week!$B$4,0)>Formula_week!W8,(AND(YEAR(Formula_week!$B$4)=YEAR(Formula_week!W8),(MONTH(Formula_week!$B$4)=MONTH(Formula_week!W8))))),Formula_week!W12,\"\")","v":""},{"$f":"IF(OR(EOMONTH(Formula_week!$B$4,0)>Formula_week!X8,(AND(YEAR(Formula_week!$B$4)=YEAR(Formula_week!X8),(MONTH(Formula_week!$B$4)=MONTH(Formula_week!X8))))),Formula_week!X12,\"\")","v":"2016-11-02"},{"$f":"IF(OR(EOMONTH(Formula_week!$B$4,0)>Formula_week!Y8,(AND(YEAR(Formula_week!$B$4)=YEAR(Formula_week!Y8),(MONTH(Formula_week!$B$4)=MONTH(Formula_week!Y8))))),Formula_week!Y12,\"\")","v":""},{"$f":"IF(OR(EOMONTH(Formula_week!$B$4,0)>Formula_week!Z8,(AND(YEAR(Formula_week!$B$4)=YEAR(Formula_week!Z8),(MONTH(Formula_week!$B$4)=MONTH(Formula_week!Z8))))),Formula_week!Z12,\"\")","v":""},{"$f":"IF(OR(EOMONTH(Formula_week!$B$4,0)>Formula_week!AA8,(AND(YEAR(Formula_week!$B$4)=YEAR(Formula_week!AA8),(MONTH(Formula_week!$B$4)=MONTH(Formula_week!AA8))))),Formula_week!AA12,\"\")","v":""},{"$f":"IF(OR(EOMONTH(Formula_week!$B$4,0)>Formula_week!AB8,(AND(YEAR(Formula_week!$B$4)=YEAR(Formula_week!AB8),(MONTH(Formula_week!$B$4)=MONTH(Formula_week!AB8))))),Formula_week!AB12,\"\")","v":""},{"$f":"IF(OR(EOMONTH(Formula_week!$B$4,0)>Formula_week!AC8,(AND(YEAR(Formula_week!$B$4)=YEAR(Formula_week!AC8),(MONTH(Formula_week!$B$4)=MONTH(Formula_week!AC8))))),Formula_week!AC12,\"\")","v":"2016-12-07"},{"$f":"IF(OR(EOMONTH(Formula_week!$B$4,0)>Formula_week!AD8,(AND(YEAR(Formula_week!$B$4)=YEAR(Formula_week!AD8),(MONTH(Formula_week!$B$4)=MONTH(Formula_week!AD8))))),Formula_week!AD12,\"\")","v":""},{"$f":"IF(OR(EOMONTH(Formula_week!$B$4,0)>Formula_week!AE8,(AND(YEAR(Formula_week!$B$4)=YEAR(Formula_week!AE8),(MONTH(Formula_week!$B$4)=MONTH(Formula_week!AE8))))),Formula_week!AE12,\"\")","v":""},{"$f":"IF(OR(EOMONTH(Formula_week!$B$4,0)>Formula_week!AF8,(AND(YEAR(Formula_week!$B$4)=YEAR(Formula_week!AF8),(MONTH(Formula_week!$B$4)=MONTH(Formula_week!AF8))))),Formula_week!AF12,\"\")","v":""},{"$f":"IF(OR(EOMONTH(Formula_week!$B$4,0)>Formula_week!AG8,(AND(YEAR(Formula_week!$B$4)=YEAR(Formula_week!AG8),(MONTH(Formula_week!$B$4)=MONTH(Formula_week!AG8))))),Formula_week!AG12,\"\")","v":""},{"$f":"IF(OR(EOMONTH(Formula_week!$B$4,0)>Formula_week!AH8,(AND(YEAR(Formula_week!$B$4)=YEAR(Formula_week!AH8),(MONTH(Formula_week!$B$4)=MONTH(Formula_week!AH8))))),Formula_week!AH12,\"\")","v":""},{"$f":"IF(OR(EOMONTH(Formula_week!$B$4,0)>Formula_week!AI8,(AND(YEAR(Formula_week!$B$4)=YEAR(Formula_week!AI8),(MONTH(Formula_week!$B$4)=MONTH(Formula_week!AI8))))),Formula_week!AI12,\"\")","v":""},{"$f":"IF(OR(EOMONTH(Formula_week!$B$4,0)>Formula_week!AJ8,(AND(YEAR(Formula_week!$B$4)=YEAR(Formula_week!AJ8),(MONTH(Formula_week!$B$4)=MONTH(Formula_week!AJ8))))),Formula_week!AJ12,\"\")","v":""},{"$f":"IF(OR(EOMONTH(Formula_week!$B$4,0)>Formula_week!AK8,(AND(YEAR(Formula_week!$B$4)=YEAR(Formula_week!AK8),(MONTH(Formula_week!$B$4)=MONTH(Formula_week!AK8))))),Formula_week!AK12,\"\")","v":""},{"$f":"IF(OR(EOMONTH(Formula_week!$B$4,0)>Formula_week!AL8,(AND(YEAR(Formula_week!$B$4)=YEAR(Formula_week!AL8),(MONTH(Formula_week!$B$4)=MONTH(Formula_week!AL8))))),Formula_week!AL12,\"\")","v":""},{"$f":"IF(OR(EOMONTH(Formula_week!$B$4,0)>Formula_week!AM8,(AND(YEAR(Formula_week!$B$4)=YEAR(Formula_week!AM8),(MONTH(Formula_week!$B$4)=MONTH(Formula_week!AM8))))),Formula_week!AM12,\"\")","v":""},{"$f":"IF(OR(EOMONTH(Formula_week!$B$4,0)>Formula_week!AN8,(AND(YEAR(Formula_week!$B$4)=YEAR(Formula_week!AN8),(MONTH(Formula_week!$B$4)=MONTH(Formula_week!AN8))))),Formula_week!AN12,\"\")","v":""},{"$f":"IF(OR(EOMONTH(Formula_week!$B$4,0)>Formula_week!AO8,(AND(YEAR(Formula_week!$B$4)=YEAR(Formula_week!AO8),(MONTH(Formula_week!$B$4)=MONTH(Formula_week!AO8))))),Formula_week!AO12,\"\")","v":""},{"$f":"IF(OR(EOMONTH(Formula_week!$B$4,0)>Formula_week!AP8,(AND(YEAR(Formula_week!$B$4)=YEAR(Formula_week!AP8),(MONTH(Formula_week!$B$4)=MONTH(Formula_week!AP8))))),Formula_week!AP12,\"\")","v":""},{"$f":"IF(OR(EOMONTH(Formula_week!$B$4,0)>Formula_week!AQ8,(AND(YEAR(Formula_week!$B$4)=YEAR(Formula_week!AQ8),(MONTH(Formula_week!$B$4)=MONTH(Formula_week!AQ8))))),Formula_week!AQ12,\"\")","v":""},{"$f":"IF(OR(EOMONTH(Formula_week!$B$4,0)>Formula_week!AR8,(AND(YEAR(Formula_week!$B$4)=YEAR(Formula_week!AR8),(MONTH(Formula_week!$B$4)=MONTH(Formula_week!AR8))))),Formula_week!AR12,\"\")","v":""},{"$f":"IF(OR(EOMONTH(Formula_week!$B$4,0)>Formula_week!AS8,(AND(YEAR(Formula_week!$B$4)=YEAR(Formula_week!AS8),(MONTH(Formula_week!$B$4)=MONTH(Formula_week!AS8))))),Formula_week!AS12,\"\")","v":""},{"$f":"IF(OR(EOMONTH(Formula_week!$B$4,0)>Formula_week!AT8,(AND(YEAR(Formula_week!$B$4)=YEAR(Formula_week!AT8),(MONTH(Formula_week!$B$4)=MONTH(Formula_week!AT8))))),Formula_week!AT12,\"\")","v":""},{"$f":"IF(OR(EOMONTH(Formula_week!$B$4,0)>Formula_week!AU8,(AND(YEAR(Formula_week!$B$4)=YEAR(Formula_week!AU8),(MONTH(Formula_week!$B$4)=MONTH(Formula_week!AU8))))),Formula_week!AU12,\"\")","v":""},{"$f":"IF(OR(EOMONTH(Formula_week!$B$4,0)>Formula_week!AV8,(AND(YEAR(Formula_week!$B$4)=YEAR(Formula_week!AV8),(MONTH(Formula_week!$B$4)=MONTH(Formula_week!AV8))))),Formula_week!AV12,\"\")","v":""},{"$f":"IF(OR(EOMONTH(Formula_week!$B$4,0)>Formula_week!AW8,(AND(YEAR(Formula_week!$B$4)=YEAR(Formula_week!AW8),(MONTH(Formula_week!$B$4)=MONTH(Formula_week!AW8))))),Formula_week!AW12,\"\")","v":""},{"$f":"IF(OR(EOMONTH(Formula_week!$B$4,0)>Formula_week!AX8,(AND(YEAR(Formula_week!$B$4)=YEAR(Formula_week!AX8),(MONTH(Formula_week!$B$4)=MONTH(Formula_week!AX8))))),Formula_week!AX12,\"\")","v":""},{"$f":"IF(OR(EOMONTH(Formula_week!$B$4,0)>Formula_week!AY8,(AND(YEAR(Formula_week!$B$4)=YEAR(Formula_week!AY8),(MONTH(Formula_week!$B$4)=MONTH(Formula_week!AY8))))),Formula_week!AY12,\"\")","v":""},{"$f":"IF(OR(EOMONTH(Formula_week!$B$4,0)>Formula_week!AZ8,(AND(YEAR(Formula_week!$B$4)=YEAR(Formula_week!AZ8),(MONTH(Formula_week!$B$4)=MONTH(Formula_week!AZ8))))),Formula_week!AZ12,\"\")","v":""},{"$f":"IF(OR(EOMONTH(Formula_week!$B$4,0)>Formula_week!BA8,(AND(YEAR(Formula_week!$B$4)=YEAR(Formula_week!BA8),(MONTH(Formula_week!$B$4)=MONTH(Formula_week!BA8))))),Formula_week!BA12,\"\")","v":""},{"$f":"IF(OR(EOMONTH(Formula_week!$B$4,0)>Formula_week!BB8,(AND(YEAR(Formula_week!$B$4)=YEAR(Formula_week!BB8),(MONTH(Formula_week!$B$4)=MONTH(Formula_week!BB8))))),Formula_week!BB12,\"\")","v":""},{"$f":"IF(OR(EOMONTH(Formula_week!$B$4,0)>Formula_week!BC8,(AND(YEAR(Formula_week!$B$4)=YEAR(Formula_week!BC8),(MONTH(Formula_week!$B$4)=MONTH(Formula_week!BC8))))),Formula_week!BC12,\"\")","v":""},{"$f":"IF(OR(EOMONTH(Formula_week!$B$4,0)>Formula_week!BD8,(AND(YEAR(Formula_week!$B$4)=YEAR(Formula_week!BD8),(MONTH(Formula_week!$B$4)=MONTH(Formula_week!BD8))))),Formula_week!BD12,\"\")","v":""},{"$f":"IF(OR(EOMONTH(Formula_week!$B$4,0)>Formula_week!BE8,(AND(YEAR(Formula_week!$B$4)=YEAR(Formula_week!BE8),(MONTH(Formula_week!$B$4)=MONTH(Formula_week!BE8))))),Formula_week!BE12,\"\")","v":""},{"$f":"IF(OR(EOMONTH(Formula_week!$B$4,0)>Formula_week!BF8,(AND(YEAR(Formula_week!$B$4)=YEAR(Formula_week!BF8),(MONTH(Formula_week!$B$4)=MONTH(Formula_week!BF8))))),Formula_week!BF12,\"\")","v":""},{"$f":"IF(OR(EOMONTH(Formula_week!$B$4,0)>Formula_week!BG8,(AND(YEAR(Formula_week!$B$4)=YEAR(Formula_week!BG8),(MONTH(Formula_week!$B$4)=MONTH(Formula_week!BG8))))),Formula_week!BG12,\"\")","v":""},{"$f":"IF(OR(EOMONTH(Formula_week!$B$4,0)>Formula_week!BH8,(AND(YEAR(Formula_week!$B$4)=YEAR(Formula_week!BH8),(MONTH(Formula_week!$B$4)=MONTH(Formula_week!BH8))))),Formula_week!BH12,\"\")","v":""},{"$f":"IF(OR(EOMONTH(Formula_week!$B$4,0)>Formula_week!BI8,(AND(YEAR(Formula_week!$B$4)=YEAR(Formula_week!BI8),(MONTH(Formula_week!$B$4)=MONTH(Formula_week!BI8))))),Formula_week!BI12,\"\")","v":""},{"$f":"IF(OR(EOMONTH(Formula_week!$B$4,0)>Formula_week!BJ8,(AND(YEAR(Formula_week!$B$4)=YEAR(Formula_week!BJ8),(MONTH(Formula_week!$B$4)=MONTH(Formula_week!BJ8))))),Formula_week!BJ12,\"\")","v":""},{"$f":"IF(OR(EOMONTH(Formula_week!$B$4,0)>Formula_week!BK8,(AND(YEAR(Formula_week!$B$4)=YEAR(Formula_week!BK8),(MONTH(Formula_week!$B$4)=MONTH(Formula_week!BK8))))),Formula_week!BK12,\"\")","v":""},{"$f":"IF(OR(EOMONTH(Formula_week!$B$4,0)>Formula_week!BL8,(AND(YEAR(Formula_week!$B$4)=YEAR(Formula_week!BL8),(MONTH(Formula_week!$B$4)=MONTH(Formula_week!BL8))))),Formula_week!BL12,\"\")","v":""},{"$f":"IF(OR(EOMONTH(Formula_week!$B$4,0)>Formula_week!BM8,(AND(YEAR(Formula_week!$B$4)=YEAR(Formula_week!BM8),(MONTH(Formula_week!$B$4)=MONTH(Formula_week!BM8))))),Formula_week!BM12,\"\")","v":""},{"$f":"IF(OR(EOMONTH(Formula_week!$B$4,0)>Formula_week!BN8,(AND(YEAR(Formula_week!$B$4)=YEAR(Formula_week!BN8),(MONTH(Formula_week!$B$4)=MONTH(Formula_week!BN8))))),Formula_week!BN12,\"\")","v":""},{"$f":"IF(OR(EOMONTH(Formula_week!$B$4,0)>Formula_week!BO8,(AND(YEAR(Formula_week!$B$4)=YEAR(Formula_week!BO8),(MONTH(Formula_week!$B$4)=MONTH(Formula_week!BO8))))),Formula_week!BO12,\"\")","v":""},{"$f":"IF(OR(EOMONTH(Formula_week!$B$4,0)>Formula_week!BP8,(AND(YEAR(Formula_week!$B$4)=YEAR(Formula_week!BP8),(MONTH(Formula_week!$B$4)=MONTH(Formula_week!BP8))))),Formula_week!BP12,\"\")","v":""},{"$f":"IF(OR(EOMONTH(Formula_week!$B$4,0)>Formula_week!BQ8,(AND(YEAR(Formula_week!$B$4)=YEAR(Formula_week!BQ8),(MONTH(Formula_week!$B$4)=MONTH(Formula_week!BQ8))))),Formula_week!BQ12,\"\")","v":""},{"$f":"IF(OR(EOMONTH(Formula_week!$B$4,0)>Formula_week!BR8,(AND(YEAR(Formula_week!$B$4)=YEAR(Formula_week!BR8),(MONTH(Formula_week!$B$4)=MONTH(Formula_week!BR8))))),Formula_week!BR12,\"\")","v":""},{"$f":"IF(OR(EOMONTH(Formula_week!$B$4,0)>Formula_week!BS8,(AND(YEAR(Formula_week!$B$4)=YEAR(Formula_week!BS8),(MONTH(Formula_week!$B$4)=MONTH(Formula_week!BS8))))),Formula_week!BS12,\"\")","v":""},{"$f":"IF(OR(EOMONTH(Formula_week!$B$4,0)>Formula_week!BT8,(AND(YEAR(Formula_week!$B$4)=YEAR(Formula_week!BT8),(MONTH(Formula_week!$B$4)=MONTH(Formula_week!BT8))))),Formula_week!BT12,\"\")","v":""},{"$f":"IF(OR(EOMONTH(Formula_week!$B$4,0)>Formula_week!BU8,(AND(YEAR(Formula_week!$B$4)=YEAR(Formula_week!BU8),(MONTH(Formula_week!$B$4)=MONTH(Formula_week!BU8))))),Formula_week!BU12,\"\")","v":""},{"$f":"IF(OR(EOMONTH(Formula_week!$B$4,0)>Formula_week!BV8,(AND(YEAR(Formula_week!$B$4)=YEAR(Formula_week!BV8),(MONTH(Formula_week!$B$4)=MONTH(Formula_week!BV8))))),Formula_week!BV12,\"\")","v":""},{"$f":"IF(OR(EOMONTH(Formula_week!$B$4,0)>Formula_week!BW8,(AND(YEAR(Formula_week!$B$4)=YEAR(Formula_week!BW8),(MONTH(Formula_week!$B$4)=MONTH(Formula_week!BW8))))),Formula_week!BW12,\"\")","v":""},{"$f":"IF(OR(EOMONTH(Formula_week!$B$4,0)>Formula_week!BX8,(AND(YEAR(Formula_week!$B$4)=YEAR(Formula_week!BX8),(MONTH(Formula_week!$B$4)=MONTH(Formula_week!BX8))))),Formula_week!BX12,\"\")","v":""},{"$f":"IF(OR(EOMONTH(Formula_week!$B$4,0)>Formula_week!BY8,(AND(YEAR(Formula_week!$B$4)=YEAR(Formula_week!BY8),(MONTH(Formula_week!$B$4)=MONTH(Formula_week!BY8))))),Formula_week!BY12,\"\")","v":""},{"$f":"IF(OR(EOMONTH(Formula_week!$B$4,0)>Formula_week!BZ8,(AND(YEAR(Formula_week!$B$4)=YEAR(Formula_week!BZ8),(MONTH(Formula_week!$B$4)=MONTH(Formula_week!BZ8))))),Formula_week!BZ12,\"\")","v":""},{"$f":"IF(OR(EOMONTH(Formula_week!$B$4,0)>Formula_week!CA8,(AND(YEAR(Formula_week!$B$4)=YEAR(Formula_week!CA8),(MONTH(Formula_week!$B$4)=MONTH(Formula_week!CA8))))),Formula_week!CA12,\"\")","v":""},{"$f":"IF(OR(EOMONTH(Formula_week!$B$4,0)>Formula_week!CB8,(AND(YEAR(Formula_week!$B$4)=YEAR(Formula_week!CB8),(MONTH(Formula_week!$B$4)=MONTH(Formula_week!CB8))))),Formula_week!CB12,\"\")","v":""},{"$f":"IF(OR(EOMONTH(Formula_week!$B$4,0)>Formula_week!CC8,(AND(YEAR(Formula_week!$B$4)=YEAR(Formula_week!CC8),(MONTH(Formula_week!$B$4)=MONTH(Formula_week!CC8))))),Formula_week!CC12,\"\")","v":""},{"$f":"IF(OR(EOMONTH(Formula_week!$B$4,0)>Formula_week!CD8,(AND(YEAR(Formula_week!$B$4)=YEAR(Formula_week!CD8),(MONTH(Formula_week!$B$4)=MONTH(Formula_week!CD8))))),Formula_week!CD12,\"\")","v":""},{"$f":"IF(OR(EOMONTH(Formula_week!$B$4,0)>Formula_week!CE8,(AND(YEAR(Formula_week!$B$4)=YEAR(Formula_week!CE8),(MONTH(Formula_week!$B$4)=MONTH(Formula_week!CE8))))),Formula_week!CE12,\"\")","v":""},{"$f":"IF(OR(EOMONTH(Formula_week!$B$4,0)>Formula_week!CF8,(AND(YEAR(Formula_week!$B$4)=YEAR(Formula_week!CF8),(MONTH(Formula_week!$B$4)=MONTH(Formula_week!CF8))))),Formula_week!CF12,\"\")","v":""},{"$f":"IF(OR(EOMONTH(Formula_week!$B$4,0)>Formula_week!CG8,(AND(YEAR(Formula_week!$B$4)=YEAR(Formula_week!CG8),(MONTH(Formula_week!$B$4)=MONTH(Formula_week!CG8))))),Formula_week!CG12,\"\")","v":""},{"$f":"IF(OR(EOMONTH(Formula_week!$B$4,0)>Formula_week!CH8,(AND(YEAR(Formula_week!$B$4)=YEAR(Formula_week!CH8),(MONTH(Formula_week!$B$4)=MONTH(Formula_week!CH8))))),Formula_week!CH12,\"\")","v":""},{"$f":"IF(OR(EOMONTH(Formula_week!$B$4,0)>Formula_week!CI8,(AND(YEAR(Formula_week!$B$4)=YEAR(Formula_week!CI8),(MONTH(Formula_week!$B$4)=MONTH(Formula_week!CI8))))),Formula_week!CI12,\"\")","v":""},{"$f":"IF(OR(EOMONTH(Formula_week!$B$4,0)>Formula_week!CJ8,(AND(YEAR(Formula_week!$B$4)=YEAR(Formula_week!CJ8),(MONTH(Formula_week!$B$4)=MONTH(Formula_week!CJ8))))),Formula_week!CJ12,\"\")","v":""},{"$f":"IF(OR(EOMONTH(Formula_week!$B$4,0)>Formula_week!CK8,(AND(YEAR(Formula_week!$B$4)=YEAR(Formula_week!CK8),(MONTH(Formula_week!$B$4)=MONTH(Formula_week!CK8))))),Formula_week!CK12,\"\")","v":""},{"$f":"IF(OR(EOMONTH(Formula_week!$B$4,0)>Formula_week!CL8,(AND(YEAR(Formula_week!$B$4)=YEAR(Formula_week!CL8),(MONTH(Formula_week!$B$4)=MONTH(Formula_week!CL8))))),Formula_week!CL12,\"\")","v":""},{"$f":"IF(OR(EOMONTH(Formula_week!$B$4,0)>Formula_week!CM8,(AND(YEAR(Formula_week!$B$4)=YEAR(Formula_week!CM8),(MONTH(Formula_week!$B$4)=MONTH(Formula_week!CM8))))),Formula_week!CM12,\"\")","v":""},{"$f":"IF(OR(EOMONTH(Formula_week!$B$4,0)>Formula_week!CN8,(AND(YEAR(Formula_week!$B$4)=YEAR(Formula_week!CN8),(MONTH(Formula_week!$B$4)=MONTH(Formula_week!CN8))))),Formula_week!CN12,\"\")","v":""},{"$f":"IF(OR(EOMONTH(Formula_week!$B$4,0)>Formula_week!CO8,(AND(YEAR(Formula_week!$B$4)=YEAR(Formula_week!CO8),(MONTH(Formula_week!$B$4)=MONTH(Formula_week!CO8))))),Formula_week!CO12,\"\")","v":""},{"$f":"IF(OR(EOMONTH(Formula_week!$B$4,0)>Formula_week!CP8,(AND(YEAR(Formula_week!$B$4)=YEAR(Formula_week!CP8),(MONTH(Formula_week!$B$4)=MONTH(Formula_week!CP8))))),Formula_week!CP12,\"\")","v":""},{"$f":"IF(OR(EOMONTH(Formula_week!$B$4,0)>Formula_week!CQ8,(AND(YEAR(Formula_week!$B$4)=YEAR(Formula_week!CQ8),(MONTH(Formula_week!$B$4)=MONTH(Formula_week!CQ8))))),Formula_week!CQ12,\"\")","v":""},{"$f":"IF(OR(EOMONTH(Formula_week!$B$4,0)>Formula_week!CR8,(AND(YEAR(Formula_week!$B$4)=YEAR(Formula_week!CR8),(MONTH(Formula_week!$B$4)=MONTH(Formula_week!CR8))))),Formula_week!CR12,\"\")","v":""},{"$f":"IF(OR(EOMONTH(Formula_week!$B$4,0)>Formula_week!CS8,(AND(YEAR(Formula_week!$B$4)=YEAR(Formula_week!CS8),(MONTH(Formula_week!$B$4)=MONTH(Formula_week!CS8))))),Formula_week!CS12,\"\")","v":""},{"$f":"IF(OR(EOMONTH(Formula_week!$B$4,0)>Formula_week!CT8,(AND(YEAR(Formula_week!$B$4)=YEAR(Formula_week!CT8),(MONTH(Formula_week!$B$4)=MONTH(Formula_week!CT8))))),Formula_week!CT12,\"\")","v":""},{"$f":"IF(OR(EOMONTH(Formula_week!$B$4,0)>Formula_week!CU8,(AND(YEAR(Formula_week!$B$4)=YEAR(Formula_week!CU8),(MONTH(Formula_week!$B$4)=MONTH(Formula_week!CU8))))),Formula_week!CU12,\"\")","v":""},{"$f":"IF(OR(EOMONTH(Formula_week!$B$4,0)>Formula_week!CV8,(AND(YEAR(Formula_week!$B$4)=YEAR(Formula_week!CV8),(MONTH(Formula_week!$B$4)=MONTH(Formula_week!CV8))))),Formula_week!CV12,\"\")","v":""},{"$f":"IF(OR(EOMONTH(Formula_week!$B$4,0)>Formula_week!CW8,(AND(YEAR(Formula_week!$B$4)=YEAR(Formula_week!CW8),(MONTH(Formula_week!$B$4)=MONTH(Formula_week!CW8))))),Formula_week!CW12,\"\")","v":""},{"$f":"IF(OR(EOMONTH(Formula_week!$B$4,0)>Formula_week!CX8,(AND(YEAR(Formula_week!$B$4)=YEAR(Formula_week!CX8),(MONTH(Formula_week!$B$4)=MONTH(Formula_week!CX8))))),Formula_week!CX12,\"\")","v":""},{"$f":"IF(OR(EOMONTH(Formula_week!$B$4,0)>Formula_week!CY8,(AND(YEAR(Formula_week!$B$4)=YEAR(Formula_week!CY8),(MONTH(Formula_week!$B$4)=MONTH(Formula_week!CY8))))),Formula_week!CY12,\"\")","v":""},{"$f":"IF(OR(EOMONTH(Formula_week!$B$4,0)>Formula_week!CZ8,(AND(YEAR(Formula_week!$B$4)=YEAR(Formula_week!CZ8),(MONTH(Formula_week!$B$4)=MONTH(Formula_week!CZ8))))),Formula_week!CZ12,\"\")","v":""},{"$f":"IF(OR(EOMONTH(Formula_week!$B$4,0)>Formula_week!DA8,(AND(YEAR(Formula_week!$B$4)=YEAR(Formula_week!DA8),(MONTH(Formula_week!$B$4)=MONTH(Formula_week!DA8))))),Formula_week!DA12,\"\")","v":""},{"$f":"IF(OR(EOMONTH(Formula_week!$B$4,0)>Formula_week!DB8,(AND(YEAR(Formula_week!$B$4)=YEAR(Formula_week!DB8),(MONTH(Formula_week!$B$4)=MONTH(Formula_week!DB8))))),Formula_week!DB12,\"\")","v":""},{"$f":"IF(OR(EOMONTH(Formula_week!$B$4,0)>Formula_week!DC8,(AND(YEAR(Formula_week!$B$4)=YEAR(Formula_week!DC8),(MONTH(Formula_week!$B$4)=MONTH(Formula_week!DC8))))),Formula_week!DC12,\"\")","v":""},{"$f":"IF(OR(EOMONTH(Formula_week!$B$4,0)>Formula_week!DD8,(AND(YEAR(Formula_week!$B$4)=YEAR(Formula_week!DD8),(MONTH(Formula_week!$B$4)=MONTH(Formula_week!DD8))))),Formula_week!DD12,\"\")","v":""},{"$f":"IF(OR(EOMONTH(Formula_week!$B$4,0)>Formula_week!DE8,(AND(YEAR(Formula_week!$B$4)=YEAR(Formula_week!DE8),(MONTH(Formula_week!$B$4)=MONTH(Formula_week!DE8))))),Formula_week!DE12,\"\")","v":""},{"$f":"IF(OR(EOMONTH(Formula_week!$B$4,0)>Formula_week!DF8,(AND(YEAR(Formula_week!$B$4)=YEAR(Formula_week!DF8),(MONTH(Formula_week!$B$4)=MONTH(Formula_week!DF8))))),Formula_week!DF12,\"\")","v":""},{"$f":"IF(OR(EOMONTH(Formula_week!$B$4,0)>Formula_week!DG8,(AND(YEAR(Formula_week!$B$4)=YEAR(Formula_week!DG8),(MONTH(Formula_week!$B$4)=MONTH(Formula_week!DG8))))),Formula_week!DG12,\"\")","v":""},{"$f":"IF(OR(EOMONTH(Formula_week!$B$4,0)>Formula_week!DH8,(AND(YEAR(Formula_week!$B$4)=YEAR(Formula_week!DH8),(MONTH(Formula_week!$B$4)=MONTH(Formula_week!DH8))))),Formula_week!DH12,\"\")","v":""},{"$f":"IF(OR(EOMONTH(Formula_week!$B$4,0)>Formula_week!DI8,(AND(YEAR(Formula_week!$B$4)=YEAR(Formula_week!DI8),(MONTH(Formula_week!$B$4)=MONTH(Formula_week!DI8))))),Formula_week!DI12,\"\")","v":""},{"$f":"IF(OR(EOMONTH(Formula_week!$B$4,0)>Formula_week!DJ8,(AND(YEAR(Formula_week!$B$4)=YEAR(Formula_week!DJ8),(MONTH(Formula_week!$B$4)=MONTH(Formula_week!DJ8))))),Formula_week!DJ12,\"\")","v":""},{"$f":"IF(OR(EOMONTH(Formula_week!$B$4,0)>Formula_week!DK8,(AND(YEAR(Formula_week!$B$4)=YEAR(Formula_week!DK8),(MONTH(Formula_week!$B$4)=MONTH(Formula_week!DK8))))),Formula_week!DK12,\"\")","v":""},{"$f":"IF(OR(EOMONTH(Formula_week!$B$4,0)>Formula_week!DL8,(AND(YEAR(Formula_week!$B$4)=YEAR(Formula_week!DL8),(MONTH(Formula_week!$B$4)=MONTH(Formula_week!DL8))))),Formula_week!DL12,\"\")","v":""},{"$f":"IF(OR(EOMONTH(Formula_week!$B$4,0)>Formula_week!DM8,(AND(YEAR(Formula_week!$B$4)=YEAR(Formula_week!DM8),(MONTH(Formula_week!$B$4)=MONTH(Formula_week!DM8))))),Formula_week!DM12,\"\")","v":""},{"$f":"IF(OR(EOMONTH(Formula_week!$B$4,0)>Formula_week!DN8,(AND(YEAR(Formula_week!$B$4)=YEAR(Formula_week!DN8),(MONTH(Formula_week!$B$4)=MONTH(Formula_week!DN8))))),Formula_week!DN12,\"\")","v":""},{"$f":"IF(OR(EOMONTH(Formula_week!$B$4,0)>Formula_week!DO8,(AND(YEAR(Formula_week!$B$4)=YEAR(Formula_week!DO8),(MONTH(Formula_week!$B$4)=MONTH(Formula_week!DO8))))),Formula_week!DO12,\"\")","v":""},{"$f":"IF(OR(EOMONTH(Formula_week!$B$4,0)>Formula_week!DP8,(AND(YEAR(Formula_week!$B$4)=YEAR(Formula_week!DP8),(MONTH(Formula_week!$B$4)=MONTH(Formula_week!DP8))))),Formula_week!DP12,\"\")","v":""},{"$f":"IF(OR(EOMONTH(Formula_week!$B$4,0)>Formula_week!DQ8,(AND(YEAR(Formula_week!$B$4)=YEAR(Formula_week!DQ8),(MONTH(Formula_week!$B$4)=MONTH(Formula_week!DQ8))))),Formula_week!DQ12,\"\")","v":""},{"$f":"IF(OR(EOMONTH(Formula_week!$B$4,0)>Formula_week!DR8,(AND(YEAR(Formula_week!$B$4)=YEAR(Formula_week!DR8),(MONTH(Formula_week!$B$4)=MONTH(Formula_week!DR8))))),Formula_week!DR12,\"\")","v":""},{"$f":"IF(OR(EOMONTH(Formula_week!$B$4,0)>Formula_week!DS8,(AND(YEAR(Formula_week!$B$4)=YEAR(Formula_week!DS8),(MONTH(Formula_week!$B$4)=MONTH(Formula_week!DS8))))),Formula_week!DS12,\"\")","v":""},{"$f":"IF(OR(EOMONTH(Formula_week!$B$4,0)>Formula_week!DT8,(AND(YEAR(Formula_week!$B$4)=YEAR(Formula_week!DT8),(MONTH(Formula_week!$B$4)=MONTH(Formula_week!DT8))))),Formula_week!DT12,\"\")","v":""},{"$f":"IF(OR(EOMONTH(Formula_week!$B$4,0)>Formula_week!DU8,(AND(YEAR(Formula_week!$B$4)=YEAR(Formula_week!DU8),(MONTH(Formula_week!$B$4)=MONTH(Formula_week!DU8))))),Formula_week!DU12,\"\")","v":""},{"$f":"IF(OR(EOMONTH(Formula_week!$B$4,0)>Formula_week!DV8,(AND(YEAR(Formula_week!$B$4)=YEAR(Formula_week!DV8),(MONTH(Formula_week!$B$4)=MONTH(Formula_week!DV8))))),Formula_week!DV12,\"\")","v":""},{"$f":"IF(OR(EOMONTH(Formula_week!$B$4,0)>Formula_week!DW8,(AND(YEAR(Formula_week!$B$4)=YEAR(Formula_week!DW8),(MONTH(Formula_week!$B$4)=MONTH(Formula_week!DW8))))),Formula_week!DW12,\"\")","v":""},{"$f":"IF(OR(EOMONTH(Formula_week!$B$4,0)>Formula_week!DX8,(AND(YEAR(Formula_week!$B$4)=YEAR(Formula_week!DX8),(MONTH(Formula_week!$B$4)=MONTH(Formula_week!DX8))))),Formula_week!DX12,\"\")","v":""},{"$f":"IF(OR(EOMONTH(Formula_week!$B$4,0)>Formula_week!DY8,(AND(YEAR(Formula_week!$B$4)=YEAR(Formula_week!DY8),(MONTH(Formula_week!$B$4)=MONTH(Formula_week!DY8))))),Formula_week!DY12,\"\")","v":""},{"$f":"IF(OR(EOMONTH(Formula_week!$B$4,0)>Formula_week!DZ8,(AND(YEAR(Formula_week!$B$4)=YEAR(Formula_week!DZ8),(MONTH(Formula_week!$B$4)=MONTH(Formula_week!DZ8))))),Formula_week!DZ12,\"\")","v":""},{"$f":"IF(OR(EOMONTH(Formula_week!$B$4,0)>Formula_week!EA8,(AND(YEAR(Formula_week!$B$4)=YEAR(Formula_week!EA8),(MONTH(Formula_week!$B$4)=MONTH(Formula_week!EA8))))),Formula_week!EA12,\"\")","v":""},{"$f":"IF(OR(EOMONTH(Formula_week!$B$4,0)>Formula_week!EB8,(AND(YEAR(Formula_week!$B$4)=YEAR(Formula_week!EB8),(MONTH(Formula_week!$B$4)=MONTH(Formula_week!EB8))))),Formula_week!EB12,\"\")","v":""},{"$f":"IF(OR(EOMONTH(Formula_week!$B$4,0)>Formula_week!EC8,(AND(YEAR(Formula_week!$B$4)=YEAR(Formula_week!EC8),(MONTH(Formula_week!$B$4)=MONTH(Formula_week!EC8))))),Formula_week!EC12,\"\")","v":""},{"$f":"IF(OR(EOMONTH(Formula_week!$B$4,0)>Formula_week!ED8,(AND(YEAR(Formula_week!$B$4)=YEAR(Formula_week!ED8),(MONTH(Formula_week!$B$4)=MONTH(Formula_week!ED8))))),Formula_week!ED12,\"\")","v":""},{"$f":"IF(OR(EOMONTH(Formula_week!$B$4,0)>Formula_week!EE8,(AND(YEAR(Formula_week!$B$4)=YEAR(Formula_week!EE8),(MONTH(Formula_week!$B$4)=MONTH(Formula_week!EE8))))),Formula_week!EE12,\"\")","v":""},{"$f":"IF(OR(EOMONTH(Formula_week!$B$4,0)>Formula_week!EF8,(AND(YEAR(Formula_week!$B$4)=YEAR(Formula_week!EF8),(MONTH(Formula_week!$B$4)=MONTH(Formula_week!EF8))))),Formula_week!EF12,\"\")","v":""},{"$f":"IF(OR(EOMONTH(Formula_week!$B$4,0)>Formula_week!EG8,(AND(YEAR(Formula_week!$B$4)=YEAR(Formula_week!EG8),(MONTH(Formula_week!$B$4)=MONTH(Formula_week!EG8))))),Formula_week!EG12,\"\")","v":""},{"$f":"IF(OR(EOMONTH(Formula_week!$B$4,0)>Formula_week!EH8,(AND(YEAR(Formula_week!$B$4)=YEAR(Formula_week!EH8),(MONTH(Formula_week!$B$4)=MONTH(Formula_week!EH8))))),Formula_week!EH12,\"\")","v":""},{"$f":"IF(OR(EOMONTH(Formula_week!$B$4,0)>Formula_week!EI8,(AND(YEAR(Formula_week!$B$4)=YEAR(Formula_week!EI8),(MONTH(Formula_week!$B$4)=MONTH(Formula_week!EI8))))),Formula_week!EI12,\"\")","v":""},{"$f":"IF(OR(EOMONTH(Formula_week!$B$4,0)>Formula_week!EJ8,(AND(YEAR(Formula_week!$B$4)=YEAR(Formula_week!EJ8),(MONTH(Formula_week!$B$4)=MONTH(Formula_week!EJ8))))),Formula_week!EJ12,\"\")","v":""},{"$f":"IF(OR(EOMONTH(Formula_week!$B$4,0)>Formula_week!EK8,(AND(YEAR(Formula_week!$B$4)=YEAR(Formula_week!EK8),(MONTH(Formula_week!$B$4)=MONTH(Formula_week!EK8))))),Formula_week!EK12,\"\")","v":""},{"$f":"IF(OR(EOMONTH(Formula_week!$B$4,0)>Formula_week!EL8,(AND(YEAR(Formula_week!$B$4)=YEAR(Formula_week!EL8),(MONTH(Formula_week!$B$4)=MONTH(Formula_week!EL8))))),Formula_week!EL12,\"\")","v":""},{"$f":"IF(OR(EOMONTH(Formula_week!$B$4,0)>Formula_week!EM8,(AND(YEAR(Formula_week!$B$4)=YEAR(Formula_week!EM8),(MONTH(Formula_week!$B$4)=MONTH(Formula_week!EM8))))),Formula_week!EM12,\"\")","v":""},{"$f":"IF(OR(EOMONTH(Formula_week!$B$4,0)>Formula_week!EN8,(AND(YEAR(Formula_week!$B$4)=YEAR(Formula_week!EN8),(MONTH(Formula_week!$B$4)=MONTH(Formula_week!EN8))))),Formula_week!EN12,\"\")","v":""},{"$f":"IF(OR(EOMONTH(Formula_week!$B$4,0)>Formula_week!EO8,(AND(YEAR(Formula_week!$B$4)=YEAR(Formula_week!EO8),(MONTH(Formula_week!$B$4)=MONTH(Formula_week!EO8))))),Formula_week!EO12,\"\")","v":""},{"$f":"IF(OR(EOMONTH(Formula_week!$B$4,0)>Formula_week!EP8,(AND(YEAR(Formula_week!$B$4)=YEAR(Formula_week!EP8),(MONTH(Formula_week!$B$4)=MONTH(Formula_week!EP8))))),Formula_week!EP12,\"\")","v":""},{"$f":"IF(OR(EOMONTH(Formula_week!$B$4,0)>Formula_week!EQ8,(AND(YEAR(Formula_week!$B$4)=YEAR(Formula_week!EQ8),(MONTH(Formula_week!$B$4)=MONTH(Formula_week!EQ8))))),Formula_week!EQ12,\"\")","v":""},{"$f":"IF(OR(EOMONTH(Formula_week!$B$4,0)>Formula_week!ER8,(AND(YEAR(Formula_week!$B$4)=YEAR(Formula_week!ER8),(MONTH(Formula_week!$B$4)=MONTH(Formula_week!ER8))))),Formula_week!ER12,\"\")","v":""},{"$f":"IF(OR(EOMONTH(Formula_week!$B$4,0)>Formula_week!ES8,(AND(YEAR(Formula_week!$B$4)=YEAR(Formula_week!ES8),(MONTH(Formula_week!$B$4)=MONTH(Formula_week!ES8))))),Formula_week!ES12,\"\")","v":""},{"$f":"IF(OR(EOMONTH(Formula_week!$B$4,0)>Formula_week!ET8,(AND(YEAR(Formula_week!$B$4)=YEAR(Formula_week!ET8),(MONTH(Formula_week!$B$4)=MONTH(Formula_week!ET8))))),Formula_week!ET12,\"\")","v":""},{"$f":"IF(OR(EOMONTH(Formula_week!$B$4,0)>Formula_week!EU8,(AND(YEAR(Formula_week!$B$4)=YEAR(Formula_week!EU8),(MONTH(Formula_week!$B$4)=MONTH(Formula_week!EU8))))),Formula_week!EU12,\"\")","v":""},{"$f":"IF(OR(EOMONTH(Formula_week!$B$4,0)>Formula_week!EV8,(AND(YEAR(Formula_week!$B$4)=YEAR(Formula_week!EV8),(MONTH(Formula_week!$B$4)=MONTH(Formula_week!EV8))))),Formula_week!EV12,\"\")","v":""},{"$f":"IF(OR(EOMONTH(Formula_week!$B$4,0)>Formula_week!EW8,(AND(YEAR(Formula_week!$B$4)=YEAR(Formula_week!EW8),(MONTH(Formula_week!$B$4)=MONTH(Formula_week!EW8))))),Formula_week!EW12,\"\")","v":""},{"$f":"IF(OR(EOMONTH(Formula_week!$B$4,0)>Formula_week!EX8,(AND(YEAR(Formula_week!$B$4)=YEAR(Formula_week!EX8),(MONTH(Formula_week!$B$4)=MONTH(Formula_week!EX8))))),Formula_week!EX12,\"\")","v":""},{"$f":"IF(OR(EOMONTH(Formula_week!$B$4,0)>Formula_week!EY8,(AND(YEAR(Formula_week!$B$4)=YEAR(Formula_week!EY8),(MONTH(Formula_week!$B$4)=MONTH(Formula_week!EY8))))),Formula_week!EY12,\"\")","v":""},{"$f":"IF(OR(EOMONTH(Formula_week!$B$4,0)>Formula_week!EZ8,(AND(YEAR(Formula_week!$B$4)=YEAR(Formula_week!EZ8),(MONTH(Formula_week!$B$4)=MONTH(Formula_week!EZ8))))),Formula_week!EZ12,\"\")","v":""},{"$f":"IF(OR(EOMONTH(Formula_week!$B$4,0)>Formula_week!FA8,(AND(YEAR(Formula_week!$B$4)=YEAR(Formula_week!FA8),(MONTH(Formula_week!$B$4)=MONTH(Formula_week!FA8))))),Formula_week!FA12,\"\")","v":""},{"$f":"IF(OR(EOMONTH(Formula_week!$B$4,0)>Formula_week!FB8,(AND(YEAR(Formula_week!$B$4)=YEAR(Formula_week!FB8),(MONTH(Formula_week!$B$4)=MONTH(Formula_week!FB8))))),Formula_week!FB12,\"\")","v":""},{"$f":"IF(OR(EOMONTH(Formula_week!$B$4,0)>Formula_week!FC8,(AND(YEAR(Formula_week!$B$4)=YEAR(Formula_week!FC8),(MONTH(Formula_week!$B$4)=MONTH(Formula_week!FC8))))),Formula_week!FC12,\"\")","v":""},{"$f":"IF(OR(EOMONTH(Formula_week!$B$4,0)>Formula_week!FD8,(AND(YEAR(Formula_week!$B$4)=YEAR(Formula_week!FD8),(MONTH(Formula_week!$B$4)=MONTH(Formula_week!FD8))))),Formula_week!FD12,\"\")","v":""},{"$f":"IF(OR(EOMONTH(Formula_week!$B$4,0)>Formula_week!FE8,(AND(YEAR(Formula_week!$B$4)=YEAR(Formula_week!FE8),(MONTH(Formula_week!$B$4)=MONTH(Formula_week!FE8))))),Formula_week!FE12,\"\")","v":""},{"$f":"IF(OR(EOMONTH(Formula_week!$B$4,0)>Formula_week!FF8,(AND(YEAR(Formula_week!$B$4)=YEAR(Formula_week!FF8),(MONTH(Formula_week!$B$4)=MONTH(Formula_week!FF8))))),Formula_week!FF12,\"\")","v":""},{"$f":"IF(OR(EOMONTH(Formula_week!$B$4,0)>Formula_week!FG8,(AND(YEAR(Formula_week!$B$4)=YEAR(Formula_week!FG8),(MONTH(Formula_week!$B$4)=MONTH(Formula_week!FG8))))),Formula_week!FG12,\"\")","v":""},{"$f":"IF(OR(EOMONTH(Formula_week!$B$4,0)>Formula_week!FH8,(AND(YEAR(Formula_week!$B$4)=YEAR(Formula_week!FH8),(MONTH(Formula_week!$B$4)=MONTH(Formula_week!FH8))))),Formula_week!FH12,\"\")","v":""},{"$f":"IF(OR(EOMONTH(Formula_week!$B$4,0)>Formula_week!FI8,(AND(YEAR(Formula_week!$B$4)=YEAR(Formula_week!FI8),(MONTH(Formula_week!$B$4)=MONTH(Formula_week!FI8))))),Formula_week!FI12,\"\")","v":""},{"$f":"IF(OR(EOMONTH(Formula_week!$B$4,0)>Formula_week!FJ8,(AND(YEAR(Formula_week!$B$4)=YEAR(Formula_week!FJ8),(MONTH(Formula_week!$B$4)=MONTH(Formula_week!FJ8))))),Formula_week!FJ12,\"\")","v":""},{"$f":"IF(OR(EOMONTH(Formula_week!$B$4,0)>Formula_week!FK8,(AND(YEAR(Formula_week!$B$4)=YEAR(Formula_week!FK8),(MONTH(Formula_week!$B$4)=MONTH(Formula_week!FK8))))),Formula_week!FK12,\"\")","v":""},{"$f":"IF(OR(EOMONTH(Formula_week!$B$4,0)>Formula_week!FL8,(AND(YEAR(Formula_week!$B$4)=YEAR(Formula_week!FL8),(MONTH(Formula_week!$B$4)=MONTH(Formula_week!FL8))))),Formula_week!FL12,\"\")","v":""},{"$f":"IF(OR(EOMONTH(Formula_week!$B$4,0)>Formula_week!FM8,(AND(YEAR(Formula_week!$B$4)=YEAR(Formula_week!FM8),(MONTH(Formula_week!$B$4)=MONTH(Formula_week!FM8))))),Formula_week!FM12,\"\")","v":""},{"$f":"IF(OR(EOMONTH(Formula_week!$B$4,0)>Formula_week!FN8,(AND(YEAR(Formula_week!$B$4)=YEAR(Formula_week!FN8),(MONTH(Formula_week!$B$4)=MONTH(Formula_week!FN8))))),Formula_week!FN12,\"\")","v":""},{"$f":"IF(OR(EOMONTH(Formula_week!$B$4,0)>Formula_week!FO8,(AND(YEAR(Formula_week!$B$4)=YEAR(Formula_week!FO8),(MONTH(Formula_week!$B$4)=MONTH(Formula_week!FO8))))),Formula_week!FO12,\"\")","v":""},{"$f":"IF(OR(EOMONTH(Formula_week!$B$4,0)>Formula_week!FP8,(AND(YEAR(Formula_week!$B$4)=YEAR(Formula_week!FP8),(MONTH(Formula_week!$B$4)=MONTH(Formula_week!FP8))))),Formula_week!FP12,\"\")","v":""},{"$f":"IF(OR(EOMONTH(Formula_week!$B$4,0)>Formula_week!FQ8,(AND(YEAR(Formula_week!$B$4)=YEAR(Formula_week!FQ8),(MONTH(Formula_week!$B$4)=MONTH(Formula_week!FQ8))))),Formula_week!FQ12,\"\")","v":""},{"$f":"IF(OR(EOMONTH(Formula_week!$B$4,0)>Formula_week!FR8,(AND(YEAR(Formula_week!$B$4)=YEAR(Formula_week!FR8),(MONTH(Formula_week!$B$4)=MONTH(Formula_week!FR8))))),Formula_week!FR12,\"\")","v":""},{"$f":"IF(OR(EOMONTH(Formula_week!$B$4,0)>Formula_week!FS8,(AND(YEAR(Formula_week!$B$4)=YEAR(Formula_week!FS8),(MONTH(Formula_week!$B$4)=MONTH(Formula_week!FS8))))),Formula_week!FS12,\"\")","v":""},{"$f":"IF(OR(EOMONTH(Formula_week!$B$4,0)>Formula_week!FT8,(AND(YEAR(Formula_week!$B$4)=YEAR(Formula_week!FT8),(MONTH(Formula_week!$B$4)=MONTH(Formula_week!FT8))))),Formula_week!FT12,\"\")","v":""},{"$f":"IF(OR(EOMONTH(Formula_week!$B$4,0)>Formula_week!FU8,(AND(YEAR(Formula_week!$B$4)=YEAR(Formula_week!FU8),(MONTH(Formula_week!$B$4)=MONTH(Formula_week!FU8))))),Formula_week!FU12,\"\")","v":""},{"$f":"IF(OR(EOMONTH(Formula_week!$B$4,0)>Formula_week!FV8,(AND(YEAR(Formula_week!$B$4)=YEAR(Formula_week!FV8),(MONTH(Formula_week!$B$4)=MONTH(Formula_week!FV8))))),Formula_week!FV12,\"\")","v":""},{"$f":"IF(OR(EOMONTH(Formula_week!$B$4,0)>Formula_week!FW8,(AND(YEAR(Formula_week!$B$4)=YEAR(Formula_week!FW8),(MONTH(Formula_week!$B$4)=MONTH(Formula_week!FW8))))),Formula_week!FW12,\"\")","v":""},{"$f":"IF(OR(EOMONTH(Formula_week!$B$4,0)>Formula_week!FX8,(AND(YEAR(Formula_week!$B$4)=YEAR(Formula_week!FX8),(MONTH(Formula_week!$B$4)=MONTH(Formula_week!FX8))))),Formula_week!FX12,\"\")","v":""},{"$f":"IF(OR(EOMONTH(Formula_week!$B$4,0)>Formula_week!FY8,(AND(YEAR(Formula_week!$B$4)=YEAR(Formula_week!FY8),(MONTH(Formula_week!$B$4)=MONTH(Formula_week!FY8))))),Formula_week!FY12,\"\")","v":""},{"$f":"IF(OR(EOMONTH(Formula_week!$B$4,0)>Formula_week!FZ8,(AND(YEAR(Formula_week!$B$4)=YEAR(Formula_week!FZ8),(MONTH(Formula_week!$B$4)=MONTH(Formula_week!FZ8))))),Formula_week!FZ12,\"\")","v":""},{"$f":"IF(OR(EOMONTH(Formula_week!$B$4,0)>Formula_week!GA8,(AND(YEAR(Formula_week!$B$4)=YEAR(Formula_week!GA8),(MONTH(Formula_week!$B$4)=MONTH(Formula_week!GA8))))),Formula_week!GA12,\"\")","v":""},{"$f":"IF(OR(EOMONTH(Formula_week!$B$4,0)>Formula_week!GB8,(AND(YEAR(Formula_week!$B$4)=YEAR(Formula_week!GB8),(MONTH(Formula_week!$B$4)=MONTH(Formula_week!GB8))))),Formula_week!GB12,\"\")","v":""},{"$f":"IF(OR(EOMONTH(Formula_week!$B$4,0)>Formula_week!GC8,(AND(YEAR(Formula_week!$B$4)=YEAR(Formula_week!GC8),(MONTH(Formula_week!$B$4)=MONTH(Formula_week!GC8))))),Formula_week!GC12,\"\")","v":""},{"$f":"IF(OR(EOMONTH(Formula_week!$B$4,0)>Formula_week!GD8,(AND(YEAR(Formula_week!$B$4)=YEAR(Formula_week!GD8),(MONTH(Formula_week!$B$4)=MONTH(Formula_week!GD8))))),Formula_week!GD12,\"\")","v":""},{"$f":"IF(OR(EOMONTH(Formula_week!$B$4,0)>Formula_week!GE8,(AND(YEAR(Formula_week!$B$4)=YEAR(Formula_week!GE8),(MONTH(Formula_week!$B$4)=MONTH(Formula_week!GE8))))),Formula_week!GE12,\"\")","v":""},{"$f":"IF(OR(EOMONTH(Formula_week!$B$4,0)>Formula_week!GF8,(AND(YEAR(Formula_week!$B$4)=YEAR(Formula_week!GF8),(MONTH(Formula_week!$B$4)=MONTH(Formula_week!GF8))))),Formula_week!GF12,\"\")","v":""},{"$f":"IF(OR(EOMONTH(Formula_week!$B$4,0)>Formula_week!GG8,(AND(YEAR(Formula_week!$B$4)=YEAR(Formula_week!GG8),(MONTH(Formula_week!$B$4)=MONTH(Formula_week!GG8))))),Formula_week!GG12,\"\")","v":""},{"$f":"IF(OR(EOMONTH(Formula_week!$B$4,0)>Formula_week!GH8,(AND(YEAR(Formula_week!$B$4)=YEAR(Formula_week!GH8),(MONTH(Formula_week!$B$4)=MONTH(Formula_week!GH8))))),Formula_week!GH12,\"\")","v":""},{"$f":"IF(OR(EOMONTH(Formula_week!$B$4,0)>Formula_week!GI8,(AND(YEAR(Formula_week!$B$4)=YEAR(Formula_week!GI8),(MONTH(Formula_week!$B$4)=MONTH(Formula_week!GI8))))),Formula_week!GI12,\"\")","v":""},{"$f":"IF(OR(EOMONTH(Formula_week!$B$4,0)>Formula_week!GJ8,(AND(YEAR(Formula_week!$B$4)=YEAR(Formula_week!GJ8),(MONTH(Formula_week!$B$4)=MONTH(Formula_week!GJ8))))),Formula_week!GJ12,\"\")","v":""},{"$f":"IF(OR(EOMONTH(Formula_week!$B$4,0)>Formula_week!GK8,(AND(YEAR(Formula_week!$B$4)=YEAR(Formula_week!GK8),(MONTH(Formula_week!$B$4)=MONTH(Formula_week!GK8))))),Formula_week!GK12,\"\")","v":""},{"$f":"IF(OR(EOMONTH(Formula_week!$B$4,0)>Formula_week!GL8,(AND(YEAR(Formula_week!$B$4)=YEAR(Formula_week!GL8),(MONTH(Formula_week!$B$4)=MONTH(Formula_week!GL8))))),Formula_week!GL12,\"\")","v":""},{"$f":"IF(OR(EOMONTH(Formula_week!$B$4,0)>Formula_week!GM8,(AND(YEAR(Formula_week!$B$4)=YEAR(Formula_week!GM8),(MONTH(Formula_week!$B$4)=MONTH(Formula_week!GM8))))),Formula_week!GM12,\"\")","v":""},{"$f":"IF(OR(EOMONTH(Formula_week!$B$4,0)>Formula_week!GN8,(AND(YEAR(Formula_week!$B$4)=YEAR(Formula_week!GN8),(MONTH(Formula_week!$B$4)=MONTH(Formula_week!GN8))))),Formula_week!GN12,\"\")","v":""},{"$f":"IF(OR(EOMONTH(Formula_week!$B$4,0)>Formula_week!GO8,(AND(YEAR(Formula_week!$B$4)=YEAR(Formula_week!GO8),(MONTH(Formula_week!$B$4)=MONTH(Formula_week!GO8))))),Formula_week!GO12,\"\")","v":""},{"$f":"IF(OR(EOMONTH(Formula_week!$B$4,0)>Formula_week!GP8,(AND(YEAR(Formula_week!$B$4)=YEAR(Formula_week!GP8),(MONTH(Formula_week!$B$4)=MONTH(Formula_week!GP8))))),Formula_week!GP12,\"\")","v":""},{"$f":"IF(OR(EOMONTH(Formula_week!$B$4,0)>Formula_week!GQ8,(AND(YEAR(Formula_week!$B$4)=YEAR(Formula_week!GQ8),(MONTH(Formula_week!$B$4)=MONTH(Formula_week!GQ8))))),Formula_week!GQ12,\"\")","v":""},{"$f":"IF(OR(EOMONTH(Formula_week!$B$4,0)>Formula_week!GR8,(AND(YEAR(Formula_week!$B$4)=YEAR(Formula_week!GR8),(MONTH(Formula_week!$B$4)=MONTH(Formula_week!GR8))))),Formula_week!GR12,\"\")","v":""},{"$f":"IF(OR(EOMONTH(Formula_week!$B$4,0)>Formula_week!GS8,(AND(YEAR(Formula_week!$B$4)=YEAR(Formula_week!GS8),(MONTH(Formula_week!$B$4)=MONTH(Formula_week!GS8))))),Formula_week!GS12,\"\")","v":""},{"$f":"IF(OR(EOMONTH(Formula_week!$B$4,0)>Formula_week!GT8,(AND(YEAR(Formula_week!$B$4)=YEAR(Formula_week!GT8),(MONTH(Formula_week!$B$4)=MONTH(Formula_week!GT8))))),Formula_week!GT12,\"\")","v":""},{"$f":"IF(OR(EOMONTH(Formula_week!$B$4,0)>Formula_week!GU8,(AND(YEAR(Formula_week!$B$4)=YEAR(Formula_week!GU8),(MONTH(Formula_week!$B$4)=MONTH(Formula_week!GU8))))),Formula_week!GU12,\"\")","v":""},{"$f":"IF(OR(EOMONTH(Formula_week!$B$4,0)>Formula_week!GV8,(AND(YEAR(Formula_week!$B$4)=YEAR(Formula_week!GV8),(MONTH(Formula_week!$B$4)=MONTH(Formula_week!GV8))))),Formula_week!GV12,\"\")","v":""},{"$f":"IF(OR(EOMONTH(Formula_week!$B$4,0)>Formula_week!GW8,(AND(YEAR(Formula_week!$B$4)=YEAR(Formula_week!GW8),(MONTH(Formula_week!$B$4)=MONTH(Formula_week!GW8))))),Formula_week!GW12,\"\")","v":""},{"$f":"IF(OR(EOMONTH(Formula_week!$B$4,0)>Formula_week!GX8,(AND(YEAR(Formula_week!$B$4)=YEAR(Formula_week!GX8),(MONTH(Formula_week!$B$4)=MONTH(Formula_week!GX8))))),Formula_week!GX12,\"\")","v":""},{"$f":"IF(OR(EOMONTH(Formula_week!$B$4,0)>Formula_week!GY8,(AND(YEAR(Formula_week!$B$4)=YEAR(Formula_week!GY8),(MONTH(Formula_week!$B$4)=MONTH(Formula_week!GY8))))),Formula_week!GY12,\"\")","v":""},{"$f":"IF(OR(EOMONTH(Formula_week!$B$4,0)>Formula_week!GZ8,(AND(YEAR(Formula_week!$B$4)=YEAR(Formula_week!GZ8),(MONTH(Formula_week!$B$4)=MONTH(Formula_week!GZ8))))),Formula_week!GZ12,\"\")","v":""},{"$f":"IF(OR(EOMONTH(Formula_week!$B$4,0)>Formula_week!HA8,(AND(YEAR(Formula_week!$B$4)=YEAR(Formula_week!HA8),(MONTH(Formula_week!$B$4)=MONTH(Formula_week!HA8))))),Formula_week!HA12,\"\")","v":""},{"$f":"IF(OR(EOMONTH(Formula_week!$B$4,0)>Formula_week!HB8,(AND(YEAR(Formula_week!$B$4)=YEAR(Formula_week!HB8),(MONTH(Formula_week!$B$4)=MONTH(Formula_week!HB8))))),Formula_week!HB12,\"\")","v":""},{"$f":"IF(OR(EOMONTH(Formula_week!$B$4,0)>Formula_week!HC8,(AND(YEAR(Formula_week!$B$4)=YEAR(Formula_week!HC8),(MONTH(Formula_week!$B$4)=MONTH(Formula_week!HC8))))),Formula_week!HC12,\"\")","v":""},{"$f":"IF(OR(EOMONTH(Formula_week!$B$4,0)>Formula_week!HD8,(AND(YEAR(Formula_week!$B$4)=YEAR(Formula_week!HD8),(MONTH(Formula_week!$B$4)=MONTH(Formula_week!HD8))))),Formula_week!HD12,\"\")","v":""},{"$f":"IF(OR(EOMONTH(Formula_week!$B$4,0)>Formula_week!HE8,(AND(YEAR(Formula_week!$B$4)=YEAR(Formula_week!HE8),(MONTH(Formula_week!$B$4)=MONTH(Formula_week!HE8))))),Formula_week!HE12,\"\")","v":""},{"$f":"IF(OR(EOMONTH(Formula_week!$B$4,0)>Formula_week!HF8,(AND(YEAR(Formula_week!$B$4)=YEAR(Formula_week!HF8),(MONTH(Formula_week!$B$4)=MONTH(Formula_week!HF8))))),Formula_week!HF12,\"\")","v":""},{"$f":"IF(OR(EOMONTH(Formula_week!$B$4,0)>Formula_week!HG8,(AND(YEAR(Formula_week!$B$4)=YEAR(Formula_week!HG8),(MONTH(Formula_week!$B$4)=MONTH(Formula_week!HG8))))),Formula_week!HG12,\"\")","v":""},{"$f":"IF(OR(EOMONTH(Formula_week!$B$4,0)>Formula_week!HH8,(AND(YEAR(Formula_week!$B$4)=YEAR(Formula_week!HH8),(MONTH(Formula_week!$B$4)=MONTH(Formula_week!HH8))))),Formula_week!HH12,\"\")","v":""},{"$f":"IF(OR(EOMONTH(Formula_week!$B$4,0)>Formula_week!HI8,(AND(YEAR(Formula_week!$B$4)=YEAR(Formula_week!HI8),(MONTH(Formula_week!$B$4)=MONTH(Formula_week!HI8))))),Formula_week!HI12,\"\")","v":""},{"$f":"IF(OR(EOMONTH(Formula_week!$B$4,0)>Formula_week!HJ8,(AND(YEAR(Formula_week!$B$4)=YEAR(Formula_week!HJ8),(MONTH(Formula_week!$B$4)=MONTH(Formula_week!HJ8))))),Formula_week!HJ12,\"\")","v":""},{"$f":"IF(OR(EOMONTH(Formula_week!$B$4,0)>Formula_week!HK8,(AND(YEAR(Formula_week!$B$4)=YEAR(Formula_week!HK8),(MONTH(Formula_week!$B$4)=MONTH(Formula_week!HK8))))),Formula_week!HK12,\"\")","v":""},{"$f":"IF(OR(EOMONTH(Formula_week!$B$4,0)>Formula_week!HL8,(AND(YEAR(Formula_week!$B$4)=YEAR(Formula_week!HL8),(MONTH(Formula_week!$B$4)=MONTH(Formula_week!HL8))))),Formula_week!HL12,\"\")","v":""},{"$f":"IF(OR(EOMONTH(Formula_week!$B$4,0)>Formula_week!HM8,(AND(YEAR(Formula_week!$B$4)=YEAR(Formula_week!HM8),(MONTH(Formula_week!$B$4)=MONTH(Formula_week!HM8))))),Formula_week!HM12,\"\")","v":""},{"$f":"IF(OR(EOMONTH(Formula_week!$B$4,0)>Formula_week!HN8,(AND(YEAR(Formula_week!$B$4)=YEAR(Formula_week!HN8),(MONTH(Formula_week!$B$4)=MONTH(Formula_week!HN8))))),Formula_week!HN12,\"\")","v":""},{"$f":"IF(OR(EOMONTH(Formula_week!$B$4,0)>Formula_week!HO8,(AND(YEAR(Formula_week!$B$4)=YEAR(Formula_week!HO8),(MONTH(Formula_week!$B$4)=MONTH(Formula_week!HO8))))),Formula_week!HO12,\"\")","v":""},{"$f":"IF(OR(EOMONTH(Formula_week!$B$4,0)>Formula_week!HP8,(AND(YEAR(Formula_week!$B$4)=YEAR(Formula_week!HP8),(MONTH(Formula_week!$B$4)=MONTH(Formula_week!HP8))))),Formula_week!HP12,\"\")","v":""},{"$f":"IF(OR(EOMONTH(Formula_week!$B$4,0)>Formula_week!HQ8,(AND(YEAR(Formula_week!$B$4)=YEAR(Formula_week!HQ8),(MONTH(Formula_week!$B$4)=MONTH(Formula_week!HQ8))))),Formula_week!HQ12,\"\")","v":""},{"$f":"IF(OR(EOMONTH(Formula_week!$B$4,0)>Formula_week!HR8,(AND(YEAR(Formula_week!$B$4)=YEAR(Formula_week!HR8),(MONTH(Formula_week!$B$4)=MONTH(Formula_week!HR8))))),Formula_week!HR12,\"\")","v":""},{"$f":"IF(OR(EOMONTH(Formula_week!$B$4,0)>Formula_week!HS8,(AND(YEAR(Formula_week!$B$4)=YEAR(Formula_week!HS8),(MONTH(Formula_week!$B$4)=MONTH(Formula_week!HS8))))),Formula_week!HS12,\"\")","v":""},{"$f":"IF(OR(EOMONTH(Formula_week!$B$4,0)>Formula_week!HT8,(AND(YEAR(Formula_week!$B$4)=YEAR(Formula_week!HT8),(MONTH(Formula_week!$B$4)=MONTH(Formula_week!HT8))))),Formula_week!HT12,\"\")","v":""},{"$f":"IF(OR(EOMONTH(Formula_week!$B$4,0)>Formula_week!HU8,(AND(YEAR(Formula_week!$B$4)=YEAR(Formula_week!HU8),(MONTH(Formula_week!$B$4)=MONTH(Formula_week!HU8))))),Formula_week!HU12,\"\")","v":""},{"$f":"IF(OR(EOMONTH(Formula_week!$B$4,0)>Formula_week!HV8,(AND(YEAR(Formula_week!$B$4)=YEAR(Formula_week!HV8),(MONTH(Formula_week!$B$4)=MONTH(Formula_week!HV8))))),Formula_week!HV12,\"\")","v":""},{"$f":"IF(OR(EOMONTH(Formula_week!$B$4,0)>Formula_week!HW8,(AND(YEAR(Formula_week!$B$4)=YEAR(Formula_week!HW8),(MONTH(Formula_week!$B$4)=MONTH(Formula_week!HW8))))),Formula_week!HW12,\"\")","v":""},{"$f":"IF(OR(EOMONTH(Formula_week!$B$4,0)>Formula_week!HX8,(AND(YEAR(Formula_week!$B$4)=YEAR(Formula_week!HX8),(MONTH(Formula_week!$B$4)=MONTH(Formula_week!HX8))))),Formula_week!HX12,\"\")","v":""},{"$f":"IF(OR(EOMONTH(Formula_week!$B$4,0)>Formula_week!HY8,(AND(YEAR(Formula_week!$B$4)=YEAR(Formula_week!HY8),(MONTH(Formula_week!$B$4)=MONTH(Formula_week!HY8))))),Formula_week!HY12,\"\")","v":""},{"$f":"IF(OR(EOMONTH(Formula_week!$B$4,0)>Formula_week!HZ8,(AND(YEAR(Formula_week!$B$4)=YEAR(Formula_week!HZ8),(MONTH(Formula_week!$B$4)=MONTH(Formula_week!HZ8))))),Formula_week!HZ12,\"\")","v":""},{"$f":"IF(OR(EOMONTH(Formula_week!$B$4,0)>Formula_week!IA8,(AND(YEAR(Formula_week!$B$4)=YEAR(Formula_week!IA8),(MONTH(Formula_week!$B$4)=MONTH(Formula_week!IA8))))),Formula_week!IA12,\"\")","v":""},{"$f":"IF(OR(EOMONTH(Formula_week!$B$4,0)>Formula_week!IB8,(AND(YEAR(Formula_week!$B$4)=YEAR(Formula_week!IB8),(MONTH(Formula_week!$B$4)=MONTH(Formula_week!IB8))))),Formula_week!IB12,\"\")","v":""},{"$f":"IF(OR(EOMONTH(Formula_week!$B$4,0)>Formula_week!IC8,(AND(YEAR(Formula_week!$B$4)=YEAR(Formula_week!IC8),(MONTH(Formula_week!$B$4)=MONTH(Formula_week!IC8))))),Formula_week!IC12,\"\")","v":""},{"$f":"IF(OR(EOMONTH(Formula_week!$B$4,0)>Formula_week!ID8,(AND(YEAR(Formula_week!$B$4)=YEAR(Formula_week!ID8),(MONTH(Formula_week!$B$4)=MONTH(Formula_week!ID8))))),Formula_week!ID12,\"\")","v":""},{"$f":"IF(OR(EOMONTH(Formula_week!$B$4,0)>Formula_week!IE8,(AND(YEAR(Formula_week!$B$4)=YEAR(Formula_week!IE8),(MONTH(Formula_week!$B$4)=MONTH(Formula_week!IE8))))),Formula_week!IE12,\"\")","v":""},{"$f":"IF(OR(EOMONTH(Formula_week!$B$4,0)>Formula_week!IF8,(AND(YEAR(Formula_week!$B$4)=YEAR(Formula_week!IF8),(MONTH(Formula_week!$B$4)=MONTH(Formula_week!IF8))))),Formula_week!IF12,\"\")","v":""},{"$f":"IF(OR(EOMONTH(Formula_week!$B$4,0)>Formula_week!IG8,(AND(YEAR(Formula_week!$B$4)=YEAR(Formula_week!IG8),(MONTH(Formula_week!$B$4)=MONTH(Formula_week!IG8))))),Formula_week!IG12,\"\")","v":""},{"$f":"IF(OR(EOMONTH(Formula_week!$B$4,0)>Formula_week!IH8,(AND(YEAR(Formula_week!$B$4)=YEAR(Formula_week!IH8),(MONTH(Formula_week!$B$4)=MONTH(Formula_week!IH8))))),Formula_week!IH12,\"\")","v":""},{"$f":"IF(OR(EOMONTH(Formula_week!$B$4,0)>Formula_week!II8,(AND(YEAR(Formula_week!$B$4)=YEAR(Formula_week!II8),(MONTH(Formula_week!$B$4)=MONTH(Formula_week!II8))))),Formula_week!II12,\"\")","v":""},{"$f":"IF(OR(EOMONTH(Formula_week!$B$4,0)>Formula_week!IJ8,(AND(YEAR(Formula_week!$B$4)=YEAR(Formula_week!IJ8),(MONTH(Formula_week!$B$4)=MONTH(Formula_week!IJ8))))),Formula_week!IJ12,\"\")","v":""},{"$f":"IF(OR(EOMONTH(Formula_week!$B$4,0)>Formula_week!IK8,(AND(YEAR(Formula_week!$B$4)=YEAR(Formula_week!IK8),(MONTH(Formula_week!$B$4)=MONTH(Formula_week!IK8))))),Formula_week!IK12,\"\")","v":""},{"$f":"IF(OR(EOMONTH(Formula_week!$B$4,0)>Formula_week!IL8,(AND(YEAR(Formula_week!$B$4)=YEAR(Formula_week!IL8),(MONTH(Formula_week!$B$4)=MONTH(Formula_week!IL8))))),Formula_week!IL12,\"\")","v":""},{"$f":"IF(OR(EOMONTH(Formula_week!$B$4,0)>Formula_week!IM8,(AND(YEAR(Formula_week!$B$4)=YEAR(Formula_week!IM8),(MONTH(Formula_week!$B$4)=MONTH(Formula_week!IM8))))),Formula_week!IM12,\"\")","v":""},{"$f":"IF(OR(EOMONTH(Formula_week!$B$4,0)>Formula_week!IN8,(AND(YEAR(Formula_week!$B$4)=YEAR(Formula_week!IN8),(MONTH(Formula_week!$B$4)=MONTH(Formula_week!IN8))))),Formula_week!IN12,\"\")","v":""},{"$f":"IF(OR(EOMONTH(Formula_week!$B$4,0)>Formula_week!IO8,(AND(YEAR(Formula_week!$B$4)=YEAR(Formula_week!IO8),(MONTH(Formula_week!$B$4)=MONTH(Formula_week!IO8))))),Formula_week!IO12,\"\")","v":""},{"$f":"IF(OR(EOMONTH(Formula_week!$B$4,0)>Formula_week!IP8,(AND(YEAR(Formula_week!$B$4)=YEAR(Formula_week!IP8),(MONTH(Formula_week!$B$4)=MONTH(Formula_week!IP8))))),Formula_week!IP12,\"\")","v":""},{"$f":"IF(OR(EOMONTH(Formula_week!$B$4,0)>Formula_week!IQ8,(AND(YEAR(Formula_week!$B$4)=YEAR(Formula_week!IQ8),(MONTH(Formula_week!$B$4)=MONTH(Formula_week!IQ8))))),Formula_week!IQ12,\"\")","v":""},{"$f":"IF(OR(EOMONTH(Formula_week!$B$4,0)>Formula_week!IR8,(AND(YEAR(Formula_week!$B$4)=YEAR(Formula_week!IR8),(MONTH(Formula_week!$B$4)=MONTH(Formula_week!IR8))))),Formula_week!IR12,\"\")","v":""},{"$f":"IF(OR(EOMONTH(Formula_week!$B$4,0)>Formula_week!IS8,(AND(YEAR(Formula_week!$B$4)=YEAR(Formula_week!IS8),(MONTH(Formula_week!$B$4)=MONTH(Formula_week!IS8))))),Formula_week!IS12,\"\")","v":""},{"$f":"IF(OR(EOMONTH(Formula_week!$B$4,0)>Formula_week!IT8,(AND(YEAR(Formula_week!$B$4)=YEAR(Formula_week!IT8),(MONTH(Formula_week!$B$4)=MONTH(Formula_week!IT8))))),Formula_week!IT12,\"\")","v":""},{"$f":"IF(OR(EOMONTH(Formula_week!$B$4,0)>Formula_week!IU8,(AND(YEAR(Formula_week!$B$4)=YEAR(Formula_week!IU8),(MONTH(Formula_week!$B$4)=MONTH(Formula_week!IU8))))),Formula_week!IU12,\"\")","v":""},{"$f":"IF(OR(EOMONTH(Formula_week!$B$4,0)>Formula_week!IV8,(AND(YEAR(Formula_week!$B$4)=YEAR(Formula_week!IV8),(MONTH(Formula_week!$B$4)=MONTH(Formula_week!IV8))))),Formula_week!IV12,\"\")","v":""},{"$f":"IF(OR(EOMONTH(Formula_week!$B$4,0)>Formula_week!IW8,(AND(YEAR(Formula_week!$B$4)=YEAR(Formula_week!IW8),(MONTH(Formula_week!$B$4)=MONTH(Formula_week!IW8))))),Formula_week!IW12,\"\")","v":""},{"$f":"IF(OR(EOMONTH(Formula_week!$B$4,0)>Formula_week!IX8,(AND(YEAR(Formula_week!$B$4)=YEAR(Formula_week!IX8),(MONTH(Formula_week!$B$4)=MONTH(Formula_week!IX8))))),Formula_week!IX12,\"\")","v":""},{"$f":"IF(OR(EOMONTH(Formula_week!$B$4,0)>Formula_week!IY8,(AND(YEAR(Formula_week!$B$4)=YEAR(Formula_week!IY8),(MONTH(Formula_week!$B$4)=MONTH(Formula_week!IY8))))),Formula_week!IY12,\"\")","v":""},{"$f":"IF(OR(EOMONTH(Formula_week!$B$4,0)>Formula_week!IZ8,(AND(YEAR(Formula_week!$B$4)=YEAR(Formula_week!IZ8),(MONTH(Formula_week!$B$4)=MONTH(Formula_week!IZ8))))),Formula_week!IZ12,\"\")","v":""},{"$f":"IF(OR(EOMONTH(Formula_week!$B$4,0)>Formula_week!JA8,(AND(YEAR(Formula_week!$B$4)=YEAR(Formula_week!JA8),(MONTH(Formula_week!$B$4)=MONTH(Formula_week!JA8))))),Formula_week!JA12,\"\")","v":""},{"$f":"IF(OR(EOMONTH(Formula_week!$B$4,0)>Formula_week!JB8,(AND(YEAR(Formula_week!$B$4)=YEAR(Formula_week!JB8),(MONTH(Formula_week!$B$4)=MONTH(Formula_week!JB8))))),Formula_week!JB12,\"\")","v":""},{"$f":"IF(OR(EOMONTH(Formula_week!$B$4,0)>Formula_week!JC8,(AND(YEAR(Formula_week!$B$4)=YEAR(Formula_week!JC8),(MONTH(Formula_week!$B$4)=MONTH(Formula_week!JC8))))),Formula_week!JC12,\"\")","v":""},{"$f":"IF(OR(EOMONTH(Formula_week!$B$4,0)>Formula_week!JD8,(AND(YEAR(Formula_week!$B$4)=YEAR(Formula_week!JD8),(MONTH(Formula_week!$B$4)=MONTH(Formula_week!JD8))))),Formula_week!JD12,\"\")","v":""},{"$f":"IF(OR(EOMONTH(Formula_week!$B$4,0)>Formula_week!JE8,(AND(YEAR(Formula_week!$B$4)=YEAR(Formula_week!JE8),(MONTH(Formula_week!$B$4)=MONTH(Formula_week!JE8))))),Formula_week!JE12,\"\")","v":""},{"$f":"IF(OR(EOMONTH(Formula_week!$B$4,0)>Formula_week!JF8,(AND(YEAR(Formula_week!$B$4)=YEAR(Formula_week!JF8),(MONTH(Formula_week!$B$4)=MONTH(Formula_week!JF8))))),Formula_week!JF12,\"\")","v":""},{"$f":"IF(OR(EOMONTH(Formula_week!$B$4,0)>Formula_week!JG8,(AND(YEAR(Formula_week!$B$4)=YEAR(Formula_week!JG8),(MONTH(Formula_week!$B$4)=MONTH(Formula_week!JG8))))),Formula_week!JG12,\"\")","v":""},{"$f":"IF(OR(EOMONTH(Formula_week!$B$4,0)>Formula_week!JH8,(AND(YEAR(Formula_week!$B$4)=YEAR(Formula_week!JH8),(MONTH(Formula_week!$B$4)=MONTH(Formula_week!JH8))))),Formula_week!JH12,\"\")","v":""},{"$f":"IF(OR(EOMONTH(Formula_week!$B$4,0)>Formula_week!JI8,(AND(YEAR(Formula_week!$B$4)=YEAR(Formula_week!JI8),(MONTH(Formula_week!$B$4)=MONTH(Formula_week!JI8))))),Formula_week!JI12,\"\")","v":""},{"$f":"IF(OR(EOMONTH(Formula_week!$B$4,0)>Formula_week!JJ8,(AND(YEAR(Formula_week!$B$4)=YEAR(Formula_week!JJ8),(MONTH(Formula_week!$B$4)=MONTH(Formula_week!JJ8))))),Formula_week!JJ12,\"\")","v":""},{"$f":"IF(OR(EOMONTH(Formula_week!$B$4,0)>Formula_week!JK8,(AND(YEAR(Formula_week!$B$4)=YEAR(Formula_week!JK8),(MONTH(Formula_week!$B$4)=MONTH(Formula_week!JK8))))),Formula_week!JK12,\"\")","v":""},{"$f":"IF(OR(EOMONTH(Formula_week!$B$4,0)>Formula_week!JL8,(AND(YEAR(Formula_week!$B$4)=YEAR(Formula_week!JL8),(MONTH(Formula_week!$B$4)=MONTH(Formula_week!JL8))))),Formula_week!JL12,\"\")","v":""},{"$f":"IF(OR(EOMONTH(Formula_week!$B$4,0)>Formula_week!JM8,(AND(YEAR(Formula_week!$B$4)=YEAR(Formula_week!JM8),(MONTH(Formula_week!$B$4)=MONTH(Formula_week!JM8))))),Formula_week!JM12,\"\")","v":""},{"$f":"IF(OR(EOMONTH(Formula_week!$B$4,0)>Formula_week!JN8,(AND(YEAR(Formula_week!$B$4)=YEAR(Formula_week!JN8),(MONTH(Formula_week!$B$4)=MONTH(Formula_week!JN8))))),Formula_week!JN12,\"\")","v":""},{"$f":"IF(OR(EOMONTH(Formula_week!$B$4,0)>Formula_week!JO8,(AND(YEAR(Formula_week!$B$4)=YEAR(Formula_week!JO8),(MONTH(Formula_week!$B$4)=MONTH(Formula_week!JO8))))),Formula_week!JO12,\"\")","v":""},{"$f":"IF(OR(EOMONTH(Formula_week!$B$4,0)>Formula_week!JP8,(AND(YEAR(Formula_week!$B$4)=YEAR(Formula_week!JP8),(MONTH(Formula_week!$B$4)=MONTH(Formula_week!JP8))))),Formula_week!JP12,\"\")","v":""},{"$f":"IF(OR(EOMONTH(Formula_week!$B$4,0)>Formula_week!JQ8,(AND(YEAR(Formula_week!$B$4)=YEAR(Formula_week!JQ8),(MONTH(Formula_week!$B$4)=MONTH(Formula_week!JQ8))))),Formula_week!JQ12,\"\")","v":""},{"$f":"IF(OR(EOMONTH(Formula_week!$B$4,0)>Formula_week!JR8,(AND(YEAR(Formula_week!$B$4)=YEAR(Formula_week!JR8),(MONTH(Formula_week!$B$4)=MONTH(Formula_week!JR8))))),Formula_week!JR12,\"\")","v":""},{"$f":"IF(OR(EOMONTH(Formula_week!$B$4,0)>Formula_week!JS8,(AND(YEAR(Formula_week!$B$4)=YEAR(Formula_week!JS8),(MONTH(Formula_week!$B$4)=MONTH(Formula_week!JS8))))),Formula_week!JS12,\"\")","v":""},{"$f":"IF(OR(EOMONTH(Formula_week!$B$4,0)>Formula_week!JT8,(AND(YEAR(Formula_week!$B$4)=YEAR(Formula_week!JT8),(MONTH(Formula_week!$B$4)=MONTH(Formula_week!JT8))))),Formula_week!JT12,\"\")","v":""},{"$f":"IF(OR(EOMONTH(Formula_week!$B$4,0)>Formula_week!JU8,(AND(YEAR(Formula_week!$B$4)=YEAR(Formula_week!JU8),(MONTH(Formula_week!$B$4)=MONTH(Formula_week!JU8))))),Formula_week!JU12,\"\")","v":""},{"$f":"IF(OR(EOMONTH(Formula_week!$B$4,0)>Formula_week!JV8,(AND(YEAR(Formula_week!$B$4)=YEAR(Formula_week!JV8),(MONTH(Formula_week!$B$4)=MONTH(Formula_week!JV8))))),Formula_week!JV12,\"\")","v":""},{"$f":"IF(OR(EOMONTH(Formula_week!$B$4,0)>Formula_week!JW8,(AND(YEAR(Formula_week!$B$4)=YEAR(Formula_week!JW8),(MONTH(Formula_week!$B$4)=MONTH(Formula_week!JW8))))),Formula_week!JW12,\"\")","v":""},{"$f":"IF(OR(EOMONTH(Formula_week!$B$4,0)>Formula_week!JX8,(AND(YEAR(Formula_week!$B$4)=YEAR(Formula_week!JX8),(MONTH(Formula_week!$B$4)=MONTH(Formula_week!JX8))))),Formula_week!JX12,\"\")","v":""},{"$f":"IF(OR(EOMONTH(Formula_week!$B$4,0)>Formula_week!JY8,(AND(YEAR(Formula_week!$B$4)=YEAR(Formula_week!JY8),(MONTH(Formula_week!$B$4)=MONTH(Formula_week!JY8))))),Formula_week!JY12,\"\")","v":""},{"$f":"IF(OR(EOMONTH(Formula_week!$B$4,0)>Formula_week!JZ8,(AND(YEAR(Formula_week!$B$4)=YEAR(Formula_week!JZ8),(MONTH(Formula_week!$B$4)=MONTH(Formula_week!JZ8))))),Formula_week!JZ12,\"\")","v":""},{"$f":"IF(OR(EOMONTH(Formula_week!$B$4,0)>Formula_week!KA8,(AND(YEAR(Formula_week!$B$4)=YEAR(Formula_week!KA8),(MONTH(Formula_week!$B$4)=MONTH(Formula_week!KA8))))),Formula_week!KA12,\"\")","v":""},{"$f":"IF(OR(EOMONTH(Formula_week!$B$4,0)>Formula_week!KB8,(AND(YEAR(Formula_week!$B$4)=YEAR(Formula_week!KB8),(MONTH(Formula_week!$B$4)=MONTH(Formula_week!KB8))))),Formula_week!KB12,\"\")","v":""},{"$f":"IF(OR(EOMONTH(Formula_week!$B$4,0)>Formula_week!KC8,(AND(YEAR(Formula_week!$B$4)=YEAR(Formula_week!KC8),(MONTH(Formula_week!$B$4)=MONTH(Formula_week!KC8))))),Formula_week!KC12,\"\")","v":""},{"$f":"IF(OR(EOMONTH(Formula_week!$B$4,0)>Formula_week!KD8,(AND(YEAR(Formula_week!$B$4)=YEAR(Formula_week!KD8),(MONTH(Formula_week!$B$4)=MONTH(Formula_week!KD8))))),Formula_week!KD12,\"\")","v":""},{"$f":"IF(OR(EOMONTH(Formula_week!$B$4,0)>Formula_week!KE8,(AND(YEAR(Formula_week!$B$4)=YEAR(Formula_week!KE8),(MONTH(Formula_week!$B$4)=MONTH(Formula_week!KE8))))),Formula_week!KE12,\"\")","v":""},{"$f":"IF(OR(EOMONTH(Formula_week!$B$4,0)>Formula_week!KF8,(AND(YEAR(Formula_week!$B$4)=YEAR(Formula_week!KF8),(MONTH(Formula_week!$B$4)=MONTH(Formula_week!KF8))))),Formula_week!KF12,\"\")","v":""},{"$f":"IF(OR(EOMONTH(Formula_week!$B$4,0)>Formula_week!KG8,(AND(YEAR(Formula_week!$B$4)=YEAR(Formula_week!KG8),(MONTH(Formula_week!$B$4)=MONTH(Formula_week!KG8))))),Formula_week!KG12,\"\")","v":""},{"$f":"IF(OR(EOMONTH(Formula_week!$B$4,0)>Formula_week!KH8,(AND(YEAR(Formula_week!$B$4)=YEAR(Formula_week!KH8),(MONTH(Formula_week!$B$4)=MONTH(Formula_week!KH8))))),Formula_week!KH12,\"\")","v":""},{"$f":"IF(OR(EOMONTH(Formula_week!$B$4,0)>Formula_week!KI8,(AND(YEAR(Formula_week!$B$4)=YEAR(Formula_week!KI8),(MONTH(Formula_week!$B$4)=MONTH(Formula_week!KI8))))),Formula_week!KI12,\"\")","v":""},{"$f":"IF(OR(EOMONTH(Formula_week!$B$4,0)>Formula_week!KJ8,(AND(YEAR(Formula_week!$B$4)=YEAR(Formula_week!KJ8),(MONTH(Formula_week!$B$4)=MONTH(Formula_week!KJ8))))),Formula_week!KJ12,\"\")","v":""},{"$f":"IF(OR(EOMONTH(Formula_week!$B$4,0)>Formula_week!KK8,(AND(YEAR(Formula_week!$B$4)=YEAR(Formula_week!KK8),(MONTH(Formula_week!$B$4)=MONTH(Formula_week!KK8))))),Formula_week!KK12,\"\")","v":""},{"$f":"IF(OR(EOMONTH(Formula_week!$B$4,0)>Formula_week!KL8,(AND(YEAR(Formula_week!$B$4)=YEAR(Formula_week!KL8),(MONTH(Formula_week!$B$4)=MONTH(Formula_week!KL8))))),Formula_week!KL12,\"\")","v":""},{"$f":"IF(OR(EOMONTH(Formula_week!$B$4,0)>Formula_week!KM8,(AND(YEAR(Formula_week!$B$4)=YEAR(Formula_week!KM8),(MONTH(Formula_week!$B$4)=MONTH(Formula_week!KM8))))),Formula_week!KM12,\"\")","v":""},{"$f":"IF(OR(EOMONTH(Formula_week!$B$4,0)>Formula_week!KN8,(AND(YEAR(Formula_week!$B$4)=YEAR(Formula_week!KN8),(MONTH(Formula_week!$B$4)=MONTH(Formula_week!KN8))))),Formula_week!KN12,\"\")","v":""},{"$f":"IF(OR(EOMONTH(Formula_week!$B$4,0)>Formula_week!KO8,(AND(YEAR(Formula_week!$B$4)=YEAR(Formula_week!KO8),(MONTH(Formula_week!$B$4)=MONTH(Formula_week!KO8))))),Formula_week!KO12,\"\")","v":""},{"$f":"IF(OR(EOMONTH(Formula_week!$B$4,0)>Formula_week!KP8,(AND(YEAR(Formula_week!$B$4)=YEAR(Formula_week!KP8),(MONTH(Formula_week!$B$4)=MONTH(Formula_week!KP8))))),Formula_week!KP12,\"\")","v":""},{"$f":"IF(OR(EOMONTH(Formula_week!$B$4,0)>Formula_week!KQ8,(AND(YEAR(Formula_week!$B$4)=YEAR(Formula_week!KQ8),(MONTH(Formula_week!$B$4)=MONTH(Formula_week!KQ8))))),Formula_week!KQ12,\"\")","v":""},{"$f":"IF(OR(EOMONTH(Formula_week!$B$4,0)>Formula_week!KR8,(AND(YEAR(Formula_week!$B$4)=YEAR(Formula_week!KR8),(MONTH(Formula_week!$B$4)=MONTH(Formula_week!KR8))))),Formula_week!KR12,\"\")","v":""},{"$f":"IF(OR(EOMONTH(Formula_week!$B$4,0)>Formula_week!KS8,(AND(YEAR(Formula_week!$B$4)=YEAR(Formula_week!KS8),(MONTH(Formula_week!$B$4)=MONTH(Formula_week!KS8))))),Formula_week!KS12,\"\")","v":""},{"$f":"IF(OR(EOMONTH(Formula_week!$B$4,0)>Formula_week!KT8,(AND(YEAR(Formula_week!$B$4)=YEAR(Formula_week!KT8),(MONTH(Formula_week!$B$4)=MONTH(Formula_week!KT8))))),Formula_week!KT12,\"\")","v":""},{"$f":"IF(OR(EOMONTH(Formula_week!$B$4,0)>Formula_week!KU8,(AND(YEAR(Formula_week!$B$4)=YEAR(Formula_week!KU8),(MONTH(Formula_week!$B$4)=MONTH(Formula_week!KU8))))),Formula_week!KU12,\"\")","v":""},{"$f":"IF(OR(EOMONTH(Formula_week!$B$4,0)>Formula_week!KV8,(AND(YEAR(Formula_week!$B$4)=YEAR(Formula_week!KV8),(MONTH(Formula_week!$B$4)=MONTH(Formula_week!KV8))))),Formula_week!KV12,\"\")","v":""},{"$f":"IF(OR(EOMONTH(Formula_week!$B$4,0)>Formula_week!KW8,(AND(YEAR(Formula_week!$B$4)=YEAR(Formula_week!KW8),(MONTH(Formula_week!$B$4)=MONTH(Formula_week!KW8))))),Formula_week!KW12,\"\")","v":""},{"$f":"IF(OR(EOMONTH(Formula_week!$B$4,0)>Formula_week!KX8,(AND(YEAR(Formula_week!$B$4)=YEAR(Formula_week!KX8),(MONTH(Formula_week!$B$4)=MONTH(Formula_week!KX8))))),Formula_week!KX12,\"\")","v":""},{"$f":"IF(OR(EOMONTH(Formula_week!$B$4,0)>Formula_week!KY8,(AND(YEAR(Formula_week!$B$4)=YEAR(Formula_week!KY8),(MONTH(Formula_week!$B$4)=MONTH(Formula_week!KY8))))),Formula_week!KY12,\"\")","v":""},{"$f":"IF(OR(EOMONTH(Formula_week!$B$4,0)>Formula_week!KZ8,(AND(YEAR(Formula_week!$B$4)=YEAR(Formula_week!KZ8),(MONTH(Formula_week!$B$4)=MONTH(Formula_week!KZ8))))),Formula_week!KZ12,\"\")","v":""},{"$f":"IF(OR(EOMONTH(Formula_week!$B$4,0)>Formula_week!LA8,(AND(YEAR(Formula_week!$B$4)=YEAR(Formula_week!LA8),(MONTH(Formula_week!$B$4)=MONTH(Formula_week!LA8))))),Formula_week!LA12,\"\")","v":""},{"$f":"IF(OR(EOMONTH(Formula_week!$B$4,0)>Formula_week!LB8,(AND(YEAR(Formula_week!$B$4)=YEAR(Formula_week!LB8),(MONTH(Formula_week!$B$4)=MONTH(Formula_week!LB8))))),Formula_week!LB12,\"\")","v":""},{"$f":"IF(OR(EOMONTH(Formula_week!$B$4,0)>Formula_week!LC8,(AND(YEAR(Formula_week!$B$4)=YEAR(Formula_week!LC8),(MONTH(Formula_week!$B$4)=MONTH(Formula_week!LC8))))),Formula_week!LC12,\"\")","v":""},{"$f":"IF(OR(EOMONTH(Formula_week!$B$4,0)>Formula_week!LD8,(AND(YEAR(Formula_week!$B$4)=YEAR(Formula_week!LD8),(MONTH(Formula_week!$B$4)=MONTH(Formula_week!LD8))))),Formula_week!LD12,\"\")","v":""},{"$f":"IF(OR(EOMONTH(Formula_week!$B$4,0)>Formula_week!LE8,(AND(YEAR(Formula_week!$B$4)=YEAR(Formula_week!LE8),(MONTH(Formula_week!$B$4)=MONTH(Formula_week!LE8))))),Formula_week!LE12,\"\")","v":""},{"$f":"IF(OR(EOMONTH(Formula_week!$B$4,0)>Formula_week!LF8,(AND(YEAR(Formula_week!$B$4)=YEAR(Formula_week!LF8),(MONTH(Formula_week!$B$4)=MONTH(Formula_week!LF8))))),Formula_week!LF12,\"\")","v":""},{"$f":"IF(OR(EOMONTH(Formula_week!$B$4,0)>Formula_week!LG8,(AND(YEAR(Formula_week!$B$4)=YEAR(Formula_week!LG8),(MONTH(Formula_week!$B$4)=MONTH(Formula_week!LG8))))),Formula_week!LG12,\"\")","v":""},{"$f":"IF(OR(EOMONTH(Formula_week!$B$4,0)>Formula_week!LH8,(AND(YEAR(Formula_week!$B$4)=YEAR(Formula_week!LH8),(MONTH(Formula_week!$B$4)=MONTH(Formula_week!LH8))))),Formula_week!LH12,\"\")","v":""},{"$f":"IF(OR(EOMONTH(Formula_week!$B$4,0)>Formula_week!LI8,(AND(YEAR(Formula_week!$B$4)=YEAR(Formula_week!LI8),(MONTH(Formula_week!$B$4)=MONTH(Formula_week!LI8))))),Formula_week!LI12,\"\")","v":""},{"$f":"IF(OR(EOMONTH(Formula_week!$B$4,0)>Formula_week!LJ8,(AND(YEAR(Formula_week!$B$4)=YEAR(Formula_week!LJ8),(MONTH(Formula_week!$B$4)=MONTH(Formula_week!LJ8))))),Formula_week!LJ12,\"\")","v":""},{"$f":"IF(OR(EOMONTH(Formula_week!$B$4,0)>Formula_week!LK8,(AND(YEAR(Formula_week!$B$4)=YEAR(Formula_week!LK8),(MONTH(Formula_week!$B$4)=MONTH(Formula_week!LK8))))),Formula_week!LK12,\"\")","v":""},{"$f":"IF(OR(EOMONTH(Formula_week!$B$4,0)>Formula_week!LL8,(AND(YEAR(Formula_week!$B$4)=YEAR(Formula_week!LL8),(MONTH(Formula_week!$B$4)=MONTH(Formula_week!LL8))))),Formula_week!LL12,\"\")","v":""},{"$f":"IF(OR(EOMONTH(Formula_week!$B$4,0)>Formula_week!LM8,(AND(YEAR(Formula_week!$B$4)=YEAR(Formula_week!LM8),(MONTH(Formula_week!$B$4)=MONTH(Formula_week!LM8))))),Formula_week!LM12,\"\")","v":""},{"$f":"IF(OR(EOMONTH(Formula_week!$B$4,0)>Formula_week!LN8,(AND(YEAR(Formula_week!$B$4)=YEAR(Formula_week!LN8),(MONTH(Formula_week!$B$4)=MONTH(Formula_week!LN8))))),Formula_week!LN12,\"\")","v":""},{"$f":"IF(OR(EOMONTH(Formula_week!$B$4,0)>Formula_week!LO8,(AND(YEAR(Formula_week!$B$4)=YEAR(Formula_week!LO8),(MONTH(Formula_week!$B$4)=MONTH(Formula_week!LO8))))),Formula_week!LO12,\"\")","v":""},{"$f":"IF(OR(EOMONTH(Formula_week!$B$4,0)>Formula_week!LP8,(AND(YEAR(Formula_week!$B$4)=YEAR(Formula_week!LP8),(MONTH(Formula_week!$B$4)=MONTH(Formula_week!LP8))))),Formula_week!LP12,\"\")","v":""},{"$f":"IF(OR(EOMONTH(Formula_week!$B$4,0)>Formula_week!LQ8,(AND(YEAR(Formula_week!$B$4)=YEAR(Formula_week!LQ8),(MONTH(Formula_week!$B$4)=MONTH(Formula_week!LQ8))))),Formula_week!LQ12,\"\")","v":""},{"$f":"IF(OR(EOMONTH(Formula_week!$B$4,0)>Formula_week!LR8,(AND(YEAR(Formula_week!$B$4)=YEAR(Formula_week!LR8),(MONTH(Formula_week!$B$4)=MONTH(Formula_week!LR8))))),Formula_week!LR12,\"\")","v":""},{"$f":"IF(OR(EOMONTH(Formula_week!$B$4,0)>Formula_week!LS8,(AND(YEAR(Formula_week!$B$4)=YEAR(Formula_week!LS8),(MONTH(Formula_week!$B$4)=MONTH(Formula_week!LS8))))),Formula_week!LS12,\"\")","v":""},{"$f":"IF(OR(EOMONTH(Formula_week!$B$4,0)>Formula_week!LT8,(AND(YEAR(Formula_week!$B$4)=YEAR(Formula_week!LT8),(MONTH(Formula_week!$B$4)=MONTH(Formula_week!LT8))))),Formula_week!LT12,\"\")","v":""},{"$f":"IF(OR(EOMONTH(Formula_week!$B$4,0)>Formula_week!LU8,(AND(YEAR(Formula_week!$B$4)=YEAR(Formula_week!LU8),(MONTH(Formula_week!$B$4)=MONTH(Formula_week!LU8))))),Formula_week!LU12,\"\")","v":""},{"$f":"IF(OR(EOMONTH(Formula_week!$B$4,0)>Formula_week!LV8,(AND(YEAR(Formula_week!$B$4)=YEAR(Formula_week!LV8),(MONTH(Formula_week!$B$4)=MONTH(Formula_week!LV8))))),Formula_week!LV12,\"\")","v":""},{"$f":"IF(OR(EOMONTH(Formula_week!$B$4,0)>Formula_week!LW8,(AND(YEAR(Formula_week!$B$4)=YEAR(Formula_week!LW8),(MONTH(Formula_week!$B$4)=MONTH(Formula_week!LW8))))),Formula_week!LW12,\"\")","v":""},{"$f":"IF(OR(EOMONTH(Formula_week!$B$4,0)>Formula_week!LX8,(AND(YEAR(Formula_week!$B$4)=YEAR(Formula_week!LX8),(MONTH(Formula_week!$B$4)=MONTH(Formula_week!LX8))))),Formula_week!LX12,\"\")","v":""},{"$f":"IF(OR(EOMONTH(Formula_week!$B$4,0)>Formula_week!LY8,(AND(YEAR(Formula_week!$B$4)=YEAR(Formula_week!LY8),(MONTH(Formula_week!$B$4)=MONTH(Formula_week!LY8))))),Formula_week!LY12,\"\")","v":""},{"$f":"IF(OR(EOMONTH(Formula_week!$B$4,0)>Formula_week!LZ8,(AND(YEAR(Formula_week!$B$4)=YEAR(Formula_week!LZ8),(MONTH(Formula_week!$B$4)=MONTH(Formula_week!LZ8))))),Formula_week!LZ12,\"\")","v":""},{"$f":"IF(OR(EOMONTH(Formula_week!$B$4,0)>Formula_week!MA8,(AND(YEAR(Formula_week!$B$4)=YEAR(Formula_week!MA8),(MONTH(Formula_week!$B$4)=MONTH(Formula_week!MA8))))),Formula_week!MA12,\"\")","v":""},{"$f":"IF(OR(EOMONTH(Formula_week!$B$4,0)>Formula_week!MB8,(AND(YEAR(Formula_week!$B$4)=YEAR(Formula_week!MB8),(MONTH(Formula_week!$B$4)=MONTH(Formula_week!MB8))))),Formula_week!MB12,\"\")","v":""},{"$f":"IF(OR(EOMONTH(Formula_week!$B$4,0)>Formula_week!MC8,(AND(YEAR(Formula_week!$B$4)=YEAR(Formula_week!MC8),(MONTH(Formula_week!$B$4)=MONTH(Formula_week!MC8))))),Formula_week!MC12,\"\")","v":""},{"$f":"IF(OR(EOMONTH(Formula_week!$B$4,0)>Formula_week!MD8,(AND(YEAR(Formula_week!$B$4)=YEAR(Formula_week!MD8),(MONTH(Formula_week!$B$4)=MONTH(Formula_week!MD8))))),Formula_week!MD12,\"\")","v":""},{"$f":"IF(OR(EOMONTH(Formula_week!$B$4,0)>Formula_week!ME8,(AND(YEAR(Formula_week!$B$4)=YEAR(Formula_week!ME8),(MONTH(Formula_week!$B$4)=MONTH(Formula_week!ME8))))),Formula_week!ME12,\"\")","v":""},{"$f":"IF(OR(EOMONTH(Formula_week!$B$4,0)>Formula_week!MF8,(AND(YEAR(Formula_week!$B$4)=YEAR(Formula_week!MF8),(MONTH(Formula_week!$B$4)=MONTH(Formula_week!MF8))))),Formula_week!MF12,\"\")","v":""},{"$f":"IF(OR(EOMONTH(Formula_week!$B$4,0)>Formula_week!MG8,(AND(YEAR(Formula_week!$B$4)=YEAR(Formula_week!MG8),(MONTH(Formula_week!$B$4)=MONTH(Formula_week!MG8))))),Formula_week!MG12,\"\")","v":""},{"$f":"IF(OR(EOMONTH(Formula_week!$B$4,0)>Formula_week!MH8,(AND(YEAR(Formula_week!$B$4)=YEAR(Formula_week!MH8),(MONTH(Formula_week!$B$4)=MONTH(Formula_week!MH8))))),Formula_week!MH12,\"\")","v":""},{"$f":"IF(OR(EOMONTH(Formula_week!$B$4,0)>Formula_week!MI8,(AND(YEAR(Formula_week!$B$4)=YEAR(Formula_week!MI8),(MONTH(Formula_week!$B$4)=MONTH(Formula_week!MI8))))),Formula_week!MI12,\"\")","v":""},{"$f":"IF(OR(EOMONTH(Formula_week!$B$4,0)>Formula_week!MJ8,(AND(YEAR(Formula_week!$B$4)=YEAR(Formula_week!MJ8),(MONTH(Formula_week!$B$4)=MONTH(Formula_week!MJ8))))),Formula_week!MJ12,\"\")","v":""},{"$f":"IF(OR(EOMONTH(Formula_week!$B$4,0)>Formula_week!MK8,(AND(YEAR(Formula_week!$B$4)=YEAR(Formula_week!MK8),(MONTH(Formula_week!$B$4)=MONTH(Formula_week!MK8))))),Formula_week!MK12,\"\")","v":""},{"$f":"IF(OR(EOMONTH(Formula_week!$B$4,0)>Formula_week!ML8,(AND(YEAR(Formula_week!$B$4)=YEAR(Formula_week!ML8),(MONTH(Formula_week!$B$4)=MONTH(Formula_week!ML8))))),Formula_week!ML12,\"\")","v":""},{"$f":"IF(OR(EOMONTH(Formula_week!$B$4,0)>Formula_week!MM8,(AND(YEAR(Formula_week!$B$4)=YEAR(Formula_week!MM8),(MONTH(Formula_week!$B$4)=MONTH(Formula_week!MM8))))),Formula_week!MM12,\"\")","v":""},{"$f":"IF(OR(EOMONTH(Formula_week!$B$4,0)>Formula_week!MN8,(AND(YEAR(Formula_week!$B$4)=YEAR(Formula_week!MN8),(MONTH(Formula_week!$B$4)=MONTH(Formula_week!MN8))))),Formula_week!MN12,\"\")","v":""},{"$f":"IF(OR(EOMONTH(Formula_week!$B$4,0)>Formula_week!MO8,(AND(YEAR(Formula_week!$B$4)=YEAR(Formula_week!MO8),(MONTH(Formula_week!$B$4)=MONTH(Formula_week!MO8))))),Formula_week!MO12,\"\")","v":""},{"$f":"IF(OR(EOMONTH(Formula_week!$B$4,0)>Formula_week!MP8,(AND(YEAR(Formula_week!$B$4)=YEAR(Formula_week!MP8),(MONTH(Formula_week!$B$4)=MONTH(Formula_week!MP8))))),Formula_week!MP12,\"\")","v":""},{"$f":"IF(OR(EOMONTH(Formula_week!$B$4,0)>Formula_week!MQ8,(AND(YEAR(Formula_week!$B$4)=YEAR(Formula_week!MQ8),(MONTH(Formula_week!$B$4)=MONTH(Formula_week!MQ8))))),Formula_week!MQ12,\"\")","v":""},{"$f":"IF(OR(EOMONTH(Formula_week!$B$4,0)>Formula_week!MR8,(AND(YEAR(Formula_week!$B$4)=YEAR(Formula_week!MR8),(MONTH(Formula_week!$B$4)=MONTH(Formula_week!MR8))))),Formula_week!MR12,\"\")","v":""},{"$f":"IF(OR(EOMONTH(Formula_week!$B$4,0)>Formula_week!MS8,(AND(YEAR(Formula_week!$B$4)=YEAR(Formula_week!MS8),(MONTH(Formula_week!$B$4)=MONTH(Formula_week!MS8))))),Formula_week!MS12,\"\")","v":""},{"$f":"IF(OR(EOMONTH(Formula_week!$B$4,0)>Formula_week!MT8,(AND(YEAR(Formula_week!$B$4)=YEAR(Formula_week!MT8),(MONTH(Formula_week!$B$4)=MONTH(Formula_week!MT8))))),Formula_week!MT12,\"\")","v":""},{"$f":"IF(OR(EOMONTH(Formula_week!$B$4,0)>Formula_week!MU8,(AND(YEAR(Formula_week!$B$4)=YEAR(Formula_week!MU8),(MONTH(Formula_week!$B$4)=MONTH(Formula_week!MU8))))),Formula_week!MU12,\"\")","v":""},{"$f":"IF(OR(EOMONTH(Formula_week!$B$4,0)>Formula_week!MV8,(AND(YEAR(Formula_week!$B$4)=YEAR(Formula_week!MV8),(MONTH(Formula_week!$B$4)=MONTH(Formula_week!MV8))))),Formula_week!MV12,\"\")","v":""},{"$f":"IF(OR(EOMONTH(Formula_week!$B$4,0)>Formula_week!MW8,(AND(YEAR(Formula_week!$B$4)=YEAR(Formula_week!MW8),(MONTH(Formula_week!$B$4)=MONTH(Formula_week!MW8))))),Formula_week!MW12,\"\")","v":""},{"$f":"IF(OR(EOMONTH(Formula_week!$B$4,0)>Formula_week!MX8,(AND(YEAR(Formula_week!$B$4)=YEAR(Formula_week!MX8),(MONTH(Formula_week!$B$4)=MONTH(Formula_week!MX8))))),Formula_week!MX12,\"\")","v":""},{"$f":"IF(OR(EOMONTH(Formula_week!$B$4,0)>Formula_week!MY8,(AND(YEAR(Formula_week!$B$4)=YEAR(Formula_week!MY8),(MONTH(Formula_week!$B$4)=MONTH(Formula_week!MY8))))),Formula_week!MY12,\"\")","v":""},{"$f":"IF(OR(EOMONTH(Formula_week!$B$4,0)>Formula_week!MZ8,(AND(YEAR(Formula_week!$B$4)=YEAR(Formula_week!MZ8),(MONTH(Formula_week!$B$4)=MONTH(Formula_week!MZ8))))),Formula_week!MZ12,\"\")","v":""},{"$f":"IF(OR(EOMONTH(Formula_week!$B$4,0)>Formula_week!NA8,(AND(YEAR(Formula_week!$B$4)=YEAR(Formula_week!NA8),(MONTH(Formula_week!$B$4)=MONTH(Formula_week!NA8))))),Formula_week!NA12,\"\")","v":""},{"$f":"IF(OR(EOMONTH(Formula_week!$B$4,0)>Formula_week!NB8,(AND(YEAR(Formula_week!$B$4)=YEAR(Formula_week!NB8),(MONTH(Formula_week!$B$4)=MONTH(Formula_week!NB8))))),Formula_week!NB12,\"\")","v":""},{"$f":"IF(OR(EOMONTH(Formula_week!$B$4,0)>Formula_week!NC8,(AND(YEAR(Formula_week!$B$4)=YEAR(Formula_week!NC8),(MONTH(Formula_week!$B$4)=MONTH(Formula_week!NC8))))),Formula_week!NC12,\"\")","v":""},{"$f":"IF(OR(EOMONTH(Formula_week!$B$4,0)>Formula_week!ND8,(AND(YEAR(Formula_week!$B$4)=YEAR(Formula_week!ND8),(MONTH(Formula_week!$B$4)=MONTH(Formula_week!ND8))))),Formula_week!ND12,\"\")","v":""},{"$f":"IF(OR(EOMONTH(Formula_week!$B$4,0)>Formula_week!NE8,(AND(YEAR(Formula_week!$B$4)=YEAR(Formula_week!NE8),(MONTH(Formula_week!$B$4)=MONTH(Formula_week!NE8))))),Formula_week!NE12,\"\")","v":""},{"$f":"IF(OR(EOMONTH(Formula_week!$B$4,0)>Formula_week!NF8,(AND(YEAR(Formula_week!$B$4)=YEAR(Formula_week!NF8),(MONTH(Formula_week!$B$4)=MONTH(Formula_week!NF8))))),Formula_week!NF12,\"\")","v":""},{"$f":"IF(OR(EOMONTH(Formula_week!$B$4,0)>Formula_week!NG8,(AND(YEAR(Formula_week!$B$4)=YEAR(Formula_week!NG8),(MONTH(Formula_week!$B$4)=MONTH(Formula_week!NG8))))),Formula_week!NG12,\"\")","v":""},{"$f":"IF(OR(EOMONTH(Formula_week!$B$4,0)>Formula_week!NH8,(AND(YEAR(Formula_week!$B$4)=YEAR(Formula_week!NH8),(MONTH(Formula_week!$B$4)=MONTH(Formula_week!NH8))))),Formula_week!NH12,\"\")","v":""},{"$f":"IF(OR(EOMONTH(Formula_week!$B$4,0)>Formula_week!NI8,(AND(YEAR(Formula_week!$B$4)=YEAR(Formula_week!NI8),(MONTH(Formula_week!$B$4)=MONTH(Formula_week!NI8))))),Formula_week!NI12,\"\")","v":""},{"$f":"IF(OR(EOMONTH(Formula_week!$B$4,0)>Formula_week!NJ8,(AND(YEAR(Formula_week!$B$4)=YEAR(Formula_week!NJ8),(MONTH(Formula_week!$B$4)=MONTH(Formula_week!NJ8))))),Formula_week!NJ12,\"\")","v":""},{"$f":"IF(OR(EOMONTH(Formula_week!$B$4,0)>Formula_week!NK8,(AND(YEAR(Formula_week!$B$4)=YEAR(Formula_week!NK8),(MONTH(Formula_week!$B$4)=MONTH(Formula_week!NK8))))),Formula_week!NK12,\"\")","v":""},{"$f":"IF(OR(EOMONTH(Formula_week!$B$4,0)>Formula_week!NL8,(AND(YEAR(Formula_week!$B$4)=YEAR(Formula_week!NL8),(MONTH(Formula_week!$B$4)=MONTH(Formula_week!NL8))))),Formula_week!NL12,\"\")","v":""},{"$f":"IF(OR(EOMONTH(Formula_week!$B$4,0)>Formula_week!NM8,(AND(YEAR(Formula_week!$B$4)=YEAR(Formula_week!NM8),(MONTH(Formula_week!$B$4)=MONTH(Formula_week!NM8))))),Formula_week!NM12,\"\")","v":""},{"$f":"IF(OR(EOMONTH(Formula_week!$B$4,0)>Formula_week!NN8,(AND(YEAR(Formula_week!$B$4)=YEAR(Formula_week!NN8),(MONTH(Formula_week!$B$4)=MONTH(Formula_week!NN8))))),Formula_week!NN12,\"\")","v":""},{"$f":"IF(OR(EOMONTH(Formula_week!$B$4,0)>Formula_week!NO8,(AND(YEAR(Formula_week!$B$4)=YEAR(Formula_week!NO8),(MONTH(Formula_week!$B$4)=MONTH(Formula_week!NO8))))),Formula_week!NO12,\"\")","v":""},{"$f":"IF(OR(EOMONTH(Formula_week!$B$4,0)>Formula_week!NP8,(AND(YEAR(Formula_week!$B$4)=YEAR(Formula_week!NP8),(MONTH(Formula_week!$B$4)=MONTH(Formula_week!NP8))))),Formula_week!NP12,\"\")","v":""},{"$f":"IF(OR(EOMONTH(Formula_week!$B$4,0)>Formula_week!NQ8,(AND(YEAR(Formula_week!$B$4)=YEAR(Formula_week!NQ8),(MONTH(Formula_week!$B$4)=MONTH(Formula_week!NQ8))))),Formula_week!NQ12,\"\")","v":""},{"$f":"IF(OR(EOMONTH(Formula_week!$B$4,0)>Formula_week!NR8,(AND(YEAR(Formula_week!$B$4)=YEAR(Formula_week!NR8),(MONTH(Formula_week!$B$4)=MONTH(Formula_week!NR8))))),Formula_week!NR12,\"\")","v":""},{"$f":"IF(OR(EOMONTH(Formula_week!$B$4,0)>Formula_week!NS8,(AND(YEAR(Formula_week!$B$4)=YEAR(Formula_week!NS8),(MONTH(Formula_week!$B$4)=MONTH(Formula_week!NS8))))),Formula_week!NS12,\"\")","v":""},{"$f":"IF(OR(EOMONTH(Formula_week!$B$4,0)>Formula_week!NT8,(AND(YEAR(Formula_week!$B$4)=YEAR(Formula_week!NT8),(MONTH(Formula_week!$B$4)=MONTH(Formula_week!NT8))))),Formula_week!NT12,\"\")","v":""},{"$f":"IF(OR(EOMONTH(Formula_week!$B$4,0)>Formula_week!NU8,(AND(YEAR(Formula_week!$B$4)=YEAR(Formula_week!NU8),(MONTH(Formula_week!$B$4)=MONTH(Formula_week!NU8))))),Formula_week!NU12,\"\")","v":""},{"$f":"IF(OR(EOMONTH(Formula_week!$B$4,0)>Formula_week!NV8,(AND(YEAR(Formula_week!$B$4)=YEAR(Formula_week!NV8),(MONTH(Formula_week!$B$4)=MONTH(Formula_week!NV8))))),Formula_week!NV12,\"\")","v":""},{"$f":"IF(OR(EOMONTH(Formula_week!$B$4,0)>Formula_week!NW8,(AND(YEAR(Formula_week!$B$4)=YEAR(Formula_week!NW8),(MONTH(Formula_week!$B$4)=MONTH(Formula_week!NW8))))),Formula_week!NW12,\"\")","v":""},{"$f":"IF(OR(EOMONTH(Formula_week!$B$4,0)>Formula_week!NX8,(AND(YEAR(Formula_week!$B$4)=YEAR(Formula_week!NX8),(MONTH(Formula_week!$B$4)=MONTH(Formula_week!NX8))))),Formula_week!NX12,\"\")","v":""},{"$f":"IF(OR(EOMONTH(Formula_week!$B$4,0)>Formula_week!NY8,(AND(YEAR(Formula_week!$B$4)=YEAR(Formula_week!NY8),(MONTH(Formula_week!$B$4)=MONTH(Formula_week!NY8))))),Formula_week!NY12,\"\")","v":""},{"$f":"IF(OR(EOMONTH(Formula_week!$B$4,0)>Formula_week!NZ8,(AND(YEAR(Formula_week!$B$4)=YEAR(Formula_week!NZ8),(MONTH(Formula_week!$B$4)=MONTH(Formula_week!NZ8))))),Formula_week!NZ12,\"\")","v":""},{"$f":"IF(OR(EOMONTH(Formula_week!$B$4,0)>Formula_week!OA8,(AND(YEAR(Formula_week!$B$4)=YEAR(Formula_week!OA8),(MONTH(Formula_week!$B$4)=MONTH(Formula_week!OA8))))),Formula_week!OA12,\"\")","v":""},{"$f":"IF(OR(EOMONTH(Formula_week!$B$4,0)>Formula_week!OB8,(AND(YEAR(Formula_week!$B$4)=YEAR(Formula_week!OB8),(MONTH(Formula_week!$B$4)=MONTH(Formula_week!OB8))))),Formula_week!OB12,\"\")","v":""},{"$f":"IF(OR(EOMONTH(Formula_week!$B$4,0)>Formula_week!OC8,(AND(YEAR(Formula_week!$B$4)=YEAR(Formula_week!OC8),(MONTH(Formula_week!$B$4)=MONTH(Formula_week!OC8))))),Formula_week!OC12,\"\")","v":""},{"$f":"IF(OR(EOMONTH(Formula_week!$B$4,0)>Formula_week!OD8,(AND(YEAR(Formula_week!$B$4)=YEAR(Formula_week!OD8),(MONTH(Formula_week!$B$4)=MONTH(Formula_week!OD8))))),Formula_week!OD12,\"\")","v":""},{"$f":"IF(OR(EOMONTH(Formula_week!$B$4,0)>Formula_week!OE8,(AND(YEAR(Formula_week!$B$4)=YEAR(Formula_week!OE8),(MONTH(Formula_week!$B$4)=MONTH(Formula_week!OE8))))),Formula_week!OE12,\"\")","v":""},{"$f":"IF(OR(EOMONTH(Formula_week!$B$4,0)>Formula_week!OF8,(AND(YEAR(Formula_week!$B$4)=YEAR(Formula_week!OF8),(MONTH(Formula_week!$B$4)=MONTH(Formula_week!OF8))))),Formula_week!OF12,\"\")","v":""},{"$f":"IF(OR(EOMONTH(Formula_week!$B$4,0)>Formula_week!OG8,(AND(YEAR(Formula_week!$B$4)=YEAR(Formula_week!OG8),(MONTH(Formula_week!$B$4)=MONTH(Formula_week!OG8))))),Formula_week!OG12,\"\")","v":""},{"$f":"IF(OR(EOMONTH(Formula_week!$B$4,0)>Formula_week!OH8,(AND(YEAR(Formula_week!$B$4)=YEAR(Formula_week!OH8),(MONTH(Formula_week!$B$4)=MONTH(Formula_week!OH8))))),Formula_week!OH12,\"\")","v":""},{"$f":"IF(OR(EOMONTH(Formula_week!$B$4,0)>Formula_week!OI8,(AND(YEAR(Formula_week!$B$4)=YEAR(Formula_week!OI8),(MONTH(Formula_week!$B$4)=MONTH(Formula_week!OI8))))),Formula_week!OI12,\"\")","v":""},{"$f":"IF(OR(EOMONTH(Formula_week!$B$4,0)>Formula_week!OJ8,(AND(YEAR(Formula_week!$B$4)=YEAR(Formula_week!OJ8),(MONTH(Formula_week!$B$4)=MONTH(Formula_week!OJ8))))),Formula_week!OJ12,\"\")","v":""},{"$f":"IF(OR(EOMONTH(Formula_week!$B$4,0)>Formula_week!OK8,(AND(YEAR(Formula_week!$B$4)=YEAR(Formula_week!OK8),(MONTH(Formula_week!$B$4)=MONTH(Formula_week!OK8))))),Formula_week!OK12,\"\")","v":""},{"$f":"IF(OR(EOMONTH(Formula_week!$B$4,0)>Formula_week!OL8,(AND(YEAR(Formula_week!$B$4)=YEAR(Formula_week!OL8),(MONTH(Formula_week!$B$4)=MONTH(Formula_week!OL8))))),Formula_week!OL12,\"\")","v":""},{"$f":"IF(OR(EOMONTH(Formula_week!$B$4,0)>Formula_week!OM8,(AND(YEAR(Formula_week!$B$4)=YEAR(Formula_week!OM8),(MONTH(Formula_week!$B$4)=MONTH(Formula_week!OM8))))),Formula_week!OM12,\"\")","v":""},{"$f":"IF(OR(EOMONTH(Formula_week!$B$4,0)>Formula_week!ON8,(AND(YEAR(Formula_week!$B$4)=YEAR(Formula_week!ON8),(MONTH(Formula_week!$B$4)=MONTH(Formula_week!ON8))))),Formula_week!ON12,\"\")","v":""},{"$f":"IF(OR(EOMONTH(Formula_week!$B$4,0)>Formula_week!OO8,(AND(YEAR(Formula_week!$B$4)=YEAR(Formula_week!OO8),(MONTH(Formula_week!$B$4)=MONTH(Formula_week!OO8))))),Formula_week!OO12,\"\")","v":""},{"$f":"IF(OR(EOMONTH(Formula_week!$B$4,0)>Formula_week!OP8,(AND(YEAR(Formula_week!$B$4)=YEAR(Formula_week!OP8),(MONTH(Formula_week!$B$4)=MONTH(Formula_week!OP8))))),Formula_week!OP12,\"\")","v":""},{"$f":"IF(OR(EOMONTH(Formula_week!$B$4,0)>Formula_week!OQ8,(AND(YEAR(Formula_week!$B$4)=YEAR(Formula_week!OQ8),(MONTH(Formula_week!$B$4)=MONTH(Formula_week!OQ8))))),Formula_week!OQ12,\"\")","v":""},{"$f":"IF(OR(EOMONTH(Formula_week!$B$4,0)>Formula_week!OR8,(AND(YEAR(Formula_week!$B$4)=YEAR(Formula_week!OR8),(MONTH(Formula_week!$B$4)=MONTH(Formula_week!OR8))))),Formula_week!OR12,\"\")","v":""},{"$f":"IF(OR(EOMONTH(Formula_week!$B$4,0)>Formula_week!OS8,(AND(YEAR(Formula_week!$B$4)=YEAR(Formula_week!OS8),(MONTH(Formula_week!$B$4)=MONTH(Formula_week!OS8))))),Formula_week!OS12,\"\")","v":""},{"$f":"IF(OR(EOMONTH(Formula_week!$B$4,0)>Formula_week!OT8,(AND(YEAR(Formula_week!$B$4)=YEAR(Formula_week!OT8),(MONTH(Formula_week!$B$4)=MONTH(Formula_week!OT8))))),Formula_week!OT12,\"\")","v":""},{"$f":"IF(OR(EOMONTH(Formula_week!$B$4,0)>Formula_week!OU8,(AND(YEAR(Formula_week!$B$4)=YEAR(Formula_week!OU8),(MONTH(Formula_week!$B$4)=MONTH(Formula_week!OU8))))),Formula_week!OU12,\"\")","v":""},{"$f":"IF(OR(EOMONTH(Formula_week!$B$4,0)>Formula_week!OV8,(AND(YEAR(Formula_week!$B$4)=YEAR(Formula_week!OV8),(MONTH(Formula_week!$B$4)=MONTH(Formula_week!OV8))))),Formula_week!OV12,\"\")","v":""},{"$f":"IF(OR(EOMONTH(Formula_week!$B$4,0)>Formula_week!OW8,(AND(YEAR(Formula_week!$B$4)=YEAR(Formula_week!OW8),(MONTH(Formula_week!$B$4)=MONTH(Formula_week!OW8))))),Formula_week!OW12,\"\")","v":""},{"$f":"IF(OR(EOMONTH(Formula_week!$B$4,0)>Formula_week!OX8,(AND(YEAR(Formula_week!$B$4)=YEAR(Formula_week!OX8),(MONTH(Formula_week!$B$4)=MONTH(Formula_week!OX8))))),Formula_week!OX12,\"\")","v":""},{"$f":"IF(OR(EOMONTH(Formula_week!$B$4,0)>Formula_week!OY8,(AND(YEAR(Formula_week!$B$4)=YEAR(Formula_week!OY8),(MONTH(Formula_week!$B$4)=MONTH(Formula_week!OY8))))),Formula_week!OY12,\"\")","v":""},{"$f":"IF(OR(EOMONTH(Formula_week!$B$4,0)>Formula_week!OZ8,(AND(YEAR(Formula_week!$B$4)=YEAR(Formula_week!OZ8),(MONTH(Formula_week!$B$4)=MONTH(Formula_week!OZ8))))),Formula_week!OZ12,\"\")","v":""},{"$f":"IF(OR(EOMONTH(Formula_week!$B$4,0)>Formula_week!PA8,(AND(YEAR(Formula_week!$B$4)=YEAR(Formula_week!PA8),(MONTH(Formula_week!$B$4)=MONTH(Formula_week!PA8))))),Formula_week!PA12,\"\")","v":""},{"$f":"IF(OR(EOMONTH(Formula_week!$B$4,0)>Formula_week!PB8,(AND(YEAR(Formula_week!$B$4)=YEAR(Formula_week!PB8),(MONTH(Formula_week!$B$4)=MONTH(Formula_week!PB8))))),Formula_week!PB12,\"\")","v":""},{"$f":"IF(OR(EOMONTH(Formula_week!$B$4,0)>Formula_week!PC8,(AND(YEAR(Formula_week!$B$4)=YEAR(Formula_week!PC8),(MONTH(Formula_week!$B$4)=MONTH(Formula_week!PC8))))),Formula_week!PC12,\"\")","v":""},{"$f":"IF(OR(EOMONTH(Formula_week!$B$4,0)>Formula_week!PD8,(AND(YEAR(Formula_week!$B$4)=YEAR(Formula_week!PD8),(MONTH(Formula_week!$B$4)=MONTH(Formula_week!PD8))))),Formula_week!PD12,\"\")","v":""},{"$f":"IF(OR(EOMONTH(Formula_week!$B$4,0)>Formula_week!PE8,(AND(YEAR(Formula_week!$B$4)=YEAR(Formula_week!PE8),(MONTH(Formula_week!$B$4)=MONTH(Formula_week!PE8))))),Formula_week!PE12,\"\")","v":""},{"$f":"IF(OR(EOMONTH(Formula_week!$B$4,0)>Formula_week!PF8,(AND(YEAR(Formula_week!$B$4)=YEAR(Formula_week!PF8),(MONTH(Formula_week!$B$4)=MONTH(Formula_week!PF8))))),Formula_week!PF12,\"\")","v":""},{"$f":"IF(OR(EOMONTH(Formula_week!$B$4,0)>Formula_week!PG8,(AND(YEAR(Formula_week!$B$4)=YEAR(Formula_week!PG8),(MONTH(Formula_week!$B$4)=MONTH(Formula_week!PG8))))),Formula_week!PG12,\"\")","v":""},{"$f":"IF(OR(EOMONTH(Formula_week!$B$4,0)>Formula_week!PH8,(AND(YEAR(Formula_week!$B$4)=YEAR(Formula_week!PH8),(MONTH(Formula_week!$B$4)=MONTH(Formula_week!PH8))))),Formula_week!PH12,\"\")","v":""},{"$f":"IF(OR(EOMONTH(Formula_week!$B$4,0)>Formula_week!PI8,(AND(YEAR(Formula_week!$B$4)=YEAR(Formula_week!PI8),(MONTH(Formula_week!$B$4)=MONTH(Formula_week!PI8))))),Formula_week!PI12,\"\")","v":""},{"$f":"IF(OR(EOMONTH(Formula_week!$B$4,0)>Formula_week!PJ8,(AND(YEAR(Formula_week!$B$4)=YEAR(Formula_week!PJ8),(MONTH(Formula_week!$B$4)=MONTH(Formula_week!PJ8))))),Formula_week!PJ12,\"\")","v":""},{"$f":"IF(OR(EOMONTH(Formula_week!$B$4,0)>Formula_week!PK8,(AND(YEAR(Formula_week!$B$4)=YEAR(Formula_week!PK8),(MONTH(Formula_week!$B$4)=MONTH(Formula_week!PK8))))),Formula_week!PK12,\"\")","v":""},{"$f":"IF(OR(EOMONTH(Formula_week!$B$4,0)>Formula_week!PL8,(AND(YEAR(Formula_week!$B$4)=YEAR(Formula_week!PL8),(MONTH(Formula_week!$B$4)=MONTH(Formula_week!PL8))))),Formula_week!PL12,\"\")","v":""},{"$f":"IF(OR(EOMONTH(Formula_week!$B$4,0)>Formula_week!PM8,(AND(YEAR(Formula_week!$B$4)=YEAR(Formula_week!PM8),(MONTH(Formula_week!$B$4)=MONTH(Formula_week!PM8))))),Formula_week!PM12,\"\")","v":""},{"$f":"IF(OR(EOMONTH(Formula_week!$B$4,0)>Formula_week!PN8,(AND(YEAR(Formula_week!$B$4)=YEAR(Formula_week!PN8),(MONTH(Formula_week!$B$4)=MONTH(Formula_week!PN8))))),Formula_week!PN12,\"\")","v":""},{"$f":"IF(OR(EOMONTH(Formula_week!$B$4,0)>Formula_week!PO8,(AND(YEAR(Formula_week!$B$4)=YEAR(Formula_week!PO8),(MONTH(Formula_week!$B$4)=MONTH(Formula_week!PO8))))),Formula_week!PO12,\"\")","v":""},{"$f":"IF(OR(EOMONTH(Formula_week!$B$4,0)>Formula_week!PP8,(AND(YEAR(Formula_week!$B$4)=YEAR(Formula_week!PP8),(MONTH(Formula_week!$B$4)=MONTH(Formula_week!PP8))))),Formula_week!PP12,\"\")","v":""},{"$f":"IF(OR(EOMONTH(Formula_week!$B$4,0)>Formula_week!PQ8,(AND(YEAR(Formula_week!$B$4)=YEAR(Formula_week!PQ8),(MONTH(Formula_week!$B$4)=MONTH(Formula_week!PQ8))))),Formula_week!PQ12,\"\")","v":""},{"$f":"IF(OR(EOMONTH(Formula_week!$B$4,0)>Formula_week!PR8,(AND(YEAR(Formula_week!$B$4)=YEAR(Formula_week!PR8),(MONTH(Formula_week!$B$4)=MONTH(Formula_week!PR8))))),Formula_week!PR12,\"\")","v":""},{"$f":"IF(OR(EOMONTH(Formula_week!$B$4,0)>Formula_week!PS8,(AND(YEAR(Formula_week!$B$4)=YEAR(Formula_week!PS8),(MONTH(Formula_week!$B$4)=MONTH(Formula_week!PS8))))),Formula_week!PS12,\"\")","v":""},{"$f":"IF(OR(EOMONTH(Formula_week!$B$4,0)>Formula_week!PT8,(AND(YEAR(Formula_week!$B$4)=YEAR(Formula_week!PT8),(MONTH(Formula_week!$B$4)=MONTH(Formula_week!PT8))))),Formula_week!PT12,\"\")","v":""},{"$f":"IF(OR(EOMONTH(Formula_week!$B$4,0)>Formula_week!PU8,(AND(YEAR(Formula_week!$B$4)=YEAR(Formula_week!PU8),(MONTH(Formula_week!$B$4)=MONTH(Formula_week!PU8))))),Formula_week!PU12,\"\")","v":""},{"$f":"IF(OR(EOMONTH(Formula_week!$B$4,0)>Formula_week!PV8,(AND(YEAR(Formula_week!$B$4)=YEAR(Formula_week!PV8),(MONTH(Formula_week!$B$4)=MONTH(Formula_week!PV8))))),Formula_week!PV12,\"\")","v":""},{"$f":"IF(OR(EOMONTH(Formula_week!$B$4,0)>Formula_week!PW8,(AND(YEAR(Formula_week!$B$4)=YEAR(Formula_week!PW8),(MONTH(Formula_week!$B$4)=MONTH(Formula_week!PW8))))),Formula_week!PW12,\"\")","v":""},{"$f":"IF(OR(EOMONTH(Formula_week!$B$4,0)>Formula_week!PX8,(AND(YEAR(Formula_week!$B$4)=YEAR(Formula_week!PX8),(MONTH(Formula_week!$B$4)=MONTH(Formula_week!PX8))))),Formula_week!PX12,\"\")","v":""},{"$f":"IF(OR(EOMONTH(Formula_week!$B$4,0)>Formula_week!PY8,(AND(YEAR(Formula_week!$B$4)=YEAR(Formula_week!PY8),(MONTH(Formula_week!$B$4)=MONTH(Formula_week!PY8))))),Formula_week!PY12,\"\")","v":""},{"$f":"IF(OR(EOMONTH(Formula_week!$B$4,0)>Formula_week!PZ8,(AND(YEAR(Formula_week!$B$4)=YEAR(Formula_week!PZ8),(MONTH(Formula_week!$B$4)=MONTH(Formula_week!PZ8))))),Formula_week!PZ12,\"\")","v":""},{"$f":"IF(OR(EOMONTH(Formula_week!$B$4,0)>Formula_week!QA8,(AND(YEAR(Formula_week!$B$4)=YEAR(Formula_week!QA8),(MONTH(Formula_week!$B$4)=MONTH(Formula_week!QA8))))),Formula_week!QA12,\"\")","v":""},{"$f":"IF(OR(EOMONTH(Formula_week!$B$4,0)>Formula_week!QB8,(AND(YEAR(Formula_week!$B$4)=YEAR(Formula_week!QB8),(MONTH(Formula_week!$B$4)=MONTH(Formula_week!QB8))))),Formula_week!QB12,\"\")","v":""},{"$f":"IF(OR(EOMONTH(Formula_week!$B$4,0)>Formula_week!QC8,(AND(YEAR(Formula_week!$B$4)=YEAR(Formula_week!QC8),(MONTH(Formula_week!$B$4)=MONTH(Formula_week!QC8))))),Formula_week!QC12,\"\")","v":""},{"$f":"IF(OR(EOMONTH(Formula_week!$B$4,0)>Formula_week!QD8,(AND(YEAR(Formula_week!$B$4)=YEAR(Formula_week!QD8),(MONTH(Formula_week!$B$4)=MONTH(Formula_week!QD8))))),Formula_week!QD12,\"\")","v":""},{"$f":"IF(OR(EOMONTH(Formula_week!$B$4,0)>Formula_week!QE8,(AND(YEAR(Formula_week!$B$4)=YEAR(Formula_week!QE8),(MONTH(Formula_week!$B$4)=MONTH(Formula_week!QE8))))),Formula_week!QE12,\"\")","v":""},{"$f":"IF(OR(EOMONTH(Formula_week!$B$4,0)>Formula_week!QF8,(AND(YEAR(Formula_week!$B$4)=YEAR(Formula_week!QF8),(MONTH(Formula_week!$B$4)=MONTH(Formula_week!QF8))))),Formula_week!QF12,\"\")","v":""},{"$f":"IF(OR(EOMONTH(Formula_week!$B$4,0)>Formula_week!QG8,(AND(YEAR(Formula_week!$B$4)=YEAR(Formula_week!QG8),(MONTH(Formula_week!$B$4)=MONTH(Formula_week!QG8))))),Formula_week!QG12,\"\")","v":""},{"$f":"IF(OR(EOMONTH(Formula_week!$B$4,0)>Formula_week!QH8,(AND(YEAR(Formula_week!$B$4)=YEAR(Formula_week!QH8),(MONTH(Formula_week!$B$4)=MONTH(Formula_week!QH8))))),Formula_week!QH12,\"\")","v":""},{"$f":"IF(OR(EOMONTH(Formula_week!$B$4,0)>Formula_week!QI8,(AND(YEAR(Formula_week!$B$4)=YEAR(Formula_week!QI8),(MONTH(Formula_week!$B$4)=MONTH(Formula_week!QI8))))),Formula_week!QI12,\"\")","v":""},{"$f":"IF(OR(EOMONTH(Formula_week!$B$4,0)>Formula_week!QJ8,(AND(YEAR(Formula_week!$B$4)=YEAR(Formula_week!QJ8),(MONTH(Formula_week!$B$4)=MONTH(Formula_week!QJ8))))),Formula_week!QJ12,\"\")","v":""},{"$f":"IF(OR(EOMONTH(Formula_week!$B$4,0)>Formula_week!QK8,(AND(YEAR(Formula_week!$B$4)=YEAR(Formula_week!QK8),(MONTH(Formula_week!$B$4)=MONTH(Formula_week!QK8))))),Formula_week!QK12,\"\")","v":""},{"$f":"IF(OR(EOMONTH(Formula_week!$B$4,0)>Formula_week!QL8,(AND(YEAR(Formula_week!$B$4)=YEAR(Formula_week!QL8),(MONTH(Formula_week!$B$4)=MONTH(Formula_week!QL8))))),Formula_week!QL12,\"\")","v":""},{"$f":"IF(OR(EOMONTH(Formula_week!$B$4,0)>Formula_week!QM8,(AND(YEAR(Formula_week!$B$4)=YEAR(Formula_week!QM8),(MONTH(Formula_week!$B$4)=MONTH(Formula_week!QM8))))),Formula_week!QM12,\"\")","v":""},{"$f":"IF(OR(EOMONTH(Formula_week!$B$4,0)>Formula_week!QN8,(AND(YEAR(Formula_week!$B$4)=YEAR(Formula_week!QN8),(MONTH(Formula_week!$B$4)=MONTH(Formula_week!QN8))))),Formula_week!QN12,\"\")","v":""},{"$f":"IF(OR(EOMONTH(Formula_week!$B$4,0)>Formula_week!QO8,(AND(YEAR(Formula_week!$B$4)=YEAR(Formula_week!QO8),(MONTH(Formula_week!$B$4)=MONTH(Formula_week!QO8))))),Formula_week!QO12,\"\")","v":""},{"$f":"IF(OR(EOMONTH(Formula_week!$B$4,0)>Formula_week!QP8,(AND(YEAR(Formula_week!$B$4)=YEAR(Formula_week!QP8),(MONTH(Formula_week!$B$4)=MONTH(Formula_week!QP8))))),Formula_week!QP12,\"\")","v":""},{"$f":"IF(OR(EOMONTH(Formula_week!$B$4,0)>Formula_week!QQ8,(AND(YEAR(Formula_week!$B$4)=YEAR(Formula_week!QQ8),(MONTH(Formula_week!$B$4)=MONTH(Formula_week!QQ8))))),Formula_week!QQ12,\"\")","v":""},{"$f":"IF(OR(EOMONTH(Formula_week!$B$4,0)>Formula_week!QR8,(AND(YEAR(Formula_week!$B$4)=YEAR(Formula_week!QR8),(MONTH(Formula_week!$B$4)=MONTH(Formula_week!QR8))))),Formula_week!QR12,\"\")","v":""},{"$f":"IF(OR(EOMONTH(Formula_week!$B$4,0)>Formula_week!QS8,(AND(YEAR(Formula_week!$B$4)=YEAR(Formula_week!QS8),(MONTH(Formula_week!$B$4)=MONTH(Formula_week!QS8))))),Formula_week!QS12,\"\")","v":""},{"$f":"IF(OR(EOMONTH(Formula_week!$B$4,0)>Formula_week!QT8,(AND(YEAR(Formula_week!$B$4)=YEAR(Formula_week!QT8),(MONTH(Formula_week!$B$4)=MONTH(Formula_week!QT8))))),Formula_week!QT12,\"\")","v":""},{"$f":"IF(OR(EOMONTH(Formula_week!$B$4,0)>Formula_week!QU8,(AND(YEAR(Formula_week!$B$4)=YEAR(Formula_week!QU8),(MONTH(Formula_week!$B$4)=MONTH(Formula_week!QU8))))),Formula_week!QU12,\"\")","v":""},{"$f":"IF(OR(EOMONTH(Formula_week!$B$4,0)>Formula_week!QV8,(AND(YEAR(Formula_week!$B$4)=YEAR(Formula_week!QV8),(MONTH(Formula_week!$B$4)=MONTH(Formula_week!QV8))))),Formula_week!QV12,\"\")","v":""},{"$f":"IF(OR(EOMONTH(Formula_week!$B$4,0)>Formula_week!QW8,(AND(YEAR(Formula_week!$B$4)=YEAR(Formula_week!QW8),(MONTH(Formula_week!$B$4)=MONTH(Formula_week!QW8))))),Formula_week!QW12,\"\")","v":""},{"$f":"IF(OR(EOMONTH(Formula_week!$B$4,0)>Formula_week!QX8,(AND(YEAR(Formula_week!$B$4)=YEAR(Formula_week!QX8),(MONTH(Formula_week!$B$4)=MONTH(Formula_week!QX8))))),Formula_week!QX12,\"\")","v":""},{"$f":"IF(OR(EOMONTH(Formula_week!$B$4,0)>Formula_week!QY8,(AND(YEAR(Formula_week!$B$4)=YEAR(Formula_week!QY8),(MONTH(Formula_week!$B$4)=MONTH(Formula_week!QY8))))),Formula_week!QY12,\"\")","v":""},{"$f":"IF(OR(EOMONTH(Formula_week!$B$4,0)>Formula_week!QZ8,(AND(YEAR(Formula_week!$B$4)=YEAR(Formula_week!QZ8),(MONTH(Formula_week!$B$4)=MONTH(Formula_week!QZ8))))),Formula_week!QZ12,\"\")","v":""},{"$f":"IF(OR(EOMONTH(Formula_week!$B$4,0)>Formula_week!RA8,(AND(YEAR(Formula_week!$B$4)=YEAR(Formula_week!RA8),(MONTH(Formula_week!$B$4)=MONTH(Formula_week!RA8))))),Formula_week!RA12,\"\")","v":""},{"$f":"IF(OR(EOMONTH(Formula_week!$B$4,0)>Formula_week!RB8,(AND(YEAR(Formula_week!$B$4)=YEAR(Formula_week!RB8),(MONTH(Formula_week!$B$4)=MONTH(Formula_week!RB8))))),Formula_week!RB12,\"\")","v":""},{"$f":"IF(OR(EOMONTH(Formula_week!$B$4,0)>Formula_week!RC8,(AND(YEAR(Formula_week!$B$4)=YEAR(Formula_week!RC8),(MONTH(Formula_week!$B$4)=MONTH(Formula_week!RC8))))),Formula_week!RC12,\"\")","v":""},{"$f":"IF(OR(EOMONTH(Formula_week!$B$4,0)>Formula_week!RD8,(AND(YEAR(Formula_week!$B$4)=YEAR(Formula_week!RD8),(MONTH(Formula_week!$B$4)=MONTH(Formula_week!RD8))))),Formula_week!RD12,\"\")","v":""},{"$f":"IF(OR(EOMONTH(Formula_week!$B$4,0)>Formula_week!RE8,(AND(YEAR(Formula_week!$B$4)=YEAR(Formula_week!RE8),(MONTH(Formula_week!$B$4)=MONTH(Formula_week!RE8))))),Formula_week!RE12,\"\")","v":""},{"$f":"IF(OR(EOMONTH(Formula_week!$B$4,0)>Formula_week!RF8,(AND(YEAR(Formula_week!$B$4)=YEAR(Formula_week!RF8),(MONTH(Formula_week!$B$4)=MONTH(Formula_week!RF8))))),Formula_week!RF12,\"\")","v":""},{"$f":"IF(OR(EOMONTH(Formula_week!$B$4,0)>Formula_week!RG8,(AND(YEAR(Formula_week!$B$4)=YEAR(Formula_week!RG8),(MONTH(Formula_week!$B$4)=MONTH(Formula_week!RG8))))),Formula_week!RG12,\"\")","v":""},{"$f":"IF(OR(EOMONTH(Formula_week!$B$4,0)>Formula_week!RH8,(AND(YEAR(Formula_week!$B$4)=YEAR(Formula_week!RH8),(MONTH(Formula_week!$B$4)=MONTH(Formula_week!RH8))))),Formula_week!RH12,\"\")","v":""},{"$f":"IF(OR(EOMONTH(Formula_week!$B$4,0)>Formula_week!RI8,(AND(YEAR(Formula_week!$B$4)=YEAR(Formula_week!RI8),(MONTH(Formula_week!$B$4)=MONTH(Formula_week!RI8))))),Formula_week!RI12,\"\")","v":""},{"$f":"IF(OR(EOMONTH(Formula_week!$B$4,0)>Formula_week!RJ8,(AND(YEAR(Formula_week!$B$4)=YEAR(Formula_week!RJ8),(MONTH(Formula_week!$B$4)=MONTH(Formula_week!RJ8))))),Formula_week!RJ12,\"\")","v":""},{"$f":"IF(OR(EOMONTH(Formula_week!$B$4,0)>Formula_week!RK8,(AND(YEAR(Formula_week!$B$4)=YEAR(Formula_week!RK8),(MONTH(Formula_week!$B$4)=MONTH(Formula_week!RK8))))),Formula_week!RK12,\"\")","v":""},{"$f":"IF(OR(EOMONTH(Formula_week!$B$4,0)>Formula_week!RL8,(AND(YEAR(Formula_week!$B$4)=YEAR(Formula_week!RL8),(MONTH(Formula_week!$B$4)=MONTH(Formula_week!RL8))))),Formula_week!RL12,\"\")","v":""},{"$f":"IF(OR(EOMONTH(Formula_week!$B$4,0)>Formula_week!RM8,(AND(YEAR(Formula_week!$B$4)=YEAR(Formula_week!RM8),(MONTH(Formula_week!$B$4)=MONTH(Formula_week!RM8))))),Formula_week!RM12,\"\")","v":""},{"$f":"IF(OR(EOMONTH(Formula_week!$B$4,0)>Formula_week!RN8,(AND(YEAR(Formula_week!$B$4)=YEAR(Formula_week!RN8),(MONTH(Formula_week!$B$4)=MONTH(Formula_week!RN8))))),Formula_week!RN12,\"\")","v":""},{"$f":"IF(OR(EOMONTH(Formula_week!$B$4,0)>Formula_week!RO8,(AND(YEAR(Formula_week!$B$4)=YEAR(Formula_week!RO8),(MONTH(Formula_week!$B$4)=MONTH(Formula_week!RO8))))),Formula_week!RO12,\"\")","v":""},{"$f":"IF(OR(EOMONTH(Formula_week!$B$4,0)>Formula_week!RP8,(AND(YEAR(Formula_week!$B$4)=YEAR(Formula_week!RP8),(MONTH(Formula_week!$B$4)=MONTH(Formula_week!RP8))))),Formula_week!RP12,\"\")","v":""},{"$f":"IF(OR(EOMONTH(Formula_week!$B$4,0)>Formula_week!RQ8,(AND(YEAR(Formula_week!$B$4)=YEAR(Formula_week!RQ8),(MONTH(Formula_week!$B$4)=MONTH(Formula_week!RQ8))))),Formula_week!RQ12,\"\")","v":""},{"$f":"IF(OR(EOMONTH(Formula_week!$B$4,0)>Formula_week!RR8,(AND(YEAR(Formula_week!$B$4)=YEAR(Formula_week!RR8),(MONTH(Formula_week!$B$4)=MONTH(Formula_week!RR8))))),Formula_week!RR12,\"\")","v":""},{"$f":"IF(OR(EOMONTH(Formula_week!$B$4,0)>Formula_week!RS8,(AND(YEAR(Formula_week!$B$4)=YEAR(Formula_week!RS8),(MONTH(Formula_week!$B$4)=MONTH(Formula_week!RS8))))),Formula_week!RS12,\"\")","v":""},{"$f":"IF(OR(EOMONTH(Formula_week!$B$4,0)>Formula_week!RT8,(AND(YEAR(Formula_week!$B$4)=YEAR(Formula_week!RT8),(MONTH(Formula_week!$B$4)=MONTH(Formula_week!RT8))))),Formula_week!RT12,\"\")","v":""},{"$f":"IF(OR(EOMONTH(Formula_week!$B$4,0)>Formula_week!RU8,(AND(YEAR(Formula_week!$B$4)=YEAR(Formula_week!RU8),(MONTH(Formula_week!$B$4)=MONTH(Formula_week!RU8))))),Formula_week!RU12,\"\")","v":""},{"$f":"IF(OR(EOMONTH(Formula_week!$B$4,0)>Formula_week!RV8,(AND(YEAR(Formula_week!$B$4)=YEAR(Formula_week!RV8),(MONTH(Formula_week!$B$4)=MONTH(Formula_week!RV8))))),Formula_week!RV12,\"\")","v":""},{"$f":"IF(OR(EOMONTH(Formula_week!$B$4,0)>Formula_week!RW8,(AND(YEAR(Formula_week!$B$4)=YEAR(Formula_week!RW8),(MONTH(Formula_week!$B$4)=MONTH(Formula_week!RW8))))),Formula_week!RW12,\"\")","v":""},{"$f":"IF(OR(EOMONTH(Formula_week!$B$4,0)>Formula_week!RX8,(AND(YEAR(Formula_week!$B$4)=YEAR(Formula_week!RX8),(MONTH(Formula_week!$B$4)=MONTH(Formula_week!RX8))))),Formula_week!RX12,\"\")","v":""},{"$f":"IF(OR(EOMONTH(Formula_week!$B$4,0)>Formula_week!RY8,(AND(YEAR(Formula_week!$B$4)=YEAR(Formula_week!RY8),(MONTH(Formula_week!$B$4)=MONTH(Formula_week!RY8))))),Formula_week!RY12,\"\")","v":""},{"$f":"IF(OR(EOMONTH(Formula_week!$B$4,0)>Formula_week!RZ8,(AND(YEAR(Formula_week!$B$4)=YEAR(Formula_week!RZ8),(MONTH(Formula_week!$B$4)=MONTH(Formula_week!RZ8))))),Formula_week!RZ12,\"\")","v":""},{"$f":"IF(OR(EOMONTH(Formula_week!$B$4,0)>Formula_week!SA8,(AND(YEAR(Formula_week!$B$4)=YEAR(Formula_week!SA8),(MONTH(Formula_week!$B$4)=MONTH(Formula_week!SA8))))),Formula_week!SA12,\"\")","v":""},{"$f":"IF(OR(EOMONTH(Formula_week!$B$4,0)>Formula_week!SB8,(AND(YEAR(Formula_week!$B$4)=YEAR(Formula_week!SB8),(MONTH(Formula_week!$B$4)=MONTH(Formula_week!SB8))))),Formula_week!SB12,\"\")","v":""},{"$f":"IF(OR(EOMONTH(Formula_week!$B$4,0)>Formula_week!SC8,(AND(YEAR(Formula_week!$B$4)=YEAR(Formula_week!SC8),(MONTH(Formula_week!$B$4)=MONTH(Formula_week!SC8))))),Formula_week!SC12,\"\")","v":""},{"$f":"IF(OR(EOMONTH(Formula_week!$B$4,0)>Formula_week!SD8,(AND(YEAR(Formula_week!$B$4)=YEAR(Formula_week!SD8),(MONTH(Formula_week!$B$4)=MONTH(Formula_week!SD8))))),Formula_week!SD12,\"\")","v":""},{"$f":"IF(OR(EOMONTH(Formula_week!$B$4,0)>Formula_week!SE8,(AND(YEAR(Formula_week!$B$4)=YEAR(Formula_week!SE8),(MONTH(Formula_week!$B$4)=MONTH(Formula_week!SE8))))),Formula_week!SE12,\"\")","v":""},{"$f":"IF(OR(EOMONTH(Formula_week!$B$4,0)>Formula_week!SF8,(AND(YEAR(Formula_week!$B$4)=YEAR(Formula_week!SF8),(MONTH(Formula_week!$B$4)=MONTH(Formula_week!SF8))))),Formula_week!SF12,\"\")","v":""},{"$f":"IF(OR(EOMONTH(Formula_week!$B$4,0)>Formula_week!SG8,(AND(YEAR(Formula_week!$B$4)=YEAR(Formula_week!SG8),(MONTH(Formula_week!$B$4)=MONTH(Formula_week!SG8))))),Formula_week!SG12,\"\")","v":""},{"$f":"IF(OR(EOMONTH(Formula_week!$B$4,0)>Formula_week!SH8,(AND(YEAR(Formula_week!$B$4)=YEAR(Formula_week!SH8),(MONTH(Formula_week!$B$4)=MONTH(Formula_week!SH8))))),Formula_week!SH12,\"\")","v":""},{"$f":"IF(OR(EOMONTH(Formula_week!$B$4,0)>Formula_week!SI8,(AND(YEAR(Formula_week!$B$4)=YEAR(Formula_week!SI8),(MONTH(Formula_week!$B$4)=MONTH(Formula_week!SI8))))),Formula_week!SI12,\"\")","v":""},{"$f":"IF(OR(EOMONTH(Formula_week!$B$4,0)>Formula_week!SJ8,(AND(YEAR(Formula_week!$B$4)=YEAR(Formula_week!SJ8),(MONTH(Formula_week!$B$4)=MONTH(Formula_week!SJ8))))),Formula_week!SJ12,\"\")","v":""},{"$f":"IF(OR(EOMONTH(Formula_week!$B$4,0)>Formula_week!SK8,(AND(YEAR(Formula_week!$B$4)=YEAR(Formula_week!SK8),(MONTH(Formula_week!$B$4)=MONTH(Formula_week!SK8))))),Formula_week!SK12,\"\")","v":""},{"$f":"IF(OR(EOMONTH(Formula_week!$B$4,0)>Formula_week!SL8,(AND(YEAR(Formula_week!$B$4)=YEAR(Formula_week!SL8),(MONTH(Formula_week!$B$4)=MONTH(Formula_week!SL8))))),Formula_week!SL12,\"\")","v":""},{"$f":"IF(OR(EOMONTH(Formula_week!$B$4,0)>Formula_week!SM8,(AND(YEAR(Formula_week!$B$4)=YEAR(Formula_week!SM8),(MONTH(Formula_week!$B$4)=MONTH(Formula_week!SM8))))),Formula_week!SM12,\"\")","v":""},{"$f":"IF(OR(EOMONTH(Formula_week!$B$4,0)>Formula_week!SN8,(AND(YEAR(Formula_week!$B$4)=YEAR(Formula_week!SN8),(MONTH(Formula_week!$B$4)=MONTH(Formula_week!SN8))))),Formula_week!SN12,\"\")","v":""},{"$f":"IF(OR(EOMONTH(Formula_week!$B$4,0)>Formula_week!SO8,(AND(YEAR(Formula_week!$B$4)=YEAR(Formula_week!SO8),(MONTH(Formula_week!$B$4)=MONTH(Formula_week!SO8))))),Formula_week!SO12,\"\")","v":""},{"$f":"IF(OR(EOMONTH(Formula_week!$B$4,0)>Formula_week!SP8,(AND(YEAR(Formula_week!$B$4)=YEAR(Formula_week!SP8),(MONTH(Formula_week!$B$4)=MONTH(Formula_week!SP8))))),Formula_week!SP12,\"\")","v":""},{"$f":"IF(OR(EOMONTH(Formula_week!$B$4,0)>Formula_week!SQ8,(AND(YEAR(Formula_week!$B$4)=YEAR(Formula_week!SQ8),(MONTH(Formula_week!$B$4)=MONTH(Formula_week!SQ8))))),Formula_week!SQ12,\"\")","v":""},{"$f":"IF(OR(EOMONTH(Formula_week!$B$4,0)>Formula_week!SR8,(AND(YEAR(Formula_week!$B$4)=YEAR(Formula_week!SR8),(MONTH(Formula_week!$B$4)=MONTH(Formula_week!SR8))))),Formula_week!SR12,\"\")","v":""},{"$f":"IF(OR(EOMONTH(Formula_week!$B$4,0)>Formula_week!SS8,(AND(YEAR(Formula_week!$B$4)=YEAR(Formula_week!SS8),(MONTH(Formula_week!$B$4)=MONTH(Formula_week!SS8))))),Formula_week!SS12,\"\")","v":""},{"$f":"IF(OR(EOMONTH(Formula_week!$B$4,0)>Formula_week!ST8,(AND(YEAR(Formula_week!$B$4)=YEAR(Formula_week!ST8),(MONTH(Formula_week!$B$4)=MONTH(Formula_week!ST8))))),Formula_week!ST12,\"\")","v":""},{"$f":"IF(OR(EOMONTH(Formula_week!$B$4,0)>Formula_week!SU8,(AND(YEAR(Formula_week!$B$4)=YEAR(Formula_week!SU8),(MONTH(Formula_week!$B$4)=MONTH(Formula_week!SU8))))),Formula_week!SU12,\"\")","v":""},{"$f":"IF(OR(EOMONTH(Formula_week!$B$4,0)>Formula_week!SV8,(AND(YEAR(Formula_week!$B$4)=YEAR(Formula_week!SV8),(MONTH(Formula_week!$B$4)=MONTH(Formula_week!SV8))))),Formula_week!SV12,\"\")","v":""},{"$f":"IF(OR(EOMONTH(Formula_week!$B$4,0)>Formula_week!SW8,(AND(YEAR(Formula_week!$B$4)=YEAR(Formula_week!SW8),(MONTH(Formula_week!$B$4)=MONTH(Formula_week!SW8))))),Formula_week!SW12,\"\")","v":""},{"$f":"IF(OR(EOMONTH(Formula_week!$B$4,0)>Formula_week!SX8,(AND(YEAR(Formula_week!$B$4)=YEAR(Formula_week!SX8),(MONTH(Formula_week!$B$4)=MONTH(Formula_week!SX8))))),Formula_week!SX12,\"\")","v":""},{"$f":"IF(OR(EOMONTH(Formula_week!$B$4,0)>Formula_week!SY8,(AND(YEAR(Formula_week!$B$4)=YEAR(Formula_week!SY8),(MONTH(Formula_week!$B$4)=MONTH(Formula_week!SY8))))),Formula_week!SY12,\"\")","v":""},{"$f":"IF(OR(EOMONTH(Formula_week!$B$4,0)>Formula_week!SZ8,(AND(YEAR(Formula_week!$B$4)=YEAR(Formula_week!SZ8),(MONTH(Formula_week!$B$4)=MONTH(Formula_week!SZ8))))),Formula_week!SZ12,\"\")","v":""},{"$f":"IF(OR(EOMONTH(Formula_week!$B$4,0)>Formula_week!TA8,(AND(YEAR(Formula_week!$B$4)=YEAR(Formula_week!TA8),(MONTH(Formula_week!$B$4)=MONTH(Formula_week!TA8))))),Formula_week!TA12,\"\")","v":""},{"$f":"IF(OR(EOMONTH(Formula_week!$B$4,0)>Formula_week!TB8,(AND(YEAR(Formula_week!$B$4)=YEAR(Formula_week!TB8),(MONTH(Formula_week!$B$4)=MONTH(Formula_week!TB8))))),Formula_week!TB12,\"\")","v":""},{"$f":"IF(OR(EOMONTH(Formula_week!$B$4,0)>Formula_week!TC8,(AND(YEAR(Formula_week!$B$4)=YEAR(Formula_week!TC8),(MONTH(Formula_week!$B$4)=MONTH(Formula_week!TC8))))),Formula_week!TC12,\"\")","v":""},{"$f":"IF(OR(EOMONTH(Formula_week!$B$4,0)>Formula_week!TD8,(AND(YEAR(Formula_week!$B$4)=YEAR(Formula_week!TD8),(MONTH(Formula_week!$B$4)=MONTH(Formula_week!TD8))))),Formula_week!TD12,\"\")","v":""},{"$f":"IF(OR(EOMONTH(Formula_week!$B$4,0)>Formula_week!TE8,(AND(YEAR(Formula_week!$B$4)=YEAR(Formula_week!TE8),(MONTH(Formula_week!$B$4)=MONTH(Formula_week!TE8))))),Formula_week!TE12,\"\")","v":""},{"$f":"IF(OR(EOMONTH(Formula_week!$B$4,0)>Formula_week!TF8,(AND(YEAR(Formula_week!$B$4)=YEAR(Formula_week!TF8),(MONTH(Formula_week!$B$4)=MONTH(Formula_week!TF8))))),Formula_week!TF12,\"\")","v":""},{"$f":"IF(OR(EOMONTH(Formula_week!$B$4,0)>Formula_week!TG8,(AND(YEAR(Formula_week!$B$4)=YEAR(Formula_week!TG8),(MONTH(Formula_week!$B$4)=MONTH(Formula_week!TG8))))),Formula_week!TG12,\"\")","v":""},{"$f":"IF(OR(EOMONTH(Formula_week!$B$4,0)>Formula_week!TH8,(AND(YEAR(Formula_week!$B$4)=YEAR(Formula_week!TH8),(MONTH(Formula_week!$B$4)=MONTH(Formula_week!TH8))))),Formula_week!TH12,\"\")","v":""},{"$f":"IF(OR(EOMONTH(Formula_week!$B$4,0)>Formula_week!TI8,(AND(YEAR(Formula_week!$B$4)=YEAR(Formula_week!TI8),(MONTH(Formula_week!$B$4)=MONTH(Formula_week!TI8))))),Formula_week!TI12,\"\")","v":""},{"$f":"IF(OR(EOMONTH(Formula_week!$B$4,0)>Formula_week!TJ8,(AND(YEAR(Formula_week!$B$4)=YEAR(Formula_week!TJ8),(MONTH(Formula_week!$B$4)=MONTH(Formula_week!TJ8))))),Formula_week!TJ12,\"\")","v":""},{"$f":"IF(OR(EOMONTH(Formula_week!$B$4,0)>Formula_week!TK8,(AND(YEAR(Formula_week!$B$4)=YEAR(Formula_week!TK8),(MONTH(Formula_week!$B$4)=MONTH(Formula_week!TK8))))),Formula_week!TK12,\"\")","v":""},{"$f":"IF(OR(EOMONTH(Formula_week!$B$4,0)>Formula_week!TL8,(AND(YEAR(Formula_week!$B$4)=YEAR(Formula_week!TL8),(MONTH(Formula_week!$B$4)=MONTH(Formula_week!TL8))))),Formula_week!TL12,\"\")","v":""},{"$f":"IF(OR(EOMONTH(Formula_week!$B$4,0)>Formula_week!TM8,(AND(YEAR(Formula_week!$B$4)=YEAR(Formula_week!TM8),(MONTH(Formula_week!$B$4)=MONTH(Formula_week!TM8))))),Formula_week!TM12,\"\")","v":""},{"$f":"IF(OR(EOMONTH(Formula_week!$B$4,0)>Formula_week!TN8,(AND(YEAR(Formula_week!$B$4)=YEAR(Formula_week!TN8),(MONTH(Formula_week!$B$4)=MONTH(Formula_week!TN8))))),Formula_week!TN12,\"\")","v":""},{"$f":"IF(OR(EOMONTH(Formula_week!$B$4,0)>Formula_week!TO8,(AND(YEAR(Formula_week!$B$4)=YEAR(Formula_week!TO8),(MONTH(Formula_week!$B$4)=MONTH(Formula_week!TO8))))),Formula_week!TO12,\"\")","v":""},{"$f":"IF(OR(EOMONTH(Formula_week!$B$4,0)>Formula_week!TP8,(AND(YEAR(Formula_week!$B$4)=YEAR(Formula_week!TP8),(MONTH(Formula_week!$B$4)=MONTH(Formula_week!TP8))))),Formula_week!TP12,\"\")","v":""},{"$f":"IF(OR(EOMONTH(Formula_week!$B$4,0)>Formula_week!TQ8,(AND(YEAR(Formula_week!$B$4)=YEAR(Formula_week!TQ8),(MONTH(Formula_week!$B$4)=MONTH(Formula_week!TQ8))))),Formula_week!TQ12,\"\")","v":""},{"$f":"IF(OR(EOMONTH(Formula_week!$B$4,0)>Formula_week!TR8,(AND(YEAR(Formula_week!$B$4)=YEAR(Formula_week!TR8),(MONTH(Formula_week!$B$4)=MONTH(Formula_week!TR8))))),Formula_week!TR12,\"\")","v":""},{"$f":"IF(OR(EOMONTH(Formula_week!$B$4,0)>Formula_week!TS8,(AND(YEAR(Formula_week!$B$4)=YEAR(Formula_week!TS8),(MONTH(Formula_week!$B$4)=MONTH(Formula_week!TS8))))),Formula_week!TS12,\"\")","v":""},{"$f":"IF(OR(EOMONTH(Formula_week!$B$4,0)>Formula_week!TT8,(AND(YEAR(Formula_week!$B$4)=YEAR(Formula_week!TT8),(MONTH(Formula_week!$B$4)=MONTH(Formula_week!TT8))))),Formula_week!TT12,\"\")","v":""},{"$f":"IF(OR(EOMONTH(Formula_week!$B$4,0)>Formula_week!TU8,(AND(YEAR(Formula_week!$B$4)=YEAR(Formula_week!TU8),(MONTH(Formula_week!$B$4)=MONTH(Formula_week!TU8))))),Formula_week!TU12,\"\")","v":""},{"$f":"IF(OR(EOMONTH(Formula_week!$B$4,0)>Formula_week!TV8,(AND(YEAR(Formula_week!$B$4)=YEAR(Formula_week!TV8),(MONTH(Formula_week!$B$4)=MONTH(Formula_week!TV8))))),Formula_week!TV12,\"\")","v":""},{"$f":"IF(OR(EOMONTH(Formula_week!$B$4,0)>Formula_week!TW8,(AND(YEAR(Formula_week!$B$4)=YEAR(Formula_week!TW8),(MONTH(Formula_week!$B$4)=MONTH(Formula_week!TW8))))),Formula_week!TW12,\"\")","v":""},{"$f":"IF(OR(EOMONTH(Formula_week!$B$4,0)>Formula_week!TX8,(AND(YEAR(Formula_week!$B$4)=YEAR(Formula_week!TX8),(MONTH(Formula_week!$B$4)=MONTH(Formula_week!TX8))))),Formula_week!TX12,\"\")","v":""},{"$f":"IF(OR(EOMONTH(Formula_week!$B$4,0)>Formula_week!TY8,(AND(YEAR(Formula_week!$B$4)=YEAR(Formula_week!TY8),(MONTH(Formula_week!$B$4)=MONTH(Formula_week!TY8))))),Formula_week!TY12,\"\")","v":""},{"$f":"IF(OR(EOMONTH(Formula_week!$B$4,0)>Formula_week!TZ8,(AND(YEAR(Formula_week!$B$4)=YEAR(Formula_week!TZ8),(MONTH(Formula_week!$B$4)=MONTH(Formula_week!TZ8))))),Formula_week!TZ12,\"\")","v":""},{"$f":"IF(OR(EOMONTH(Formula_week!$B$4,0)>Formula_week!UA8,(AND(YEAR(Formula_week!$B$4)=YEAR(Formula_week!UA8),(MONTH(Formula_week!$B$4)=MONTH(Formula_week!UA8))))),Formula_week!UA12,\"\")","v":""},{"$f":"IF(OR(EOMONTH(Formula_week!$B$4,0)>Formula_week!UB8,(AND(YEAR(Formula_week!$B$4)=YEAR(Formula_week!UB8),(MONTH(Formula_week!$B$4)=MONTH(Formula_week!UB8))))),Formula_week!UB12,\"\")","v":""},{"$f":"IF(OR(EOMONTH(Formula_week!$B$4,0)>Formula_week!UC8,(AND(YEAR(Formula_week!$B$4)=YEAR(Formula_week!UC8),(MONTH(Formula_week!$B$4)=MONTH(Formula_week!UC8))))),Formula_week!UC12,\"\")","v":""},{"$f":"IF(OR(EOMONTH(Formula_week!$B$4,0)>Formula_week!UD8,(AND(YEAR(Formula_week!$B$4)=YEAR(Formula_week!UD8),(MONTH(Formula_week!$B$4)=MONTH(Formula_week!UD8))))),Formula_week!UD12,\"\")","v":""},{"$f":"IF(OR(EOMONTH(Formula_week!$B$4,0)>Formula_week!UE8,(AND(YEAR(Formula_week!$B$4)=YEAR(Formula_week!UE8),(MONTH(Formula_week!$B$4)=MONTH(Formula_week!UE8))))),Formula_week!UE12,\"\")","v":""},{"$f":"IF(OR(EOMONTH(Formula_week!$B$4,0)>Formula_week!UF8,(AND(YEAR(Formula_week!$B$4)=YEAR(Formula_week!UF8),(MONTH(Formula_week!$B$4)=MONTH(Formula_week!UF8))))),Formula_week!UF12,\"\")","v":""},{"$f":"IF(OR(EOMONTH(Formula_week!$B$4,0)>Formula_week!UG8,(AND(YEAR(Formula_week!$B$4)=YEAR(Formula_week!UG8),(MONTH(Formula_week!$B$4)=MONTH(Formula_week!UG8))))),Formula_week!UG12,\"\")","v":""},{"$f":"IF(OR(EOMONTH(Formula_week!$B$4,0)>Formula_week!UH8,(AND(YEAR(Formula_week!$B$4)=YEAR(Formula_week!UH8),(MONTH(Formula_week!$B$4)=MONTH(Formula_week!UH8))))),Formula_week!UH12,\"\")","v":""},{"$f":"IF(OR(EOMONTH(Formula_week!$B$4,0)>Formula_week!UI8,(AND(YEAR(Formula_week!$B$4)=YEAR(Formula_week!UI8),(MONTH(Formula_week!$B$4)=MONTH(Formula_week!UI8))))),Formula_week!UI12,\"\")","v":""},{"$f":"IF(OR(EOMONTH(Formula_week!$B$4,0)>Formula_week!UJ8,(AND(YEAR(Formula_week!$B$4)=YEAR(Formula_week!UJ8),(MONTH(Formula_week!$B$4)=MONTH(Formula_week!UJ8))))),Formula_week!UJ12,\"\")","v":""},{"$f":"IF(OR(EOMONTH(Formula_week!$B$4,0)>Formula_week!UK8,(AND(YEAR(Formula_week!$B$4)=YEAR(Formula_week!UK8),(MONTH(Formula_week!$B$4)=MONTH(Formula_week!UK8))))),Formula_week!UK12,\"\")","v":""},{"$f":"IF(OR(EOMONTH(Formula_week!$B$4,0)>Formula_week!UL8,(AND(YEAR(Formula_week!$B$4)=YEAR(Formula_week!UL8),(MONTH(Formula_week!$B$4)=MONTH(Formula_week!UL8))))),Formula_week!UL12,\"\")","v":""},{"$f":"IF(OR(EOMONTH(Formula_week!$B$4,0)>Formula_week!UM8,(AND(YEAR(Formula_week!$B$4)=YEAR(Formula_week!UM8),(MONTH(Formula_week!$B$4)=MONTH(Formula_week!UM8))))),Formula_week!UM12,\"\")","v":""},{"$f":"IF(OR(EOMONTH(Formula_week!$B$4,0)>Formula_week!UN8,(AND(YEAR(Formula_week!$B$4)=YEAR(Formula_week!UN8),(MONTH(Formula_week!$B$4)=MONTH(Formula_week!UN8))))),Formula_week!UN12,\"\")","v":""},{"$f":"IF(OR(EOMONTH(Formula_week!$B$4,0)>Formula_week!UO8,(AND(YEAR(Formula_week!$B$4)=YEAR(Formula_week!UO8),(MONTH(Formula_week!$B$4)=MONTH(Formula_week!UO8))))),Formula_week!UO12,\"\")","v":""},{"$f":"IF(OR(EOMONTH(Formula_week!$B$4,0)>Formula_week!UP8,(AND(YEAR(Formula_week!$B$4)=YEAR(Formula_week!UP8),(MONTH(Formula_week!$B$4)=MONTH(Formula_week!UP8))))),Formula_week!UP12,\"\")","v":""},{"$f":"IF(OR(EOMONTH(Formula_week!$B$4,0)>Formula_week!UQ8,(AND(YEAR(Formula_week!$B$4)=YEAR(Formula_week!UQ8),(MONTH(Formula_week!$B$4)=MONTH(Formula_week!UQ8))))),Formula_week!UQ12,\"\")","v":""},{"$f":"IF(OR(EOMONTH(Formula_week!$B$4,0)>Formula_week!UR8,(AND(YEAR(Formula_week!$B$4)=YEAR(Formula_week!UR8),(MONTH(Formula_week!$B$4)=MONTH(Formula_week!UR8))))),Formula_week!UR12,\"\")","v":""},{"$f":"IF(OR(EOMONTH(Formula_week!$B$4,0)>Formula_week!US8,(AND(YEAR(Formula_week!$B$4)=YEAR(Formula_week!US8),(MONTH(Formula_week!$B$4)=MONTH(Formula_week!US8))))),Formula_week!US12,\"\")","v":""},{"$f":"IF(OR(EOMONTH(Formula_week!$B$4,0)>Formula_week!UT8,(AND(YEAR(Formula_week!$B$4)=YEAR(Formula_week!UT8),(MONTH(Formula_week!$B$4)=MONTH(Formula_week!UT8))))),Formula_week!UT12,\"\")","v":""},{"$f":"IF(OR(EOMONTH(Formula_week!$B$4,0)>Formula_week!UU8,(AND(YEAR(Formula_week!$B$4)=YEAR(Formula_week!UU8),(MONTH(Formula_week!$B$4)=MONTH(Formula_week!UU8))))),Formula_week!UU12,\"\")","v":""},{"$f":"IF(OR(EOMONTH(Formula_week!$B$4,0)>Formula_week!UV8,(AND(YEAR(Formula_week!$B$4)=YEAR(Formula_week!UV8),(MONTH(Formula_week!$B$4)=MONTH(Formula_week!UV8))))),Formula_week!UV12,\"\")","v":""},{"$f":"IF(OR(EOMONTH(Formula_week!$B$4,0)>Formula_week!UW8,(AND(YEAR(Formula_week!$B$4)=YEAR(Formula_week!UW8),(MONTH(Formula_week!$B$4)=MONTH(Formula_week!UW8))))),Formula_week!UW12,\"\")","v":""},{"$f":"IF(OR(EOMONTH(Formula_week!$B$4,0)>Formula_week!UX8,(AND(YEAR(Formula_week!$B$4)=YEAR(Formula_week!UX8),(MONTH(Formula_week!$B$4)=MONTH(Formula_week!UX8))))),Formula_week!UX12,\"\")","v":""},{"$f":"IF(OR(EOMONTH(Formula_week!$B$4,0)>Formula_week!UY8,(AND(YEAR(Formula_week!$B$4)=YEAR(Formula_week!UY8),(MONTH(Formula_week!$B$4)=MONTH(Formula_week!UY8))))),Formula_week!UY12,\"\")","v":""},{"$f":"IF(OR(EOMONTH(Formula_week!$B$4,0)>Formula_week!UZ8,(AND(YEAR(Formula_week!$B$4)=YEAR(Formula_week!UZ8),(MONTH(Formula_week!$B$4)=MONTH(Formula_week!UZ8))))),Formula_week!UZ12,\"\")","v":""},{"$f":"IF(OR(EOMONTH(Formula_week!$B$4,0)>Formula_week!VA8,(AND(YEAR(Formula_week!$B$4)=YEAR(Formula_week!VA8),(MONTH(Formula_week!$B$4)=MONTH(Formula_week!VA8))))),Formula_week!VA12,\"\")","v":""},{"$f":"IF(OR(EOMONTH(Formula_week!$B$4,0)>Formula_week!VB8,(AND(YEAR(Formula_week!$B$4)=YEAR(Formula_week!VB8),(MONTH(Formula_week!$B$4)=MONTH(Formula_week!VB8))))),Formula_week!VB12,\"\")","v":""},{"$f":"IF(OR(EOMONTH(Formula_week!$B$4,0)>Formula_week!VC8,(AND(YEAR(Formula_week!$B$4)=YEAR(Formula_week!VC8),(MONTH(Formula_week!$B$4)=MONTH(Formula_week!VC8))))),Formula_week!VC12,\"\")","v":""},{"$f":"IF(OR(EOMONTH(Formula_week!$B$4,0)>Formula_week!VD8,(AND(YEAR(Formula_week!$B$4)=YEAR(Formula_week!VD8),(MONTH(Formula_week!$B$4)=MONTH(Formula_week!VD8))))),Formula_week!VD12,\"\")","v":""},{"$f":"IF(OR(EOMONTH(Formula_week!$B$4,0)>Formula_week!VE8,(AND(YEAR(Formula_week!$B$4)=YEAR(Formula_week!VE8),(MONTH(Formula_week!$B$4)=MONTH(Formula_week!VE8))))),Formula_week!VE12,\"\")","v":""},{"$f":"IF(OR(EOMONTH(Formula_week!$B$4,0)>Formula_week!VF8,(AND(YEAR(Formula_week!$B$4)=YEAR(Formula_week!VF8),(MONTH(Formula_week!$B$4)=MONTH(Formula_week!VF8))))),Formula_week!VF12,\"\")","v":""},{"$f":"IF(OR(EOMONTH(Formula_week!$B$4,0)>Formula_week!VG8,(AND(YEAR(Formula_week!$B$4)=YEAR(Formula_week!VG8),(MONTH(Formula_week!$B$4)=MONTH(Formula_week!VG8))))),Formula_week!VG12,\"\")","v":""},{"$f":"IF(OR(EOMONTH(Formula_week!$B$4,0)>Formula_week!VH8,(AND(YEAR(Formula_week!$B$4)=YEAR(Formula_week!VH8),(MONTH(Formula_week!$B$4)=MONTH(Formula_week!VH8))))),Formula_week!VH12,\"\")","v":""},{"$f":"IF(OR(EOMONTH(Formula_week!$B$4,0)>Formula_week!VI8,(AND(YEAR(Formula_week!$B$4)=YEAR(Formula_week!VI8),(MONTH(Formula_week!$B$4)=MONTH(Formula_week!VI8))))),Formula_week!VI12,\"\")","v":""},{"$f":"IF(OR(EOMONTH(Formula_week!$B$4,0)>Formula_week!VJ8,(AND(YEAR(Formula_week!$B$4)=YEAR(Formula_week!VJ8),(MONTH(Formula_week!$B$4)=MONTH(Formula_week!VJ8))))),Formula_week!VJ12,\"\")","v":""},{"$f":"IF(OR(EOMONTH(Formula_week!$B$4,0)>Formula_week!VK8,(AND(YEAR(Formula_week!$B$4)=YEAR(Formula_week!VK8),(MONTH(Formula_week!$B$4)=MONTH(Formula_week!VK8))))),Formula_week!VK12,\"\")","v":""},{"$f":"IF(OR(EOMONTH(Formula_week!$B$4,0)>Formula_week!VL8,(AND(YEAR(Formula_week!$B$4)=YEAR(Formula_week!VL8),(MONTH(Formula_week!$B$4)=MONTH(Formula_week!VL8))))),Formula_week!VL12,\"\")","v":""},{"$f":"IF(OR(EOMONTH(Formula_week!$B$4,0)>Formula_week!VM8,(AND(YEAR(Formula_week!$B$4)=YEAR(Formula_week!VM8),(MONTH(Formula_week!$B$4)=MONTH(Formula_week!VM8))))),Formula_week!VM12,\"\")","v":""},{"$f":"IF(OR(EOMONTH(Formula_week!$B$4,0)>Formula_week!VN8,(AND(YEAR(Formula_week!$B$4)=YEAR(Formula_week!VN8),(MONTH(Formula_week!$B$4)=MONTH(Formula_week!VN8))))),Formula_week!VN12,\"\")","v":""},{"$f":"IF(OR(EOMONTH(Formula_week!$B$4,0)>Formula_week!VO8,(AND(YEAR(Formula_week!$B$4)=YEAR(Formula_week!VO8),(MONTH(Formula_week!$B$4)=MONTH(Formula_week!VO8))))),Formula_week!VO12,\"\")","v":""},{"$f":"IF(OR(EOMONTH(Formula_week!$B$4,0)>Formula_week!VP8,(AND(YEAR(Formula_week!$B$4)=YEAR(Formula_week!VP8),(MONTH(Formula_week!$B$4)=MONTH(Formula_week!VP8))))),Formula_week!VP12,\"\")","v":""},{"$f":"IF(OR(EOMONTH(Formula_week!$B$4,0)>Formula_week!VQ8,(AND(YEAR(Formula_week!$B$4)=YEAR(Formula_week!VQ8),(MONTH(Formula_week!$B$4)=MONTH(Formula_week!VQ8))))),Formula_week!VQ12,\"\")","v":""},{"$f":"IF(OR(EOMONTH(Formula_week!$B$4,0)>Formula_week!VR8,(AND(YEAR(Formula_week!$B$4)=YEAR(Formula_week!VR8),(MONTH(Formula_week!$B$4)=MONTH(Formula_week!VR8))))),Formula_week!VR12,\"\")","v":""},{"$f":"IF(OR(EOMONTH(Formula_week!$B$4,0)>Formula_week!VS8,(AND(YEAR(Formula_week!$B$4)=YEAR(Formula_week!VS8),(MONTH(Formula_week!$B$4)=MONTH(Formula_week!VS8))))),Formula_week!VS12,\"\")","v":""},{"$f":"IF(OR(EOMONTH(Formula_week!$B$4,0)>Formula_week!VT8,(AND(YEAR(Formula_week!$B$4)=YEAR(Formula_week!VT8),(MONTH(Formula_week!$B$4)=MONTH(Formula_week!VT8))))),Formula_week!VT12,\"\")","v":""},{"$f":"IF(OR(EOMONTH(Formula_week!$B$4,0)>Formula_week!VU8,(AND(YEAR(Formula_week!$B$4)=YEAR(Formula_week!VU8),(MONTH(Formula_week!$B$4)=MONTH(Formula_week!VU8))))),Formula_week!VU12,\"\")","v":""},{"$f":"IF(OR(EOMONTH(Formula_week!$B$4,0)>Formula_week!VV8,(AND(YEAR(Formula_week!$B$4)=YEAR(Formula_week!VV8),(MONTH(Formula_week!$B$4)=MONTH(Formula_week!VV8))))),Formula_week!VV12,\"\")","v":""},{"$f":"IF(OR(EOMONTH(Formula_week!$B$4,0)>Formula_week!VW8,(AND(YEAR(Formula_week!$B$4)=YEAR(Formula_week!VW8),(MONTH(Formula_week!$B$4)=MONTH(Formula_week!VW8))))),Formula_week!VW12,\"\")","v":""},{"$f":"IF(OR(EOMONTH(Formula_week!$B$4,0)>Formula_week!VX8,(AND(YEAR(Formula_week!$B$4)=YEAR(Formula_week!VX8),(MONTH(Formula_week!$B$4)=MONTH(Formula_week!VX8))))),Formula_week!VX12,\"\")","v":""},{"$f":"IF(OR(EOMONTH(Formula_week!$B$4,0)>Formula_week!VY8,(AND(YEAR(Formula_week!$B$4)=YEAR(Formula_week!VY8),(MONTH(Formula_week!$B$4)=MONTH(Formula_week!VY8))))),Formula_week!VY12,\"\")","v":""},{"$f":"IF(OR(EOMONTH(Formula_week!$B$4,0)>Formula_week!VZ8,(AND(YEAR(Formula_week!$B$4)=YEAR(Formula_week!VZ8),(MONTH(Formula_week!$B$4)=MONTH(Formula_week!VZ8))))),Formula_week!VZ12,\"\")","v":""},{"$f":"IF(OR(EOMONTH(Formula_week!$B$4,0)>Formula_week!WA8,(AND(YEAR(Formula_week!$B$4)=YEAR(Formula_week!WA8),(MONTH(Formula_week!$B$4)=MONTH(Formula_week!WA8))))),Formula_week!WA12,\"\")","v":""},{"$f":"IF(OR(EOMONTH(Formula_week!$B$4,0)>Formula_week!WB8,(AND(YEAR(Formula_week!$B$4)=YEAR(Formula_week!WB8),(MONTH(Formula_week!$B$4)=MONTH(Formula_week!WB8))))),Formula_week!WB12,\"\")","v":""},{"$f":"IF(OR(EOMONTH(Formula_week!$B$4,0)>Formula_week!WC8,(AND(YEAR(Formula_week!$B$4)=YEAR(Formula_week!WC8),(MONTH(Formula_week!$B$4)=MONTH(Formula_week!WC8))))),Formula_week!WC12,\"\")","v":""},{"$f":"IF(OR(EOMONTH(Formula_week!$B$4,0)>Formula_week!WD8,(AND(YEAR(Formula_week!$B$4)=YEAR(Formula_week!WD8),(MONTH(Formula_week!$B$4)=MONTH(Formula_week!WD8))))),Formula_week!WD12,\"\")","v":""},{"$f":"IF(OR(EOMONTH(Formula_week!$B$4,0)>Formula_week!WE8,(AND(YEAR(Formula_week!$B$4)=YEAR(Formula_week!WE8),(MONTH(Formula_week!$B$4)=MONTH(Formula_week!WE8))))),Formula_week!WE12,\"\")","v":""},{"$f":"IF(OR(EOMONTH(Formula_week!$B$4,0)>Formula_week!WF8,(AND(YEAR(Formula_week!$B$4)=YEAR(Formula_week!WF8),(MONTH(Formula_week!$B$4)=MONTH(Formula_week!WF8))))),Formula_week!WF12,\"\")","v":""},{"$f":"IF(OR(EOMONTH(Formula_week!$B$4,0)>Formula_week!WG8,(AND(YEAR(Formula_week!$B$4)=YEAR(Formula_week!WG8),(MONTH(Formula_week!$B$4)=MONTH(Formula_week!WG8))))),Formula_week!WG12,\"\")","v":""},{"$f":"IF(OR(EOMONTH(Formula_week!$B$4,0)>Formula_week!WH8,(AND(YEAR(Formula_week!$B$4)=YEAR(Formula_week!WH8),(MONTH(Formula_week!$B$4)=MONTH(Formula_week!WH8))))),Formula_week!WH12,\"\")","v":""},{"$f":"IF(OR(EOMONTH(Formula_week!$B$4,0)>Formula_week!WI8,(AND(YEAR(Formula_week!$B$4)=YEAR(Formula_week!WI8),(MONTH(Formula_week!$B$4)=MONTH(Formula_week!WI8))))),Formula_week!WI12,\"\")","v":""},{"$f":"IF(OR(EOMONTH(Formula_week!$B$4,0)>Formula_week!WJ8,(AND(YEAR(Formula_week!$B$4)=YEAR(Formula_week!WJ8),(MONTH(Formula_week!$B$4)=MONTH(Formula_week!WJ8))))),Formula_week!WJ12,\"\")","v":""},{"$f":"IF(OR(EOMONTH(Formula_week!$B$4,0)>Formula_week!WK8,(AND(YEAR(Formula_week!$B$4)=YEAR(Formula_week!WK8),(MONTH(Formula_week!$B$4)=MONTH(Formula_week!WK8))))),Formula_week!WK12,\"\")","v":""},{"$f":"IF(OR(EOMONTH(Formula_week!$B$4,0)>Formula_week!WL8,(AND(YEAR(Formula_week!$B$4)=YEAR(Formula_week!WL8),(MONTH(Formula_week!$B$4)=MONTH(Formula_week!WL8))))),Formula_week!WL12,\"\")","v":""},{"$f":"IF(OR(EOMONTH(Formula_week!$B$4,0)>Formula_week!WM8,(AND(YEAR(Formula_week!$B$4)=YEAR(Formula_week!WM8),(MONTH(Formula_week!$B$4)=MONTH(Formula_week!WM8))))),Formula_week!WM12,\"\")","v":""},{"$f":"IF(OR(EOMONTH(Formula_week!$B$4,0)>Formula_week!WN8,(AND(YEAR(Formula_week!$B$4)=YEAR(Formula_week!WN8),(MONTH(Formula_week!$B$4)=MONTH(Formula_week!WN8))))),Formula_week!WN12,\"\")","v":""},{"$f":"IF(OR(EOMONTH(Formula_week!$B$4,0)>Formula_week!WO8,(AND(YEAR(Formula_week!$B$4)=YEAR(Formula_week!WO8),(MONTH(Formula_week!$B$4)=MONTH(Formula_week!WO8))))),Formula_week!WO12,\"\")","v":""},{"$f":"IF(OR(EOMONTH(Formula_week!$B$4,0)>Formula_week!WP8,(AND(YEAR(Formula_week!$B$4)=YEAR(Formula_week!WP8),(MONTH(Formula_week!$B$4)=MONTH(Formula_week!WP8))))),Formula_week!WP12,\"\")","v":""},{"$f":"IF(OR(EOMONTH(Formula_week!$B$4,0)>Formula_week!WQ8,(AND(YEAR(Formula_week!$B$4)=YEAR(Formula_week!WQ8),(MONTH(Formula_week!$B$4)=MONTH(Formula_week!WQ8))))),Formula_week!WQ12,\"\")","v":""},{"$f":"IF(OR(EOMONTH(Formula_week!$B$4,0)>Formula_week!WR8,(AND(YEAR(Formula_week!$B$4)=YEAR(Formula_week!WR8),(MONTH(Formula_week!$B$4)=MONTH(Formula_week!WR8))))),Formula_week!WR12,\"\")","v":""},{"$f":"IF(OR(EOMONTH(Formula_week!$B$4,0)>Formula_week!WS8,(AND(YEAR(Formula_week!$B$4)=YEAR(Formula_week!WS8),(MONTH(Formula_week!$B$4)=MONTH(Formula_week!WS8))))),Formula_week!WS12,\"\")","v":""},{"$f":"IF(OR(EOMONTH(Formula_week!$B$4,0)>Formula_week!WT8,(AND(YEAR(Formula_week!$B$4)=YEAR(Formula_week!WT8),(MONTH(Formula_week!$B$4)=MONTH(Formula_week!WT8))))),Formula_week!WT12,\"\")","v":""},{"$f":"IF(OR(EOMONTH(Formula_week!$B$4,0)>Formula_week!WU8,(AND(YEAR(Formula_week!$B$4)=YEAR(Formula_week!WU8),(MONTH(Formula_week!$B$4)=MONTH(Formula_week!WU8))))),Formula_week!WU12,\"\")","v":""},{"$f":"IF(OR(EOMONTH(Formula_week!$B$4,0)>Formula_week!WV8,(AND(YEAR(Formula_week!$B$4)=YEAR(Formula_week!WV8),(MONTH(Formula_week!$B$4)=MONTH(Formula_week!WV8))))),Formula_week!WV12,\"\")","v":""},{"$f":"IF(OR(EOMONTH(Formula_week!$B$4,0)>Formula_week!WW8,(AND(YEAR(Formula_week!$B$4)=YEAR(Formula_week!WW8),(MONTH(Formula_week!$B$4)=MONTH(Formula_week!WW8))))),Formula_week!WW12,\"\")","v":""},{"$f":"IF(OR(EOMONTH(Formula_week!$B$4,0)>Formula_week!WX8,(AND(YEAR(Formula_week!$B$4)=YEAR(Formula_week!WX8),(MONTH(Formula_week!$B$4)=MONTH(Formula_week!WX8))))),Formula_week!WX12,\"\")","v":""},{"$f":"IF(OR(EOMONTH(Formula_week!$B$4,0)>Formula_week!WY8,(AND(YEAR(Formula_week!$B$4)=YEAR(Formula_week!WY8),(MONTH(Formula_week!$B$4)=MONTH(Formula_week!WY8))))),Formula_week!WY12,\"\")","v":""},{"$f":"IF(OR(EOMONTH(Formula_week!$B$4,0)>Formula_week!WZ8,(AND(YEAR(Formula_week!$B$4)=YEAR(Formula_week!WZ8),(MONTH(Formula_week!$B$4)=MONTH(Formula_week!WZ8))))),Formula_week!WZ12,\"\")","v":""},{"$f":"IF(OR(EOMONTH(Formula_week!$B$4,0)>Formula_week!XA8,(AND(YEAR(Formula_week!$B$4)=YEAR(Formula_week!XA8),(MONTH(Formula_week!$B$4)=MONTH(Formula_week!XA8))))),Formula_week!XA12,\"\")","v":""},{"$f":"IF(OR(EOMONTH(Formula_week!$B$4,0)>Formula_week!XB8,(AND(YEAR(Formula_week!$B$4)=YEAR(Formula_week!XB8),(MONTH(Formula_week!$B$4)=MONTH(Formula_week!XB8))))),Formula_week!XB12,\"\")","v":""},{"$f":"IF(OR(EOMONTH(Formula_week!$B$4,0)>Formula_week!XC8,(AND(YEAR(Formula_week!$B$4)=YEAR(Formula_week!XC8),(MONTH(Formula_week!$B$4)=MONTH(Formula_week!XC8))))),Formula_week!XC12,\"\")","v":""},{"$f":"IF(OR(EOMONTH(Formula_week!$B$4,0)>Formula_week!XD8,(AND(YEAR(Formula_week!$B$4)=YEAR(Formula_week!XD8),(MONTH(Formula_week!$B$4)=MONTH(Formula_week!XD8))))),Formula_week!XD12,\"\")","v":""},{"$f":"IF(OR(EOMONTH(Formula_week!$B$4,0)>Formula_week!XE8,(AND(YEAR(Formula_week!$B$4)=YEAR(Formula_week!XE8),(MONTH(Formula_week!$B$4)=MONTH(Formula_week!XE8))))),Formula_week!XE12,\"\")","v":""},{"$f":"IF(OR(EOMONTH(Formula_week!$B$4,0)>Formula_week!XF8,(AND(YEAR(Formula_week!$B$4)=YEAR(Formula_week!XF8),(MONTH(Formula_week!$B$4)=MONTH(Formula_week!XF8))))),Formula_week!XF12,\"\")","v":""},{"$f":"IF(OR(EOMONTH(Formula_week!$B$4,0)>Formula_week!XG8,(AND(YEAR(Formula_week!$B$4)=YEAR(Formula_week!XG8),(MONTH(Formula_week!$B$4)=MONTH(Formula_week!XG8))))),Formula_week!XG12,\"\")","v":""},{"$f":"IF(OR(EOMONTH(Formula_week!$B$4,0)>Formula_week!XH8,(AND(YEAR(Formula_week!$B$4)=YEAR(Formula_week!XH8),(MONTH(Formula_week!$B$4)=MONTH(Formula_week!XH8))))),Formula_week!XH12,\"\")","v":""},{"$f":"IF(OR(EOMONTH(Formula_week!$B$4,0)>Formula_week!XI8,(AND(YEAR(Formula_week!$B$4)=YEAR(Formula_week!XI8),(MONTH(Formula_week!$B$4)=MONTH(Formula_week!XI8))))),Formula_week!XI12,\"\")","v":""},{"$f":"IF(OR(EOMONTH(Formula_week!$B$4,0)>Formula_week!XJ8,(AND(YEAR(Formula_week!$B$4)=YEAR(Formula_week!XJ8),(MONTH(Formula_week!$B$4)=MONTH(Formula_week!XJ8))))),Formula_week!XJ12,\"\")","v":""},{"$f":"IF(OR(EOMONTH(Formula_week!$B$4,0)>Formula_week!XK8,(AND(YEAR(Formula_week!$B$4)=YEAR(Formula_week!XK8),(MONTH(Formula_week!$B$4)=MONTH(Formula_week!XK8))))),Formula_week!XK12,\"\")","v":""},{"$f":"IF(OR(EOMONTH(Formula_week!$B$4,0)>Formula_week!XL8,(AND(YEAR(Formula_week!$B$4)=YEAR(Formula_week!XL8),(MONTH(Formula_week!$B$4)=MONTH(Formula_week!XL8))))),Formula_week!XL12,\"\")","v":""},{"$f":"IF(OR(EOMONTH(Formula_week!$B$4,0)>Formula_week!XM8,(AND(YEAR(Formula_week!$B$4)=YEAR(Formula_week!XM8),(MONTH(Formula_week!$B$4)=MONTH(Formula_week!XM8))))),Formula_week!XM12,\"\")","v":""},{"$f":"IF(OR(EOMONTH(Formula_week!$B$4,0)>Formula_week!XN8,(AND(YEAR(Formula_week!$B$4)=YEAR(Formula_week!XN8),(MONTH(Formula_week!$B$4)=MONTH(Formula_week!XN8))))),Formula_week!XN12,\"\")","v":""},{"$f":"IF(OR(EOMONTH(Formula_week!$B$4,0)>Formula_week!XO8,(AND(YEAR(Formula_week!$B$4)=YEAR(Formula_week!XO8),(MONTH(Formula_week!$B$4)=MONTH(Formula_week!XO8))))),Formula_week!XO12,\"\")","v":""},{"$f":"IF(OR(EOMONTH(Formula_week!$B$4,0)>Formula_week!XP8,(AND(YEAR(Formula_week!$B$4)=YEAR(Formula_week!XP8),(MONTH(Formula_week!$B$4)=MONTH(Formula_week!XP8))))),Formula_week!XP12,\"\")","v":""},{"$f":"IF(OR(EOMONTH(Formula_week!$B$4,0)>Formula_week!XQ8,(AND(YEAR(Formula_week!$B$4)=YEAR(Formula_week!XQ8),(MONTH(Formula_week!$B$4)=MONTH(Formula_week!XQ8))))),Formula_week!XQ12,\"\")","v":""},{"$f":"IF(OR(EOMONTH(Formula_week!$B$4,0)>Formula_week!XR8,(AND(YEAR(Formula_week!$B$4)=YEAR(Formula_week!XR8),(MONTH(Formula_week!$B$4)=MONTH(Formula_week!XR8))))),Formula_week!XR12,\"\")","v":""},{"$f":"IF(OR(EOMONTH(Formula_week!$B$4,0)>Formula_week!XS8,(AND(YEAR(Formula_week!$B$4)=YEAR(Formula_week!XS8),(MONTH(Formula_week!$B$4)=MONTH(Formula_week!XS8))))),Formula_week!XS12,\"\")","v":""},{"$f":"IF(OR(EOMONTH(Formula_week!$B$4,0)>Formula_week!XT8,(AND(YEAR(Formula_week!$B$4)=YEAR(Formula_week!XT8),(MONTH(Formula_week!$B$4)=MONTH(Formula_week!XT8))))),Formula_week!XT12,\"\")","v":""},{"$f":"IF(OR(EOMONTH(Formula_week!$B$4,0)>Formula_week!XU8,(AND(YEAR(Formula_week!$B$4)=YEAR(Formula_week!XU8),(MONTH(Formula_week!$B$4)=MONTH(Formula_week!XU8))))),Formula_week!XU12,\"\")","v":""},{"$f":"IF(OR(EOMONTH(Formula_week!$B$4,0)>Formula_week!XV8,(AND(YEAR(Formula_week!$B$4)=YEAR(Formula_week!XV8),(MONTH(Formula_week!$B$4)=MONTH(Formula_week!XV8))))),Formula_week!XV12,\"\")","v":""},{"$f":"IF(OR(EOMONTH(Formula_week!$B$4,0)>Formula_week!XW8,(AND(YEAR(Formula_week!$B$4)=YEAR(Formula_week!XW8),(MONTH(Formula_week!$B$4)=MONTH(Formula_week!XW8))))),Formula_week!XW12,\"\")","v":""},{"$f":"IF(OR(EOMONTH(Formula_week!$B$4,0)>Formula_week!XX8,(AND(YEAR(Formula_week!$B$4)=YEAR(Formula_week!XX8),(MONTH(Formula_week!$B$4)=MONTH(Formula_week!XX8))))),Formula_week!XX12,\"\")","v":""},{"$f":"IF(OR(EOMONTH(Formula_week!$B$4,0)>Formula_week!XY8,(AND(YEAR(Formula_week!$B$4)=YEAR(Formula_week!XY8),(MONTH(Formula_week!$B$4)=MONTH(Formula_week!XY8))))),Formula_week!XY12,\"\")","v":""},{"$f":"IF(OR(EOMONTH(Formula_week!$B$4,0)>Formula_week!XZ8,(AND(YEAR(Formula_week!$B$4)=YEAR(Formula_week!XZ8),(MONTH(Formula_week!$B$4)=MONTH(Formula_week!XZ8))))),Formula_week!XZ12,\"\")","v":""},{"$f":"IF(OR(EOMONTH(Formula_week!$B$4,0)>Formula_week!YA8,(AND(YEAR(Formula_week!$B$4)=YEAR(Formula_week!YA8),(MONTH(Formula_week!$B$4)=MONTH(Formula_week!YA8))))),Formula_week!YA12,\"\")","v":""},{"$f":"IF(OR(EOMONTH(Formula_week!$B$4,0)>Formula_week!YB8,(AND(YEAR(Formula_week!$B$4)=YEAR(Formula_week!YB8),(MONTH(Formula_week!$B$4)=MONTH(Formula_week!YB8))))),Formula_week!YB12,\"\")","v":""},{"$f":"IF(OR(EOMONTH(Formula_week!$B$4,0)>Formula_week!YC8,(AND(YEAR(Formula_week!$B$4)=YEAR(Formula_week!YC8),(MONTH(Formula_week!$B$4)=MONTH(Formula_week!YC8))))),Formula_week!YC12,\"\")","v":""},{"$f":"IF(OR(EOMONTH(Formula_week!$B$4,0)>Formula_week!YD8,(AND(YEAR(Formula_week!$B$4)=YEAR(Formula_week!YD8),(MONTH(Formula_week!$B$4)=MONTH(Formula_week!YD8))))),Formula_week!YD12,\"\")","v":""},{"$f":"IF(OR(EOMONTH(Formula_week!$B$4,0)>Formula_week!YE8,(AND(YEAR(Formula_week!$B$4)=YEAR(Formula_week!YE8),(MONTH(Formula_week!$B$4)=MONTH(Formula_week!YE8))))),Formula_week!YE12,\"\")","v":""},{"$f":"IF(OR(EOMONTH(Formula_week!$B$4,0)>Formula_week!YF8,(AND(YEAR(Formula_week!$B$4)=YEAR(Formula_week!YF8),(MONTH(Formula_week!$B$4)=MONTH(Formula_week!YF8))))),Formula_week!YF12,\"\")","v":""},{"$f":"IF(OR(EOMONTH(Formula_week!$B$4,0)>Formula_week!YG8,(AND(YEAR(Formula_week!$B$4)=YEAR(Formula_week!YG8),(MONTH(Formula_week!$B$4)=MONTH(Formula_week!YG8))))),Formula_week!YG12,\"\")","v":""},{"$f":"IF(OR(EOMONTH(Formula_week!$B$4,0)>Formula_week!YH8,(AND(YEAR(Formula_week!$B$4)=YEAR(Formula_week!YH8),(MONTH(Formula_week!$B$4)=MONTH(Formula_week!YH8))))),Formula_week!YH12,\"\")","v":""},{"$f":"IF(OR(EOMONTH(Formula_week!$B$4,0)>Formula_week!YI8,(AND(YEAR(Formula_week!$B$4)=YEAR(Formula_week!YI8),(MONTH(Formula_week!$B$4)=MONTH(Formula_week!YI8))))),Formula_week!YI12,\"\")","v":""},{"$f":"IF(OR(EOMONTH(Formula_week!$B$4,0)>Formula_week!YJ8,(AND(YEAR(Formula_week!$B$4)=YEAR(Formula_week!YJ8),(MONTH(Formula_week!$B$4)=MONTH(Formula_week!YJ8))))),Formula_week!YJ12,\"\")","v":""},{"$f":"IF(OR(EOMONTH(Formula_week!$B$4,0)>Formula_week!YK8,(AND(YEAR(Formula_week!$B$4)=YEAR(Formula_week!YK8),(MONTH(Formula_week!$B$4)=MONTH(Formula_week!YK8))))),Formula_week!YK12,\"\")","v":""},{"$f":"IF(OR(EOMONTH(Formula_week!$B$4,0)>Formula_week!YL8,(AND(YEAR(Formula_week!$B$4)=YEAR(Formula_week!YL8),(MONTH(Formula_week!$B$4)=MONTH(Formula_week!YL8))))),Formula_week!YL12,\"\")","v":""},{"$f":"IF(OR(EOMONTH(Formula_week!$B$4,0)>Formula_week!YM8,(AND(YEAR(Formula_week!$B$4)=YEAR(Formula_week!YM8),(MONTH(Formula_week!$B$4)=MONTH(Formula_week!YM8))))),Formula_week!YM12,\"\")","v":""},{"$f":"IF(OR(EOMONTH(Formula_week!$B$4,0)>Formula_week!YN8,(AND(YEAR(Formula_week!$B$4)=YEAR(Formula_week!YN8),(MONTH(Formula_week!$B$4)=MONTH(Formula_week!YN8))))),Formula_week!YN12,\"\")","v":""},{"$f":"IF(OR(EOMONTH(Formula_week!$B$4,0)>Formula_week!YO8,(AND(YEAR(Formula_week!$B$4)=YEAR(Formula_week!YO8),(MONTH(Formula_week!$B$4)=MONTH(Formula_week!YO8))))),Formula_week!YO12,\"\")","v":""},{"$f":"IF(OR(EOMONTH(Formula_week!$B$4,0)>Formula_week!YP8,(AND(YEAR(Formula_week!$B$4)=YEAR(Formula_week!YP8),(MONTH(Formula_week!$B$4)=MONTH(Formula_week!YP8))))),Formula_week!YP12,\"\")","v":""},{"$f":"IF(OR(EOMONTH(Formula_week!$B$4,0)>Formula_week!YQ8,(AND(YEAR(Formula_week!$B$4)=YEAR(Formula_week!YQ8),(MONTH(Formula_week!$B$4)=MONTH(Formula_week!YQ8))))),Formula_week!YQ12,\"\")","v":""},{"$f":"IF(OR(EOMONTH(Formula_week!$B$4,0)>Formula_week!YR8,(AND(YEAR(Formula_week!$B$4)=YEAR(Formula_week!YR8),(MONTH(Formula_week!$B$4)=MONTH(Formula_week!YR8))))),Formula_week!YR12,\"\")","v":""},{"$f":"IF(OR(EOMONTH(Formula_week!$B$4,0)>Formula_week!YS8,(AND(YEAR(Formula_week!$B$4)=YEAR(Formula_week!YS8),(MONTH(Formula_week!$B$4)=MONTH(Formula_week!YS8))))),Formula_week!YS12,\"\")","v":""},{"$f":"IF(OR(EOMONTH(Formula_week!$B$4,0)>Formula_week!YT8,(AND(YEAR(Formula_week!$B$4)=YEAR(Formula_week!YT8),(MONTH(Formula_week!$B$4)=MONTH(Formula_week!YT8))))),Formula_week!YT12,\"\")","v":""},{"$f":"IF(OR(EOMONTH(Formula_week!$B$4,0)>Formula_week!YU8,(AND(YEAR(Formula_week!$B$4)=YEAR(Formula_week!YU8),(MONTH(Formula_week!$B$4)=MONTH(Formula_week!YU8))))),Formula_week!YU12,\"\")","v":""},{"$f":"IF(OR(EOMONTH(Formula_week!$B$4,0)>Formula_week!YV8,(AND(YEAR(Formula_week!$B$4)=YEAR(Formula_week!YV8),(MONTH(Formula_week!$B$4)=MONTH(Formula_week!YV8))))),Formula_week!YV12,\"\")","v":""},{"$f":"IF(OR(EOMONTH(Formula_week!$B$4,0)>Formula_week!YW8,(AND(YEAR(Formula_week!$B$4)=YEAR(Formula_week!YW8),(MONTH(Formula_week!$B$4)=MONTH(Formula_week!YW8))))),Formula_week!YW12,\"\")","v":""},{"$f":"IF(OR(EOMONTH(Formula_week!$B$4,0)>Formula_week!YX8,(AND(YEAR(Formula_week!$B$4)=YEAR(Formula_week!YX8),(MONTH(Formula_week!$B$4)=MONTH(Formula_week!YX8))))),Formula_week!YX12,\"\")","v":""},{"$f":"IF(OR(EOMONTH(Formula_week!$B$4,0)>Formula_week!YY8,(AND(YEAR(Formula_week!$B$4)=YEAR(Formula_week!YY8),(MONTH(Formula_week!$B$4)=MONTH(Formula_week!YY8))))),Formula_week!YY12,\"\")","v":""},{"$f":"IF(OR(EOMONTH(Formula_week!$B$4,0)>Formula_week!YZ8,(AND(YEAR(Formula_week!$B$4)=YEAR(Formula_week!YZ8),(MONTH(Formula_week!$B$4)=MONTH(Formula_week!YZ8))))),Formula_week!YZ12,\"\")","v":""},{"$f":"IF(OR(EOMONTH(Formula_week!$B$4,0)>Formula_week!ZA8,(AND(YEAR(Formula_week!$B$4)=YEAR(Formula_week!ZA8),(MONTH(Formula_week!$B$4)=MONTH(Formula_week!ZA8))))),Formula_week!ZA12,\"\")","v":""},{"$f":"IF(OR(EOMONTH(Formula_week!$B$4,0)>Formula_week!ZB8,(AND(YEAR(Formula_week!$B$4)=YEAR(Formula_week!ZB8),(MONTH(Formula_week!$B$4)=MONTH(Formula_week!ZB8))))),Formula_week!ZB12,\"\")","v":""},{"$f":"IF(OR(EOMONTH(Formula_week!$B$4,0)>Formula_week!ZC8,(AND(YEAR(Formula_week!$B$4)=YEAR(Formula_week!ZC8),(MONTH(Formula_week!$B$4)=MONTH(Formula_week!ZC8))))),Formula_week!ZC12,\"\")","v":""},{"$f":"IF(OR(EOMONTH(Formula_week!$B$4,0)>Formula_week!ZD8,(AND(YEAR(Formula_week!$B$4)=YEAR(Formula_week!ZD8),(MONTH(Formula_week!$B$4)=MONTH(Formula_week!ZD8))))),Formula_week!ZD12,\"\")","v":""},{"$f":"IF(OR(EOMONTH(Formula_week!$B$4,0)>Formula_week!ZE8,(AND(YEAR(Formula_week!$B$4)=YEAR(Formula_week!ZE8),(MONTH(Formula_week!$B$4)=MONTH(Formula_week!ZE8))))),Formula_week!ZE12,\"\")","v":""},{"$f":"IF(OR(EOMONTH(Formula_week!$B$4,0)>Formula_week!ZF8,(AND(YEAR(Formula_week!$B$4)=YEAR(Formula_week!ZF8),(MONTH(Formula_week!$B$4)=MONTH(Formula_week!ZF8))))),Formula_week!ZF12,\"\")","v":""},{"$f":"IF(OR(EOMONTH(Formula_week!$B$4,0)>Formula_week!ZG8,(AND(YEAR(Formula_week!$B$4)=YEAR(Formula_week!ZG8),(MONTH(Formula_week!$B$4)=MONTH(Formula_week!ZG8))))),Formula_week!ZG12,\"\")","v":""},{"$f":"IF(OR(EOMONTH(Formula_week!$B$4,0)>Formula_week!ZH8,(AND(YEAR(Formula_week!$B$4)=YEAR(Formula_week!ZH8),(MONTH(Formula_week!$B$4)=MONTH(Formula_week!ZH8))))),Formula_week!ZH12,\"\")","v":""},{"$f":"IF(OR(EOMONTH(Formula_week!$B$4,0)>Formula_week!ZI8,(AND(YEAR(Formula_week!$B$4)=YEAR(Formula_week!ZI8),(MONTH(Formula_week!$B$4)=MONTH(Formula_week!ZI8))))),Formula_week!ZI12,\"\")","v":""},{"$f":"IF(OR(EOMONTH(Formula_week!$B$4,0)>Formula_week!ZJ8,(AND(YEAR(Formula_week!$B$4)=YEAR(Formula_week!ZJ8),(MONTH(Formula_week!$B$4)=MONTH(Formula_week!ZJ8))))),Formula_week!ZJ12,\"\")","v":""},{"$f":"IF(OR(EOMONTH(Formula_week!$B$4,0)>Formula_week!ZK8,(AND(YEAR(Formula_week!$B$4)=YEAR(Formula_week!ZK8),(MONTH(Formula_week!$B$4)=MONTH(Formula_week!ZK8))))),Formula_week!ZK12,\"\")","v":""},{"$f":"IF(OR(EOMONTH(Formula_week!$B$4,0)>Formula_week!ZL8,(AND(YEAR(Formula_week!$B$4)=YEAR(Formula_week!ZL8),(MONTH(Formula_week!$B$4)=MONTH(Formula_week!ZL8))))),Formula_week!ZL12,\"\")","v":""},{"$f":"IF(OR(EOMONTH(Formula_week!$B$4,0)>Formula_week!ZM8,(AND(YEAR(Formula_week!$B$4)=YEAR(Formula_week!ZM8),(MONTH(Formula_week!$B$4)=MONTH(Formula_week!ZM8))))),Formula_week!ZM12,\"\")","v":""},{"$f":"IF(OR(EOMONTH(Formula_week!$B$4,0)>Formula_week!ZN8,(AND(YEAR(Formula_week!$B$4)=YEAR(Formula_week!ZN8),(MONTH(Formula_week!$B$4)=MONTH(Formula_week!ZN8))))),Formula_week!ZN12,\"\")","v":""}]
[null,null,null,null,null,null,null,null,null,null,null,null,null,{"$f":"IF(Formula_week!B10>Formula_week!$B$4,\"\",CONCATENATE(\"v\",Formula_week!B9))","v":"v22"},{"$f":"IF(Formula_week!C10>Formula_week!$B$4,\"\",CONCATENATE(\"v\",Formula_week!C9))","v":"v23"},{"$f":"IF(Formula_week!D10>Formula_week!$B$4,\"\",CONCATENATE(\"v\",Formula_week!D9))","v":"v24"},{"$f":"IF(Formula_week!E10>Formula_week!$B$4,\"\",CONCATENATE(\"v\",Formula_week!E9))","v":"v25"},{"$f":"IF(Formula_week!F10>Formula_week!$B$4,\"\",CONCATENATE(\"v\",Formula_week!F9))","v":"v26"},{"$f":"IF(Formula_week!G10>Formula_week!$B$4,\"\",CONCATENATE(\"v\",Formula_week!G9))","v":"v27"},{"$f":"IF(Formula_week!H10>Formula_week!$B$4,\"\",CONCATENATE(\"v\",Formula_week!H9))","v":"v28"},{"$f":"IF(Formula_week!I10>Formula_week!$B$4,\"\",CONCATENATE(\"v\",Formula_week!I9))","v":"v29"},{"$f":"IF(Formula_week!J10>Formula_week!$B$4,\"\",CONCATENATE(\"v\",Formula_week!J9))","v":"v30"},{"$f":"IF(Formula_week!K10>Formula_week!$B$4,\"\",CONCATENATE(\"v\",Formula_week!K9))","v":"v31"},{"$f":"IF(Formula_week!L10>Formula_week!$B$4,\"\",CONCATENATE(\"v\",Formula_week!L9))","v":"v32"},{"$f":"IF(Formula_week!M10>Formula_week!$B$4,\"\",CONCATENATE(\"v\",Formula_week!M9))","v":"v33"},{"$f":"IF(Formula_week!N10>Formula_week!$B$4,\"\",CONCATENATE(\"v\",Formula_week!N9))","v":"v34"},{"$f":"IF(Formula_week!O10>Formula_week!$B$4,\"\",CONCATENATE(\"v\",Formula_week!O9))","v":"v35"},{"$f":"IF(Formula_week!P10>Formula_week!$B$4,\"\",CONCATENATE(\"v\",Formula_week!P9))","v":"v36"},{"$f":"IF(Formula_week!Q10>Formula_week!$B$4,\"\",CONCATENATE(\"v\",Formula_week!Q9))","v":"v37"},{"$f":"IF(Formula_week!R10>Formula_week!$B$4,\"\",CONCATENATE(\"v\",Formula_week!R9))","v":"v38"},{"$f":"IF(Formula_week!S10>Formula_week!$B$4,\"\",CONCATENATE(\"v\",Formula_week!S9))","v":"v39"},{"$f":"IF(Formula_week!T10>Formula_week!$B$4,\"\",CONCATENATE(\"v\",Formula_week!T9))","v":"v40"},{"$f":"IF(Formula_week!U10>Formula_week!$B$4,\"\",CONCATENATE(\"v\",Formula_week!U9))","v":"v41"},{"$f":"IF(Formula_week!V10>Formula_week!$B$4,\"\",CONCATENATE(\"v\",Formula_week!V9))","v":"v42"},{"$f":"IF(Formula_week!W10>Formula_week!$B$4,\"\",CONCATENATE(\"v\",Formula_week!W9))","v":"v43"},{"$f":"IF(Formula_week!X10>Formula_week!$B$4,\"\",CONCATENATE(\"v\",Formula_week!X9))","v":"v44"},{"$f":"IF(Formula_week!Y10>Formula_week!$B$4,\"\",CONCATENATE(\"v\",Formula_week!Y9))","v":"v45"},{"$f":"IF(Formula_week!Z10>Formula_week!$B$4,\"\",CONCATENATE(\"v\",Formula_week!Z9))","v":"v46"},{"$f":"IF(Formula_week!AA10>Formula_week!$B$4,\"\",CONCATENATE(\"v\",Formula_week!AA9))","v":"v47"},{"$f":"IF(Formula_week!AB10>Formula_week!$B$4,\"\",CONCATENATE(\"v\",Formula_week!AB9))","v":"v48"},{"$f":"IF(Formula_week!AC10>Formula_week!$B$4,\"\",CONCATENATE(\"v\",Formula_week!AC9))","v":""},{"$f":"IF(Formula_week!AD10>Formula_week!$B$4,\"\",CONCATENATE(\"v\",Formula_week!AD9))","v":""},{"$f":"IF(Formula_week!AE10>Formula_week!$B$4,\"\",CONCATENATE(\"v\",Formula_week!AE9))","v":""},{"$f":"IF(Formula_week!AF10>Formula_week!$B$4,\"\",CONCATENATE(\"v\",Formula_week!AF9))","v":""},{"$f":"IF(Formula_week!AG10>Formula_week!$B$4,\"\",CONCATENATE(\"v\",Formula_week!AG9))","v":""},{"$f":"IF(Formula_week!AH10>Formula_week!$B$4,\"\",CONCATENATE(\"v\",Formula_week!AH9))","v":""},{"$f":"IF(Formula_week!AI10>Formula_week!$B$4,\"\",CONCATENATE(\"v\",Formula_week!AI9))","v":""},{"$f":"IF(Formula_week!AJ10>Formula_week!$B$4,\"\",CONCATENATE(\"v\",Formula_week!AJ9))","v":""},{"$f":"IF(Formula_week!AK10>Formula_week!$B$4,\"\",CONCATENATE(\"v\",Formula_week!AK9))","v":""},{"$f":"IF(Formula_week!AL10>Formula_week!$B$4,\"\",CONCATENATE(\"v\",Formula_week!AL9))","v":""},{"$f":"IF(Formula_week!AM10>Formula_week!$B$4,\"\",CONCATENATE(\"v\",Formula_week!AM9))","v":""},{"$f":"IF(Formula_week!AN10>Formula_week!$B$4,\"\",CONCATENATE(\"v\",Formula_week!AN9))","v":""},{"$f":"IF(Formula_week!AO10>Formula_week!$B$4,\"\",CONCATENATE(\"v\",Formula_week!AO9))","v":""},{"$f":"IF(Formula_week!AP10>Formula_week!$B$4,\"\",CONCATENATE(\"v\",Formula_week!AP9))","v":""},{"$f":"IF(Formula_week!AQ10>Formula_week!$B$4,\"\",CONCATENATE(\"v\",Formula_week!AQ9))","v":""},{"$f":"IF(Formula_week!AR10>Formula_week!$B$4,\"\",CONCATENATE(\"v\",Formula_week!AR9))","v":""},{"$f":"IF(Formula_week!AS10>Formula_week!$B$4,\"\",CONCATENATE(\"v\",Formula_week!AS9))","v":""},{"$f":"IF(Formula_week!AT10>Formula_week!$B$4,\"\",CONCATENATE(\"v\",Formula_week!AT9))","v":""},{"$f":"IF(Formula_week!AU10>Formula_week!$B$4,\"\",CONCATENATE(\"v\",Formula_week!AU9))","v":""},{"$f":"IF(Formula_week!AV10>Formula_week!$B$4,\"\",CONCATENATE(\"v\",Formula_week!AV9))","v":""},{"$f":"IF(Formula_week!AW10>Formula_week!$B$4,\"\",CONCATENATE(\"v\",Formula_week!AW9))","v":""},{"$f":"IF(Formula_week!AX10>Formula_week!$B$4,\"\",CONCATENATE(\"v\",Formula_week!AX9))","v":""},{"$f":"IF(Formula_week!AY10>Formula_week!$B$4,\"\",CONCATENATE(\"v\",Formula_week!AY9))","v":""},{"$f":"IF(Formula_week!AZ10>Formula_week!$B$4,\"\",CONCATENATE(\"v\",Formula_week!AZ9))","v":""},{"$f":"IF(Formula_week!BA10>Formula_week!$B$4,\"\",CONCATENATE(\"v\",Formula_week!BA9))","v":""},{"$f":"IF(Formula_week!BB10>Formula_week!$B$4,\"\",CONCATENATE(\"v\",Formula_week!BB9))","v":""},{"$f":"IF(Formula_week!BC10>Formula_week!$B$4,\"\",CONCATENATE(\"v\",Formula_week!BC9))","v":""},{"$f":"IF(Formula_week!BD10>Formula_week!$B$4,\"\",CONCATENATE(\"v\",Formula_week!BD9))","v":""},{"$f":"IF(Formula_week!BE10>Formula_week!$B$4,\"\",CONCATENATE(\"v\",Formula_week!BE9))","v":""},{"$f":"IF(Formula_week!BF10>Formula_week!$B$4,\"\",CONCATENATE(\"v\",Formula_week!BF9))","v":""},{"$f":"IF(Formula_week!BG10>Formula_week!$B$4,\"\",CONCATENATE(\"v\",Formula_week!BG9))","v":""},{"$f":"IF(Formula_week!BH10>Formula_week!$B$4,\"\",CONCATENATE(\"v\",Formula_week!BH9))","v":""},{"$f":"IF(Formula_week!BI10>Formula_week!$B$4,\"\",CONCATENATE(\"v\",Formula_week!BI9))","v":""},{"$f":"IF(Formula_week!BJ10>Formula_week!$B$4,\"\",CONCATENATE(\"v\",Formula_week!BJ9))","v":""},{"$f":"IF(Formula_week!BK10>Formula_week!$B$4,\"\",CONCATENATE(\"v\",Formula_week!BK9))","v":""},{"$f":"IF(Formula_week!BL10>Formula_week!$B$4,\"\",CONCATENATE(\"v\",Formula_week!BL9))","v":""},{"$f":"IF(Formula_week!BM10>Formula_week!$B$4,\"\",CONCATENATE(\"v\",Formula_week!BM9))","v":""},{"$f":"IF(Formula_week!BN10>Formula_week!$B$4,\"\",CONCATENATE(\"v\",Formula_week!BN9))","v":""},{"$f":"IF(Formula_week!BO10>Formula_week!$B$4,\"\",CONCATENATE(\"v\",Formula_week!BO9))","v":""},{"$f":"IF(Formula_week!BP10>Formula_week!$B$4,\"\",CONCATENATE(\"v\",Formula_week!BP9))","v":""},{"$f":"IF(Formula_week!BQ10>Formula_week!$B$4,\"\",CONCATENATE(\"v\",Formula_week!BQ9))","v":""},{"$f":"IF(Formula_week!BR10>Formula_week!$B$4,\"\",CONCATENATE(\"v\",Formula_week!BR9))","v":""},{"$f":"IF(Formula_week!BS10>Formula_week!$B$4,\"\",CONCATENATE(\"v\",Formula_week!BS9))","v":""},{"$f":"IF(Formula_week!BT10>Formula_week!$B$4,\"\",CONCATENATE(\"v\",Formula_week!BT9))","v":""},{"$f":"IF(Formula_week!BU10>Formula_week!$B$4,\"\",CONCATENATE(\"v\",Formula_week!BU9))","v":""},{"$f":"IF(Formula_week!BV10>Formula_week!$B$4,\"\",CONCATENATE(\"v\",Formula_week!BV9))","v":""},{"$f":"IF(Formula_week!BW10>Formula_week!$B$4,\"\",CONCATENATE(\"v\",Formula_week!BW9))","v":""},{"$f":"IF(Formula_week!BX10>Formula_week!$B$4,\"\",CONCATENATE(\"v\",Formula_week!BX9))","v":""},{"$f":"IF(Formula_week!BY10>Formula_week!$B$4,\"\",CONCATENATE(\"v\",Formula_week!BY9))","v":""},{"$f":"IF(Formula_week!BZ10>Formula_week!$B$4,\"\",CONCATENATE(\"v\",Formula_week!BZ9))","v":""},{"$f":"IF(Formula_week!CA10>Formula_week!$B$4,\"\",CONCATENATE(\"v\",Formula_week!CA9))","v":""},{"$f":"IF(Formula_week!CB10>Formula_week!$B$4,\"\",CONCATENATE(\"v\",Formula_week!CB9))","v":""},{"$f":"IF(Formula_week!CC10>Formula_week!$B$4,\"\",CONCATENATE(\"v\",Formula_week!CC9))","v":""},{"$f":"IF(Formula_week!CD10>Formula_week!$B$4,\"\",CONCATENATE(\"v\",Formula_week!CD9))","v":""},{"$f":"IF(Formula_week!CE10>Formula_week!$B$4,\"\",CONCATENATE(\"v\",Formula_week!CE9))","v":""},{"$f":"IF(Formula_week!CF10>Formula_week!$B$4,\"\",CONCATENATE(\"v\",Formula_week!CF9))","v":""},{"$f":"IF(Formula_week!CG10>Formula_week!$B$4,\"\",CONCATENATE(\"v\",Formula_week!CG9))","v":""},{"$f":"IF(Formula_week!CH10>Formula_week!$B$4,\"\",CONCATENATE(\"v\",Formula_week!CH9))","v":""},{"$f":"IF(Formula_week!CI10>Formula_week!$B$4,\"\",CONCATENATE(\"v\",Formula_week!CI9))","v":""},{"$f":"IF(Formula_week!CJ10>Formula_week!$B$4,\"\",CONCATENATE(\"v\",Formula_week!CJ9))","v":""},{"$f":"IF(Formula_week!CK10>Formula_week!$B$4,\"\",CONCATENATE(\"v\",Formula_week!CK9))","v":""},{"$f":"IF(Formula_week!CL10>Formula_week!$B$4,\"\",CONCATENATE(\"v\",Formula_week!CL9))","v":""},{"$f":"IF(Formula_week!CM10>Formula_week!$B$4,\"\",CONCATENATE(\"v\",Formula_week!CM9))","v":""},{"$f":"IF(Formula_week!CN10>Formula_week!$B$4,\"\",CONCATENATE(\"v\",Formula_week!CN9))","v":""},{"$f":"IF(Formula_week!CO10>Formula_week!$B$4,\"\",CONCATENATE(\"v\",Formula_week!CO9))","v":""},{"$f":"IF(Formula_week!CP10>Formula_week!$B$4,\"\",CONCATENATE(\"v\",Formula_week!CP9))","v":""},{"$f":"IF(Formula_week!CQ10>Formula_week!$B$4,\"\",CONCATENATE(\"v\",Formula_week!CQ9))","v":""},{"$f":"IF(Formula_week!CR10>Formula_week!$B$4,\"\",CONCATENATE(\"v\",Formula_week!CR9))","v":""},{"$f":"IF(Formula_week!CS10>Formula_week!$B$4,\"\",CONCATENATE(\"v\",Formula_week!CS9))","v":""},{"$f":"IF(Formula_week!CT10>Formula_week!$B$4,\"\",CONCATENATE(\"v\",Formula_week!CT9))","v":""},{"$f":"IF(Formula_week!CU10>Formula_week!$B$4,\"\",CONCATENATE(\"v\",Formula_week!CU9))","v":""},{"$f":"IF(Formula_week!CV10>Formula_week!$B$4,\"\",CONCATENATE(\"v\",Formula_week!CV9))","v":""},{"$f":"IF(Formula_week!CW10>Formula_week!$B$4,\"\",CONCATENATE(\"v\",Formula_week!CW9))","v":""},{"$f":"IF(Formula_week!CX10>Formula_week!$B$4,\"\",CONCATENATE(\"v\",Formula_week!CX9))","v":""},{"$f":"IF(Formula_week!CY10>Formula_week!$B$4,\"\",CONCATENATE(\"v\",Formula_week!CY9))","v":""},{"$f":"IF(Formula_week!CZ10>Formula_week!$B$4,\"\",CONCATENATE(\"v\",Formula_week!CZ9))","v":""},{"$f":"IF(Formula_week!DA10>Formula_week!$B$4,\"\",CONCATENATE(\"v\",Formula_week!DA9))","v":""},{"$f":"IF(Formula_week!DB10>Formula_week!$B$4,\"\",CONCATENATE(\"v\",Formula_week!DB9))","v":""},{"$f":"IF(Formula_week!DC10>Formula_week!$B$4,\"\",CONCATENATE(\"v\",Formula_week!DC9))","v":""},{"$f":"IF(Formula_week!DD10>Formula_week!$B$4,\"\",CONCATENATE(\"v\",Formula_week!DD9))","v":""},{"$f":"IF(Formula_week!DE10>Formula_week!$B$4,\"\",CONCATENATE(\"v\",Formula_week!DE9))","v":""},{"$f":"IF(Formula_week!DF10>Formula_week!$B$4,\"\",CONCATENATE(\"v\",Formula_week!DF9))","v":""},{"$f":"IF(Formula_week!DG10>Formula_week!$B$4,\"\",CONCATENATE(\"v\",Formula_week!DG9))","v":""},{"$f":"IF(Formula_week!DH10>Formula_week!$B$4,\"\",CONCATENATE(\"v\",Formula_week!DH9))","v":""},{"$f":"IF(Formula_week!DI10>Formula_week!$B$4,\"\",CONCATENATE(\"v\",Formula_week!DI9))","v":""},{"$f":"IF(Formula_week!DJ10>Formula_week!$B$4,\"\",CONCATENATE(\"v\",Formula_week!DJ9))","v":""},{"$f":"IF(Formula_week!DK10>Formula_week!$B$4,\"\",CONCATENATE(\"v\",Formula_week!DK9))","v":""},{"$f":"IF(Formula_week!DL10>Formula_week!$B$4,\"\",CONCATENATE(\"v\",Formula_week!DL9))","v":""},{"$f":"IF(Formula_week!DM10>Formula_week!$B$4,\"\",CONCATENATE(\"v\",Formula_week!DM9))","v":""},{"$f":"IF(Formula_week!DN10>Formula_week!$B$4,\"\",CONCATENATE(\"v\",Formula_week!DN9))","v":""},{"$f":"IF(Formula_week!DO10>Formula_week!$B$4,\"\",CONCATENATE(\"v\",Formula_week!DO9))","v":""},{"$f":"IF(Formula_week!DP10>Formula_week!$B$4,\"\",CONCATENATE(\"v\",Formula_week!DP9))","v":""},{"$f":"IF(Formula_week!DQ10>Formula_week!$B$4,\"\",CONCATENATE(\"v\",Formula_week!DQ9))","v":""},{"$f":"IF(Formula_week!DR10>Formula_week!$B$4,\"\",CONCATENATE(\"v\",Formula_week!DR9))","v":""},{"$f":"IF(Formula_week!DS10>Formula_week!$B$4,\"\",CONCATENATE(\"v\",Formula_week!DS9))","v":""},{"$f":"IF(Formula_week!DT10>Formula_week!$B$4,\"\",CONCATENATE(\"v\",Formula_week!DT9))","v":""},{"$f":"IF(Formula_week!DU10>Formula_week!$B$4,\"\",CONCATENATE(\"v\",Formula_week!DU9))","v":""},{"$f":"IF(Formula_week!DV10>Formula_week!$B$4,\"\",CONCATENATE(\"v\",Formula_week!DV9))","v":""},{"$f":"IF(Formula_week!DW10>Formula_week!$B$4,\"\",CONCATENATE(\"v\",Formula_week!DW9))","v":""},{"$f":"IF(Formula_week!DX10>Formula_week!$B$4,\"\",CONCATENATE(\"v\",Formula_week!DX9))","v":""},{"$f":"IF(Formula_week!DY10>Formula_week!$B$4,\"\",CONCATENATE(\"v\",Formula_week!DY9))","v":""},{"$f":"IF(Formula_week!DZ10>Formula_week!$B$4,\"\",CONCATENATE(\"v\",Formula_week!DZ9))","v":""},{"$f":"IF(Formula_week!EA10>Formula_week!$B$4,\"\",CONCATENATE(\"v\",Formula_week!EA9))","v":""},{"$f":"IF(Formula_week!EB10>Formula_week!$B$4,\"\",CONCATENATE(\"v\",Formula_week!EB9))","v":""},{"$f":"IF(Formula_week!EC10>Formula_week!$B$4,\"\",CONCATENATE(\"v\",Formula_week!EC9))","v":""},{"$f":"IF(Formula_week!ED10>Formula_week!$B$4,\"\",CONCATENATE(\"v\",Formula_week!ED9))","v":""},{"$f":"IF(Formula_week!EE10>Formula_week!$B$4,\"\",CONCATENATE(\"v\",Formula_week!EE9))","v":""},{"$f":"IF(Formula_week!EF10>Formula_week!$B$4,\"\",CONCATENATE(\"v\",Formula_week!EF9))","v":""},{"$f":"IF(Formula_week!EG10>Formula_week!$B$4,\"\",CONCATENATE(\"v\",Formula_week!EG9))","v":""},{"$f":"IF(Formula_week!EH10>Formula_week!$B$4,\"\",CONCATENATE(\"v\",Formula_week!EH9))","v":""},{"$f":"IF(Formula_week!EI10>Formula_week!$B$4,\"\",CONCATENATE(\"v\",Formula_week!EI9))","v":""},{"$f":"IF(Formula_week!EJ10>Formula_week!$B$4,\"\",CONCATENATE(\"v\",Formula_week!EJ9))","v":""},{"$f":"IF(Formula_week!EK10>Formula_week!$B$4,\"\",CONCATENATE(\"v\",Formula_week!EK9))","v":""},{"$f":"IF(Formula_week!EL10>Formula_week!$B$4,\"\",CONCATENATE(\"v\",Formula_week!EL9))","v":""},{"$f":"IF(Formula_week!EM10>Formula_week!$B$4,\"\",CONCATENATE(\"v\",Formula_week!EM9))","v":""},{"$f":"IF(Formula_week!EN10>Formula_week!$B$4,\"\",CONCATENATE(\"v\",Formula_week!EN9))","v":""},{"$f":"IF(Formula_week!EO10>Formula_week!$B$4,\"\",CONCATENATE(\"v\",Formula_week!EO9))","v":""},{"$f":"IF(Formula_week!EP10>Formula_week!$B$4,\"\",CONCATENATE(\"v\",Formula_week!EP9))","v":""},{"$f":"IF(Formula_week!EQ10>Formula_week!$B$4,\"\",CONCATENATE(\"v\",Formula_week!EQ9))","v":""},{"$f":"IF(Formula_week!ER10>Formula_week!$B$4,\"\",CONCATENATE(\"v\",Formula_week!ER9))","v":""},{"$f":"IF(Formula_week!ES10>Formula_week!$B$4,\"\",CONCATENATE(\"v\",Formula_week!ES9))","v":""},{"$f":"IF(Formula_week!ET10>Formula_week!$B$4,\"\",CONCATENATE(\"v\",Formula_week!ET9))","v":""},{"$f":"IF(Formula_week!EU10>Formula_week!$B$4,\"\",CONCATENATE(\"v\",Formula_week!EU9))","v":""},{"$f":"IF(Formula_week!EV10>Formula_week!$B$4,\"\",CONCATENATE(\"v\",Formula_week!EV9))","v":""},{"$f":"IF(Formula_week!EW10>Formula_week!$B$4,\"\",CONCATENATE(\"v\",Formula_week!EW9))","v":""},{"$f":"IF(Formula_week!EX10>Formula_week!$B$4,\"\",CONCATENATE(\"v\",Formula_week!EX9))","v":""},{"$f":"IF(Formula_week!EY10>Formula_week!$B$4,\"\",CONCATENATE(\"v\",Formula_week!EY9))","v":""},{"$f":"IF(Formula_week!EZ10>Formula_week!$B$4,\"\",CONCATENATE(\"v\",Formula_week!EZ9))","v":""},{"$f":"IF(Formula_week!FA10>Formula_week!$B$4,\"\",CONCATENATE(\"v\",Formula_week!FA9))","v":""},{"$f":"IF(Formula_week!FB10>Formula_week!$B$4,\"\",CONCATENATE(\"v\",Formula_week!FB9))","v":""},{"$f":"IF(Formula_week!FC10>Formula_week!$B$4,\"\",CONCATENATE(\"v\",Formula_week!FC9))","v":""},{"$f":"IF(Formula_week!FD10>Formula_week!$B$4,\"\",CONCATENATE(\"v\",Formula_week!FD9))","v":""},{"$f":"IF(Formula_week!FE10>Formula_week!$B$4,\"\",CONCATENATE(\"v\",Formula_week!FE9))","v":""},{"$f":"IF(Formula_week!FF10>Formula_week!$B$4,\"\",CONCATENATE(\"v\",Formula_week!FF9))","v":""},{"$f":"IF(Formula_week!FG10>Formula_week!$B$4,\"\",CONCATENATE(\"v\",Formula_week!FG9))","v":""},{"$f":"IF(Formula_week!FH10>Formula_week!$B$4,\"\",CONCATENATE(\"v\",Formula_week!FH9))","v":""},{"$f":"IF(Formula_week!FI10>Formula_week!$B$4,\"\",CONCATENATE(\"v\",Formula_week!FI9))","v":""},{"$f":"IF(Formula_week!FJ10>Formula_week!$B$4,\"\",CONCATENATE(\"v\",Formula_week!FJ9))","v":""},{"$f":"IF(Formula_week!FK10>Formula_week!$B$4,\"\",CONCATENATE(\"v\",Formula_week!FK9))","v":""},{"$f":"IF(Formula_week!FL10>Formula_week!$B$4,\"\",CONCATENATE(\"v\",Formula_week!FL9))","v":""},{"$f":"IF(Formula_week!FM10>Formula_week!$B$4,\"\",CONCATENATE(\"v\",Formula_week!FM9))","v":""},{"$f":"IF(Formula_week!FN10>Formula_week!$B$4,\"\",CONCATENATE(\"v\",Formula_week!FN9))","v":""},{"$f":"IF(Formula_week!FO10>Formula_week!$B$4,\"\",CONCATENATE(\"v\",Formula_week!FO9))","v":""},{"$f":"IF(Formula_week!FP10>Formula_week!$B$4,\"\",CONCATENATE(\"v\",Formula_week!FP9))","v":""},{"$f":"IF(Formula_week!FQ10>Formula_week!$B$4,\"\",CONCATENATE(\"v\",Formula_week!FQ9))","v":""},{"$f":"IF(Formula_week!FR10>Formula_week!$B$4,\"\",CONCATENATE(\"v\",Formula_week!FR9))","v":""},{"$f":"IF(Formula_week!FS10>Formula_week!$B$4,\"\",CONCATENATE(\"v\",Formula_week!FS9))","v":""},{"$f":"IF(Formula_week!FT10>Formula_week!$B$4,\"\",CONCATENATE(\"v\",Formula_week!FT9))","v":""},{"$f":"IF(Formula_week!FU10>Formula_week!$B$4,\"\",CONCATENATE(\"v\",Formula_week!FU9))","v":""},{"$f":"IF(Formula_week!FV10>Formula_week!$B$4,\"\",CONCATENATE(\"v\",Formula_week!FV9))","v":""},{"$f":"IF(Formula_week!FW10>Formula_week!$B$4,\"\",CONCATENATE(\"v\",Formula_week!FW9))","v":""},{"$f":"IF(Formula_week!FX10>Formula_week!$B$4,\"\",CONCATENATE(\"v\",Formula_week!FX9))","v":""},{"$f":"IF(Formula_week!FY10>Formula_week!$B$4,\"\",CONCATENATE(\"v\",Formula_week!FY9))","v":""},{"$f":"IF(Formula_week!FZ10>Formula_week!$B$4,\"\",CONCATENATE(\"v\",Formula_week!FZ9))","v":""},{"$f":"IF(Formula_week!GA10>Formula_week!$B$4,\"\",CONCATENATE(\"v\",Formula_week!GA9))","v":""},{"$f":"IF(Formula_week!GB10>Formula_week!$B$4,\"\",CONCATENATE(\"v\",Formula_week!GB9))","v":""},{"$f":"IF(Formula_week!GC10>Formula_week!$B$4,\"\",CONCATENATE(\"v\",Formula_week!GC9))","v":""},{"$f":"IF(Formula_week!GD10>Formula_week!$B$4,\"\",CONCATENATE(\"v\",Formula_week!GD9))","v":""},{"$f":"IF(Formula_week!GE10>Formula_week!$B$4,\"\",CONCATENATE(\"v\",Formula_week!GE9))","v":""},{"$f":"IF(Formula_week!GF10>Formula_week!$B$4,\"\",CONCATENATE(\"v\",Formula_week!GF9))","v":""},{"$f":"IF(Formula_week!GG10>Formula_week!$B$4,\"\",CONCATENATE(\"v\",Formula_week!GG9))","v":""},{"$f":"IF(Formula_week!GH10>Formula_week!$B$4,\"\",CONCATENATE(\"v\",Formula_week!GH9))","v":""},{"$f":"IF(Formula_week!GI10>Formula_week!$B$4,\"\",CONCATENATE(\"v\",Formula_week!GI9))","v":""},{"$f":"IF(Formula_week!GJ10>Formula_week!$B$4,\"\",CONCATENATE(\"v\",Formula_week!GJ9))","v":""},{"$f":"IF(Formula_week!GK10>Formula_week!$B$4,\"\",CONCATENATE(\"v\",Formula_week!GK9))","v":""},{"$f":"IF(Formula_week!GL10>Formula_week!$B$4,\"\",CONCATENATE(\"v\",Formula_week!GL9))","v":""},{"$f":"IF(Formula_week!GM10>Formula_week!$B$4,\"\",CONCATENATE(\"v\",Formula_week!GM9))","v":""},{"$f":"IF(Formula_week!GN10>Formula_week!$B$4,\"\",CONCATENATE(\"v\",Formula_week!GN9))","v":""},{"$f":"IF(Formula_week!GO10>Formula_week!$B$4,\"\",CONCATENATE(\"v\",Formula_week!GO9))","v":""},{"$f":"IF(Formula_week!GP10>Formula_week!$B$4,\"\",CONCATENATE(\"v\",Formula_week!GP9))","v":""},{"$f":"IF(Formula_week!GQ10>Formula_week!$B$4,\"\",CONCATENATE(\"v\",Formula_week!GQ9))","v":""},{"$f":"IF(Formula_week!GR10>Formula_week!$B$4,\"\",CONCATENATE(\"v\",Formula_week!GR9))","v":""},{"$f":"IF(Formula_week!GS10>Formula_week!$B$4,\"\",CONCATENATE(\"v\",Formula_week!GS9))","v":""},{"$f":"IF(Formula_week!GT10>Formula_week!$B$4,\"\",CONCATENATE(\"v\",Formula_week!GT9))","v":""},{"$f":"IF(Formula_week!GU10>Formula_week!$B$4,\"\",CONCATENATE(\"v\",Formula_week!GU9))","v":""},{"$f":"IF(Formula_week!GV10>Formula_week!$B$4,\"\",CONCATENATE(\"v\",Formula_week!GV9))","v":""},{"$f":"IF(Formula_week!GW10>Formula_week!$B$4,\"\",CONCATENATE(\"v\",Formula_week!GW9))","v":""},{"$f":"IF(Formula_week!GX10>Formula_week!$B$4,\"\",CONCATENATE(\"v\",Formula_week!GX9))","v":""},{"$f":"IF(Formula_week!GY10>Formula_week!$B$4,\"\",CONCATENATE(\"v\",Formula_week!GY9))","v":""},{"$f":"IF(Formula_week!GZ10>Formula_week!$B$4,\"\",CONCATENATE(\"v\",Formula_week!GZ9))","v":""},{"$f":"IF(Formula_week!HA10>Formula_week!$B$4,\"\",CONCATENATE(\"v\",Formula_week!HA9))","v":""},{"$f":"IF(Formula_week!HB10>Formula_week!$B$4,\"\",CONCATENATE(\"v\",Formula_week!HB9))","v":""},{"$f":"IF(Formula_week!HC10>Formula_week!$B$4,\"\",CONCATENATE(\"v\",Formula_week!HC9))","v":""},{"$f":"IF(Formula_week!HD10>Formula_week!$B$4,\"\",CONCATENATE(\"v\",Formula_week!HD9))","v":""},{"$f":"IF(Formula_week!HE10>Formula_week!$B$4,\"\",CONCATENATE(\"v\",Formula_week!HE9))","v":""},{"$f":"IF(Formula_week!HF10>Formula_week!$B$4,\"\",CONCATENATE(\"v\",Formula_week!HF9))","v":""},{"$f":"IF(Formula_week!HG10>Formula_week!$B$4,\"\",CONCATENATE(\"v\",Formula_week!HG9))","v":""},{"$f":"IF(Formula_week!HH10>Formula_week!$B$4,\"\",CONCATENATE(\"v\",Formula_week!HH9))","v":""},{"$f":"IF(Formula_week!HI10>Formula_week!$B$4,\"\",CONCATENATE(\"v\",Formula_week!HI9))","v":""},{"$f":"IF(Formula_week!HJ10>Formula_week!$B$4,\"\",CONCATENATE(\"v\",Formula_week!HJ9))","v":""},{"$f":"IF(Formula_week!HK10>Formula_week!$B$4,\"\",CONCATENATE(\"v\",Formula_week!HK9))","v":""},{"$f":"IF(Formula_week!HL10>Formula_week!$B$4,\"\",CONCATENATE(\"v\",Formula_week!HL9))","v":""},{"$f":"IF(Formula_week!HM10>Formula_week!$B$4,\"\",CONCATENATE(\"v\",Formula_week!HM9))","v":""},{"$f":"IF(Formula_week!HN10>Formula_week!$B$4,\"\",CONCATENATE(\"v\",Formula_week!HN9))","v":""},{"$f":"IF(Formula_week!HO10>Formula_week!$B$4,\"\",CONCATENATE(\"v\",Formula_week!HO9))","v":""},{"$f":"IF(Formula_week!HP10>Formula_week!$B$4,\"\",CONCATENATE(\"v\",Formula_week!HP9))","v":""},{"$f":"IF(Formula_week!HQ10>Formula_week!$B$4,\"\",CONCATENATE(\"v\",Formula_week!HQ9))","v":""},{"$f":"IF(Formula_week!HR10>Formula_week!$B$4,\"\",CONCATENATE(\"v\",Formula_week!HR9))","v":""},{"$f":"IF(Formula_week!HS10>Formula_week!$B$4,\"\",CONCATENATE(\"v\",Formula_week!HS9))","v":""},{"$f":"IF(Formula_week!HT10>Formula_week!$B$4,\"\",CONCATENATE(\"v\",Formula_week!HT9))","v":""},{"$f":"IF(Formula_week!HU10>Formula_week!$B$4,\"\",CONCATENATE(\"v\",Formula_week!HU9))","v":""},{"$f":"IF(Formula_week!HV10>Formula_week!$B$4,\"\",CONCATENATE(\"v\",Formula_week!HV9))","v":""},{"$f":"IF(Formula_week!HW10>Formula_week!$B$4,\"\",CONCATENATE(\"v\",Formula_week!HW9))","v":""},{"$f":"IF(Formula_week!HX10>Formula_week!$B$4,\"\",CONCATENATE(\"v\",Formula_week!HX9))","v":""},{"$f":"IF(Formula_week!HY10>Formula_week!$B$4,\"\",CONCATENATE(\"v\",Formula_week!HY9))","v":""},{"$f":"IF(Formula_week!HZ10>Formula_week!$B$4,\"\",CONCATENATE(\"v\",Formula_week!HZ9))","v":""},{"$f":"IF(Formula_week!IA10>Formula_week!$B$4,\"\",CONCATENATE(\"v\",Formula_week!IA9))","v":""},{"$f":"IF(Formula_week!IB10>Formula_week!$B$4,\"\",CONCATENATE(\"v\",Formula_week!IB9))","v":""},{"$f":"IF(Formula_week!IC10>Formula_week!$B$4,\"\",CONCATENATE(\"v\",Formula_week!IC9))","v":""},{"$f":"IF(Formula_week!ID10>Formula_week!$B$4,\"\",CONCATENATE(\"v\",Formula_week!ID9))","v":""},{"$f":"IF(Formula_week!IE10>Formula_week!$B$4,\"\",CONCATENATE(\"v\",Formula_week!IE9))","v":""},{"$f":"IF(Formula_week!IF10>Formula_week!$B$4,\"\",CONCATENATE(\"v\",Formula_week!IF9))","v":""},{"$f":"IF(Formula_week!IG10>Formula_week!$B$4,\"\",CONCATENATE(\"v\",Formula_week!IG9))","v":""},{"$f":"IF(Formula_week!IH10>Formula_week!$B$4,\"\",CONCATENATE(\"v\",Formula_week!IH9))","v":""},{"$f":"IF(Formula_week!II10>Formula_week!$B$4,\"\",CONCATENATE(\"v\",Formula_week!II9))","v":""},{"$f":"IF(Formula_week!IJ10>Formula_week!$B$4,\"\",CONCATENATE(\"v\",Formula_week!IJ9))","v":""},{"$f":"IF(Formula_week!IK10>Formula_week!$B$4,\"\",CONCATENATE(\"v\",Formula_week!IK9))","v":""},{"$f":"IF(Formula_week!IL10>Formula_week!$B$4,\"\",CONCATENATE(\"v\",Formula_week!IL9))","v":""},{"$f":"IF(Formula_week!IM10>Formula_week!$B$4,\"\",CONCATENATE(\"v\",Formula_week!IM9))","v":""},{"$f":"IF(Formula_week!IN10>Formula_week!$B$4,\"\",CONCATENATE(\"v\",Formula_week!IN9))","v":""},{"$f":"IF(Formula_week!IO10>Formula_week!$B$4,\"\",CONCATENATE(\"v\",Formula_week!IO9))","v":""},{"$f":"IF(Formula_week!IP10>Formula_week!$B$4,\"\",CONCATENATE(\"v\",Formula_week!IP9))","v":""},{"$f":"IF(Formula_week!IQ10>Formula_week!$B$4,\"\",CONCATENATE(\"v\",Formula_week!IQ9))","v":""},{"$f":"IF(Formula_week!IR10>Formula_week!$B$4,\"\",CONCATENATE(\"v\",Formula_week!IR9))","v":""},{"$f":"IF(Formula_week!IS10>Formula_week!$B$4,\"\",CONCATENATE(\"v\",Formula_week!IS9))","v":""},{"$f":"IF(Formula_week!IT10>Formula_week!$B$4,\"\",CONCATENATE(\"v\",Formula_week!IT9))","v":""},{"$f":"IF(Formula_week!IU10>Formula_week!$B$4,\"\",CONCATENATE(\"v\",Formula_week!IU9))","v":""},{"$f":"IF(Formula_week!IV10>Formula_week!$B$4,\"\",CONCATENATE(\"v\",Formula_week!IV9))","v":""},{"$f":"IF(Formula_week!IW10>Formula_week!$B$4,\"\",CONCATENATE(\"v\",Formula_week!IW9))","v":""},{"$f":"IF(Formula_week!IX10>Formula_week!$B$4,\"\",CONCATENATE(\"v\",Formula_week!IX9))","v":""},{"$f":"IF(Formula_week!IY10>Formula_week!$B$4,\"\",CONCATENATE(\"v\",Formula_week!IY9))","v":""},{"$f":"IF(Formula_week!IZ10>Formula_week!$B$4,\"\",CONCATENATE(\"v\",Formula_week!IZ9))","v":""},{"$f":"IF(Formula_week!JA10>Formula_week!$B$4,\"\",CONCATENATE(\"v\",Formula_week!JA9))","v":""},{"$f":"IF(Formula_week!JB10>Formula_week!$B$4,\"\",CONCATENATE(\"v\",Formula_week!JB9))","v":""},{"$f":"IF(Formula_week!JC10>Formula_week!$B$4,\"\",CONCATENATE(\"v\",Formula_week!JC9))","v":""},{"$f":"IF(Formula_week!JD10>Formula_week!$B$4,\"\",CONCATENATE(\"v\",Formula_week!JD9))","v":""},{"$f":"IF(Formula_week!JE10>Formula_week!$B$4,\"\",CONCATENATE(\"v\",Formula_week!JE9))","v":""},{"$f":"IF(Formula_week!JF10>Formula_week!$B$4,\"\",CONCATENATE(\"v\",Formula_week!JF9))","v":""},{"$f":"IF(Formula_week!JG10>Formula_week!$B$4,\"\",CONCATENATE(\"v\",Formula_week!JG9))","v":""},{"$f":"IF(Formula_week!JH10>Formula_week!$B$4,\"\",CONCATENATE(\"v\",Formula_week!JH9))","v":""},{"$f":"IF(Formula_week!JI10>Formula_week!$B$4,\"\",CONCATENATE(\"v\",Formula_week!JI9))","v":""},{"$f":"IF(Formula_week!JJ10>Formula_week!$B$4,\"\",CONCATENATE(\"v\",Formula_week!JJ9))","v":""},{"$f":"IF(Formula_week!JK10>Formula_week!$B$4,\"\",CONCATENATE(\"v\",Formula_week!JK9))","v":""},{"$f":"IF(Formula_week!JL10>Formula_week!$B$4,\"\",CONCATENATE(\"v\",Formula_week!JL9))","v":""},{"$f":"IF(Formula_week!JM10>Formula_week!$B$4,\"\",CONCATENATE(\"v\",Formula_week!JM9))","v":""},{"$f":"IF(Formula_week!JN10>Formula_week!$B$4,\"\",CONCATENATE(\"v\",Formula_week!JN9))","v":""},{"$f":"IF(Formula_week!JO10>Formula_week!$B$4,\"\",CONCATENATE(\"v\",Formula_week!JO9))","v":""},{"$f":"IF(Formula_week!JP10>Formula_week!$B$4,\"\",CONCATENATE(\"v\",Formula_week!JP9))","v":""},{"$f":"IF(Formula_week!JQ10>Formula_week!$B$4,\"\",CONCATENATE(\"v\",Formula_week!JQ9))","v":""},{"$f":"IF(Formula_week!JR10>Formula_week!$B$4,\"\",CONCATENATE(\"v\",Formula_week!JR9))","v":""},{"$f":"IF(Formula_week!JS10>Formula_week!$B$4,\"\",CONCATENATE(\"v\",Formula_week!JS9))","v":""},{"$f":"IF(Formula_week!JT10>Formula_week!$B$4,\"\",CONCATENATE(\"v\",Formula_week!JT9))","v":""},{"$f":"IF(Formula_week!JU10>Formula_week!$B$4,\"\",CONCATENATE(\"v\",Formula_week!JU9))","v":""},{"$f":"IF(Formula_week!JV10>Formula_week!$B$4,\"\",CONCATENATE(\"v\",Formula_week!JV9))","v":""},{"$f":"IF(Formula_week!JW10>Formula_week!$B$4,\"\",CONCATENATE(\"v\",Formula_week!JW9))","v":""},{"$f":"IF(Formula_week!JX10>Formula_week!$B$4,\"\",CONCATENATE(\"v\",Formula_week!JX9))","v":""},{"$f":"IF(Formula_week!JY10>Formula_week!$B$4,\"\",CONCATENATE(\"v\",Formula_week!JY9))","v":""},{"$f":"IF(Formula_week!JZ10>Formula_week!$B$4,\"\",CONCATENATE(\"v\",Formula_week!JZ9))","v":""},{"$f":"IF(Formula_week!KA10>Formula_week!$B$4,\"\",CONCATENATE(\"v\",Formula_week!KA9))","v":""},{"$f":"IF(Formula_week!KB10>Formula_week!$B$4,\"\",CONCATENATE(\"v\",Formula_week!KB9))","v":""},{"$f":"IF(Formula_week!KC10>Formula_week!$B$4,\"\",CONCATENATE(\"v\",Formula_week!KC9))","v":""},{"$f":"IF(Formula_week!KD10>Formula_week!$B$4,\"\",CONCATENATE(\"v\",Formula_week!KD9))","v":""},{"$f":"IF(Formula_week!KE10>Formula_week!$B$4,\"\",CONCATENATE(\"v\",Formula_week!KE9))","v":""},{"$f":"IF(Formula_week!KF10>Formula_week!$B$4,\"\",CONCATENATE(\"v\",Formula_week!KF9))","v":""},{"$f":"IF(Formula_week!KG10>Formula_week!$B$4,\"\",CONCATENATE(\"v\",Formula_week!KG9))","v":""},{"$f":"IF(Formula_week!KH10>Formula_week!$B$4,\"\",CONCATENATE(\"v\",Formula_week!KH9))","v":""},{"$f":"IF(Formula_week!KI10>Formula_week!$B$4,\"\",CONCATENATE(\"v\",Formula_week!KI9))","v":""},{"$f":"IF(Formula_week!KJ10>Formula_week!$B$4,\"\",CONCATENATE(\"v\",Formula_week!KJ9))","v":""},{"$f":"IF(Formula_week!KK10>Formula_week!$B$4,\"\",CONCATENATE(\"v\",Formula_week!KK9))","v":""},{"$f":"IF(Formula_week!KL10>Formula_week!$B$4,\"\",CONCATENATE(\"v\",Formula_week!KL9))","v":""},{"$f":"IF(Formula_week!KM10>Formula_week!$B$4,\"\",CONCATENATE(\"v\",Formula_week!KM9))","v":""},{"$f":"IF(Formula_week!KN10>Formula_week!$B$4,\"\",CONCATENATE(\"v\",Formula_week!KN9))","v":""},{"$f":"IF(Formula_week!KO10>Formula_week!$B$4,\"\",CONCATENATE(\"v\",Formula_week!KO9))","v":""},{"$f":"IF(Formula_week!KP10>Formula_week!$B$4,\"\",CONCATENATE(\"v\",Formula_week!KP9))","v":""},{"$f":"IF(Formula_week!KQ10>Formula_week!$B$4,\"\",CONCATENATE(\"v\",Formula_week!KQ9))","v":""},{"$f":"IF(Formula_week!KR10>Formula_week!$B$4,\"\",CONCATENATE(\"v\",Formula_week!KR9))","v":""},{"$f":"IF(Formula_week!KS10>Formula_week!$B$4,\"\",CONCATENATE(\"v\",Formula_week!KS9))","v":""},{"$f":"IF(Formula_week!KT10>Formula_week!$B$4,\"\",CONCATENATE(\"v\",Formula_week!KT9))","v":""},{"$f":"IF(Formula_week!KU10>Formula_week!$B$4,\"\",CONCATENATE(\"v\",Formula_week!KU9))","v":""},{"$f":"IF(Formula_week!KV10>Formula_week!$B$4,\"\",CONCATENATE(\"v\",Formula_week!KV9))","v":""},{"$f":"IF(Formula_week!KW10>Formula_week!$B$4,\"\",CONCATENATE(\"v\",Formula_week!KW9))","v":""},{"$f":"IF(Formula_week!KX10>Formula_week!$B$4,\"\",CONCATENATE(\"v\",Formula_week!KX9))","v":""},{"$f":"IF(Formula_week!KY10>Formula_week!$B$4,\"\",CONCATENATE(\"v\",Formula_week!KY9))","v":""},{"$f":"IF(Formula_week!KZ10>Formula_week!$B$4,\"\",CONCATENATE(\"v\",Formula_week!KZ9))","v":""},{"$f":"IF(Formula_week!LA10>Formula_week!$B$4,\"\",CONCATENATE(\"v\",Formula_week!LA9))","v":""},{"$f":"IF(Formula_week!LB10>Formula_week!$B$4,\"\",CONCATENATE(\"v\",Formula_week!LB9))","v":""},{"$f":"IF(Formula_week!LC10>Formula_week!$B$4,\"\",CONCATENATE(\"v\",Formula_week!LC9))","v":""},{"$f":"IF(Formula_week!LD10>Formula_week!$B$4,\"\",CONCATENATE(\"v\",Formula_week!LD9))","v":""},{"$f":"IF(Formula_week!LE10>Formula_week!$B$4,\"\",CONCATENATE(\"v\",Formula_week!LE9))","v":""},{"$f":"IF(Formula_week!LF10>Formula_week!$B$4,\"\",CONCATENATE(\"v\",Formula_week!LF9))","v":""},{"$f":"IF(Formula_week!LG10>Formula_week!$B$4,\"\",CONCATENATE(\"v\",Formula_week!LG9))","v":""},{"$f":"IF(Formula_week!LH10>Formula_week!$B$4,\"\",CONCATENATE(\"v\",Formula_week!LH9))","v":""},{"$f":"IF(Formula_week!LI10>Formula_week!$B$4,\"\",CONCATENATE(\"v\",Formula_week!LI9))","v":""},{"$f":"IF(Formula_week!LJ10>Formula_week!$B$4,\"\",CONCATENATE(\"v\",Formula_week!LJ9))","v":""},{"$f":"IF(Formula_week!LK10>Formula_week!$B$4,\"\",CONCATENATE(\"v\",Formula_week!LK9))","v":""},{"$f":"IF(Formula_week!LL10>Formula_week!$B$4,\"\",CONCATENATE(\"v\",Formula_week!LL9))","v":""},{"$f":"IF(Formula_week!LM10>Formula_week!$B$4,\"\",CONCATENATE(\"v\",Formula_week!LM9))","v":""},{"$f":"IF(Formula_week!LN10>Formula_week!$B$4,\"\",CONCATENATE(\"v\",Formula_week!LN9))","v":""},{"$f":"IF(Formula_week!LO10>Formula_week!$B$4,\"\",CONCATENATE(\"v\",Formula_week!LO9))","v":""},{"$f":"IF(Formula_week!LP10>Formula_week!$B$4,\"\",CONCATENATE(\"v\",Formula_week!LP9))","v":""},{"$f":"IF(Formula_week!LQ10>Formula_week!$B$4,\"\",CONCATENATE(\"v\",Formula_week!LQ9))","v":""},{"$f":"IF(Formula_week!LR10>Formula_week!$B$4,\"\",CONCATENATE(\"v\",Formula_week!LR9))","v":""},{"$f":"IF(Formula_week!LS10>Formula_week!$B$4,\"\",CONCATENATE(\"v\",Formula_week!LS9))","v":""},{"$f":"IF(Formula_week!LT10>Formula_week!$B$4,\"\",CONCATENATE(\"v\",Formula_week!LT9))","v":""},{"$f":"IF(Formula_week!LU10>Formula_week!$B$4,\"\",CONCATENATE(\"v\",Formula_week!LU9))","v":""},{"$f":"IF(Formula_week!LV10>Formula_week!$B$4,\"\",CONCATENATE(\"v\",Formula_week!LV9))","v":""},{"$f":"IF(Formula_week!LW10>Formula_week!$B$4,\"\",CONCATENATE(\"v\",Formula_week!LW9))","v":""},{"$f":"IF(Formula_week!LX10>Formula_week!$B$4,\"\",CONCATENATE(\"v\",Formula_week!LX9))","v":""},{"$f":"IF(Formula_week!LY10>Formula_week!$B$4,\"\",CONCATENATE(\"v\",Formula_week!LY9))","v":""},{"$f":"IF(Formula_week!LZ10>Formula_week!$B$4,\"\",CONCATENATE(\"v\",Formula_week!LZ9))","v":""},{"$f":"IF(Formula_week!MA10>Formula_week!$B$4,\"\",CONCATENATE(\"v\",Formula_week!MA9))","v":""},{"$f":"IF(Formula_week!MB10>Formula_week!$B$4,\"\",CONCATENATE(\"v\",Formula_week!MB9))","v":""},{"$f":"IF(Formula_week!MC10>Formula_week!$B$4,\"\",CONCATENATE(\"v\",Formula_week!MC9))","v":""},{"$f":"IF(Formula_week!MD10>Formula_week!$B$4,\"\",CONCATENATE(\"v\",Formula_week!MD9))","v":""},{"$f":"IF(Formula_week!ME10>Formula_week!$B$4,\"\",CONCATENATE(\"v\",Formula_week!ME9))","v":""},{"$f":"IF(Formula_week!MF10>Formula_week!$B$4,\"\",CONCATENATE(\"v\",Formula_week!MF9))","v":""},{"$f":"IF(Formula_week!MG10>Formula_week!$B$4,\"\",CONCATENATE(\"v\",Formula_week!MG9))","v":""},{"$f":"IF(Formula_week!MH10>Formula_week!$B$4,\"\",CONCATENATE(\"v\",Formula_week!MH9))","v":""},{"$f":"IF(Formula_week!MI10>Formula_week!$B$4,\"\",CONCATENATE(\"v\",Formula_week!MI9))","v":""},{"$f":"IF(Formula_week!MJ10>Formula_week!$B$4,\"\",CONCATENATE(\"v\",Formula_week!MJ9))","v":""},{"$f":"IF(Formula_week!MK10>Formula_week!$B$4,\"\",CONCATENATE(\"v\",Formula_week!MK9))","v":""},{"$f":"IF(Formula_week!ML10>Formula_week!$B$4,\"\",CONCATENATE(\"v\",Formula_week!ML9))","v":""},{"$f":"IF(Formula_week!MM10>Formula_week!$B$4,\"\",CONCATENATE(\"v\",Formula_week!MM9))","v":""},{"$f":"IF(Formula_week!MN10>Formula_week!$B$4,\"\",CONCATENATE(\"v\",Formula_week!MN9))","v":""},{"$f":"IF(Formula_week!MO10>Formula_week!$B$4,\"\",CONCATENATE(\"v\",Formula_week!MO9))","v":""},{"$f":"IF(Formula_week!MP10>Formula_week!$B$4,\"\",CONCATENATE(\"v\",Formula_week!MP9))","v":""},{"$f":"IF(Formula_week!MQ10>Formula_week!$B$4,\"\",CONCATENATE(\"v\",Formula_week!MQ9))","v":""},{"$f":"IF(Formula_week!MR10>Formula_week!$B$4,\"\",CONCATENATE(\"v\",Formula_week!MR9))","v":""},{"$f":"IF(Formula_week!MS10>Formula_week!$B$4,\"\",CONCATENATE(\"v\",Formula_week!MS9))","v":""},{"$f":"IF(Formula_week!MT10>Formula_week!$B$4,\"\",CONCATENATE(\"v\",Formula_week!MT9))","v":""},{"$f":"IF(Formula_week!MU10>Formula_week!$B$4,\"\",CONCATENATE(\"v\",Formula_week!MU9))","v":""},{"$f":"IF(Formula_week!MV10>Formula_week!$B$4,\"\",CONCATENATE(\"v\",Formula_week!MV9))","v":""},{"$f":"IF(Formula_week!MW10>Formula_week!$B$4,\"\",CONCATENATE(\"v\",Formula_week!MW9))","v":""},{"$f":"IF(Formula_week!MX10>Formula_week!$B$4,\"\",CONCATENATE(\"v\",Formula_week!MX9))","v":""},{"$f":"IF(Formula_week!MY10>Formula_week!$B$4,\"\",CONCATENATE(\"v\",Formula_week!MY9))","v":""},{"$f":"IF(Formula_week!MZ10>Formula_week!$B$4,\"\",CONCATENATE(\"v\",Formula_week!MZ9))","v":""},{"$f":"IF(Formula_week!NA10>Formula_week!$B$4,\"\",CONCATENATE(\"v\",Formula_week!NA9))","v":""},{"$f":"IF(Formula_week!NB10>Formula_week!$B$4,\"\",CONCATENATE(\"v\",Formula_week!NB9))","v":""},{"$f":"IF(Formula_week!NC10>Formula_week!$B$4,\"\",CONCATENATE(\"v\",Formula_week!NC9))","v":""},{"$f":"IF(Formula_week!ND10>Formula_week!$B$4,\"\",CONCATENATE(\"v\",Formula_week!ND9))","v":""},{"$f":"IF(Formula_week!NE10>Formula_week!$B$4,\"\",CONCATENATE(\"v\",Formula_week!NE9))","v":""},{"$f":"IF(Formula_week!NF10>Formula_week!$B$4,\"\",CONCATENATE(\"v\",Formula_week!NF9))","v":""},{"$f":"IF(Formula_week!NG10>Formula_week!$B$4,\"\",CONCATENATE(\"v\",Formula_week!NG9))","v":""},{"$f":"IF(Formula_week!NH10>Formula_week!$B$4,\"\",CONCATENATE(\"v\",Formula_week!NH9))","v":""},{"$f":"IF(Formula_week!NI10>Formula_week!$B$4,\"\",CONCATENATE(\"v\",Formula_week!NI9))","v":""},{"$f":"IF(Formula_week!NJ10>Formula_week!$B$4,\"\",CONCATENATE(\"v\",Formula_week!NJ9))","v":""},{"$f":"IF(Formula_week!NK10>Formula_week!$B$4,\"\",CONCATENATE(\"v\",Formula_week!NK9))","v":""},{"$f":"IF(Formula_week!NL10>Formula_week!$B$4,\"\",CONCATENATE(\"v\",Formula_week!NL9))","v":""},{"$f":"IF(Formula_week!NM10>Formula_week!$B$4,\"\",CONCATENATE(\"v\",Formula_week!NM9))","v":""},{"$f":"IF(Formula_week!NN10>Formula_week!$B$4,\"\",CONCATENATE(\"v\",Formula_week!NN9))","v":""},{"$f":"IF(Formula_week!NO10>Formula_week!$B$4,\"\",CONCATENATE(\"v\",Formula_week!NO9))","v":""},{"$f":"IF(Formula_week!NP10>Formula_week!$B$4,\"\",CONCATENATE(\"v\",Formula_week!NP9))","v":""},{"$f":"IF(Formula_week!NQ10>Formula_week!$B$4,\"\",CONCATENATE(\"v\",Formula_week!NQ9))","v":""},{"$f":"IF(Formula_week!NR10>Formula_week!$B$4,\"\",CONCATENATE(\"v\",Formula_week!NR9))","v":""},{"$f":"IF(Formula_week!NS10>Formula_week!$B$4,\"\",CONCATENATE(\"v\",Formula_week!NS9))","v":""},{"$f":"IF(Formula_week!NT10>Formula_week!$B$4,\"\",CONCATENATE(\"v\",Formula_week!NT9))","v":""},{"$f":"IF(Formula_week!NU10>Formula_week!$B$4,\"\",CONCATENATE(\"v\",Formula_week!NU9))","v":""},{"$f":"IF(Formula_week!NV10>Formula_week!$B$4,\"\",CONCATENATE(\"v\",Formula_week!NV9))","v":""},{"$f":"IF(Formula_week!NW10>Formula_week!$B$4,\"\",CONCATENATE(\"v\",Formula_week!NW9))","v":""},{"$f":"IF(Formula_week!NX10>Formula_week!$B$4,\"\",CONCATENATE(\"v\",Formula_week!NX9))","v":""},{"$f":"IF(Formula_week!NY10>Formula_week!$B$4,\"\",CONCATENATE(\"v\",Formula_week!NY9))","v":""},{"$f":"IF(Formula_week!NZ10>Formula_week!$B$4,\"\",CONCATENATE(\"v\",Formula_week!NZ9))","v":""},{"$f":"IF(Formula_week!OA10>Formula_week!$B$4,\"\",CONCATENATE(\"v\",Formula_week!OA9))","v":""},{"$f":"IF(Formula_week!OB10>Formula_week!$B$4,\"\",CONCATENATE(\"v\",Formula_week!OB9))","v":""},{"$f":"IF(Formula_week!OC10>Formula_week!$B$4,\"\",CONCATENATE(\"v\",Formula_week!OC9))","v":""},{"$f":"IF(Formula_week!OD10>Formula_week!$B$4,\"\",CONCATENATE(\"v\",Formula_week!OD9))","v":""},{"$f":"IF(Formula_week!OE10>Formula_week!$B$4,\"\",CONCATENATE(\"v\",Formula_week!OE9))","v":""},{"$f":"IF(Formula_week!OF10>Formula_week!$B$4,\"\",CONCATENATE(\"v\",Formula_week!OF9))","v":""},{"$f":"IF(Formula_week!OG10>Formula_week!$B$4,\"\",CONCATENATE(\"v\",Formula_week!OG9))","v":""},{"$f":"IF(Formula_week!OH10>Formula_week!$B$4,\"\",CONCATENATE(\"v\",Formula_week!OH9))","v":""},{"$f":"IF(Formula_week!OI10>Formula_week!$B$4,\"\",CONCATENATE(\"v\",Formula_week!OI9))","v":""},{"$f":"IF(Formula_week!OJ10>Formula_week!$B$4,\"\",CONCATENATE(\"v\",Formula_week!OJ9))","v":""},{"$f":"IF(Formula_week!OK10>Formula_week!$B$4,\"\",CONCATENATE(\"v\",Formula_week!OK9))","v":""},{"$f":"IF(Formula_week!OL10>Formula_week!$B$4,\"\",CONCATENATE(\"v\",Formula_week!OL9))","v":""},{"$f":"IF(Formula_week!OM10>Formula_week!$B$4,\"\",CONCATENATE(\"v\",Formula_week!OM9))","v":""},{"$f":"IF(Formula_week!ON10>Formula_week!$B$4,\"\",CONCATENATE(\"v\",Formula_week!ON9))","v":""},{"$f":"IF(Formula_week!OO10>Formula_week!$B$4,\"\",CONCATENATE(\"v\",Formula_week!OO9))","v":""},{"$f":"IF(Formula_week!OP10>Formula_week!$B$4,\"\",CONCATENATE(\"v\",Formula_week!OP9))","v":""},{"$f":"IF(Formula_week!OQ10>Formula_week!$B$4,\"\",CONCATENATE(\"v\",Formula_week!OQ9))","v":""},{"$f":"IF(Formula_week!OR10>Formula_week!$B$4,\"\",CONCATENATE(\"v\",Formula_week!OR9))","v":""},{"$f":"IF(Formula_week!OS10>Formula_week!$B$4,\"\",CONCATENATE(\"v\",Formula_week!OS9))","v":""},{"$f":"IF(Formula_week!OT10>Formula_week!$B$4,\"\",CONCATENATE(\"v\",Formula_week!OT9))","v":""},{"$f":"IF(Formula_week!OU10>Formula_week!$B$4,\"\",CONCATENATE(\"v\",Formula_week!OU9))","v":""},{"$f":"IF(Formula_week!OV10>Formula_week!$B$4,\"\",CONCATENATE(\"v\",Formula_week!OV9))","v":""},{"$f":"IF(Formula_week!OW10>Formula_week!$B$4,\"\",CONCATENATE(\"v\",Formula_week!OW9))","v":""},{"$f":"IF(Formula_week!OX10>Formula_week!$B$4,\"\",CONCATENATE(\"v\",Formula_week!OX9))","v":""},{"$f":"IF(Formula_week!OY10>Formula_week!$B$4,\"\",CONCATENATE(\"v\",Formula_week!OY9))","v":""},{"$f":"IF(Formula_week!OZ10>Formula_week!$B$4,\"\",CONCATENATE(\"v\",Formula_week!OZ9))","v":""},{"$f":"IF(Formula_week!PA10>Formula_week!$B$4,\"\",CONCATENATE(\"v\",Formula_week!PA9))","v":""},{"$f":"IF(Formula_week!PB10>Formula_week!$B$4,\"\",CONCATENATE(\"v\",Formula_week!PB9))","v":""},{"$f":"IF(Formula_week!PC10>Formula_week!$B$4,\"\",CONCATENATE(\"v\",Formula_week!PC9))","v":""},{"$f":"IF(Formula_week!PD10>Formula_week!$B$4,\"\",CONCATENATE(\"v\",Formula_week!PD9))","v":""},{"$f":"IF(Formula_week!PE10>Formula_week!$B$4,\"\",CONCATENATE(\"v\",Formula_week!PE9))","v":""},{"$f":"IF(Formula_week!PF10>Formula_week!$B$4,\"\",CONCATENATE(\"v\",Formula_week!PF9))","v":""},{"$f":"IF(Formula_week!PG10>Formula_week!$B$4,\"\",CONCATENATE(\"v\",Formula_week!PG9))","v":""},{"$f":"IF(Formula_week!PH10>Formula_week!$B$4,\"\",CONCATENATE(\"v\",Formula_week!PH9))","v":""},{"$f":"IF(Formula_week!PI10>Formula_week!$B$4,\"\",CONCATENATE(\"v\",Formula_week!PI9))","v":""},{"$f":"IF(Formula_week!PJ10>Formula_week!$B$4,\"\",CONCATENATE(\"v\",Formula_week!PJ9))","v":""},{"$f":"IF(Formula_week!PK10>Formula_week!$B$4,\"\",CONCATENATE(\"v\",Formula_week!PK9))","v":""},{"$f":"IF(Formula_week!PL10>Formula_week!$B$4,\"\",CONCATENATE(\"v\",Formula_week!PL9))","v":""},{"$f":"IF(Formula_week!PM10>Formula_week!$B$4,\"\",CONCATENATE(\"v\",Formula_week!PM9))","v":""},{"$f":"IF(Formula_week!PN10>Formula_week!$B$4,\"\",CONCATENATE(\"v\",Formula_week!PN9))","v":""},{"$f":"IF(Formula_week!PO10>Formula_week!$B$4,\"\",CONCATENATE(\"v\",Formula_week!PO9))","v":""},{"$f":"IF(Formula_week!PP10>Formula_week!$B$4,\"\",CONCATENATE(\"v\",Formula_week!PP9))","v":""},{"$f":"IF(Formula_week!PQ10>Formula_week!$B$4,\"\",CONCATENATE(\"v\",Formula_week!PQ9))","v":""},{"$f":"IF(Formula_week!PR10>Formula_week!$B$4,\"\",CONCATENATE(\"v\",Formula_week!PR9))","v":""},{"$f":"IF(Formula_week!PS10>Formula_week!$B$4,\"\",CONCATENATE(\"v\",Formula_week!PS9))","v":""},{"$f":"IF(Formula_week!PT10>Formula_week!$B$4,\"\",CONCATENATE(\"v\",Formula_week!PT9))","v":""},{"$f":"IF(Formula_week!PU10>Formula_week!$B$4,\"\",CONCATENATE(\"v\",Formula_week!PU9))","v":""},{"$f":"IF(Formula_week!PV10>Formula_week!$B$4,\"\",CONCATENATE(\"v\",Formula_week!PV9))","v":""},{"$f":"IF(Formula_week!PW10>Formula_week!$B$4,\"\",CONCATENATE(\"v\",Formula_week!PW9))","v":""},{"$f":"IF(Formula_week!PX10>Formula_week!$B$4,\"\",CONCATENATE(\"v\",Formula_week!PX9))","v":""},{"$f":"IF(Formula_week!PY10>Formula_week!$B$4,\"\",CONCATENATE(\"v\",Formula_week!PY9))","v":""},{"$f":"IF(Formula_week!PZ10>Formula_week!$B$4,\"\",CONCATENATE(\"v\",Formula_week!PZ9))","v":""},{"$f":"IF(Formula_week!QA10>Formula_week!$B$4,\"\",CONCATENATE(\"v\",Formula_week!QA9))","v":""},{"$f":"IF(Formula_week!QB10>Formula_week!$B$4,\"\",CONCATENATE(\"v\",Formula_week!QB9))","v":""},{"$f":"IF(Formula_week!QC10>Formula_week!$B$4,\"\",CONCATENATE(\"v\",Formula_week!QC9))","v":""},{"$f":"IF(Formula_week!QD10>Formula_week!$B$4,\"\",CONCATENATE(\"v\",Formula_week!QD9))","v":""},{"$f":"IF(Formula_week!QE10>Formula_week!$B$4,\"\",CONCATENATE(\"v\",Formula_week!QE9))","v":""},{"$f":"IF(Formula_week!QF10>Formula_week!$B$4,\"\",CONCATENATE(\"v\",Formula_week!QF9))","v":""},{"$f":"IF(Formula_week!QG10>Formula_week!$B$4,\"\",CONCATENATE(\"v\",Formula_week!QG9))","v":""},{"$f":"IF(Formula_week!QH10>Formula_week!$B$4,\"\",CONCATENATE(\"v\",Formula_week!QH9))","v":""},{"$f":"IF(Formula_week!QI10>Formula_week!$B$4,\"\",CONCATENATE(\"v\",Formula_week!QI9))","v":""},{"$f":"IF(Formula_week!QJ10>Formula_week!$B$4,\"\",CONCATENATE(\"v\",Formula_week!QJ9))","v":""},{"$f":"IF(Formula_week!QK10>Formula_week!$B$4,\"\",CONCATENATE(\"v\",Formula_week!QK9))","v":""},{"$f":"IF(Formula_week!QL10>Formula_week!$B$4,\"\",CONCATENATE(\"v\",Formula_week!QL9))","v":""},{"$f":"IF(Formula_week!QM10>Formula_week!$B$4,\"\",CONCATENATE(\"v\",Formula_week!QM9))","v":""},{"$f":"IF(Formula_week!QN10>Formula_week!$B$4,\"\",CONCATENATE(\"v\",Formula_week!QN9))","v":""},{"$f":"IF(Formula_week!QO10>Formula_week!$B$4,\"\",CONCATENATE(\"v\",Formula_week!QO9))","v":""},{"$f":"IF(Formula_week!QP10>Formula_week!$B$4,\"\",CONCATENATE(\"v\",Formula_week!QP9))","v":""},{"$f":"IF(Formula_week!QQ10>Formula_week!$B$4,\"\",CONCATENATE(\"v\",Formula_week!QQ9))","v":""},{"$f":"IF(Formula_week!QR10>Formula_week!$B$4,\"\",CONCATENATE(\"v\",Formula_week!QR9))","v":""},{"$f":"IF(Formula_week!QS10>Formula_week!$B$4,\"\",CONCATENATE(\"v\",Formula_week!QS9))","v":""},{"$f":"IF(Formula_week!QT10>Formula_week!$B$4,\"\",CONCATENATE(\"v\",Formula_week!QT9))","v":""},{"$f":"IF(Formula_week!QU10>Formula_week!$B$4,\"\",CONCATENATE(\"v\",Formula_week!QU9))","v":""},{"$f":"IF(Formula_week!QV10>Formula_week!$B$4,\"\",CONCATENATE(\"v\",Formula_week!QV9))","v":""},{"$f":"IF(Formula_week!QW10>Formula_week!$B$4,\"\",CONCATENATE(\"v\",Formula_week!QW9))","v":""},{"$f":"IF(Formula_week!QX10>Formula_week!$B$4,\"\",CONCATENATE(\"v\",Formula_week!QX9))","v":""},{"$f":"IF(Formula_week!QY10>Formula_week!$B$4,\"\",CONCATENATE(\"v\",Formula_week!QY9))","v":""},{"$f":"IF(Formula_week!QZ10>Formula_week!$B$4,\"\",CONCATENATE(\"v\",Formula_week!QZ9))","v":""},{"$f":"IF(Formula_week!RA10>Formula_week!$B$4,\"\",CONCATENATE(\"v\",Formula_week!RA9))","v":""},{"$f":"IF(Formula_week!RB10>Formula_week!$B$4,\"\",CONCATENATE(\"v\",Formula_week!RB9))","v":""},{"$f":"IF(Formula_week!RC10>Formula_week!$B$4,\"\",CONCATENATE(\"v\",Formula_week!RC9))","v":""},{"$f":"IF(Formula_week!RD10>Formula_week!$B$4,\"\",CONCATENATE(\"v\",Formula_week!RD9))","v":""},{"$f":"IF(Formula_week!RE10>Formula_week!$B$4,\"\",CONCATENATE(\"v\",Formula_week!RE9))","v":""},{"$f":"IF(Formula_week!RF10>Formula_week!$B$4,\"\",CONCATENATE(\"v\",Formula_week!RF9))","v":""},{"$f":"IF(Formula_week!RG10>Formula_week!$B$4,\"\",CONCATENATE(\"v\",Formula_week!RG9))","v":""},{"$f":"IF(Formula_week!RH10>Formula_week!$B$4,\"\",CONCATENATE(\"v\",Formula_week!RH9))","v":""},{"$f":"IF(Formula_week!RI10>Formula_week!$B$4,\"\",CONCATENATE(\"v\",Formula_week!RI9))","v":""},{"$f":"IF(Formula_week!RJ10>Formula_week!$B$4,\"\",CONCATENATE(\"v\",Formula_week!RJ9))","v":""},{"$f":"IF(Formula_week!RK10>Formula_week!$B$4,\"\",CONCATENATE(\"v\",Formula_week!RK9))","v":""},{"$f":"IF(Formula_week!RL10>Formula_week!$B$4,\"\",CONCATENATE(\"v\",Formula_week!RL9))","v":""},{"$f":"IF(Formula_week!RM10>Formula_week!$B$4,\"\",CONCATENATE(\"v\",Formula_week!RM9))","v":""},{"$f":"IF(Formula_week!RN10>Formula_week!$B$4,\"\",CONCATENATE(\"v\",Formula_week!RN9))","v":""},{"$f":"IF(Formula_week!RO10>Formula_week!$B$4,\"\",CONCATENATE(\"v\",Formula_week!RO9))","v":""},{"$f":"IF(Formula_week!RP10>Formula_week!$B$4,\"\",CONCATENATE(\"v\",Formula_week!RP9))","v":""},{"$f":"IF(Formula_week!RQ10>Formula_week!$B$4,\"\",CONCATENATE(\"v\",Formula_week!RQ9))","v":""},{"$f":"IF(Formula_week!RR10>Formula_week!$B$4,\"\",CONCATENATE(\"v\",Formula_week!RR9))","v":""},{"$f":"IF(Formula_week!RS10>Formula_week!$B$4,\"\",CONCATENATE(\"v\",Formula_week!RS9))","v":""},{"$f":"IF(Formula_week!RT10>Formula_week!$B$4,\"\",CONCATENATE(\"v\",Formula_week!RT9))","v":""},{"$f":"IF(Formula_week!RU10>Formula_week!$B$4,\"\",CONCATENATE(\"v\",Formula_week!RU9))","v":""},{"$f":"IF(Formula_week!RV10>Formula_week!$B$4,\"\",CONCATENATE(\"v\",Formula_week!RV9))","v":""},{"$f":"IF(Formula_week!RW10>Formula_week!$B$4,\"\",CONCATENATE(\"v\",Formula_week!RW9))","v":""},{"$f":"IF(Formula_week!RX10>Formula_week!$B$4,\"\",CONCATENATE(\"v\",Formula_week!RX9))","v":""},{"$f":"IF(Formula_week!RY10>Formula_week!$B$4,\"\",CONCATENATE(\"v\",Formula_week!RY9))","v":""},{"$f":"IF(Formula_week!RZ10>Formula_week!$B$4,\"\",CONCATENATE(\"v\",Formula_week!RZ9))","v":""},{"$f":"IF(Formula_week!SA10>Formula_week!$B$4,\"\",CONCATENATE(\"v\",Formula_week!SA9))","v":""},{"$f":"IF(Formula_week!SB10>Formula_week!$B$4,\"\",CONCATENATE(\"v\",Formula_week!SB9))","v":""},{"$f":"IF(Formula_week!SC10>Formula_week!$B$4,\"\",CONCATENATE(\"v\",Formula_week!SC9))","v":""},{"$f":"IF(Formula_week!SD10>Formula_week!$B$4,\"\",CONCATENATE(\"v\",Formula_week!SD9))","v":""},{"$f":"IF(Formula_week!SE10>Formula_week!$B$4,\"\",CONCATENATE(\"v\",Formula_week!SE9))","v":""},{"$f":"IF(Formula_week!SF10>Formula_week!$B$4,\"\",CONCATENATE(\"v\",Formula_week!SF9))","v":""},{"$f":"IF(Formula_week!SG10>Formula_week!$B$4,\"\",CONCATENATE(\"v\",Formula_week!SG9))","v":""},{"$f":"IF(Formula_week!SH10>Formula_week!$B$4,\"\",CONCATENATE(\"v\",Formula_week!SH9))","v":""},{"$f":"IF(Formula_week!SI10>Formula_week!$B$4,\"\",CONCATENATE(\"v\",Formula_week!SI9))","v":""},{"$f":"IF(Formula_week!SJ10>Formula_week!$B$4,\"\",CONCATENATE(\"v\",Formula_week!SJ9))","v":""},{"$f":"IF(Formula_week!SK10>Formula_week!$B$4,\"\",CONCATENATE(\"v\",Formula_week!SK9))","v":""},{"$f":"IF(Formula_week!SL10>Formula_week!$B$4,\"\",CONCATENATE(\"v\",Formula_week!SL9))","v":""},{"$f":"IF(Formula_week!SM10>Formula_week!$B$4,\"\",CONCATENATE(\"v\",Formula_week!SM9))","v":""},{"$f":"IF(Formula_week!SN10>Formula_week!$B$4,\"\",CONCATENATE(\"v\",Formula_week!SN9))","v":""},{"$f":"IF(Formula_week!SO10>Formula_week!$B$4,\"\",CONCATENATE(\"v\",Formula_week!SO9))","v":""},{"$f":"IF(Formula_week!SP10>Formula_week!$B$4,\"\",CONCATENATE(\"v\",Formula_week!SP9))","v":""},{"$f":"IF(Formula_week!SQ10>Formula_week!$B$4,\"\",CONCATENATE(\"v\",Formula_week!SQ9))","v":""},{"$f":"IF(Formula_week!SR10>Formula_week!$B$4,\"\",CONCATENATE(\"v\",Formula_week!SR9))","v":""},{"$f":"IF(Formula_week!SS10>Formula_week!$B$4,\"\",CONCATENATE(\"v\",Formula_week!SS9))","v":""},{"$f":"IF(Formula_week!ST10>Formula_week!$B$4,\"\",CONCATENATE(\"v\",Formula_week!ST9))","v":""},{"$f":"IF(Formula_week!SU10>Formula_week!$B$4,\"\",CONCATENATE(\"v\",Formula_week!SU9))","v":""},{"$f":"IF(Formula_week!SV10>Formula_week!$B$4,\"\",CONCATENATE(\"v\",Formula_week!SV9))","v":""},{"$f":"IF(Formula_week!SW10>Formula_week!$B$4,\"\",CONCATENATE(\"v\",Formula_week!SW9))","v":""},{"$f":"IF(Formula_week!SX10>Formula_week!$B$4,\"\",CONCATENATE(\"v\",Formula_week!SX9))","v":""},{"$f":"IF(Formula_week!SY10>Formula_week!$B$4,\"\",CONCATENATE(\"v\",Formula_week!SY9))","v":""},{"$f":"IF(Formula_week!SZ10>Formula_week!$B$4,\"\",CONCATENATE(\"v\",Formula_week!SZ9))","v":""},{"$f":"IF(Formula_week!TA10>Formula_week!$B$4,\"\",CONCATENATE(\"v\",Formula_week!TA9))","v":""},{"$f":"IF(Formula_week!TB10>Formula_week!$B$4,\"\",CONCATENATE(\"v\",Formula_week!TB9))","v":""},{"$f":"IF(Formula_week!TC10>Formula_week!$B$4,\"\",CONCATENATE(\"v\",Formula_week!TC9))","v":""},{"$f":"IF(Formula_week!TD10>Formula_week!$B$4,\"\",CONCATENATE(\"v\",Formula_week!TD9))","v":""},{"$f":"IF(Formula_week!TE10>Formula_week!$B$4,\"\",CONCATENATE(\"v\",Formula_week!TE9))","v":""},{"$f":"IF(Formula_week!TF10>Formula_week!$B$4,\"\",CONCATENATE(\"v\",Formula_week!TF9))","v":""},{"$f":"IF(Formula_week!TG10>Formula_week!$B$4,\"\",CONCATENATE(\"v\",Formula_week!TG9))","v":""},{"$f":"IF(Formula_week!TH10>Formula_week!$B$4,\"\",CONCATENATE(\"v\",Formula_week!TH9))","v":""},{"$f":"IF(Formula_week!TI10>Formula_week!$B$4,\"\",CONCATENATE(\"v\",Formula_week!TI9))","v":""},{"$f":"IF(Formula_week!TJ10>Formula_week!$B$4,\"\",CONCATENATE(\"v\",Formula_week!TJ9))","v":""},{"$f":"IF(Formula_week!TK10>Formula_week!$B$4,\"\",CONCATENATE(\"v\",Formula_week!TK9))","v":""},{"$f":"IF(Formula_week!TL10>Formula_week!$B$4,\"\",CONCATENATE(\"v\",Formula_week!TL9))","v":""},{"$f":"IF(Formula_week!TM10>Formula_week!$B$4,\"\",CONCATENATE(\"v\",Formula_week!TM9))","v":""},{"$f":"IF(Formula_week!TN10>Formula_week!$B$4,\"\",CONCATENATE(\"v\",Formula_week!TN9))","v":""},{"$f":"IF(Formula_week!TO10>Formula_week!$B$4,\"\",CONCATENATE(\"v\",Formula_week!TO9))","v":""},{"$f":"IF(Formula_week!TP10>Formula_week!$B$4,\"\",CONCATENATE(\"v\",Formula_week!TP9))","v":""},{"$f":"IF(Formula_week!TQ10>Formula_week!$B$4,\"\",CONCATENATE(\"v\",Formula_week!TQ9))","v":""},{"$f":"IF(Formula_week!TR10>Formula_week!$B$4,\"\",CONCATENATE(\"v\",Formula_week!TR9))","v":""},{"$f":"IF(Formula_week!TS10>Formula_week!$B$4,\"\",CONCATENATE(\"v\",Formula_week!TS9))","v":""},{"$f":"IF(Formula_week!TT10>Formula_week!$B$4,\"\",CONCATENATE(\"v\",Formula_week!TT9))","v":""},{"$f":"IF(Formula_week!TU10>Formula_week!$B$4,\"\",CONCATENATE(\"v\",Formula_week!TU9))","v":""},{"$f":"IF(Formula_week!TV10>Formula_week!$B$4,\"\",CONCATENATE(\"v\",Formula_week!TV9))","v":""},{"$f":"IF(Formula_week!TW10>Formula_week!$B$4,\"\",CONCATENATE(\"v\",Formula_week!TW9))","v":""},{"$f":"IF(Formula_week!TX10>Formula_week!$B$4,\"\",CONCATENATE(\"v\",Formula_week!TX9))","v":""},{"$f":"IF(Formula_week!TY10>Formula_week!$B$4,\"\",CONCATENATE(\"v\",Formula_week!TY9))","v":""},{"$f":"IF(Formula_week!TZ10>Formula_week!$B$4,\"\",CONCATENATE(\"v\",Formula_week!TZ9))","v":""},{"$f":"IF(Formula_week!UA10>Formula_week!$B$4,\"\",CONCATENATE(\"v\",Formula_week!UA9))","v":""},{"$f":"IF(Formula_week!UB10>Formula_week!$B$4,\"\",CONCATENATE(\"v\",Formula_week!UB9))","v":""},{"$f":"IF(Formula_week!UC10>Formula_week!$B$4,\"\",CONCATENATE(\"v\",Formula_week!UC9))","v":""},{"$f":"IF(Formula_week!UD10>Formula_week!$B$4,\"\",CONCATENATE(\"v\",Formula_week!UD9))","v":""},{"$f":"IF(Formula_week!UE10>Formula_week!$B$4,\"\",CONCATENATE(\"v\",Formula_week!UE9))","v":""},{"$f":"IF(Formula_week!UF10>Formula_week!$B$4,\"\",CONCATENATE(\"v\",Formula_week!UF9))","v":""},{"$f":"IF(Formula_week!UG10>Formula_week!$B$4,\"\",CONCATENATE(\"v\",Formula_week!UG9))","v":""},{"$f":"IF(Formula_week!UH10>Formula_week!$B$4,\"\",CONCATENATE(\"v\",Formula_week!UH9))","v":""},{"$f":"IF(Formula_week!UI10>Formula_week!$B$4,\"\",CONCATENATE(\"v\",Formula_week!UI9))","v":""},{"$f":"IF(Formula_week!UJ10>Formula_week!$B$4,\"\",CONCATENATE(\"v\",Formula_week!UJ9))","v":""},{"$f":"IF(Formula_week!UK10>Formula_week!$B$4,\"\",CONCATENATE(\"v\",Formula_week!UK9))","v":""},{"$f":"IF(Formula_week!UL10>Formula_week!$B$4,\"\",CONCATENATE(\"v\",Formula_week!UL9))","v":""},{"$f":"IF(Formula_week!UM10>Formula_week!$B$4,\"\",CONCATENATE(\"v\",Formula_week!UM9))","v":""},{"$f":"IF(Formula_week!UN10>Formula_week!$B$4,\"\",CONCATENATE(\"v\",Formula_week!UN9))","v":""},{"$f":"IF(Formula_week!UO10>Formula_week!$B$4,\"\",CONCATENATE(\"v\",Formula_week!UO9))","v":""},{"$f":"IF(Formula_week!UP10>Formula_week!$B$4,\"\",CONCATENATE(\"v\",Formula_week!UP9))","v":""},{"$f":"IF(Formula_week!UQ10>Formula_week!$B$4,\"\",CONCATENATE(\"v\",Formula_week!UQ9))","v":""},{"$f":"IF(Formula_week!UR10>Formula_week!$B$4,\"\",CONCATENATE(\"v\",Formula_week!UR9))","v":""},{"$f":"IF(Formula_week!US10>Formula_week!$B$4,\"\",CONCATENATE(\"v\",Formula_week!US9))","v":""},{"$f":"IF(Formula_week!UT10>Formula_week!$B$4,\"\",CONCATENATE(\"v\",Formula_week!UT9))","v":""},{"$f":"IF(Formula_week!UU10>Formula_week!$B$4,\"\",CONCATENATE(\"v\",Formula_week!UU9))","v":""},{"$f":"IF(Formula_week!UV10>Formula_week!$B$4,\"\",CONCATENATE(\"v\",Formula_week!UV9))","v":""},{"$f":"IF(Formula_week!UW10>Formula_week!$B$4,\"\",CONCATENATE(\"v\",Formula_week!UW9))","v":""},{"$f":"IF(Formula_week!UX10>Formula_week!$B$4,\"\",CONCATENATE(\"v\",Formula_week!UX9))","v":""},{"$f":"IF(Formula_week!UY10>Formula_week!$B$4,\"\",CONCATENATE(\"v\",Formula_week!UY9))","v":""},{"$f":"IF(Formula_week!UZ10>Formula_week!$B$4,\"\",CONCATENATE(\"v\",Formula_week!UZ9))","v":""},{"$f":"IF(Formula_week!VA10>Formula_week!$B$4,\"\",CONCATENATE(\"v\",Formula_week!VA9))","v":""},{"$f":"IF(Formula_week!VB10>Formula_week!$B$4,\"\",CONCATENATE(\"v\",Formula_week!VB9))","v":""},{"$f":"IF(Formula_week!VC10>Formula_week!$B$4,\"\",CONCATENATE(\"v\",Formula_week!VC9))","v":""},{"$f":"IF(Formula_week!VD10>Formula_week!$B$4,\"\",CONCATENATE(\"v\",Formula_week!VD9))","v":""},{"$f":"IF(Formula_week!VE10>Formula_week!$B$4,\"\",CONCATENATE(\"v\",Formula_week!VE9))","v":""},{"$f":"IF(Formula_week!VF10>Formula_week!$B$4,\"\",CONCATENATE(\"v\",Formula_week!VF9))","v":""},{"$f":"IF(Formula_week!VG10>Formula_week!$B$4,\"\",CONCATENATE(\"v\",Formula_week!VG9))","v":""},{"$f":"IF(Formula_week!VH10>Formula_week!$B$4,\"\",CONCATENATE(\"v\",Formula_week!VH9))","v":""},{"$f":"IF(Formula_week!VI10>Formula_week!$B$4,\"\",CONCATENATE(\"v\",Formula_week!VI9))","v":""},{"$f":"IF(Formula_week!VJ10>Formula_week!$B$4,\"\",CONCATENATE(\"v\",Formula_week!VJ9))","v":""},{"$f":"IF(Formula_week!VK10>Formula_week!$B$4,\"\",CONCATENATE(\"v\",Formula_week!VK9))","v":""},{"$f":"IF(Formula_week!VL10>Formula_week!$B$4,\"\",CONCATENATE(\"v\",Formula_week!VL9))","v":""},{"$f":"IF(Formula_week!VM10>Formula_week!$B$4,\"\",CONCATENATE(\"v\",Formula_week!VM9))","v":""},{"$f":"IF(Formula_week!VN10>Formula_week!$B$4,\"\",CONCATENATE(\"v\",Formula_week!VN9))","v":""},{"$f":"IF(Formula_week!VO10>Formula_week!$B$4,\"\",CONCATENATE(\"v\",Formula_week!VO9))","v":""},{"$f":"IF(Formula_week!VP10>Formula_week!$B$4,\"\",CONCATENATE(\"v\",Formula_week!VP9))","v":""},{"$f":"IF(Formula_week!VQ10>Formula_week!$B$4,\"\",CONCATENATE(\"v\",Formula_week!VQ9))","v":""},{"$f":"IF(Formula_week!VR10>Formula_week!$B$4,\"\",CONCATENATE(\"v\",Formula_week!VR9))","v":""},{"$f":"IF(Formula_week!VS10>Formula_week!$B$4,\"\",CONCATENATE(\"v\",Formula_week!VS9))","v":""},{"$f":"IF(Formula_week!VT10>Formula_week!$B$4,\"\",CONCATENATE(\"v\",Formula_week!VT9))","v":""},{"$f":"IF(Formula_week!VU10>Formula_week!$B$4,\"\",CONCATENATE(\"v\",Formula_week!VU9))","v":""},{"$f":"IF(Formula_week!VV10>Formula_week!$B$4,\"\",CONCATENATE(\"v\",Formula_week!VV9))","v":""},{"$f":"IF(Formula_week!VW10>Formula_week!$B$4,\"\",CONCATENATE(\"v\",Formula_week!VW9))","v":""},{"$f":"IF(Formula_week!VX10>Formula_week!$B$4,\"\",CONCATENATE(\"v\",Formula_week!VX9))","v":""},{"$f":"IF(Formula_week!VY10>Formula_week!$B$4,\"\",CONCATENATE(\"v\",Formula_week!VY9))","v":""},{"$f":"IF(Formula_week!VZ10>Formula_week!$B$4,\"\",CONCATENATE(\"v\",Formula_week!VZ9))","v":""},{"$f":"IF(Formula_week!WA10>Formula_week!$B$4,\"\",CONCATENATE(\"v\",Formula_week!WA9))","v":""},{"$f":"IF(Formula_week!WB10>Formula_week!$B$4,\"\",CONCATENATE(\"v\",Formula_week!WB9))","v":""},{"$f":"IF(Formula_week!WC10>Formula_week!$B$4,\"\",CONCATENATE(\"v\",Formula_week!WC9))","v":""},{"$f":"IF(Formula_week!WD10>Formula_week!$B$4,\"\",CONCATENATE(\"v\",Formula_week!WD9))","v":""},{"$f":"IF(Formula_week!WE10>Formula_week!$B$4,\"\",CONCATENATE(\"v\",Formula_week!WE9))","v":""},{"$f":"IF(Formula_week!WF10>Formula_week!$B$4,\"\",CONCATENATE(\"v\",Formula_week!WF9))","v":""},{"$f":"IF(Formula_week!WG10>Formula_week!$B$4,\"\",CONCATENATE(\"v\",Formula_week!WG9))","v":""},{"$f":"IF(Formula_week!WH10>Formula_week!$B$4,\"\",CONCATENATE(\"v\",Formula_week!WH9))","v":""},{"$f":"IF(Formula_week!WI10>Formula_week!$B$4,\"\",CONCATENATE(\"v\",Formula_week!WI9))","v":""},{"$f":"IF(Formula_week!WJ10>Formula_week!$B$4,\"\",CONCATENATE(\"v\",Formula_week!WJ9))","v":""},{"$f":"IF(Formula_week!WK10>Formula_week!$B$4,\"\",CONCATENATE(\"v\",Formula_week!WK9))","v":""},{"$f":"IF(Formula_week!WL10>Formula_week!$B$4,\"\",CONCATENATE(\"v\",Formula_week!WL9))","v":""},{"$f":"IF(Formula_week!WM10>Formula_week!$B$4,\"\",CONCATENATE(\"v\",Formula_week!WM9))","v":""},{"$f":"IF(Formula_week!WN10>Formula_week!$B$4,\"\",CONCATENATE(\"v\",Formula_week!WN9))","v":""},{"$f":"IF(Formula_week!WO10>Formula_week!$B$4,\"\",CONCATENATE(\"v\",Formula_week!WO9))","v":""},{"$f":"IF(Formula_week!WP10>Formula_week!$B$4,\"\",CONCATENATE(\"v\",Formula_week!WP9))","v":""},{"$f":"IF(Formula_week!WQ10>Formula_week!$B$4,\"\",CONCATENATE(\"v\",Formula_week!WQ9))","v":""},{"$f":"IF(Formula_week!WR10>Formula_week!$B$4,\"\",CONCATENATE(\"v\",Formula_week!WR9))","v":""},{"$f":"IF(Formula_week!WS10>Formula_week!$B$4,\"\",CONCATENATE(\"v\",Formula_week!WS9))","v":""},{"$f":"IF(Formula_week!WT10>Formula_week!$B$4,\"\",CONCATENATE(\"v\",Formula_week!WT9))","v":""},{"$f":"IF(Formula_week!WU10>Formula_week!$B$4,\"\",CONCATENATE(\"v\",Formula_week!WU9))","v":""},{"$f":"IF(Formula_week!WV10>Formula_week!$B$4,\"\",CONCATENATE(\"v\",Formula_week!WV9))","v":""},{"$f":"IF(Formula_week!WW10>Formula_week!$B$4,\"\",CONCATENATE(\"v\",Formula_week!WW9))","v":""},{"$f":"IF(Formula_week!WX10>Formula_week!$B$4,\"\",CONCATENATE(\"v\",Formula_week!WX9))","v":""},{"$f":"IF(Formula_week!WY10>Formula_week!$B$4,\"\",CONCATENATE(\"v\",Formula_week!WY9))","v":""},{"$f":"IF(Formula_week!WZ10>Formula_week!$B$4,\"\",CONCATENATE(\"v\",Formula_week!WZ9))","v":""},{"$f":"IF(Formula_week!XA10>Formula_week!$B$4,\"\",CONCATENATE(\"v\",Formula_week!XA9))","v":""},{"$f":"IF(Formula_week!XB10>Formula_week!$B$4,\"\",CONCATENATE(\"v\",Formula_week!XB9))","v":""},{"$f":"IF(Formula_week!XC10>Formula_week!$B$4,\"\",CONCATENATE(\"v\",Formula_week!XC9))","v":""},{"$f":"IF(Formula_week!XD10>Formula_week!$B$4,\"\",CONCATENATE(\"v\",Formula_week!XD9))","v":""},{"$f":"IF(Formula_week!XE10>Formula_week!$B$4,\"\",CONCATENATE(\"v\",Formula_week!XE9))","v":""},{"$f":"IF(Formula_week!XF10>Formula_week!$B$4,\"\",CONCATENATE(\"v\",Formula_week!XF9))","v":""},{"$f":"IF(Formula_week!XG10>Formula_week!$B$4,\"\",CONCATENATE(\"v\",Formula_week!XG9))","v":""},{"$f":"IF(Formula_week!XH10>Formula_week!$B$4,\"\",CONCATENATE(\"v\",Formula_week!XH9))","v":""},{"$f":"IF(Formula_week!XI10>Formula_week!$B$4,\"\",CONCATENATE(\"v\",Formula_week!XI9))","v":""},{"$f":"IF(Formula_week!XJ10>Formula_week!$B$4,\"\",CONCATENATE(\"v\",Formula_week!XJ9))","v":""},{"$f":"IF(Formula_week!XK10>Formula_week!$B$4,\"\",CONCATENATE(\"v\",Formula_week!XK9))","v":""},{"$f":"IF(Formula_week!XL10>Formula_week!$B$4,\"\",CONCATENATE(\"v\",Formula_week!XL9))","v":""},{"$f":"IF(Formula_week!XM10>Formula_week!$B$4,\"\",CONCATENATE(\"v\",Formula_week!XM9))","v":""},{"$f":"IF(Formula_week!XN10>Formula_week!$B$4,\"\",CONCATENATE(\"v\",Formula_week!XN9))","v":""},{"$f":"IF(Formula_week!XO10>Formula_week!$B$4,\"\",CONCATENATE(\"v\",Formula_week!XO9))","v":""},{"$f":"IF(Formula_week!XP10>Formula_week!$B$4,\"\",CONCATENATE(\"v\",Formula_week!XP9))","v":""},{"$f":"IF(Formula_week!XQ10>Formula_week!$B$4,\"\",CONCATENATE(\"v\",Formula_week!XQ9))","v":""},{"$f":"IF(Formula_week!XR10>Formula_week!$B$4,\"\",CONCATENATE(\"v\",Formula_week!XR9))","v":""},{"$f":"IF(Formula_week!XS10>Formula_week!$B$4,\"\",CONCATENATE(\"v\",Formula_week!XS9))","v":""},{"$f":"IF(Formula_week!XT10>Formula_week!$B$4,\"\",CONCATENATE(\"v\",Formula_week!XT9))","v":""},{"$f":"IF(Formula_week!XU10>Formula_week!$B$4,\"\",CONCATENATE(\"v\",Formula_week!XU9))","v":""},{"$f":"IF(Formula_week!XV10>Formula_week!$B$4,\"\",CONCATENATE(\"v\",Formula_week!XV9))","v":""},{"$f":"IF(Formula_week!XW10>Formula_week!$B$4,\"\",CONCATENATE(\"v\",Formula_week!XW9))","v":""},{"$f":"IF(Formula_week!XX10>Formula_week!$B$4,\"\",CONCATENATE(\"v\",Formula_week!XX9))","v":""},{"$f":"IF(Formula_week!XY10>Formula_week!$B$4,\"\",CONCATENATE(\"v\",Formula_week!XY9))","v":""},{"$f":"IF(Formula_week!XZ10>Formula_week!$B$4,\"\",CONCATENATE(\"v\",Formula_week!XZ9))","v":""},{"$f":"IF(Formula_week!YA10>Formula_week!$B$4,\"\",CONCATENATE(\"v\",Formula_week!YA9))","v":""},{"$f":"IF(Formula_week!YB10>Formula_week!$B$4,\"\",CONCATENATE(\"v\",Formula_week!YB9))","v":""},{"$f":"IF(Formula_week!YC10>Formula_week!$B$4,\"\",CONCATENATE(\"v\",Formula_week!YC9))","v":""},{"$f":"IF(Formula_week!YD10>Formula_week!$B$4,\"\",CONCATENATE(\"v\",Formula_week!YD9))","v":""},{"$f":"IF(Formula_week!YE10>Formula_week!$B$4,\"\",CONCATENATE(\"v\",Formula_week!YE9))","v":""},{"$f":"IF(Formula_week!YF10>Formula_week!$B$4,\"\",CONCATENATE(\"v\",Formula_week!YF9))","v":""},{"$f":"IF(Formula_week!YG10>Formula_week!$B$4,\"\",CONCATENATE(\"v\",Formula_week!YG9))","v":""},{"$f":"IF(Formula_week!YH10>Formula_week!$B$4,\"\",CONCATENATE(\"v\",Formula_week!YH9))","v":""},{"$f":"IF(Formula_week!YI10>Formula_week!$B$4,\"\",CONCATENATE(\"v\",Formula_week!YI9))","v":""},{"$f":"IF(Formula_week!YJ10>Formula_week!$B$4,\"\",CONCATENATE(\"v\",Formula_week!YJ9))","v":""},{"$f":"IF(Formula_week!YK10>Formula_week!$B$4,\"\",CONCATENATE(\"v\",Formula_week!YK9))","v":""},{"$f":"IF(Formula_week!YL10>Formula_week!$B$4,\"\",CONCATENATE(\"v\",Formula_week!YL9))","v":""},{"$f":"IF(Formula_week!YM10>Formula_week!$B$4,\"\",CONCATENATE(\"v\",Formula_week!YM9))","v":""},{"$f":"IF(Formula_week!YN10>Formula_week!$B$4,\"\",CONCATENATE(\"v\",Formula_week!YN9))","v":""},{"$f":"IF(Formula_week!YO10>Formula_week!$B$4,\"\",CONCATENATE(\"v\",Formula_week!YO9))","v":""},{"$f":"IF(Formula_week!YP10>Formula_week!$B$4,\"\",CONCATENATE(\"v\",Formula_week!YP9))","v":""},{"$f":"IF(Formula_week!YQ10>Formula_week!$B$4,\"\",CONCATENATE(\"v\",Formula_week!YQ9))","v":""},{"$f":"IF(Formula_week!YR10>Formula_week!$B$4,\"\",CONCATENATE(\"v\",Formula_week!YR9))","v":""},{"$f":"IF(Formula_week!YS10>Formula_week!$B$4,\"\",CONCATENATE(\"v\",Formula_week!YS9))","v":""},{"$f":"IF(Formula_week!YT10>Formula_week!$B$4,\"\",CONCATENATE(\"v\",Formula_week!YT9))","v":""},{"$f":"IF(Formula_week!YU10>Formula_week!$B$4,\"\",CONCATENATE(\"v\",Formula_week!YU9))","v":""},{"$f":"IF(Formula_week!YV10>Formula_week!$B$4,\"\",CONCATENATE(\"v\",Formula_week!YV9))","v":""},{"$f":"IF(Formula_week!YW10>Formula_week!$B$4,\"\",CONCATENATE(\"v\",Formula_week!YW9))","v":""},{"$f":"IF(Formula_week!YX10>Formula_week!$B$4,\"\",CONCATENATE(\"v\",Formula_week!YX9))","v":""},{"$f":"IF(Formula_week!YY10>Formula_week!$B$4,\"\",CONCATENATE(\"v\",Formula_week!YY9))","v":""},{"$f":"IF(Formula_week!YZ10>Formula_week!$B$4,\"\",CONCATENATE(\"v\",Formula_week!YZ9))","v":""},{"$f":"IF(Formula_week!ZA10>Formula_week!$B$4,\"\",CONCATENATE(\"v\",Formula_week!ZA9))","v":""},{"$f":"IF(Formula_week!ZB10>Formula_week!$B$4,\"\",CONCATENATE(\"v\",Formula_week!ZB9))","v":""},{"$f":"IF(Formula_week!ZC10>Formula_week!$B$4,\"\",CONCATENATE(\"v\",Formula_week!ZC9))","v":""},{"$f":"IF(Formula_week!ZD10>Formula_week!$B$4,\"\",CONCATENATE(\"v\",Formula_week!ZD9))","v":""},{"$f":"IF(Formula_week!ZE10>Formula_week!$B$4,\"\",CONCATENATE(\"v\",Formula_week!ZE9))","v":""},{"$f":"IF(Formula_week!ZF10>Formula_week!$B$4,\"\",CONCATENATE(\"v\",Formula_week!ZF9))","v":""},{"$f":"IF(Formula_week!ZG10>Formula_week!$B$4,\"\",CONCATENATE(\"v\",Formula_week!ZG9))","v":""},{"$f":"IF(Formula_week!ZH10>Formula_week!$B$4,\"\",CONCATENATE(\"v\",Formula_week!ZH9))","v":""},{"$f":"IF(Formula_week!ZI10>Formula_week!$B$4,\"\",CONCATENATE(\"v\",Formula_week!ZI9))","v":""},{"$f":"IF(Formula_week!ZJ10>Formula_week!$B$4,\"\",CONCATENATE(\"v\",Formula_week!ZJ9))","v":""},{"$f":"IF(Formula_week!ZK10>Formula_week!$B$4,\"\",CONCATENATE(\"v\",Formula_week!ZK9))","v":""},{"$f":"IF(Formula_week!ZL10>Formula_week!$B$4,\"\",CONCATENATE(\"v\",Formula_week!ZL9))","v":""},{"$f":"IF(Formula_week!ZM10>Formula_week!$B$4,\"\",CONCATENATE(\"v\",Formula_week!ZM9))","v":""},{"$f":"IF(Formula_week!ZN10>Formula_week!$B$4,\"\",CONCATENATE(\"v\",Formula_week!ZN9))","v":""}]
[]
[null,null,null,null,null,null,null,null,{"$f":"SUM(I10:I95)","v":0},{"$f":"SUM(J10:J95)","v":0},{"$f":"SUM(K10:K95)","v":0},{"$f":"SUM(L10:L95)","v":0},{"$f":"SUM(M10:M95)","v":0},{"$f":"Formula_week!B6","v":2016}]
[null,null,null,null,null,null,null,null,null,null,null,{"$f":"IF(AND(J10<>\"\",K10<>\"\"),J10+K10,\"\")","v":""},{"$f":"IF(L10=\"\",\"\",I10-L10)","v":""}]
[null,null,null,null,null,null,null,null,null,null,null,{"$f":"IF(AND(J11<>\"\",K11<>\"\"),J11+K11,\"\")","v":""},{"$f":"IF(L11=\"\",\"\",I11-L11)","v":""}]
[null,null,null,null,null,null,null,null,null,null,null,"",""]
[null,null,null,null,null,null,null,null,null,null,null,"",""]
[null,null,null,null,null,null,null,null,null,null,null,"","",null,null,null,null,null,null,null,null,null,null,null,null," "]
[null,null,null,null,null,null,null,null,null,null,null,"",""]
[null,null,null,null,null,null,null,null,null,null,null,"",""]
[null,null,null,null,null,null,null,null,null,null,null,"",""]
[null,null,null,null,null,null,null,null,null,null,null,"",""]
[null,null,null,null,null,null,null,null,null,null,null,"",""]
[null,null,null,null,null,null,null,null,null,null,null,"",""]
[null,null,null,null,null,null,null,null,null,null,null,"",""]
[null,null,null,null,null,null,null,null,null,null,null,"",""]
[null,null,null,null,null,null,null,null,null,null,null,"",""]
[null,null,null,null,null,null,null,null,null,null,null,"",""]
[null,null,null,null,null,null,null,null,null,null,null,"",""]
[null,null,null,null,null,null,null,null,null,null,null,"",""]
[null,null,null,null,null,null,null,null,null,null,null,"",""]
[null,null,null,null,null,null,null,null,null,null,null,"",""]
[null,null,null,null,null,null,null,null,null,null,null,"",""]
[null,null,null,null,null,null,null,null,null,null,null,"",""]
[null,null,null,null,null,null,null,null,null,null,null,"",""]
[null,null,null,null,null,null,null,null,null,null,null,"",""]
[null,null,null,null,null,null,null,null,null,null,null,"",""]
[null,null,null,null,null,null,null,null,null,null,null,"",""]
[null,null,null,null,null,null,null,null,null,null,null,"",""]
[null,null,null,null,null,null,null,null,null,null,null,"",""]
[null,null,null,null,null,null,null,null,null,null,null,"",""]
[null,null,null,null,null,null,null,null,null,null,null,"",""]
[null,null,null,null,null,null,null,null,null,null,null,"",""]
[null,null,null,null,null,null,null,null,null,null,null,"",""]
[null,null,null,null,null,null,null,null,null,null,null,"",""]
[null,null,null,null,null,null,null,null,null,null,null,"",""]
[null,null,null,null,null,null,null,null,null,null,null,"",""]
[null,null,null,null,null,null,null,null,null,null,null,"",""]
[null,null,null,null,null,null,null,null,null,null,null,"",""]
[null,null,null,null,null,null,null,null,null,null,null,"",""]
[null,null,null,null,null,null,null,null,null,null,null,"",""]
[null,null,null,null,null,null,null,null,null,null,null,"",""]
[null,null,null,null,null,null,null,null,null,null,null,"",""]
[null,null,null,null,null,null,null,null,null,null,null,"",""]
[null,null,null,null,null,null,null,null,null,null,null,"",""]
[null,null,null,null,null,null,null,null,null,null,null,"",""]
[null,null,null,null,null,null,null,null,null,null,null,"",""]
[null,null,null,null,null,null,null,null,null,null,null,"",""]
[null,null,null,null,null,null,null,null,null,null,null,"",""]
[null,null,null,null,null,null,null,null,null,null,null,"",""]
[null,null,null,null,null,null,null,null,null,null,null,"",""]
[null,null,null,null,null,null,null,null,null,null,null,"",""]
[null,null,null,null,null,null,null,null,null,null,null,"",""]
[null,null,null,null,null,null,null,null,null,null,null,"",""]
[null,null,null,null,null,null,null,null,null,null,null,"",""]
[null,null,null,null,null,null,null,null,null,null,null,"",""]
[null,null,null,null,null,null,null,null,null,null,null,"",""]
[null,null,null,null,null,null,null,null,null,null,null,"",""]
[null,null,null,null,null,null,null,null,null,null,null,"",""]
[null,null,null,null,null,null,null,null,null,null,null,"",""]
[null,null,null,null,null,null,null,null,null,null,null,"",""]
[null,null,null,null,null,null,null,null,null,null,null,"",""]
[null,null,null,null,null,null,null,null,null,null,null,"",""]
[null,null,null,null,null,null,null,null,null,null,null,"",""]
[null,null,null,null,null,null,null,null,null,null,null,"",""]
[null,null,null,null,null,null,null,null,null,null,null,"",""]
[null,null,null,null,null,null,null,null,null,null,null,"",""]
[null,null,null,null,null,null,null,null,null,null,null,"",""]
[null,null,null,null,null,null,null,null,null,null,null,"",""]
[null,null,null,null,null,null,null,null,null,null,null,{"$f":"IF(AND(J76<>\"\",K76<>\"\"),J76+K76,\"\")","v":""},{"$f":"IF(L76=\"\",\"\",I76-L76)","v":""}]
[null,null,null,null,null,null,null,null,null,null,null,"",""]
[null,null,null,null,null,null,null,null,null,null,null,"",""]
[null,null,null,null,null,null,null,null,null,null,null,"",""]
[null,null,null,null,null,null,null,null,null,null,null,"",""]
[null,null,null,null,null,null,null,null,null,null,null,"",""]
[null,null,null,null,null,null,null,null,null,null,null,"",""]
[null,null,null,null,null,null,null,null,null,null,null,"",""]
[null,null,null,null,null,null,null,null,null,null,null,"",""]
[null,null,null,null,null,null,null,null,null,null,null,"",""]
[null,null,null,null,null,null,null,null,null,null,null,"",""]
[null,null,null,null,null,null,null,null,null,null,null,"",""]
[null,null,null,null,null,null,null,null,null,null,null,"",""]
[null,null,null,null,null,null,null,null,null,null,null,"",""]
[null,null,null,null,null,null,null,null,null,null,null,"",""]
[null,null,null,null,null,null,null,null,null,null,null,"",""]
[null,null,null,null,null,null,null,null,null,null,null,"",""]
[null,null,null,null,null,null,null,null,null,null,null,"",""]
[null,null,null,null,null,null,null,null,null,null,null,"",""]
[null,null,null,null,null,null,null,null,null,null,null,"",""]

{"sheet":"Formula","index":3,"n_rows":93,"n_cols":702,"rows_kept":93,"cut":false,"hidden":true,"merged":[]}
["Kalender"]
[null,null,"Dag i veckan"]
["Startdatum",{"$f":"'Tidsplan, dagar'!G4","v":"2016-06-01"},{"$f":"WEEKDAY(B3-1)","v":3}]
["Slutdatum",{"$f":"'Tidsplan, dagar'!H4","v":"2016-08-01"},{"$f":"WEEKDAY(B4-1)","v":1}]
[]
["Week/Month",{"$f":"YEAR(B8)","v":2016},{"$f":"YEAR(C8)","v":2016},2016,2016,2016,2016,2016,2016,2016,2016,2016,2016,2016,2016,2016,2016,2016,2016,2016,2016,2016,2016,2016,2016,2016,2016,2016,2016,2016,2016,2016,2017,2017,2017,2017,2017,2017,2017,2017,2017,2017,2017,2017,2017,2017,2017,2017,2017,2017,2017,2017,2017,2017,2017,2017,2017,2017,2017,2017,2017,2017,2017,2017,2017,2017,{"$f":"YEAR(BO8)","v":2017},2017,2017,2017,2017,2017,2017,2017,2017,2017,2017,2017,2017,2017,2017,2017,2017,2017,2018,2018,2018,2018,2018,2018,2018,2018,2018,2018,2018,2018,2018,2018,2018,2018,2018,2018,2018,2018,2018,2018,2018,2018,2018,2018,2018,2018,2018,2018,2018,2018,2018,2018,2018,2018,2018,2018,2018,2018,2018,2018,2018,2018,2018,2018,{"$f":"YEAR(EA8)","v":2018},2018,2018,2018,2018,2018,2019,2019,2019,2019,2019,2019,2019,2019,2019,2019,2019,2019,2019,2019,2019,2019,2019,2019,2019,2019,2019,2019,2019,2019,2019,2019,2019,2019,2019,2019,2019,2019,2019,2019,2019,2019,2019,2019,2019,2019,2019,2019,2019,2019,2019,2019,2019,2019,2019,2019,2019,2019,2020,2020,2020,2020,2020,2020,{"$f":"YEAR(GM8)","v":2020},2020,2020,2020,2020,2020,2020,2020,2020,2020,2020,2020,2020,2020,2020,2020,2020,2020,2020,2020,2020,2020,2020,2020,2020,2020,2020,2020,2020,2020,2020,2020,2020,2020,2020,2020,2020,2020,2020,2020,2020,2020,2020,2020,2020,2020,2020,2021,2021,2021,2021,2021,2021,2021,2021,2021,2021,2021,2021,2021,2021,2021,2021,2021,{"$f":"YEAR(IY8)","v":2021},2021,2021,2021,2021,2021,2021,2021,2021,2021,2021,2021,2021,2021,2021,2021,2021,2021,2021,2021,2021,2021,2021,2021,2021,2021,2021,2021,2021,2021,2021,2021,2021,2021,2021,2022,2022,2022,2022,2022,2022,2022,2022,2022,2022,2022,2022,2022,2022,2022,2022,2022,2022,2022,2022,2022,2022,2022,2022,2022,2022,2022,2022,2022,{"$f":"YEAR(LK8)","v":2022},2022,2022,2022,2022,2022,2022,2022,2022,2022,2022,2022,2022,2022,2022,2022,2022,2022,2022,2022,2022,2022,2022,2023,2023,2023,2023,2023,2023,2023,2023,2023,2023,2023,2023,2023,2023,2023,2023,2023,2023,2023,2023,2023,2023,2023,2023,2023,2023,2023,2023,2023,2023,2023,2023,2023,2023,2023,2023,2023,2023,2023,2023,2023,{"$f":"YEAR(NW8)","v":2023},2023,2023,2023,2023,2023,2023,2023,2023,2023,2023,2024,2024,2024,2024,2024,2024,2024,2024,2024,2024,2024,2024,2024,2024,2024,2024,2024,2024,2024,2024,2024,2024,2024,2024,2024,2024,2024,2024,2024,2024,2024,2024,2024,2024,2024,2024,2024,2024,2024,2024,2024,2024,2024,2024,2024,2024,2024,2024,2024,2024,2024,2024,2025,{"$f":"YEAR(QI8)","v":2025},2025,2025,2025,2025,2025,2025,2025,2025,2025,2025,2025,2025,2025,2025,2025,2025,2025,2025,2025,2025,2025,2025,2025,2025,2025,2025,2025,2025,2025,2025,2025,2025,2025,2025,2025,2025,2025,2025,2025,2025,2025,2025,2025,2025,2025,2025,2025,2025,2025,2025,2025,2026,2026,2026,2026,2026,2026,2026,2026,2026,2026,2026,2026,{"$f":"YEAR(SU8)","v":2026},2026,2026,2026,2026,2026,2026,2026,2026,2026,2026,2026,2026,2026,2026,2026,2026,2026,2026,2026,2026,2026,2026,2026,2026,2026,2026,2026,2026,2026,2026,2026,2026,2026,2026,2026,2026,2026,2026,2026,2027,2027,2027,2027,2027,2027,2027,2027,2027,2027,2027,2027,2027,2027,2027,2027,2027,2027,2027,2027,2027,2027,2027,2027,{"$f":"YEAR(VG8)","v":2027},2027,2027,2027,2027,2027,2027,2027,2027,2027,2027,2027,2027,2027,2027,2027,2027,2027,2027,2027,2027,2027,2027,2027,2027,2027,2027,2027,2028,2028,2028,2028,2028,2028,2028,2028,2028,2028,2028,2028,2028,2028,2028,2028,2028,2028,2028,2028,2028,2028,2028,2028,2028,2028,2028,2028,2028,2028,2028,2028,2028,2028,2028,2028,{"$f":"YEAR(XS8)","v":2028},2028,2028,2028,2028,2028,2028,2028,2028,2028,2028,2028,2028,2028,2028,2028,2029,2029,2029,2029,2029,2029,2029,2029,2029,2029,2029,2029,2029,2029,2029,2029,2029,2029,2029,2029,2029,2029,2029,2029,2029,2029,2029,2029,2029,2029,2029,2029,2029,2029,2029,2029,2029,2029,2029,2029,2029,2029,2029,2029]
["Måndag i veckan",{"$f":"B3-($C$3-1)","v":"2016-05-30"},{"$f":"B7+7","v":"2016-06-06"},{"$f":"C7+7","v":"2016-06-13"},"2016-06-20","2016-06-27","2016-07-04","2016-07-11","2016-07-18","2016-07-25","2016-08-01","2016-08-08","2016-08-15","2016-08-22","2016-08-29","2016-09-05","2016-09-12","2016-09-19","2016-09-26","2016-10-03","2016-10-10","2016-10-17","2016-10-24","2016-10-31","2016-11-07","2016-11-14","2016-11-21","2016-11-28","2016-12-05","2016-12-12","2016-12-19","2016-12-26","2017-01-02","2017-01-09","2017-01-16","2017-01-23","2017-01-30","2017-02-06","2017-02-13","2017-02-20","2017-02-27","2017-03-06","2017-03-13","2017-03-20","2017-03-27","2017-04-03","2017-04-10","2017-04-17","2017-04-24","2017-05-01","2017-05-08","2017-05-15","2017-05-22","2017-05-29","2017-06-05","2017-06-12","2017-06-19","2017-06-26","2017-07-03",{"$f":"BG7+7","v":"2017-07-10"},"2017-07-17","2017-07-24","2017-07-31","2017-08-07","2017-08-14","2017-08-21","2017-08-28","2017-09-04","2017-09-11","2017-09-18","2017-09-25","2017-10-02","2017-10-09","2017-10-16","2017-10-23","2017-10-30","2017-11-06","2017-11-13","2017-11-20","2017-11-27","2017-12-04","2017-12-11","2017-12-18","2017-12-25","2018-01-01","2018-01-08","2018-01-15","2018-01-22","2018-01-29","2018-02-05","2018-02-12","2018-02-19","2018-02-26","2018-03-05","2018-03-12","2018-03-19","2018-03-26","2018-04-02","2018-04-09","2018-04-16","2018-04-23","2018-04-30","2018-05-07","2018-05-14","2018-05-21","2018-05-28","2018-06-04","2018-06-11","2018-06-18","2018-06-25","2018-07-02","2018-07-09","2018-07-16","2018-07-23","2018-07-30","2018-08-06","2018-08-13","2018-08-20","2018-08-27","2018-09-03","2018-09-10","2018-09-17","2018-09-24",{"$f":"DS7+7","v":"2018-10-01"},"2018-10-08","2018-10-15","2018-10-22","2018-10-29","2018-11-05","2018-11-12","2018-11-19","2018-11-26","2018-12-03","2018-12-10","2018-12-17","2018-12-24","2018-12-31","2019-01-07","2019-01-14","2019-01-21","2019-01-28","2019-02-04","2019-02-11","2019-02-18","2019-02-25","2019-03-04","2019-03-11","2019-03-18","2019-03-25","2019-04-01","2019-04-08","2019-04-15","2019-04-22","2019-04-29","2019-05-06","2019-05-13","2019-05-20","2019-05-27","2019-06-03","2019-06-10","2019-06-17","2019-06-24","2019-07-01","2019-07-08","2019-07-15","2019-07-22","2019-07-29","2019-08-05","2019-08-12","2019-08-19","2019-08-26","2019-09-02","2019-09-09","2019-09-16","2019-09-23","2019-09-30","2019-10-07","2019-10-14","2019-10-21","2019-10-28","2019-11-04","2019-11-11","2019-11-18","2019-11-25","2019-12-02","2019-12-09","2019-12-16",{"$f":"GE7+7","v":"2019-12-23"},"2019-12-30","2020-01-06","2020-01-13","2020-01-20","2020-01-27","2020-02-03","2020-02-10","2020-02-17","2020-02-24","2020-03-02","2020-03-09","2020-03-16","2020-03-23","2020-03-30","2020-04-06","2020-04-13","2020-04-20","2020-04-27","2020-05-04","2020-05-11","2020-05-18","2020-05-25","2020-06-01","2020-06-08","2020-06-15","2020-06-22","2020-06-29","2020-07-06","2020-07-13","2020-07-20","2020-07-27","2020-08-03","2020-08-10","2020-08-17","2020-08-24","2020-08-31","2020-09-07","2020-09-14","2020-09-21","2020-09-28","2020-10-05","2020-10-12","2020-10-19","2020-10-26","2020-11-02","2020-11-09","2020-11-16","2020-11-23","2020-11-30","2020-12-07","2020-12-14","2020-12-21","2020-12-28","2021-01-04","2021-01-11","2021-01-18","2021-01-25","2021-02-01","2021-02-08","2021-02-15","2021-02-22","2021-03-01","2021-03-08",{"$f":"IQ7+7","v":"2021-03-15"},"2021-03-22","2021-03-29","2021-04-05","2021-04-12","2021-04-19","2021-04-26","2021-05-03","2021-05-10","2021-05-17","2021-05-24","2021-05-31","2021-06-07","2021-06-14","2021-06-21","2021-06-28","2021-07-05","2021-07-12","2021-07-19","2021-07-26","2021-08-02","2021-08-09","2021-08-16","2021-08-23","2021-08-30","2021-09-06","2021-09-13","2021-09-20","2021-09-27","2021-10-04","2021-10-11","2021-10-18","2021-10-25","2021-11-01","2021-11-08","2021-11-15","2021-11-22","2021-11-29","2021-12-06","2021-12-13","2021-12-20","2021-12-27","2022-01-03","2022-01-10","2022-01-17","2022-01-24","2022-01-31","2022-02-07","2022-02-14","2022-02-21","2022-02-28","2022-03-07","2022-03-14","2022-03-21","2022-03-28","2022-04-04","2022-04-11","2022-04-18","2022-04-25","2022-05-02","2022-05-09","2022-05-16","2022-05-23","2022-05-30",{"$f":"LC7+7","v":"2022-06-06"},"2022-06-13","2022-06-20","2022-06-27","2022-07-04","2022-07-11","2022-07-18","2022-07-25","2022-08-01","2022-08-08","2022-08-15","2022-08-22","2022-08-29","2022-09-05","2022-09-12","2022-09-19","2022-09-26","2022-10-03","2022-10-10","2022-10-17","2022-10-24","2022-10-31","2022-11-07","2022-11-14","2022-11-21","2022-11-28","2022-12-05","2022-12-12","2022-12-19","2022-12-26","2023-01-02","2023-01-09","2023-01-16","2023-01-23","2023-01-30","2023-02-06","2023-02-13","2023-02-20","2023-02-27","2023-03-06","2023-03-13","2023-03-20","2023-03-27","2023-04-03","2023-04-10","2023-04-17","2023-04-24","2023-05-01","2023-05-08","2023-05-15","2023-05-22","2023-05-29","2023-06-05","2023-06-12","2023-06-19","2023-06-26","2023-07-03","2023-07-10","2023-07-17","2023-07-24","2023-07-31","2023-08-07","2023-08-14","2023-08-21",{"$f":"NO7+7","v":"2023-08-28"},"2023-09-04","2023-09-11","2023-09-18","2023-09-25","2023-10-02","2023-10-09","2023-10-16","2023-10-23","2023-10-30","2023-11-06","2023-11-13","2023-11-20","2023-11-27","2023-12-04","2023-12-11","2023-12-18","2023-12-25","2024-01-01","2024-01-08","2024-01-15","2024-01-22","2024-01-29","2024-02-05","2024-02-12","2024-02-19","2024-02-26","2024-03-04","2024-03-11","2024-03-18","2024-03-25","2024-04-01","2024-04-08","2024-04-15","2024-04-22","2024-04-29","2024-05-06","2024-05-13","2024-05-20","2024-05-27","2024-06-03","2024-06-10","2024-06-17","2024-06-24","2024-07-01","2024-07-08","2024-07-15","2024-07-22","2024-07-29","2024-08-05","2024-08-12","2024-08-19","2024-08-26","2024-09-02","2024-09-09","2024-09-16","2024-09-23","2024-09-30","2024-10-07","2024-10-14","2024-10-21","2024-10-28","2024-11-04","2024-11-11",{"$f":"QA7+7","v":"2024-11-18"},"2024-11-25","2024-12-02","2024-12-09","2024-12-16","2024-12-23","2024-12-30","2025-01-06","2025-01-13","2025-01-20","2025-01-27","2025-02-03","2025-02-10","2025-02-17","2025-02-24","2025-03-03","2025-03-10","2025-03-17","2025-03-24","2025-03-31","2025-04-07","2025-04-14","2025-04-21","2025-04-28","2025-05-05","2025-05-12","2025-05-19","2025-05-26","2025-06-02","2025-06-09","2025-06-16","2025-06-23","2025-06-30","2025-07-07","2025-07-14","2025-07-21","2025-07-28","2025-08-04","2025-08-11","2025-08-18","2025-08-25","2025-09-01","2025-09-08","2025-09-15","2025-09-22","2025-09-29","2025-10-06","2025-10-13","2025-10-20","2025-10-27","2025-11-03","2025-11-10","2025-11-17","2025-11-24","2025-12-01","2025-12-08","2025-12-15","2025-12-22","2025-12-29","2026-01-05","2026-01-12","2026-01-19","2026-01-26","2026-02-02",{"$f":"SM7+7","v":"2026-02-09"},"2026-02-16","2026-02-23","2026-03-02","2026-03-09","2026-03-16","2026-03-23","2026-03-30","2026-04-06","2026-04-13","2026-04-20","2026-04-27","2026-05-04","2026-05-11","2026-05-18","2026-05-25","2026-06-01","2026-06-08","2026-06-15","2026-06-22","2026-06-29","2026-07-06","2026-07-13","2026-07-20","2026-07-27","2026-08-03","2026-08-10","2026-08-17","2026-08-24","2026-08-31","2026-09-07","2026-09-14","2026-09-21","2026-09-28","2026-10-05","2026-10-12","2026-10-19","2026-10-26","2026-11-02","2026-11-09","2026-11-16","2026-11-23","2026-11-30","2026-12-07","2026-12-14","2026-12-21","2026-12-28","2027-01-04","2027-01-11","2027-01-18","2027-01-25","2027-02-01","2027-02-08","2027-02-15","2027-02-22","2027-03-01","2027-03-08","2027-03-15","2027-03-22","2027-03-29","2027-04-05","2027-04-12","2027-04-19","2027-04-26",{"$f":"UY7+7","v":"2027-05-03"},"2027-05-10","2027-05-17","2027-05-24","2027-05-31","2027-06-07","2027-06-14","2027-06-21","2027-06-28","2027-07-05","2027-07-12","2027-07-19","2027-07-26","2027-08-02","2027-08-09","2027-08-16","2027-08-23","2027-08-30","2027-09-06","2027-09-13","2027-09-20","2027-09-27","2027-10-04","2027-10-11","2027-10-18","2027-10-25","2027-11-01","2027-11-08","2027-11-15","2027-11-22","2027-11-29","2027-12-06","2027-12-13","2027-12-20","2027-12-27","2028-01-03","2028-01-10","2028-01-17","2028-01-24","2028-01-31","2028-02-07","2028-02-14","2028-02-21","2028-02-28","2028-03-06","2028-03-13","2028-03-20","2028-03-27","2028-04-03","2028-04-10","2028-04-17","2028-04-24","2028-05-01","2028-05-08","2028-05-15","2028-05-22","2028-05-29","2028-06-05","2028-06-12","2028-06-19","2028-06-26","2028-07-03","2028-07-10","2028-07-17",{"$f":"XK7+7","v":"2028-07-24"},"2028-07-31","2028-08-07","2028-08-14","2028-08-21","2028-08-28","2028-09-04","2028-09-11","2028-09-18","2028-09-25","2028-10-02","2028-10-09","2028-10-16","2028-10-23","2028-10-30","2028-11-06","2028-11-13","2028-11-20","2028-11-27","2028-12-04","2028-12-11","2028-12-18","2028-12-25","2029-01-01","2029-01-08","2029-01-15","2029-01-22","2029-01-29","2029-02-05","2029-02-12","2029-02-19","2029-02-26","2029-03-05","2029-03-12","2029-03-19","2029-03-26","2029-04-02","2029-04-09","2029-04-16","2029-04-23","2029-04-30","2029-05-07","2029-05-14","2029-05-21","2029-05-28","2029-06-04","2029-06-11","2029-06-18","2029-06-25","2029-07-02","2029-07-09","2029-07-16","2029-07-23","2029-07-30","2029-08-06","2029-08-13","2029-08-20","2029-08-27","2029-09-03","2029-09-10","2029-09-17","2029-09-24","2029-10-01","2029-10-08","2029-10-15","2029-10-22","2029-10-29"]
["Startdatum",{"$f":"B3","v":"2016-06-01"},{"$f":"B8+7","v":"2016-06-08"},"2016-06-15","2016-06-22","2016-06-29","2016-07-06","2016-07-13","2016-07-20","2016-07-27","2016-08-03","2016-08-10","2016-08-17","2016-08-24","2016-08-31","2016-09-07","2016-09-14","2016-09-21","2016-09-28","2016-10-05","2016-10-12","2016-10-19","2016-10-26","2016-11-02","2016-11-09","2016-11-16","2016-11-23","2016-11-30","2016-12-07","2016-12-14","2016-12-21","2016-12-28","2017-01-04","2017-01-11","2017-01-18","2017-01-25","2017-02-01","2017-02-08","2017-02-15","2017-02-22","2017-03-01","2017-03-08","2017-03-15","2017-03-22","2017-03-29","2017-04-05","2017-04-12","2017-04-19","2017-04-26","2017-05-03","2017-05-10","2017-05-17","2017-05-24","2017-05-31","2017-06-07","2017-06-14","2017-06-21","2017-06-28","2017-07-05",{"$f":"BG8+7","v":"2017-07-12"},"2017-07-19","2017-07-26","2017-08-02","2017-08-09","2017-08-16","2017-08-23","2017-08-30","2017-09-06","2017-09-13","2017-09-20","2017-09-27","2017-10-04","2017-10-11","2017-10-18","2017-10-25","2017-11-01","2017-11-08","2017-11-15","2017-11-22","2017-11-29","2017-12-06","2017-12-13","2017-12-20","2017-12-27","2018-01-03","2018-01-10","2018-01-17","2018-01-24","2018-01-31","2018-02-07","2018-02-14","2018-02-21","2018-02-28","2018-03-07","2018-03-14","2018-03-21","2018-03-28","2018-04-04","2018-04-11","2018-04-18","2018-04-25","2018-05-02","2018-05-09","2018-05-16","2018-05-23","2018-05-30","2018-06-06","2018-06-13","2018-06-20","2018-06-27","2018-07-04","2018-07-11","2018-07-18","2018-07-25","2018-08-01","2018-08-08","2018-08-15","2018-08-22","2018-08-29","2018-09-05","2018-09-12","2018-09-19","2018-09-26",{"$f":"DS8+7","v":"2018-10-03"},"2018-10-10","2018-10-17","2018-10-24","2018-10-31","2018-11-07","2018-11-14","2018-11-21","2018-11-28","2018-12-05","2018-12-12","2018-12-19","2018-12-26","2019-01-02","2019-01-09","2019-01-16","2019-01-23","2019-01-30","2019-02-06","2019-02-13","2019-02-20","2019-02-27","2019-03-06","2019-03-13","2019-03-20","2019-03-27","2019-04-03","2019-04-10","2019-04-17","2019-04-24","2019-05-01","2019-05-08","2019-05-15","2019-05-22","2019-05-29","2019-06-05","2019-06-12","2019-06-19","2019-06-26","2019-07-03","2019-07-10","2019-07-17","2019-07-24","2019-07-31","2019-08-07","2019-08-14","2019-08-21","2019-08-28","2019-09-04","2019-09-11","2019-09-18","2019-09-25","2019-10-02","2019-10-09","2019-10-16","2019-10-23","2019-10-30","2019-11-06","2019-11-13","2019-11-20","2019-11-27","2019-12-04","2019-12-11","2019-12-18",{"$f":"GE8+7","v":"2019-12-25"},"2020-01-01","2020-01-08","2020-01-15","2020-01-22","2020-01-29","2020-02-05","2020-02-12","2020-02-19","2020-02-26","2020-03-04","2020-03-11","2020-03-18","2020-03-25","2020-04-01","2020-04-08","2020-04-15","2020-04-22","2020-04-29","2020-05-06","2020-05-13","2020-05-20","2020-05-27","2020-06-03","2020-06-10","2020-06-17","2020-06-24","2020-07-01","2020-07-08","2020-07-15","2020-07-22","2020-07-29","2020-08-05","2020-08-12","2020-08-19","2020-08-26","2020-09-02","2020-09-09","2020-09-16","2020-09-23","2020-09-30","2020-10-07","2020-10-14","2020-10-21","2020-10-28","2020-11-04","2020-11-11","2020-11-18","2020-11-25","2020-12-02","2020-12-09","2020-12-16","2020-12-23","2020-12-30","2021-01-06","2021-01-13","2021-01-20","2021-01-27","2021-02-03","2021-02-10","2021-02-17","2021-02-24","2021-03-03","2021-03-10",{"$f":"IQ8+7","v":"2021-03-17"},"2021-03-24","2021-03-31","2021-04-07","2021-04-14","2021-04-21","2021-04-28","2021-05-05","2021-05-12","2021-05-19","2021-05-26","2021-06-02","2021-06-09","2021-06-16","2021-06-23","2021-06-30","2021-07-07","2021-07-14","2021-07-21","2021-07-28","2021-08-04","2021-08-11","2021-08-18","2021-08-25","2021-09-01","2021-09-08","2021-09-15","2021-09-22","2021-09-29","2021-10-06","2021-10-13","2021-10-20","2021-10-27","2021-11-03","2021-11-10","2021-11-17","2021-11-24","2021-12-01","2021-12-08","2021-12-15","2021-12-22","2021-12-29","2022-01-05","2022-01-12","2022-01-19","2022-01-26","2022-02-02","2022-02-09","2022-02-16","2022-02-23","2022-03-02","2022-03-09","2022-03-16","2022-03-23","2022-03-30","2022-04-06","2022-04-13","2022-04-20","2022-04-27","2022-05-04","2022-05-11","2022-05-18","2022-05-25","2022-06-01",{"$f":"LC8+7","v":"2022-06-08"},"2022-06-15","2022-06-22","2022-06-29","2022-07-06","2022-07-13","2022-07-20","2022-07-27","2022-08-03","2022-08-10","2022-08-17","2022-08-24","2022-08-31","2022-09-07","2022-09-14","2022-09-21","2022-09-28","2022-10-05","2022-10-12","2022-10-19","2022-10-26","2022-11-02","2022-11-09","2022-11-16","2022-11-23","2022-11-30","2022-12-07","2022-12-14","2022-12-21","2022-12-28","2023-01-04","2023-01-11","2023-01-18","2023-01-25","2023-02-01","2023-02-08","2023-02-15","2023-02-22","2023-03-01","2023-03-08","2023-03-15","2023-03-22","2023-03-29","2023-04-05","2023-04-12","2023-04-19","2023-04-26","2023-05-03","2023-05-10","2023-05-17","2023-05-24","2023-05-31","2023-06-07","2023-06-14","2023-06-21","2023-06-28","2023-07-05","2023-07-12","2023-07-19","2023-07-26","2023-08-02","2023-08-09","2023-08-16","2023-08-23",{"$f":"NO8+7","v":"2023-08-30"},"2023-09-06","2023-09-13","2023-09-20","2023-09-27","2023-10-04","2023-10-11","2023-10-18","2023-10-25","2023-11-01","2023-11-08","2023-11-15","2023-11-22","2023-11-29","2023-12-06","2023-12-13","2023-12-20","2023-12-27","2024-01-03","2024-01-10","2024-01-17","2024-01-24","2024-01-31","2024-02-07","2024-02-14","2024-02-21","2024-02-28","2024-03-06","2024-03-13","2024-03-20","2024-03-27","2024-04-03","2024-04-10","2024-04-17","2024-04-24","2024-05-01","2024-05-08","2024-05-15","2024-05-22","2024-05-29","2024-06-05","2024-06-12","2024-06-19","2024-06-26","2024-07-03","2024-07-10","2024-07-17","2024-07-24","2024-07-31","2024-08-07","2024-08-14","2024-08-21","2024-08-28","2024-09-04","2024-09-11","2024-09-18","2024-09-25","2024-10-02","2024-10-09","2024-10-16","2024-10-23","2024-10-30","2024-11-06","2024-11-13",{"$f":"QA8+7","v":"2024-11-20"},"2024-11-27","2024-12-04","2024-12-11","2024-12-18","2024-12-25","2025-01-01","2025-01-08","2025-01-15","2025-01-22","2025-01-29","2025-02-05","2025-02-12","2025-02-19","2025-02-26","2025-03-05","2025-03-12","2025-03-19","2025-03-26","2025-04-02","2025-04-09","2025-04-16","2025-04-23","2025-04-30","2025-05-07","2025-05-14","2025-05-21","2025-05-28","2025-06-04","2025-06-11","2025-06-18","2025-06-25","2025-07-02","2025-07-09","2025-07-16","2025-07-23","2025-07-30","2025-08-06","2025-08-13","2025-08-20","2025-08-27","2025-09-03","2025-09-10","2025-09-17","2025-09-24","2025-10-01","2025-10-08","2025-10-15","2025-10-22","2025-10-29","2025-11-05","2025-11-12","2025-11-19","2025-11-26","2025-12-03","2025-12-10","2025-12-17","2025-12-24","2025-12-31","2026-01-07","2026-01-14","2026-01-21","2026-01-28","2026-02-04",{"$f":"SM8+7","v":"2026-02-11"},"2026-02-18","2026-02-25","2026-03-04","2026-03-11","2026-03-18","2026-03-25","2026-04-01","2026-04-08","2026-04-15","2026-04-22","2026-04-29","2026-05-06","2026-05-13","2026-05-20","2026-05-27","2026-06-03","2026-06-10","2026-06-17","2026-06-24","2026-07-01","2026-07-08","2026-07-15","2026-07-22","2026-07-29","2026-08-05","2026-08-12","2026-08-19","2026-08-26","2026-09-02","2026-09-09","2026-09-16","2026-09-23","2026-09-30","2026-10-07","2026-10-14","2026-10-21","2026-10-28","2026-11-04","2026-11-11","2026-11-18","2026-11-25","2026-12-02","2026-12-09","2026-12-16","2026-12-23","2026-12-30","2027-01-06","2027-01-13","2027-01-20","2027-01-27","2027-02-03","2027-02-10","2027-02-17","2027-02-24","2027-03-03","2027-03-10","2027-03-17","2027-03-24","2027-03-31","2027-04-07","2027-04-14","2027-04-21","2027-04-28",{"$f":"UY8+7","v":"2027-05-05"},"2027-05-12","2027-05-19","2027-05-26","2027-06-02","2027-06-09","2027-06-16","2027-06-23","2027-06-30","2027-07-07","2027-07-14","2027-07-21","2027-07-28","2027-08-04","2027-08-11","2027-08-18","2027-08-25","2027-09-01","2027-09-08","2027-09-15","2027-09-22","2027-09-29","2027-10-06","2027-10-13","2027-10-20","2027-10-27","2027-11-03","2027-11-10","2027-11-17","2027-11-24","2027-12-01","2027-12-08","2027-12-15","2027-12-22","2027-12-29","2028-01-05","2028-01-12","2028-01-19","2028-01-26","2028-02-02","2028-02-09","2028-02-16","2028-02-23","2028-03-01","2028-03-08","2028-03-15","2028-03-22","2028-03-29","2028-04-05","2028-04-12","2028-04-19","2028-04-26","2028-05-03","2028-05-10","2028-05-17","2028-05-24","2028-05-31","2028-06-07","2028-06-14","2028-06-21","2028-06-28","2028-07-05","2028-07-12","2028-07-19",{"$f":"XK8+7","v":"2028-07-26"},"2028-08-02","2028-08-09","2028-08-16","2028-08-23","2028-08-30","2028-09-06","2028-09-13","2028-09-20","2028-09-27","2028-10-04","2028-10-11","2028-10-18","2028-10-25","2028-11-01","2028-11-08","2028-11-15","2028-11-22","2028-11-29","2028-12-06","2028-12-13","2028-12-20","2028-12-27","2029-01-03","2029-01-10","2029-01-17","2029-01-24","2029-01-31","2029-02-07","2029-02-14","2029-02-21","2029-02-28","2029-03-07","2029-03-14","2029-03-21","2029-03-28","2029-04-04","2029-04-11","2029-04-18","2029-04-25","2029-05-02","2029-05-09","2029-05-16","2029-05-23","2029-05-30","2029-06-06","2029-06-13","2029-06-20","2029-06-27","2029-07-04","2029-07-11","2029-07-18","2029-07-25","2029-08-01","2029-08-08","2029-08-15","2029-08-22","2029-08-29","2029-09-05","2029-09-12","2029-09-19","2029-09-26","2029-10-03","2029-10-10","2029-10-17","2029-10-24","2029-10-31"]
["Vecka",{"$f":"INT((B7-WEEKDAY(B7,2)-DATE(YEAR(B7+4-WEEKDAY(B7,2)),1,4))/7)+2","v":22},{"$f":"INT((C7-WEEKDAY(C7,2)-DATE(YEAR(C7+4-WEEKDAY(C7,2)),1,4))/7)+2","v":23},24,25,26,27,28,29,30,31,32,33,34,35,36,37,38,39,40,41,42,43,44,45,46,47,48,49,50,51,52,1,{"$f":"INT((AH7-WEEKDAY(AH7,2)-DATE(YEAR(AH7+4-WEEKDAY(AH7,2)),1,4))/7)+2","v":2},3,4,5,6,7,8,9,10,11,12,13,14,15,16,17,18,19,20,21,22,23,24,25,26,27,{"$f":"INT((BH7-WEEKDAY(BH7,2)-DATE(YEAR(BH7+4-WEEKDAY(BH7,2)),1,4))/7)+2","v":28},29,30,31,32,33,34,35,36,37,38,39,40,41,42,43,44,45,46,47,48,49,50,51,52,1,2,3,4,5,6,7,8,9,10,11,12,13,14,15,16,17,18,19,20,21,22,23,24,25,26,27,28,29,30,31,32,33,34,35,36,37,38,39,{"$f":"INT((DT7-WEEKDAY(DT7,2)-DATE(YEAR(DT7+4-WEEKDAY(DT7,2)),1,4))/7)+2","v":40},41,42,43,44,45,46,47,48,49,50,51,52,1,2,3,4,5,6,7,8,9,10,11,12,13,14,15,16,17,18,19,20,21,22,23,24,25,26,27,28,29,30,31,32,33,34,35,36,37,38,39,40,41,42,43,44,45,46,47,48,49,50,51,{"$f":"INT((GF7-WEEKDAY(GF7,2)-DATE(YEAR(GF7+4-WEEKDAY(GF7,2)),1,4))/7)+2","v":52},1,2,3,4,5,6,7,8,9,10,11,12,13,14,15,16,17,18,19,20,21,22,23,24,25,26,27,28,29,30,31,32,33,34,35,36,37,38,39,40,41,42,43,44,45,46,47,48,49,50,51,52,53,1,2,3,4,5,6,7,8,9,10,{"$f":"INT((IR7-WEEKDAY(IR7,2)-DATE(YEAR(IR7+4-WEEKDAY(IR7,2)),1,4))/7)+2","v":11},12,13,14,15,16,17,18,19,20,21,22,23,24,25,26,27,28,29,30,31,32,33,34,35,36,37,38,39,40,41,42,43,44,45,46,47,48,49,50,51,52,1,2,3,4,5,6,7,8,9,10,11,12,13,14,15,16,17,18,19,20,21,22,{"$f":"INT((LD7-WEEKDAY(LD7,2)-DATE(YEAR(LD7+4-WEEKDAY(LD7,2)),1,4))/7)+2","v":23},24,25,26,27,28,29,30,31,32,33,34,35,36,37,38,39,40,41,42,43,44,45,46,47,48,49,50,51,52,1,2,3,4,5,6,7,8,9,10,11,12,13,14,15,16,17,18,19,20,21,22,23,24,25,26,27,28,29,30,31,32,33,34,{"$f":"INT((NP7-WEEKDAY(NP7,2)-DATE(YEAR(NP7+4-WEEKDAY(NP7,2)),1,4))/7)+2","v":35},36,37,38,39,40,41,42,43,44,45,46,47,48,49,50,51,52,1,2,3,4,5,6,7,8,9,10,11,12,13,14,15,16,17,18,19,20,21,22,23,24,25,26,27,28,29,30,31,32,33,34,35,36,37,38,39,40,41,42,43,44,45,46,{"$f":"INT((QB7-WEEKDAY(QB7,2)-DATE(YEAR(QB7+4-WEEKDAY(QB7,2)),1,4))/7)+2","v":47},48,49,50,51,52,1,2,3,4,5,6,7,8,9,10,11,12,13,14,15,16,17,18,19,20,21,22,23,24,25,26,27,28,29,30,31,32,33,34,35,36,37,38,39,40,41,42,43,44,45,46,47,48,49,50,51,52,1,2,3,4,5,6,{"$f":"INT((SN7-WEEKDAY(SN7,2)-DATE(YEAR(SN7+4-WEEKDAY(SN7,2)),1,4))/7)+2","v":7},8,9,10,11,12,13,14,15,16,17,18,19,20,21,22,23,24,25,26,27,28,29,30,31,32,33,34,35,36,37,38,39,40,41,42,43,44,45,46,47,48,49,50,51,52,53,1,2,3,4,5,6,7,8,9,10,11,12,13,14,15,16,17,{"$f":"INT((UZ7-WEEKDAY(UZ7,2)-DATE(YEAR(UZ7+4-WEEKDAY(UZ7,2)),1,4))/7)+2","v":18},19,20,21,22,23,24,25,26,27,28,29,30,31,32,33,34,35,36,37,38,39,40,41,42,43,44,45,46,47,48,49,50,51,52,1,2,3,4,5,6,7,8,9,10,11,12,13,14,15,16,17,18,19,20,21,22,23,24,25,26,27,28,29,{"$f":"INT((XL7-WEEKDAY(XL7,2)-DATE(YEAR(XL7+4-WEEKDAY(XL7,2)),1,4))/7)+2","v":30},31,32,33,34,35,36,37,38,39,40,41,42,43,44,45,46,47,48,49,50,51,52,1,2,3,4,5,6,7,8,9,10,11,12,13,14,15,16,17,18,19,20,21,22,23,24,25,26,27,28,29,30,31,32,33,34,35,36,37,38,39,40,41,{"$f":"INT((ZX7-WEEKDAY(ZX7,2)-DATE(YEAR(ZX7+4-WEEKDAY(ZX7,2)),1,4))/7)+2","v":42},{"$f":"INT((ZY7-WEEKDAY(ZY7,2)-DATE(YEAR(ZY7+4-WEEKDAY(ZY7,2)),1,4))/7)+2","v":43},{"$f":"INT((ZZ7-WEEKDAY(ZZ7,2)-DATE(YEAR(ZZ7+4-WEEKDAY(ZZ7,2)),1,4))/7)+2","v":44}]
["Sista i månaden",{"$f":"EOMONTH(B8,0)","v":"2016-06-30"},{"$f":"EOMONTH(C8,0)","v":"2016-06-30"},"2016-06-30","2016-06-30","2016-06-30","2016-07-31","2016-07-31","2016-07-31","2016-07-31","2016-08-31","2016-08-31","2016-08-31","2016-08-31","2016-08-31","2016-09-30","2016-09-30","2016-09-30","2016-09-30","2016-10-31","2016-10-31","2016-10-31","2016-10-31","2016-11-30","2016-11-30","2016-11-30","2016-11-30","2016-11-30","2016-12-31","2016-12-31","2016-12-31","2016-12-31","2017-01-31","2017-01-31","2017-01-31","2017-01-31","2017-02-28","2017-02-28","2017-02-28","2017-02-28","2017-03-31","2017-03-31","2017-03-31","2017-03-31","2017-03-31","2017-04-30","2017-04-30","2017-04-30","2017-04-30","2017-05-31","2017-05-31","2017-05-31","2017-05-31","2017-05-31","2017-06-30","2017-06-30","2017-06-30","2017-06-30","2017-07-31",{"$f":"EOMONTH(BH8,0)","v":"2017-07-31"},"2017-07-31","2017-07-31","2017-08-31","2017-08-31","2017-08-31","2017-08-31","2017-08-31","2017-09-30","2017-09-30","2017-09-30","2017-09-30","2017-10-31","2017-10-31","2017-10-31","2017-10-31","2017-11-30","2017-11-30","2017-11-30","2017-11-30","2017-11-30","2017-12-31","2017-12-31","2017-12-31","2017-12-31","2018-01-31","2018-01-31","2018-01-31","2018-01-31","2018-01-31","2018-02-28","2018-02-28","2018-02-28","2018-02-28","2018-03-31","2018-03-31","2018-03-31","2018-03-31","2018-04-30","2018-04-30","2018-04-30","2018-04-30","2018-05-31","2018-05-31","2018-05-31","2018-05-31","2018-05-31","2018-06-30","2018-06-30","2018-06-30","2018-06-30","2018-07-31","2018-07-31","2018-07-31","2018-07-31","2018-08-31","2018-08-31","2018-08-31","2018-08-31","2018-08-31","2018-09-30","2018-09-30","2018-09-30","2018-09-30",{"$f":"EOMONTH(DT8,0)","v":"2018-10-31"},"2018-10-31","2018-10-31","2018-10-31","2018-10-31","2018-11-30","2018-11-30","2018-11-30","2018-11-30","2018-12-31","2018-12-31","2018-12-31","2018-12-31","2019-01-31","2019-01-31","2019-01-31","2019-01-31","2019-01-31","2019-02-28","2019-02-28","2019-02-28","2019-02-28","2019-03-31","2019-03-31","2019-03-31","2019-03-31","2019-04-30","2019-04-30","2019-04-30","2019-04-30","2019-05-31","2019-05-31","2019-05-31","2019-05-31","2019-05-31","2019-06-30","2019-06-30","2019-06-30","2019-06-30","2019-07-31","2019-07-31","2019-07-31","2019-07-31","2019-07-31","2019-08-31","2019-08-31","2019-08-31","2019-08-31","2019-09-30","2019-09-30","2019-09-30","2019-09-30","2019-10-31","2019-10-31","2019-10-31","2019-10-31","2019-10-31","2019-11-30","2019-11-30","2019-11-30","2019-11-30","2019-12-31","2019-12-31","2019-12-31",{"$f":"EOMONTH(GF8,0)","v":"2019-12-31"},"2020-01-31","2020-01-31","2020-01-31","2020-01-31","2020-01-31","2020-02-29","2020-02-29","2020-02-29","2020-02-29","2020-03-31","2020-03-31","2020-03-31","2020-03-31","2020-04-30","2020-04-30","2020-04-30","2020-04-30","2020-04-30","2020-05-31","2020-05-31","2020-05-31","2020-05-31","2020-06-30","2020-06-30","2020-06-30","2020-06-30","2020-07-31","2020-07-31","2020-07-31","2020-07-31","2020-07-31","2020-08-31","2020-08-31","2020-08-31","2020-08-31","2020-09-30","2020-09-30","2020-09-30","2020-09-30","2020-09-30","2020-10-31","2020-10-31","2020-10-31","2020-10-31","2020-11-30","2020-11-30","2020-11-30","2020-11-30","2020-12-31","2020-12-31","2020-12-31","2020-12-31","2020-12-31","2021-01-31","2021-01-31","2021-01-31","2021-01-31","2021-02-28","2021-02-28","2021-02-28","2021-02-28","2021-03-31","2021-03-31",{"$f":"EOMONTH(IR8,0)","v":"2021-03-31"},"2021-03-31","2021-03-31","2021-04-30","2021-04-30","2021-04-30","2021-04-30","2021-05-31","2021-05-31","2021-05-31","2021-05-31","2021-06-30","2021-06-30","2021-06-30","2021-06-30","2021-06-30","2021-07-31","2021-07-31","2021-07-31","2021-07-31","2021-08-31","2021-08-31","2021-08-31","2021-08-31","2021-09-30","2021-09-30","2021-09-30","2021-09-30","2021-09-30","2021-10-31","2021-10-31","2021-10-31","2021-10-31","2021-11-30","2021-11-30","2021-11-30","2021-11-30","2021-12-31","2021-12-31","2021-12-31","2021-12-31","2021-12-31","2022-01-31","2022-01-31","2022-01-31","2022-01-31","2022-02-28","2022-02-28","2022-02-28","2022-02-28","2022-03-31","2022-03-31","2022-03-31","2022-03-31","2022-03-31","2022-04-30","2022-04-30","2022-04-30","2022-04-30","2022-05-31","2022-05-31","2022-05-31","2022-05-31","2022-06-30",{"$f":"EOMONTH(LD8,0)","v":"2022-06-30"},"2022-06-30","2022-06-30","2022-06-30","2022-07-31","2022-07-31","2022-07-31","2022-07-31","2022-08-31","2022-08-31","2022-08-31","2022-08-31","2022-08-31","2022-09-30","2022-09-30","2022-09-30","2022-09-30","2022-10-31","2022-10-31","2022-10-31","2022-10-31","2022-11-30","2022-11-30","2022-11-30","2022-11-30","2022-11-30","2022-12-31","2022-12-31","2022-12-31","2022-12-31","2023-01-31","2023-01-31","2023-01-31","2023-01-31","2023-02-28","2023-02-28","2023-02-28","2023-02-28","2023-03-31","2023-03-31","2023-03-31","2023-03-31","2023-03-31","2023-04-30","2023-04-30","2023-04-30","2023-04-30","2023-05-31","2023-05-31","2023-05-31","2023-05-31","2023-05-31","2023-06-30","2023-06-30","2023-06-30","2023-06-30","2023-07-31","2023-07-31","2023-07-31","2023-07-31","2023-08-31","2023-08-31","2023-08-31","2023-08-31",{"$f":"EOMONTH(NP8,0)","v":"2023-08-31"},"2023-09-30","2023-09-30","2023-09-30","2023-09-30","2023-10-31","2023-10-31","2023-10-31","2023-10-31","2023-11-30","2023-11-30","2023-11-30","2023-11-30","2023-11-30","2023-12-31","2023-12-31","2023-12-31","2023-12-31","2024-01-31","2024-01-31","2024-01-31","2024-01-31","2024-01-31","2024-02-29","2024-02-29","2024-02-29","2024-02-29","2024-03-31","2024-03-31","2024-03-31","2024-03-31","2024-04-30","2024-04-30","2024-04-30","2024-04-30","2024-05-31","2024-05-31","2024-05-31","2024-05-31","2024-05-31","2024-06-30","2024-06-30","2024-06-30","2024-06-30","2024-07-31","2024-07-31","2024-07-31","2024-07-31","2024-07-31","2024-08-31","2024-08-31","2024-08-31","2024-08-31","2024-09-30","2024-09-30","2024-09-30","2024-09-30","2024-10-31","2024-10-31","2024-10-31","2024-10-31","2024-10-31","2024-11-30","2024-11-30",{"$f":"EOMONTH(QB8,0)","v":"2024-11-30"},"2024-11-30","2024-12-31","2024-12-31","2024-12-31","2024-12-31","2025-01-31","2025-01-31","2025-01-31","2025-01-31","2025-01-31","2025-02-28","2025-02-28","2025-02-28","2025-02-28","2025-03-31","2025-03-31","2025-03-31","2025-03-31","2025-04-30","2025-04-30","2025-04-30","2025-04-30","2025-04-30","2025-05-31","2025-05-31","2025-05-31","2025-05-31","2025-06-30","2025-06-30","2025-06-30","2025-06-30","2025-07-31","2025-07-31","2025-07-31","2025-07-31","2025-07-31","2025-08-31","2025-08-31","2025-08-31","2025-08-31","2025-09-30","2025-09-30","2025-09-30","2025-09-30","2025-10-31","2025-10-31","2025-10-31","2025-10-31","2025-10-31","2025-11-30","2025-11-30","2025-11-30","2025-11-30","2025-12-31","2025-12-31","2025-12-31","2025-12-31","2025-12-31","2026-01-31","2026-01-31","2026-01-31","2026-01-31","2026-02-28",{"$f":"EOMONTH(SN8,0)","v":"2026-02-28"},"2026-02-28","2026-02-28","2026-03-31","2026-03-31","2026-03-31","2026-03-31","2026-04-30","2026-04-30","2026-04-30","2026-04-30","2026-04-30","2026-05-31","2026-05-31","2026-05-31","2026-05-31","2026-06-30","2026-06-30","2026-06-30","2026-06-30","2026-07-31","2026-07-31","2026-07-31","2026-07-31","2026-07-31","2026-08-31","2026-08-31","2026-08-31","2026-08-31","2026-09-30","2026-09-30","2026-09-30","2026-09-30","2026-09-30","2026-10-31","2026-10-31","2026-10-31","2026-10-31","2026-11-30","2026-11-30","2026-11-30","2026-11-30","2026-12-31","2026-12-31","2026-12-31","2026-12-31","2026-12-31","2027-01-31","2027-01-31","2027-01-31","2027-01-31","2027-02-28","2027-02-28","2027-02-28","2027-02-28","2027-03-31","2027-03-31","2027-03-31","2027-03-31","2027-03-31","2027-04-30","2027-04-30","2027-04-30","2027-04-30",{"$f":"EOMONTH(UZ8,0)","v":"2027-05-31"},"2027-05-31","2027-05-31","2027-05-31","2027-06-30","2027-06-30","2027-06-30","2027-06-30","2027-06-30","2027-07-31","2027-07-31","2027-07-31","2027-07-31","2027-08-31","2027-08-31","2027-08-31","2027-08-31","2027-09-30","2027-09-30","2027-09-30","2027-09-30","2027-09-30","2027-10-31","2027-10-31","2027-10-31","2027-10-31","2027-11-30","2027-11-30","2027-11-30","2027-11-30","2027-12-31","2027-12-31","2027-12-31","2027-12-31","2027-12-31","2028-01-31","2028-01-31","2028-01-31","2028-01-31","2028-02-29","2028-02-29","2028-02-29","2028-02-29","2028-03-31","2028-03-31","2028-03-31","2028-03-31","2028-03-31","2028-04-30","2028-04-30","2028-04-30","2028-04-30","2028-05-31","2028-05-31","2028-05-31","2028-05-31","2028-05-31","2028-06-30","2028-06-30","2028-06-30","2028-06-30","2028-07-31","2028-07-31","2028-07-31",{"$f":"EOMONTH(XL8,0)","v":"2028-07-31"},"2028-08-31","2028-08-31","2028-08-31","2028-08-31","2028-08-31","2028-09-30","2028-09-30","2028-09-30","2028-09-30","2028-10-31","2028-10-31","2028-10-31","2028-10-31","2028-11-30","2028-11-30","2028-11-30","2028-11-30","2028-11-30","2028-12-31","2028-12-31","2028-12-31","2028-12-31","2029-01-31","2029-01-31","2029-01-31","2029-01-31","2029-01-31","2029-02-28","2029-02-28","2029-02-28","2029-02-28","2029-03-31","2029-03-31","2029-03-31","2029-03-31","2029-04-30","2029-04-30","2029-04-30","2029-04-30","2029-05-31","2029-05-31","2029-05-31","2029-05-31","2029-05-31","2029-06-30","2029-06-30","2029-06-30","2029-06-30","2029-07-31","2029-07-31","2029-07-31","2029-07-31","2029-08-31","2029-08-31","2029-08-31","2029-08-31","2029-08-31","2029-09-30","2029-09-30","2029-09-30","2029-09-30","2029-10-31","2029-10-31",{"$f":"EOMONTH(ZX8,0)","v":"2029-10-31"},{"$f":"EOMONTH(ZY8,0)","v":"2029-10-31"},{"$f":"EOMONTH(ZZ8,0)","v":"2029-10-31"}]
["Månadsnummer",{"$f":"MONTH(B8)","v":6},{"$f":"MONTH(C8)","v":6},6,6,6,7,7,7,7,8,8,8,8,8,9,9,9,9,10,10,10,10,11,11,11,11,11,12,12,12,12,1,1,1,1,2,2,2,2,3,3,3,3,3,4,4,4,4,5,5,5,5,5,6,6,6,6,7,{"$f":"MONTH(BH8)","v":7},7,7,8,8,8,8,8,9,9,9,9,10,10,10,10,11,11,11,11,11,12,12,12,12,1,1,1,1,1,2,2,2,2,3,3,3,3,4,4,4,4,5,5,5,5,5,6,6,6,6,7,7,7,7,8,8,8,8,8,9,9,9,9,{"$f":"MONTH(DT8)","v":10},10,10,10,10,11,11,11,11,12,12,12,12,1,1,1,1,1,2,2,2,2,3,3,3,3,4,4,4,4,5,5,5,5,5,6,6,6,6,7,7,7,7,7,8,8,8,8,9,9,9,9,10,10,10,10,10,11,11,11,11,12,12,12,{"$f":"MONTH(GF8)","v":12},1,1,1,1,1,2,2,2,2,3,3,3,3,4,4,4,4,4,5,5,5,5,6,6,6,6,7,7,7,7,7,8,8,8,8,9,9,9,9,9,10,10,10,10,11,11,11,11,12,12,12,12,12,1,1,1,1,2,2,2,2,3,3,{"$f":"MONTH(IR8)","v":3},3,3,4,4,4,4,5,5,5,5,6,6,6,6,6,7,7,7,7,8,8,8,8,9,9,9,9,9,10,10,10,10,11,11,11,11,12,12,12,12,12,1,1,1,1,2,2,2,2,3,3,3,3,3,4,4,4,4,5,5,5,5,6,{"$f":"MONTH(LD8)","v":6},6,6,6,7,7,7,7,8,8,8,8,8,9,9,9,9,10,10,10,10,11,11,11,11,11,12,12,12,12,1,1,1,1,2,2,2,2,3,3,3,3,3,4,4,4,4,5,5,5,5,5,6,6,6,6,7,7,7,7,8,8,8,8,{"$f":"MONTH(NP8)","v":8},9,9,9,9,10,10,10,10,11,11,11,11,11,12,12,12,12,1,1,1,1,1,2,2,2,2,3,3,3,3,4,4,4,4,5,5,5,5,5,6,6,6,6,7,7,7,7,7,8,8,8,8,9,9,9,9,10,10,10,10,10,11,11,{"$f":"MONTH(QB8)","v":11},11,12,12,12,12,1,1,1,1,1,2,2,2,2,3,3,3,3,4,4,4,4,4,5,5,5,5,6,6,6,6,7,7,7,7,7,8,8,8,8,9,9,9,9,10,10,10,10,10,11,11,11,11,12,12,12,12,12,1,1,1,1,2,{"$f":"MONTH(SN8)","v":2},2,2,3,3,3,3,4,4,4,4,4,5,5,5,5,6,6,6,6,7,7,7,7,7,8,8,8,8,9,9,9,9,9,10,10,10,10,11,11,11,11,12,12,12,12,12,1,1,1,1,2,2,2,2,3,3,3,3,3,4,4,4,4,{"$f":"MONTH(UZ8)","v":5},5,5,5,6,6,6,6,6,7,7,7,7,8,8,8,8,9,9,9,9,9,10,10,10,10,11,11,11,11,12,12,12,12,12,1,1,1,1,2,2,2,2,3,3,3,3,3,4,4,4,4,5,5,5,5,5,6,6,6,6,7,7,7,{"$f":"MONTH(XL8)","v":7},8,8,8,8,8,9,9,9,9,10,10,10,10,11,11,11,11,11,12,12,12,12,1,1,1,1,1,2,2,2,2,3,3,3,3,4,4,4,4,5,5,5,5,5,6,6,6,6,7,7,7,7,8,8,8,8,8,9,9,9,9,10,10,{"$f":"MONTH(ZX8)","v":10},{"$f":"MONTH(ZY8)","v":10},{"$f":"MONTH(ZZ8)","v":10}]
["Månad",{"$f":"B8","v":"2016-06-01"},{"$f":"IF(B11=C11,\"\",C8)","v":""},{"$f":"IF(C11=D11,\"\",D8)","v":""},"","","2016-07-06","","","","2016-08-03","","","","","2016-09-07","","","","2016-10-05","","","","2016-11-02","","","","","2016-12-07","","","","2017-01-04","","","","2017-02-01","","","","2017-03-01","","","","","2017-04-05","","","","2017-05-03","","","","","2017-06-07","","","","2017-07-05",{"$f":"IF(BG11=BH11,\"\",BH8)","v":""},"","","2017-08-02","","","","","2017-09-06","","","","2017-10-04","","","","2017-11-01","","","","","2017-12-06","","","","2018-01-03","","","","","2018-02-07","","","","2018-03-07","","","","2018-04-04","","","","2018-05-02","","","","","2018-06-06","","","","2018-07-04","","","","2018-08-01","","","","","2018-09-05","","","",{"$f":"IF(DS11=DT11,\"\",DT8)","v":"2018-10-03"},"","","","","2018-11-07","","","","2018-12-05","","","","2019-01-02","","","","","2019-02-06","","","","2019-03-06","","","","2019-04-03","","","","2019-05-01","","","","","2019-06-05","","","","2019-07-03","","","","","2019-08-07","","","","2019-09-04","","","","2019-10-02","","","","","2019-11-06","","","","2019-12-04","","",{"$f":"IF(GE11=GF11,\"\",GF8)","v":""},"2020-01-01","","","","","2020-02-05","","","","2020-03-04","","","","2020-04-01","","","","","2020-05-06","","","","2020-06-03","","","","2020-07-01","","","","","2020-08-05","","","","2020-09-02","","","","","2020-10-07","","","","2020-11-04","","","","2020-12-02","","","","","2021-01-06","","","","2021-02-03","","","","2021-03-03","",{"$f":"IF(IQ11=IR11,\"\",IR8)","v":""},"","","2021-04-07","","","","2021-05-05","","","","2021-06-02","","","","","2021-07-07","","","","2021-08-04","","","","2021-09-01","","","","","2021-10-06","","","","2021-11-03","","","","2021-12-01","","","","","2022-01-05","","","","2022-02-02","","","","2022-03-02","","","","","2022-04-06","","","","2022-05-04","","","","2022-06-01",{"$f":"IF(LC11=LD11,\"\",LD8)","v":""},"","","","2022-07-06","","","","2022-08-03","","","","","2022-09-07","","","","2022-10-05","","","","2022-11-02","","","","","2022-12-07","","","","2023-01-04","","","","2023-02-01","","","","2023-03-01","","","","","2023-04-05","","","","2023-05-03","","","","","2023-06-07","","","","2023-07-05","","","","2023-08-02","","","",{"$f":"IF(NO11=NP11,\"\",NP8)","v":""},"2023-09-06","","","","2023-10-04","","","","2023-11-01","","","","","2023-12-06","","","","2024-01-03","","","","","2024-02-07","","","","2024-03-06","","","","2024-04-03","","","","2024-05-01","","","","","2024-06-05","","","","2024-07-03","","","","","2024-08-07","","","","2024-09-04","","","","2024-10-02","","","","","2024-11-06","",{"$f":"IF(QA11=QB11,\"\",QB8)","v":""},"","2024-12-04","","","","2025-01-01","","","","","2025-02-05","","","","2025-03-05","","","","2025-04-02","","","","","2025-05-07","","","","2025-06-04","","","","2025-07-02","","","","","2025-08-06","","","","2025-09-03","","","","2025-10-01","","","","","2025-11-05","","","","2025-12-03","","","","","2026-01-07","","","","2026-02-04",{"$f":"IF(SM11=SN11,\"\",SN8)","v":""},"","","2026-03-04","","","","2026-04-01","","","","","2026-05-06","","","","2026-06-03","","","","2026-07-01","","","","","2026-08-05","","","","2026-09-02","","","","","2026-10-07","","","","2026-11-04","","","","2026-12-02","","","","","2027-01-06","","","","2027-02-03","","","","2027-03-03","","","","","2027-04-07","","","",{"$f":"IF(UY11=UZ11,\"\",UZ8)","v":"2027-05-05"},"","","","2027-06-02","","","","","2027-07-07","","","","2027-08-04","","","","2027-09-01","","","","","2027-10-06","","","","2027-11-03","","","","2027-12-01","","","","","2028-01-05","","","","2028-02-02","","","","2028-03-01","","","","","2028-04-05","","","","2028-05-03","","","","","2028-06-07","","","","2028-07-05","","",{"$f":"IF(XK11=XL11,\"\",XL8)","v":""},"2028-08-02","","","","","2028-09-06","","","","2028-10-04","","","","2028-11-01","","","","","2028-12-06","","","","2029-01-03","","","","","2029-02-07","","","","2029-03-07","","","","2029-04-04","","","","2029-05-02","","","","","2029-06-06","","","","2029-07-04","","","","2029-08-01","","","","","2029-09-05","","","","2029-10-03","",{"$f":"IF(ZW11=ZX11,\"\",ZX8)","v":""},{"$f":"IF(ZX11=ZY11,\"\",ZY8)","v":""},{"$f":"IF(ZY11=ZZ11,\"\",ZZ8)","v":""}]
[]
["Kvartal"]
[]
["Första i månaden",{"$f":"DATEVALUE(CONCATENATE(TEXT(B17,\"ÅÅÅÅ-MM\"),\"-01\"))","v":"2016-06-01"},{"$f":"DATEVALUE(CONCATENATE(TEXT(C17,\"ÅÅÅÅ-MM\"),\"-01\"))","v":"2016-09-01"},"2016-12-01","2017-03-01","2017-06-01","2017-09-01","2017-12-01","2018-03-01","2018-06-01","2018-09-01",{"$f":"DATEVALUE(CONCATENATE(TEXT(L17,\"ÅÅÅÅ-MM\"),\"-01\"))","v":"2018-12-01"},"2019-03-01","2019-06-01","2019-09-01","2019-12-01","2020-03-01","2020-06-01","2020-09-01","2020-12-01","2021-03-01","2021-06-01","2021-09-01","2021-12-01","2022-03-01","2022-06-01","2022-09-01","2022-12-01","2023-03-01","2023-06-01","2023-09-01","2023-12-01","2024-03-01","2024-06-01","2024-09-01","2024-12-01","2025-03-01","2025-06-01","2025-09-01","2025-12-01","2026-03-01","2026-06-01","2026-09-01","2026-12-01","2027-03-01","2027-06-01","2027-09-01","2027-12-01","2028-03-01","2028-06-01","2028-09-01","2028-12-01","2029-03-01","2029-06-01","2029-09-01","2029-12-01","2030-03-01","2030-06-01",{"$f":"DATEVALUE(CONCATENATE(TEXT(BG17,\"ÅÅÅÅ-MM\"),\"-01\"))","v":"2030-09-01"},"2030-12-01","2031-03-01","2031-06-01","2031-09-01","2031-12-01","2032-03-01","2032-06-01","2032-09-01","2032-12-01","2033-03-01","2033-06-01","2033-09-01","2033-12-01","2034-03-01","2034-06-01","2034-09-01","2034-12-01","2035-03-01","2035-06-01","2035-09-01","2035-12-01","2036-03-01","2036-06-01","2036-09-01","2036-12-01","2037-03-01","2037-06-01","2037-09-01","2037-12-01","2038-03-01","2038-06-01","2038-09-01","2038-12-01","2039-03-01","2039-06-01","2039-09-01","2039-12-01","2040-03-01","2040-06-01","2040-09-01","2040-12-01","2041-03-01","2041-06-01","2041-09-01","2041-12-01","2042-03-01","2042-06-01","2042-09-01","2042-12-01","2043-03-01","2043-06-01","2043-09-01","2043-12-01","2044-03-01","2044-06-01","2044-09-01","2044-12-01","2045-03-01","2045-06-01","2045-09-01","2045-12-01","2046-03-01","2046-06-01",{"$f":"DATEVALUE(CONCATENATE(TEXT(DS17,\"ÅÅÅÅ-MM\"),\"-01\"))","v":"2046-09-01"},"2046-12-01","2047-03-01","2047-06-01","2047-09-01","2047-12-01","2048-03-01","2048-06-01","2048-09-01","2048-12-01","2049-03-01","2049-06-01","2049-09-01","2049-12-01","2050-03-01","2050-06-01","2050-09-01","2050-12-01","2051-03-01","2051-06-01","2051-09-01","2051-12-01","2052-03-01","2052-06-01","2052-09-01","2052-12-01","2053-03-01","2053-06-01","2053-09-01","2053-12-01","2054-03-01","2054-06-01","2054-09-01","2054-12-01","2055-03-01","2055-06-01","2055-09-01","2055-12-01","2056-03-01","2056-06-01","2056-09-01","2056-12-01","2057-03-01","2057-06-01","2057-09-01","2057-12-01","2058-03-01","2058-06-01","2058-09-01","2058-12-01","2059-03-01","2059-06-01","2059-09-01","2059-12-01","2060-03-01","2060-06-01","2060-09-01","2060-12-01","2061-03-01","2061-06-01","2061-09-01","2061-12-01","2062-03-01","2062-06-01",{"$f":"DATEVALUE(CONCATENATE(TEXT(GE17,\"ÅÅÅÅ-MM\"),\"-01\"))","v":"2062-09-01"},"2062-12-01","2063-03-01","2063-06-01","2063-09-01","2063-12-01","2064-03-01","2064-06-01","2064-09-01","2064-12-01","2065-03-01","2065-06-01","2065-09-01","2065-12-01","2066-03-01","2066-06-01","2066-09-01","2066-12-01","2067-03-01","2067-06-01","2067-09-01","2067-12-01","2068-03-01","2068-06-01","2068-09-01","2068-12-01","2069-03-01","2069-06-01","2069-09-01","2069-12-01","2070-03-01","2070-06-01","2070-09-01","2070-12-01","2071-03-01","2071-06-01","2071-09-01","2071-12-01","2072-03-01","2072-06-01","2072-09-01","2072-12-01","2073-03-01","2073-06-01","2073-09-01","2073-12-01","2074-03-01","2074-06-01","2074-09-01","2074-12-01","2075-03-01","2075-06-01","2075-09-01","2075-12-01","2076-03-01","2076-06-01","2076-09-01","2076-12-01","2077-03-01","2077-06-01","2077-09-01","2077-12-01","2078-03-01","2078-06-01",{"$f":"DATEVALUE(CONCATENATE(TEXT(IQ17,\"ÅÅÅÅ-MM\"),\"-01\"))","v":"2078-09-01"},"2078-12-01","2079-03-01","2079-06-01","2079-09-01","2079-12-01","2080-03-01","2080-06-01","2080-09-01","2080-12-01","2081-03-01","2081-06-01","2081-09-01","2081-12-01","2082-03-01","2082-06-01","2082-09-01","2082-12-01","2083-03-01","2083-06-01","2083-09-01","2083-12-01","2084-03-01","2084-06-01","2084-09-01","2084-12-01","2085-03-01","2085-06-01","2085-09-01","2085-12-01","2086-03-01","2086-06-01","2086-09-01","2086-12-01","2087-03-01","2087-06-01","2087-09-01","2087-12-01","2088-03-01","2088-06-01","2088-09-01","2088-12-01","2089-03-01","2089-06-01","2089-09-01","2089-12-01","2090-03-01","2090-06-01","2090-09-01","2090-12-01","2091-03-01","2091-06-01","2091-09-01","2091-12-01","2092-03-01","2092-06-01","2092-09-01","2092-12-01","2093-03-01","2093-06-01","2093-09-01","2093-12-01","2094-03-01","2094-06-01",{"$f":"DATEVALUE(CONCATENATE(TEXT(LC17,\"ÅÅÅÅ-MM\"),\"-01\"))","v":"2094-09-01"},"2094-12-01","2095-03-01","2095-06-01","2095-09-01","2095-12-01","2096-03-01","2096-06-01","2096-09-01","2096-12-01","2097-03-01","2097-06-01","2097-09-01","2097-12-01","2098-03-01","2098-06-01","2098-09-01","2098-12-01","2099-03-01","2099-06-01","2099-09-01","2099-12-01","2100-03-01","2100-06-01","2100-09-01","2100-12-01","2101-03-01","2101-06-01","2101-09-01","2101-12-01","2102-03-01","2102-06-01","2102-09-01","2102-12-01","2103-03-01","2103-06-01","2103-09-01","2103-12-01","2104-03-01","2104-06-01","2104-09-01","2104-12-01","2105-03-01","2105-06-01","2105-09-01","2105-12-01","2106-03-01","2106-06-01","2106-09-01","2106-12-01","2107-03-01","2107-06-01","2107-09-01","2107-12-01","2108-03-01","2108-06-01","2108-09-01","2108-12-01","2109-03-01","2109-06-01","2109-09-01","2109-12-01","2110-03-01","2110-06-01",{"$f":"DATEVALUE(CONCATENATE(TEXT(NO17,\"ÅÅÅÅ-MM\"),\"-01\"))","v":"2110-09-01"},"2110-12-01","2111-03-01","2111-06-01","2111-09-01","2111-12-01","2112-03-01","2112-06-01","2112-09-01","2112-12-01","2113-03-01","2113-06-01","2113-09-01","2113-12-01","2114-03-01","2114-06-01","2114-09-01","2114-12-01","2115-03-01","2115-06-01","2115-09-01","2115-12-01","2116-03-01","2116-06-01","2116-09-01","2116-12-01","2117-03-01","2117-06-01","2117-09-01","2117-12-01","2118-03-01","2118-06-01","2118-09-01","2118-12-01","2119-03-01","2119-06-01","2119-09-01","2119-12-01","2120-03-01","2120-06-01","2120-09-01","2120-12-01","2121-03-01","2121-06-01","2121-09-01","2121-12-01","2122-03-01","2122-06-01","2122-09-01","2122-12-01","2123-03-01","2123-06-01","2123-09-01","2123-12-01","2124-03-01","2124-06-01","2124-09-01","2124-12-01","2125-03-01","2125-06-01","2125-09-01","2125-12-01","2126-03-01","2126-06-01",{"$f":"DATEVALUE(CONCATENATE(TEXT(QA17,\"ÅÅÅÅ-MM\"),\"-01\"))","v":"2126-09-01"},"2126-12-01","2127-03-01","2127-06-01","2127-09-01","2127-12-01","2128-03-01","2128-06-01","2128-09-01","2128-12-01","2129-03-01","2129-06-01","2129-09-01","2129-12-01","2130-03-01","2130-06-01","2130-09-01","2130-12-01","2131-03-01","2131-06-01","2131-09-01","2131-12-01","2132-03-01","2132-06-01","2132-09-01","2132-12-01","2133-03-01","2133-06-01","2133-09-01","2133-12-01","2134-03-01","2134-06-01","2134-09-01","2134-12-01","2135-03-01","2135-06-01","2135-09-01","2135-12-01","2136-03-01","2136-06-01","2136-09-01","2136-12-01","2137-03-01","2137-06-01","2137-09-01","2137-12-01","2138-03-01","2138-06-01","2138-09-01","2138-12-01","2139-03-01","2139-06-01","2139-09-01","2139-12-01","2140-03-01","2140-06-01","2140-09-01","2140-12-01","2141-03-01","2141-06-01","2141-09-01","2141-12-01","2142-03-01","2142-06-01",{"$f":"DATEVALUE(CONCATENATE(TEXT(SM17,\"ÅÅÅÅ-MM\"),\"-01\"))","v":"2142-09-01"},"2142-12-01","2143-03-01","2143-06-01","2143-09-01","2143-12-01","2144-03-01","2144-06-01","2144-09-01","2144-12-01","2145-03-01","2145-06-01","2145-09-01","2145-12-01","2146-03-01","2146-06-01","2146-09-01","2146-12-01","2147-03-01","2147-06-01","2147-09-01","2147-12-01","2148-03-01","2148-06-01","2148-09-01","2148-12-01","2149-03-01","2149-06-01","2149-09-01","2149-12-01","2150-03-01","2150-06-01","2150-09-01","2150-12-01","2151-03-01","2151-06-01","2151-09-01","2151-12-01","2152-03-01","2152-06-01","2152-09-01","2152-12-01","2153-03-01","2153-06-01","2153-09-01","2153-12-01","2154-03-01","2154-06-01","2154-09-01","2154-12-01","2155-03-01","2155-06-01","2155-09-01","2155-12-01","2156-03-01","2156-06-01","2156-09-01","2156-12-01","2157-03-01","2157-06-01","2157-09-01","2157-12-01","2158-03-01","2158-06-01",{"$f":"DATEVALUE(CONCATENATE(TEXT(UY17,\"ÅÅÅÅ-MM\"),\"-01\"))","v":"2158-09-01"},"2158-12-01","2159-03-01","2159-06-01","2159-09-01","2159-12-01","2160-03-01","2160-06-01","2160-09-01","2160-12-01","2161-03-01","2161-06-01","2161-09-01","2161-12-01","2162-03-01","2162-06-01","2162-09-01","2162-12-01","2163-03-01","2163-06-01","2163-09-01","2163-12-01","2164-03-01","2164-06-01","2164-09-01","2164-12-01","2165-03-01","2165-06-01","2165-09-01","2165-12-01","2166-03-01","2166-06-01","2166-09-01","2166-12-01","2167-03-01","2167-06-01","2167-09-01","2167-12-01","2168-03-01","2168-06-01","2168-09-01","2168-12-01","2169-03-01","2169-06-01","2169-09-01","2169-12-01","2170-03-01","2170-06-01","2170-09-01","2170-12-01","2171-03-01","2171-06-01","2171-09-01","2171-12-01","2172-03-01","2172-06-01","2172-09-01","2172-12-01","2173-03-01","2173-06-01","2173-09-01","2173-12-01","2174-03-01","2174-06-01",{"$f":"DATEVALUE(CONCATENATE(TEXT(XK17,\"ÅÅÅÅ-MM\"),\"-01\"))","v":"2174-09-01"},"2174-12-01","2175-03-01","2175-06-01","2175-09-01","2175-12-01","2176-03-01","2176-06-01","2176-09-01","2176-12-01","2177-03-01","2177-06-01","2177-09-01","2177-12-01","2178-03-01","2178-06-01","2178-09-01","2178-12-01","2179-03-01","2179-06-01","2179-09-01","2179-12-01","2180-03-01","2180-06-01","2180-09-01","2180-12-01","2181-03-01","2181-06-01","2181-09-01","2181-12-01","2182-03-01","2182-06-01","2182-09-01","2182-12-01","2183-03-01","2183-06-01","2183-09-01","2183-12-01","2184-03-01","2184-06-01","2184-09-01","2184-12-01","2185-03-01","2185-06-01","2185-09-01","2185-12-01","2186-03-01","2186-06-01","2186-09-01","2186-12-01","2187-03-01","2187-06-01","2187-09-01","2187-12-01","2188-03-01","2188-06-01","2188-09-01","2188-12-01","2189-03-01","2189-06-01","2189-09-01","2189-12-01","2190-03-01","2190-06-01",{"$f":"DATEVALUE(CONCATENATE(TEXT(ZW17,\"ÅÅÅÅ-MM\"),\"-01\"))","v":"2190-09-01"},{"$f":"DATEVALUE(CONCATENATE(TEXT(ZX17,\"ÅÅÅÅ-MM\"),\"-01\"))","v":"2190-12-01"},{"$f":"DATEVALUE(CONCATENATE(TEXT(ZY17,\"ÅÅÅÅ-MM\"),\"-01\"))","v":"2191-03-01"},{"$f":"DATEVALUE(CONCATENATE(TEXT(ZZ17,\"ÅÅÅÅ-MM\"),\"-01\"))","v":"2191-06-01"}]
["Startdatum",{"$f":"B3","v":"2016-06-01"},{"$f":"EOMONTH(B17,3)","v":"2016-09-30"},{"$f":"EOMONTH(C17,3)","v":"2016-12-31"},"2017-03-31","2017-06-30","2017-09-30","2017-12-31","2018-03-31","2018-06-30","2018-09-30","2018-12-31","2019-03-31","2019-06-30","2019-09-30","2019-12-31","2020-03-31","2020-06-30","2020-09-30","2020-12-31","2021-03-31","2021-06-30","2021-09-30","2021-12-31","2022-03-31","2022-06-30","2022-09-30","2022-12-31","2023-03-31","2023-06-30","2023-09-30","2023-12-31","2024-03-31","2024-06-30","2024-09-30","2024-12-31","2025-03-31","2025-06-30","2025-09-30","2025-12-31","2026-03-31","2026-06-30","2026-09-30","2026-12-31","2027-03-31","2027-06-30","2027-09-30","2027-12-31","2028-03-31","2028-06-30","2028-09-30","2028-12-31","2029-03-31","2029-06-30","2029-09-30","2029-12-31","2030-03-31","2030-06-30","2030-09-30",{"$f":"EOMONTH(BG17,3)","v":"2030-12-31"},"2031-03-31","2031-06-30","2031-09-30","2031-12-31","2032-03-31","2032-06-30","2032-09-30","2032-12-31","2033-03-31","2033-06-30","2033-09-30","2033-12-31","2034-03-31","2034-06-30","2034-09-30","2034-12-31","2035-03-31","2035-06-30","2035-09-30","2035-12-31","2036-03-31","2036-06-30","2036-09-30","2036-12-31","2037-03-31","2037-06-30","2037-09-30","2037-12-31","2038-03-31","2038-06-30","2038-09-30","2038-12-31","2039-03-31","2039-06-30","2039-09-30","2039-12-31","2040-03-31","2040-06-30","2040-09-30","2040-12-31","2041-03-31","2041-06-30","2041-09-30","2041-12-31","2042-03-31","2042-06-30","2042-09-30","2042-12-31","2043-03-31","2043-06-30","2043-09-30","2043-12-31","2044-03-31","2044-06-30","2044-09-30","2044-12-31","2045-03-31","2045-06-30","2045-09-30","2045-12-31","2046-03-31","2046-06-30","2046-09-30",{"$f":"EOMONTH(DS17,3)","v":"2046-12-31"},"2047-03-31","2047-06-30","2047-09-30","2047-12-31","2048-03-31","2048-06-30","2048-09-30","2048-12-31","2049-03-31","2049-06-30","2049-09-30","2049-12-31","2050-03-31","2050-06-30","2050-09-30","2050-12-31","2051-03-31","2051-06-30","2051-09-30","2051-12-31","2052-03-31","2052-06-30","2052-09-30","2052-12-31","2053-03-31","2053-06-30","2053-09-30","2053-12-31","2054-03-31","2054-06-30","2054-09-30","2054-12-31","2055-03-31","2055-06-30","2055-09-30","2055-12-31","2056-03-31","2056-06-30","2056-09-30","2056-12-31","2057-03-31","2057-06-30","2057-09-30","2057-12-31","2058-03-31","2058-06-30","2058-09-30","2058-12-31","2059-03-31","2059-06-30","2059-09-30","2059-12-31","2060-03-31","2060-06-30","2060-09-30","2060-12-31","2061-03-31","2061-06-30","2061-09-30","2061-12-31","2062-03-31","2062-06-30","2062-09-30",{"$f":"EOMONTH(GE17,3)","v":"2062-12-31"},"2063-03-31","2063-06-30","2063-09-30","2063-12-31","2064-03-31","2064-06-30","2064-09-30","2064-12-31","2065-03-31","2065-06-30","2065-09-30","2065-12-31","2066-03-31","2066-06-30","2066-09-30","2066-12-31","2067-03-31","2067-06-30","2067-09-30","2067-12-31","2068-03-31","2068-06-30","2068-09-30","2068-12-31","2069-03-31","2069-06-30","2069-09-30","2069-12-31","2070-03-31","2070-06-30","2070-09-30","2070-12-31","2071-03-31","2071-06-30","2071-09-30","2071-12-31","2072-03-31","2072-06-30","2072-09-30","2072-12-31","2073-03-31","2073-06-30","2073-09-30","2073-12-31","2074-03-31","2074-06-30","2074-09-30","2074-12-31","2075-03-31","2075-06-30","2075-09-30","2075-12-31","2076-03-31","2076-06-30","2076-09-30","2076-12-31","2077-03-31","2077-06-30","2077-09-30","2077-12-31","2078-03-31","2078-06-30","2078-09-30",{"$f":"EOMONTH(IQ17,3)","v":"2078-12-31"},"2079-03-31","2079-06-30","2079-09-30","2079-12-31","2080-03-31","2080-06-30","2080-09-30","2080-12-31","2081-03-31","2081-06-30","2081-09-30","2081-12-31","2082-03-31","2082-06-30","2082-09-30","2082-12-31","2083-03-31","2083-06-30","2083-09-30","2083-12-31","2084-03-31","2084-06-30","2084-09-30","2084-12-31","2085-03-31","2085-06-30","2085-09-30","2085-12-31","2086-03-31","2086-06-30","2086-09-30","2086-12-31","2087-03-31","2087-06-30","2087-09-30","2087-12-31","2088-03-31","2088-06-30","2088-09-30","2088-12-31","2089-03-31","2089-06-30","2089-09-30","2089-12-31","2090-03-31","2090-06-30","2090-09-30","2090-12-31","2091-03-31","2091-06-30","2091-09-30","2091-12-31","2092-03-31","2092-06-30","2092-09-30","2092-12-31","2093-03-31","2093-06-30","2093-09-30","2093-12-31","2094-03-31","2094-06-30","2094-09-30",{"$f":"EOMONTH(LC17,3)","v":"2094-12-31"},"2095-03-31","2095-06-30","2095-09-30","2095-12-31","2096-03-31","2096-06-30","2096-09-30","2096-12-31","2097-03-31","2097-06-30","2097-09-30","2097-12-31","2098-03-31","2098-06-30","2098-09-30","2098-12-31","2099-03-31","2099-06-30","2099-09-30","2099-12-31","2100-03-31","2100-06-30","2100-09-30","2100-12-31","2101-03-31","2101-06-30","2101-09-30","2101-12-31","2102-03-31","2102-06-30","2102-09-30","2102-12-31","2103-03-31","2103-06-30","2103-09-30","2103-12-31","2104-03-31","2104-06-30","2104-09-30","2104-12-31","2105-03-31","2105-06-30","2105-09-30","2105-12-31","2106-03-31","2106-06-30","2106-09-30","2106-12-31","2107-03-31","2107-06-30","2107-09-30","2107-12-31","2108-03-31","2108-06-30","2108-09-30","2108-12-31","2109-03-31","2109-06-30","2109-09-30","2109-12-31","2110-03-31","2110-06-30","2110-09-30",{"$f":"EOMONTH(NO17,3)","v":"2110-12-31"},"2111-03-31","2111-06-30","2111-09-30","2111-12-31","2112-03-31","2112-06-30","2112-09-30","2112-12-31","2113-03-31","2113-06-30","2113-09-30","2113-12-31","2114-03-31","2114-06-30","2114-09-30","2114-12-31","2115-03-31","2115-06-30","2115-09-30","2115-12-31","2116-03-31","2116-06-30","2116-09-30","2116-12-31","2117-03-31","2117-06-30","2117-09-30","2117-12-31","2118-03-31","2118-06-30","2118-09-30","2118-12-31","2119-03-31","2119-06-30","2119-09-30","2119-12-31","2120-03-31","2120-06-30","2120-09-30","2120-12-31","2121-03-31","2121-06-30","2121-09-30","2121-12-31","2122-03-31","2122-06-30","2122-09-30","2122-12-31","2123-03-31","2123-06-30","2123-09-30","2123-12-31","2124-03-31","2124-06-30","2124-09-30","2124-12-31","2125-03-31","2125-06-30","2125-09-30","2125-12-31","2126-03-31","2126-06-30","2126-09-30",{"$f":"EOMONTH(QA17,3)","v":"2126-12-31"},"2127-03-31","2127-06-30","2127-09-30","2127-12-31","2128-03-31","2128-06-30","2128-09-30","2128-12-31","2129-03-31","2129-06-30","2129-09-30","2129-12-31","2130-03-31","2130-06-30","2130-09-30","2130-12-31","2131-03-31","2131-06-30","2131-09-30","2131-12-31","2132-03-31","2132-06-30","2132-09-30","2132-12-31","2133-03-31","2133-06-30","2133-09-30","2133-12-31","2134-03-31","2134-06-30","2134-09-30","2134-12-31","2135-03-31","2135-06-30","2135-09-30","2135-12-31","2136-03-31","2136-06-30","2136-09-30","2136-12-31","2137-03-31","2137-06-30","2137-09-30","2137-12-31","2138-03-31","2138-06-30","2138-09-30","2138-12-31","2139-03-31","2139-06-30","2139-09-30","2139-12-31","2140-03-31","2140-06-30","2140-09-30","2140-12-31","2141-03-31","2141-06-30","2141-09-30","2141-12-31","2142-03-31","2142-06-30","2142-09-30",{"$f":"EOMONTH(SM17,3)","v":"2142-12-31"},"2143-03-31","2143-06-30","2143-09-30","2143-12-31","2144-03-31","2144-06-30","2144-09-30","2144-12-31","2145-03-31","2145-06-30","2145-09-30","2145-12-31","2146-03-31","2146-06-30","2146-09-30","2146-12-31","2147-03-31","2147-06-30","2147-09-30","2147-12-31","2148-03-31","2148-06-30","2148-09-30","2148-12-31","2149-03-31","2149-06-30","2149-09-30","2149-12-31","2150-03-31","2150-06-30","2150-09-30","2150-12-31","2151-03-31","2151-06-30","2151-09-30","2151-12-31","2152-03-31","2152-06-30","2152-09-30","2152-12-31","2153-03-31","2153-06-30","2153-09-30","2153-12-31","2154-03-31","2154-06-30","2154-09-30","2154-12-31","2155-03-31","2155-06-30","2155-09-30","2155-12-31","2156-03-31","2156-06-30","2156-09-30","2156-12-31","2157-03-31","2157-06-30","2157-09-30","2157-12-31","2158-03-31","2158-06-30","2158-09-30",{"$f":"EOMONTH(UY17,3)","v":"2158-12-31"},"2159-03-31","2159-06-30","2159-09-30","2159-12-31","2160-03-31","2160-06-30","2160-09-30","2160-12-31","2161-03-31","2161-06-30","2161-09-30","2161-12-31","2162-03-31","2162-06-30","2162-09-30","2162-12-31","2163-03-31","2163-06-30","2163-09-30","2163-12-31","2164-03-31","2164-06-30","2164-09-30","2164-12-31","2165-03-31","2165-06-30","2165-09-30","2165-12-31","2166-03-31","2166-06-30","2166-09-30","2166-12-31","2167-03-31","2167-06-30","2167-09-30","2167-12-31","2168-03-31","2168-06-30","2168-09-30","2168-12-31","2169-03-31","2169-06-30","2169-09-30","2169-12-31","2170-03-31","2170-06-30","2170-09-30","2170-12-31","2171-03-31","2171-06-30","2171-09-30","2171-12-31","2172-03-31","2172-06-30","2172-09-30","2172-12-31","2173-03-31","2173-06-30","2173-09-30","2173-12-31","2174-03-31","2174-06-30","2174-09-30",{"$f":"EOMONTH(XK17,3)","v":"2174-12-31"},"2175-03-31","2175-06-30","2175-09-30","2175-12-31","2176-03-31","2176-06-30","2176-09-30","2176-12-31","2177-03-31","2177-06-30","2177-09-30","2177-12-31","2178-03-31","2178-06-30","2178-09-30","2178-12-31","2179-03-31","2179-06-30","2179-09-30","2179-12-31","2180-03-31","2180-06-30","2180-09-30","2180-12-31","2181-03-31","2181-06-30","2181-09-30","2181-12-31","2182-03-31","2182-06-30","2182-09-30","2182-12-31","2183-03-31","2183-06-30","2183-09-30","2183-12-31","2184-03-31","2184-06-30","2184-09-30","2184-12-31","2185-03-31","2185-06-30","2185-09-30","2185-12-31","2186-03-31","2186-06-30","2186-09-30","2186-12-31","2187-03-31","2187-06-30","2187-09-30","2187-12-31","2188-03-31","2188-06-30","2188-09-30","2188-12-31","2189-03-31","2189-06-30","2189-09-30","2189-12-31","2190-03-31","2190-06-30","2190-09-30","2190-12-31","2191-03-31","2191-06-30"]
["År",{"$f":"TEXT(B17,\"ÅÅÅÅ\")","v":"2016"},{"$f":"TEXT(C17,\"ÅÅÅÅ\")","v":"2016"},"2016","2017","2017","2017","2017","2018","2018","2018","2018","2019","2019","2019","2019","2020","2020","2020","2020","2021","2021","2021","2021","2022","2022","2022","2022","2023","2023","2023","2023","2024","2024","2024","2024","2025","2025","2025","2025","2026","2026","2026","2026","2027","2027","2027","2027","2028","2028","2028","2028","2029","2029","2029","2029","2030","2030","2030",{"$f":"TEXT(BH17,\"ÅÅÅÅ\")","v":"2030"},"2031","2031","2031","2031","2032","2032","2032","2032","2033","2033","2033","2033","2034","2034","2034","2034","2035","2035","2035","2035","2036","2036","2036","2036","2037","2037","2037","2037","2038","2038","2038","2038","2039","2039","2039","2039","2040","2040","2040","2040","2041","2041","2041","2041","2042","2042","2042","2042","2043","2043","2043","2043","2044","2044","2044","2044","2045","2045","2045","2045","2046","2046","2046",{"$f":"TEXT(DT17,\"ÅÅÅÅ\")","v":"2046"},"2047","2047","2047","2047","2048","2048","2048","2048","2049","2049","2049","2049","2050","2050","2050","2050","2051","2051","2051","2051","2052","2052","2052","2052","2053","2053","2053","2053","2054","2054","2054","2054","2055","2055","2055","2055","2056","2056","2056","2056","2057","2057","2057","2057","2058","2058","2058","2058","2059","2059","2059","2059","2060","2060","2060","2060","2061","2061","2061","2061","2062","2062","2062",{"$f":"TEXT(GF17,\"ÅÅÅÅ\")","v":"2062"},"2063","2063","2063","2063","2064","2064","2064","2064","2065","2065","2065","2065","2066","2066","2066","2066","2067","2067","2067","2067","2068","2068","2068","2068","2069","2069","2069","2069","2070","2070","2070","2070","2071","2071","2071","2071","2072","2072","2072","2072","2073","2073","2073","2073","2074","2074","2074","2074","2075","2075","2075","2075","2076","2076","2076","2076","2077","2077","2077","2077","2078","2078","2078",{"$f":"TEXT(IR17,\"ÅÅÅÅ\")","v":"2078"},"2079","2079","2079","2079","2080","2080","2080","2080","2081","2081","2081","2081","2082","2082","2082","2082","2083","2083","2083","2083","2084","2084","2084","2084","2085","2085","2085","2085","2086","2086","2086","2086","2087","2087","2087","2087","2088","2088","2088","2088","2089","2089","2089","2089","2090","2090","2090","2090","2091","2091","2091","2091","2092","2092","2092","2092","2093","2093","2093","2093","2094","2094","2094",{"$f":"TEXT(LD17,\"ÅÅÅÅ\")","v":"2094"},"2095","2095","2095","2095","2096","2096","2096","2096","2097","2097","2097","2097","2098","2098","2098","2098","2099","2099","2099","2099","2100","2100","2100","2100","2101","2101","2101","2101","2102","2102","2102","2102","2103","2103","2103","2103","2104","2104","2104","2104","2105","2105","2105","2105","2106","2106","2106","2106","2107","2107","2107","2107","2108","2108","2108","2108","2109","2109","2109","2109","2110","2110","2110",{"$f":"TEXT(NP17,\"ÅÅÅÅ\")","v":"2110"},"2111","2111","2111","2111","2112","2112","2112","2112","2113","2113","2113","2113","2114","2114","2114","2114","2115","2115","2115","2115","2116","2116","2116","2116","2117","2117","2117","2117","2118","2118","2118","2118","2119","2119","2119","2119","2120","2120","2120","2120","2121","2121","2121","2121","2122","2122","2122","2122","2123","2123","2123","2123","2124","2124","2124","2124","2125","2125","2125","2125","2126","2126","2126",{"$f":"TEXT(QB17,\"ÅÅÅÅ\")","v":"2126"},"2127","2127","2127","2127","2128","2128","2128","2128","2129","2129","2129","2129","2130","2130","2130","2130","2131","2131","2131","2131","2132","2132","2132","2132","2133","2133","2133","2133","2134","2134","2134","2134","2135","2135","2135","2135","2136","2136","2136","2136","2137","2137","2137","2137","2138","2138","2138","2138","2139","2139","2139","2139","2140","2140","2140","2140","2141","2141","2141","2141","2142","2142","2142",{"$f":"TEXT(SN17,\"ÅÅÅÅ\")","v":"2142"},"2143","2143","2143","2143","2144","2144","2144","2144","2145","2145","2145","2145","2146","2146","2146","2146","2147","2147","2147","2147","2148","2148","2148","2148","2149","2149","2149","2149","2150","2150","2150","2150","2151","2151","2151","2151","2152","2152","2152","2152","2153","2153","2153","2153","2154","2154","2154","2154","2155","2155","2155","2155","2156","2156","2156","2156","2157","2157","2157","2157","2158","2158","2158",{"$f":"TEXT(UZ17,\"ÅÅÅÅ\")","v":"2158"},"2159","2159","2159","2159","2160","2160","2160","2160","2161","2161","2161","2161","2162","2162","2162","2162","2163","2163","2163","2163","2164","2164","2164","2164","2165","2165","2165","2165","2166","2166","2166","2166","2167","2167","2167","2167","2168","2168","2168","2168","2169","2169","2169","2169","2170","2170","2170","2170","2171","2171","2171","2171","2172","2172","2172","2172","2173","2173","2173","2173","2174","2174","2174",{"$f":"TEXT(XL17,\"ÅÅÅÅ\")","v":"2174"},"2175","2175","2175","2175","2176","2176","2176","2176","2177","2177","2177","2177","2178","2178","2178","2178","2179","2179","2179","2179","2180","2180","2180","2180","2181","2181","2181","2181","2182","2182","2182","2182","2183","2183","2183","2183","2184","2184","2184","2184","2185","2185","2185","2185","2186","2186","2186","2186","2187","2187","2187","2187","2188","2188","2188","2188","2189","2189","2189","2189","2190","2190","2190",{"$f":"TEXT(ZX17,\"ÅÅÅÅ\")","v":"2190"},{"$f":"TEXT(ZY17,\"ÅÅÅÅ\")","v":"2191"},{"$f":"TEXT(ZZ17,\"ÅÅÅÅ\")","v":"2191"}]
["Månad",{"$f":"MONTH(B17)","v":6},9,12,3,6,9,12,3,6,9,12,3,6,9,12,3,6,9,12,3,6,9,12,3,6,9,12,3,6,9,12,3,6,9,12,3,6,9,12,3,6,9,12,3,6,9,12,3,6,9,12,3,6,9,12,3,6,9,{"$f":"MONTH(BH17)","v":12},3,6,9,12,3,6,9,12,3,6,9,12,3,6,9,12,3,6,9,12,3,6,9,12,3,6,9,12,3,6,9,12,3,6,9,12,3,6,9,12,3,6,9,12,3,6,9,12,3,6,9,12,3,6,9,12,3,6,9,12,3,6,9,{"$f":"MONTH(DT17)","v":12},3,6,9,12,3,6,9,12,3,6,9,12,3,6,9,12,3,6,9,12,3,6,9,12,3,6,9,12,3,6,9,12,3,6,9,12,3,6,9,12,3,6,9,12,3,6,9,12,3,6,9,12,3,6,9,12,3,6,9,12,3,6,9,{"$f":"MONTH(GF17)","v":12},3,6,9,12,3,6,9,12,3,6,9,12,3,6,9,12,3,6,9,12,3,6,9,12,3,6,9,12,3,6,9,12,3,6,9,12,3,6,9,12,3,6,9,12,3,6,9,12,3,6,9,12,3,6,9,12,3,6,9,12,3,6,9,{"$f":"MONTH(IR17)","v":12},3,6,9,12,3,6,9,12,3,6,9,12,3,6,9,12,3,6,9,12,3,6,9,12,3,6,9,12,3,6,9,12,3,6,9,12,3,6,9,12,3,6,9,12,3,6,9,12,3,6,9,12,3,6,9,12,3,6,9,12,3,6,9,{"$f":"MONTH(LD17)","v":12},3,6,9,12,3,6,9,12,3,6,9,12,3,6,9,12,3,6,9,12,3,6,9,12,3,6,9,12,3,6,9,12,3,6,9,12,3,6,9,12,3,6,9,12,3,6,9,12,3,6,9,12,3,6,9,12,3,6,9,12,3,6,9,{"$f":"MONTH(NP17)","v":12},3,6,9,12,3,6,9,12,3,6,9,12,3,6,9,12,3,6,9,12,3,6,9,12,3,6,9,12,3,6,9,12,3,6,9,12,3,6,9,12,3,6,9,12,3,6,9,12,3,6,9,12,3,6,9,12,3,6,9,12,3,6,9,{"$f":"MONTH(QB17)","v":12},3,6,9,12,3,6,9,12,3,6,9,12,3,6,9,12,3,6,9,12,3,6,9,12,3,6,9,12,3,6,9,12,3,6,9,12,3,6,9,12,3,6,9,12,3,6,9,12,3,6,9,12,3,6,9,12,3,6,9,12,3,6,9,{"$f":"MONTH(SN17)","v":12},3,6,9,12,3,6,9,12,3,6,9,12,3,6,9,12,3,6,9,12,3,6,9,12,3,6,9,12,3,6,9,12,3,6,9,12,3,6,9,12,3,6,9,12,3,6,9,12,3,6,9,12,3,6,9,12,3,6,9,12,3,6,9,{"$f":"MONTH(UZ17)","v":12},3,6,9,12,3,6,9,12,3,6,9,12,3,6,9,12,3,6,9,12,3,6,9,12,3,6,9,12,3,6,9,12,3,6,9,12,3,6,9,12,3,6,9,12,3,6,9,12,3,6,9,12,3,6,9,12,3,6,9,12,3,6,9,{"$f":"MONTH(XL17)","v":12},3,6,9,12,3,6,9,12,3,6,9,12,3,6,9,12,3,6,9,12,3,6,9,12,3,6,9,12,3,6,9,12,3,6,9,12,3,6,9,12,3,6,9,12,3,6,9,12,3,6,9,12,3,6,9,12,3,6,9,12,3,6,9,{"$f":"MONTH(ZX17)","v":12},{"$f":"MONTH(ZY17)","v":3},{"$f":"MONTH(ZZ17)","v":6}]
["Kvartal",{"$f":"CONCATENATE(IF(B19=1,\"Q1\",IF(B19=2,\"Q1\",IF(B19=3,\"Q1\",IF(B19=4,\"Q2\",IF(B19=5,\"Q2\",IF(B19=6,\"Q2\",IF(B19=7,\"Q3\",IF(B19=6,\"Q2\",IF(B19=5,\"Q2\",IF(B19=6,\"Q2\",IF(B19=5,\"Q2\",IF(B19=6,\"Q2\",IF(B19=5,\"Q2\",IF(B19=6,\"Q2\",IF(B19=7,\"Q3\",IF(B19=8,\"Q3\",IF(B19=9,\"Q3\",IF(B19=10,\"Q4\",IF(B19=8,\"Q3\",IF(B19=9,\"Q3\",IF(B19=10,\"Q4\",IF(B19=11,\"Q4\",IF(B19=12,\"Q4\"))))))))))))))))))))))),\"-\",B18)","v":"Q2-2016"},{"$f":"CONCATENATE(IF(C19=1,\"Q1\",IF(C19=2,\"Q1\",IF(C19=3,\"Q1\",IF(C19=4,\"Q2\",IF(C19=5,\"Q2\",IF(C19=6,\"Q2\",IF(C19=7,\"Q3\",IF(C19=6,\"Q2\",IF(C19=5,\"Q2\",IF(C19=6,\"Q2\",IF(C19=5,\"Q2\",IF(C19=6,\"Q2\",IF(C19=5,\"Q2\",IF(C19=6,\"Q2\",IF(C19=7,\"Q3\",IF(C19=8,\"Q3\",IF(C19=9,\"Q3\",IF(C19=10,\"Q4\",IF(C19=8,\"Q3\",IF(C19=9,\"Q3\",IF(C19=10,\"Q4\",IF(C19=11,\"Q4\",IF(C19=12,\"Q4\"))))))))))))))))))))))),\"-\",C18)","v":"Q3-2016"},"Q4-2016","Q1-2017","Q2-2017","Q3-2017","Q4-2017","Q1-2018","Q2-2018","Q3-2018","Q4-2018","Q1-2019","Q2-2019","Q3-2019","Q4-2019","Q1-2020","Q2-2020","Q3-2020","Q4-2020","Q1-2021","Q2-2021","Q3-2021","Q4-2021","Q1-2022","Q2-2022","Q3-2022","Q4-2022","Q1-2023","Q2-2023","Q3-2023","Q4-2023","Q1-2024","Q2-2024","Q3-2024","Q4-2024","Q1-2025","Q2-2025","Q3-2025","Q4-2025","Q1-2026","Q2-2026","Q3-2026","Q4-2026","Q1-2027","Q2-2027","Q3-2027","Q4-2027","Q1-2028","Q2-2028","Q3-2028","Q4-2028","Q1-2029","Q2-2029","Q3-2029","Q4-2029","Q1-2030","Q2-2030","Q3-2030",{"$f":"CONCATENATE(IF(BH19=1,\"Q1\",IF(BH19=2,\"Q1\",IF(BH19=3,\"Q1\",IF(BH19=4,\"Q2\",IF(BH19=5,\"Q2\",IF(BH19=6,\"Q2\",IF(BH19=7,\"Q3\",IF(BH19=6,\"Q2\",IF(BH19=5,\"Q2\",IF(BH19=6,\"Q2\",IF(BH19=5,\"Q2\",IF(BH19=6,\"Q2\",IF(BH19=5,\"Q2\",IF(BH19=6,\"Q2\",IF(BH19=7,\"Q3\",IF(BH19=8,\"Q3\",IF(BH19=9,\"Q3\",IF(BH19=10,\"Q4\",IF(BH19=8,\"Q3\",IF(BH19=9,\"Q3\",IF(BH19=10,\"Q4\",IF(BH19=11,\"Q4\",IF(BH19=12,\"Q4\"))))))))))))))))))))))),\"-\",BH18)","v":"Q4-2030"},"Q1-2031","Q2-2031","Q3-2031","Q4-2031","Q1-2032","Q2-2032","Q3-2032","Q4-2032","Q1-2033","Q2-2033","Q3-2033","Q4-2033","Q1-2034","Q2-2034","Q3-2034","Q4-2034","Q1-2035","Q2-2035","Q3-2035","Q4-2035","Q1-2036","Q2-2036","Q3-2036","Q4-2036","Q1-2037","Q2-2037","Q3-2037","Q4-2037","Q1-2038","Q2-2038","Q3-2038","Q4-2038","Q1-2039","Q2-2039","Q3-2039","Q4-2039","Q1-2040","Q2-2040","Q3-2040","Q4-2040","Q1-2041","Q2-2041","Q3-2041","Q4-2041","Q1-2042","Q2-2042","Q3-2042","Q4-2042","Q1-2043","Q2-2043","Q3-2043","Q4-2043","Q1-2044","Q2-2044","Q3-2044","Q4-2044","Q1-2045","Q2-2045","Q3-2045","Q4-2045","Q1-2046","Q2-2046","Q3-2046",{"$f":"CONCATENATE(IF(DT19=1,\"Q1\",IF(DT19=2,\"Q1\",IF(DT19=3,\"Q1\",IF(DT19=4,\"Q2\",IF(DT19=5,\"Q2\",IF(DT19=6,\"Q2\",IF(DT19=7,\"Q3\",IF(DT19=6,\"Q2\",IF(DT19=5,\"Q2\",IF(DT19=6,\"Q2\",IF(DT19=5,\"Q2\",IF(DT19=6,\"Q2\",IF(DT19=5,\"Q2\",IF(DT19=6,\"Q2\",IF(DT19=7,\"Q3\",IF(DT19=8,\"Q3\",IF(DT19=9,\"Q3\",IF(DT19=10,\"Q4\",IF(DT19=8,\"Q3\",IF(DT19=9,\"Q3\",IF(DT19=10,\"Q4\",IF(DT19=11,\"Q4\",IF(DT19=12,\"Q4\"))))))))))))))))))))))),\"-\",DT18)","v":"Q4-2046"},"Q1-2047","Q2-2047","Q3-2047","Q4-2047","Q1-2048","Q2-2048","Q3-2048","Q4-2048","Q1-2049","Q2-2049","Q3-2049","Q4-2049","Q1-2050","Q2-2050","Q3-2050","Q4-2050","Q1-2051","Q2-2051","Q3-2051","Q4-2051","Q1-2052","Q2-2052","Q3-2052","Q4-2052","Q1-2053","Q2-2053","Q3-2053","Q4-2053","Q1-2054","Q2-2054","Q3-2054","Q4-2054","Q1-2055","Q2-2055","Q3-2055","Q4-2055","Q1-2056","Q2-2056","Q3-2056","Q4-2056","Q1-2057","Q2-2057","Q3-2057","Q4-2057","Q1-2058","Q2-2058","Q3-2058","Q4-2058","Q1-2059","Q2-2059","Q3-2059","Q4-2059","Q1-2060","Q2-2060","Q3-2060","Q4-2060","Q1-2061","Q2-2061","Q3-2061","Q4-2061","Q1-2062","Q2-2062","Q3-2062",{"$f":"CONCATENATE(IF(GF19=1,\"Q1\",IF(GF19=2,\"Q1\",IF(GF19=3,\"Q1\",IF(GF19=4,\"Q2\",IF(GF19=5,\"Q2\",IF(GF19=6,\"Q2\",IF(GF19=7,\"Q3\",IF(GF19=6,\"Q2\",IF(GF19=5,\"Q2\",IF(GF19=6,\"Q2\",IF(GF19=5,\"Q2\",IF(GF19=6,\"Q2\",IF(GF19=5,\"Q2\",IF(GF19=6,\"Q2\",IF(GF19=7,\"Q3\",IF(GF19=8,\"Q3\",IF(GF19=9,\"Q3\",IF(GF19=10,\"Q4\",IF(GF19=8,\"Q3\",IF(GF19=9,\"Q3\",IF(GF19=10,\"Q4\",IF(GF19=11,\"Q4\",IF(GF19=12,\"Q4\"))))))))))))))))))))))),\"-\",GF18)","v":"Q4-2062"},"Q1-2063","Q2-2063","Q3-2063","Q4-2063","Q1-2064","Q2-2064","Q3-2064","Q4-2064","Q1-2065","Q2-2065","Q3-2065","Q4-2065","Q1-2066","Q2-2066","Q3-2066","Q4-2066","Q1-2067","Q2-2067","Q3-2067","Q4-2067","Q1-2068","Q2-2068","Q3-2068","Q4-2068","Q1-2069","Q2-2069","Q3-2069","Q4-2069","Q1-2070","Q2-2070","Q3-2070","Q4-2070","Q1-2071","Q2-2071","Q3-2071","Q4-2071","Q1-2072","Q2-2072","Q3-2072","Q4-2072","Q1-2073","Q2-2073","Q3-2073","Q4-2073","Q1-2074","Q2-2074","Q3-2074","Q4-2074","Q1-2075","Q2-2075","Q3-2075","Q4-2075","Q1-2076","Q2-2076","Q3-2076","Q4-2076","Q1-2077","Q2-2077","Q3-2077","Q4-2077","Q1-2078","Q2-2078","Q3-2078",{"$f":"CONCATENATE(IF(IR19=1,\"Q1\",IF(IR19=2,\"Q1\",IF(IR19=3,\"Q1\",IF(IR19=4,\"Q2\",IF(IR19=5,\"Q2\",IF(IR19=6,\"Q2\",IF(IR19=7,\"Q3\",IF(IR19=6,\"Q2\",IF(IR19=5,\"Q2\",IF(IR19=6,\"Q2\",IF(IR19=5,\"Q2\",IF(IR19=6,\"Q2\",IF(IR19=5,\"Q2\",IF(IR19=6,\"Q2\",IF(IR19=7,\"Q3\",IF(IR19=8,\"Q3\",IF(IR19=9,\"Q3\",IF(IR19=10,\"Q4\",IF(IR19=8,\"Q3\",IF(IR19=9,\"Q3\",IF(IR19=10,\"Q4\",IF(IR19=11,\"Q4\",IF(IR19=12,\"Q4\"))))))))))))))))))))))),\"-\",IR18)","v":"Q4-2078"},"Q1-2079","Q2-2079","Q3-2079","Q4-2079","Q1-2080","Q2-2080","Q3-2080","Q4-2080","Q1-2081","Q2-2081","Q3-2081","Q4-2081","Q1-2082","Q2-2082","Q3-2082","Q4-2082","Q1-2083","Q2-2083","Q3-2083","Q4-2083","Q1-2084","Q2-2084","Q3-2084","Q4-2084","Q1-2085","Q2-2085","Q3-2085","Q4-2085","Q1-2086","Q2-2086","Q3-2086","Q4-2086","Q1-2087","Q2-2087","Q3-2087","Q4-2087","Q1-2088","Q2-2088","Q3-2088","Q4-2088","Q1-2089","Q2-2089","Q3-2089","Q4-2089","Q1-2090","Q2-2090","Q3-2090","Q4-2090","Q1-2091","Q2-2091","Q3-2091","Q4-2091","Q1-2092","Q2-2092","Q3-2092","Q4-2092","Q1-2093","Q2-2093","Q3-2093","Q4-2093","Q1-2094","Q2-2094","Q3-2094",{"$f":"CONCATENATE(IF(LD19=1,\"Q1\",IF(LD19=2,\"Q1\",IF(LD19=3,\"Q1\",IF(LD19=4,\"Q2\",IF(LD19=5,\"Q2\",IF(LD19=6,\"Q2\",IF(LD19=7,\"Q3\",IF(LD19=6,\"Q2\",IF(LD19=5,\"Q2\",IF(LD19=6,\"Q2\",IF(LD19=5,\"Q2\",IF(LD19=6,\"Q2\",IF(LD19=5,\"Q2\",IF(LD19=6,\"Q2\",IF(LD19=7,\"Q3\",IF(LD19=8,\"Q3\",IF(LD19=9,\"Q3\",IF(LD19=10,\"Q4\",IF(LD19=8,\"Q3\",IF(LD19=9,\"Q3\",IF(LD19=10,\"Q4\",IF(LD19=11,\"Q4\",IF(LD19=12,\"Q4\"))))))))))))))))))))))),\"-\",LD18)","v":"Q4-2094"},"Q1-2095","Q2-2095","Q3-2095","Q4-2095","Q1-2096","Q2-2096","Q3-2096","Q4-2096","Q1-2097","Q2-2097","Q3-2097","Q4-2097","Q1-2098","Q2-2098","Q3-2098","Q4-2098","Q1-2099","Q2-2099","Q3-2099","Q4-2099","Q1-2100","Q2-2100","Q3-2100","Q4-2100","Q1-2101","Q2-2101","Q3-2101","Q4-2101","Q1-2102","Q2-2102","Q3-2102","Q4-2102","Q1-2103","Q2-2103","Q3-2103","Q4-2103","Q1-2104","Q2-2104","Q3-2104","Q4-2104","Q1-2105","Q2-2105","Q3-2105","Q4-2105","Q1-2106","Q2-2106","Q3-2106","Q4-2106","Q1-2107","Q2-2107","Q3-2107","Q4-2107","Q1-2108","Q2-2108","Q3-2108","Q4-2108","Q1-2109","Q2-2109","Q3-2109","Q4-2109","Q1-2110","Q2-2110","Q3-2110",{"$f":"CONCATENATE(IF(NP19=1,\"Q1\",IF(NP19=2,\"Q1\",IF(NP19=3,\"Q1\",IF(NP19=4,\"Q2\",IF(NP19=5,\"Q2\",IF(NP19=6,\"Q2\",IF(NP19=7,\"Q3\",IF(NP19=6,\"Q2\",IF(NP19=5,\"Q2\",IF(NP19=6,\"Q2\",IF(NP19=5,\"Q2\",IF(NP19=6,\"Q2\",IF(NP19=5,\"Q2\",IF(NP19=6,\"Q2\",IF(NP19=7,\"Q3\",IF(NP19=8,\"Q3\",IF(NP19=9,\"Q3\",IF(NP19=10,\"Q4\",IF(NP19=8,\"Q3\",IF(NP19=9,\"Q3\",IF(NP19=10,\"Q4\",IF(NP19=11,\"Q4\",IF(NP19=12,\"Q4\"))))))))))))))))))))))),\"-\",NP18)","v":"Q4-2110"},"Q1-2111","Q2-2111","Q3-2111","Q4-2111","Q1-2112","Q2-2112","Q3-2112","Q4-2112","Q1-2113","Q2-2113","Q3-2113","Q4-2113","Q1-2114","Q2-2114","Q3-2114","Q4-2114","Q1-2115","Q2-2115","Q3-2115","Q4-2115","Q1-2116","Q2-2116","Q3-2116","Q4-2116","Q1-2117","Q2-2117","Q3-2117","Q4-2117","Q1-2118","Q2-2118","Q3-2118","Q4-2118","Q1-2119","Q2-2119","Q3-2119","Q4-2119","Q1-2120","Q2-2120","Q3-2120","Q4-2120","Q1-2121","Q2-2121","Q3-2121","Q4-2121","Q1-2122","Q2-2122","Q3-2122","Q4-2122","Q1-2123","Q2-2123","Q3-2123","Q4-2123","Q1-2124","Q2-2124","Q3-2124","Q4-2124","Q1-2125","Q2-2125","Q3-2125","Q4-2125","Q1-2126","Q2-2126","Q3-2126",{"$f":"CONCATENATE(IF(QB19=1,\"Q1\",IF(QB19=2,\"Q1\",IF(QB19=3,\"Q1\",IF(QB19=4,\"Q2\",IF(QB19=5,\"Q2\",IF(QB19=6,\"Q2\",IF(QB19=7,\"Q3\",IF(QB19=6,\"Q2\",IF(QB19=5,\"Q2\",IF(QB19=6,\"Q2\",IF(QB19=5,\"Q2\",IF(QB19=6,\"Q2\",IF(QB19=5,\"Q2\",IF(QB19=6,\"Q2\",IF(QB19=7,\"Q3\",IF(QB19=8,\"Q3\",IF(QB19=9,\"Q3\",IF(QB19=10,\"Q4\",IF(QB19=8,\"Q3\",IF(QB19=9,\"Q3\",IF(QB19=10,\"Q4\",IF(QB19=11,\"Q4\",IF(QB19=12,\"Q4\"))))))))))))))))))))))),\"-\",QB18)","v":"Q4-2126"},"Q1-2127","Q2-2127","Q3-2127","Q4-2127","Q1-2128","Q2-2128","Q3-2128","Q4-2128","Q1-2129","Q2-2129","Q3-2129","Q4-2129","Q1-2130","Q2-2130","Q3-2130","Q4-2130","Q1-2131","Q2-2131","Q3-2131","Q4-2131","Q1-2132","Q2-2132","Q3-2132","Q4-2132","Q1-2133","Q2-2133","Q3-2133","Q4-2133","Q1-2134","Q2-2134","Q3-2134","Q4-2134","Q1-2135","Q2-2135","Q3-2135","Q4-2135","Q1-2136","Q2-2136","Q3-2136","Q4-2136","Q1-2137","Q2-2137","Q3-2137","Q4-2137","Q1-2138","Q2-2138","Q3-2138","Q4-2138","Q1-2139","Q2-2139","Q3-2139","Q4-2139","Q1-2140","Q2-2140","Q3-2140","Q4-2140","Q1-2141","Q2-2141","Q3-2141","Q4-2141","Q1-2142","Q2-2142","Q3-2142",{"$f":"CONCATENATE(IF(SN19=1,\"Q1\",IF(SN19=2,\"Q1\",IF(SN19=3,\"Q1\",IF(SN19=4,\"Q2\",IF(SN19=5,\"Q2\",IF(SN19=6,\"Q2\",IF(SN19=7,\"Q3\",IF(SN19=6,\"Q2\",IF(SN19=5,\"Q2\",IF(SN19=6,\"Q2\",IF(SN19=5,\"Q2\",IF(SN19=6,\"Q2\",IF(SN19=5,\"Q2\",IF(SN19=6,\"Q2\",IF(SN19=7,\"Q3\",IF(SN19=8,\"Q3\",IF(SN19=9,\"Q3\",IF(SN19=10,\"Q4\",IF(SN19=8,\"Q3\",IF(SN19=9,\"Q3\",IF(SN19=10,\"Q4\",IF(SN19=11,\"Q4\",IF(SN19=12,\"Q4\"))))))))))))))))))))))),\"-\",SN18)","v":"Q4-2142"},"Q1-2143","Q2-2143","Q3-2143","Q4-2143","Q1-2144","Q2-2144","Q3-2144","Q4-2144","Q1-2145","Q2-2145","Q3-2145","Q4-2145","Q1-2146","Q2-2146","Q3-2146","Q4-2146","Q1-2147","Q2-2147","Q3-2147","Q4-2147","Q1-2148","Q2-2148","Q3-2148","Q4-2148","Q1-2149","Q2-2149","Q3-2149","Q4-2149","Q1-2150","Q2-2150","Q3-2150","Q4-2150","Q1-2151","Q2-2151","Q3-2151","Q4-2151","Q1-2152","Q2-2152","Q3-2152","Q4-2152","Q1-2153","Q2-2153","Q3-2153","Q4-2153","Q1-2154","Q2-2154","Q3-2154","Q4-2154","Q1-2155","Q2-2155","Q3-2155","Q4-2155","Q1-2156","Q2-2156","Q3-2156","Q4-2156","Q1-2157","Q2-2157","Q3-2157","Q4-2157","Q1-2158","Q2-2158","Q3-2158",{"$f":"CONCATENATE(IF(UZ19=1,\"Q1\",IF(UZ19=2,\"Q1\",IF(UZ19=3,\"Q1\",IF(UZ19=4,\"Q2\",IF(UZ19=5,\"Q2\",IF(UZ19=6,\"Q2\",IF(UZ19=7,\"Q3\",IF(UZ19=6,\"Q2\",IF(UZ19=5,\"Q2\",IF(UZ19=6,\"Q2\",IF(UZ19=5,\"Q2\",IF(UZ19=6,\"Q2\",IF(UZ19=5,\"Q2\",IF(UZ19=6,\"Q2\",IF(UZ19=7,\"Q3\",IF(UZ19=8,\"Q3\",IF(UZ19=9,\"Q3\",IF(UZ19=10,\"Q4\",IF(UZ19=8,\"Q3\",IF(UZ19=9,\"Q3\",IF(UZ19=10,\"Q4\",IF(UZ19=11,\"Q4\",IF(UZ19=12,\"Q4\"))))))))))))))))))))))),\"-\",UZ18)","v":"Q4-2158"},"Q1-2159","Q2-2159","Q3-2159","Q4-2159","Q1-2160","Q2-2160","Q3-2160","Q4-2160","Q1-2161","Q2-2161","Q3-2161","Q4-2161","Q1-2162","Q2-2162","Q3-2162","Q4-2162","Q1-2163","Q2-2163","Q3-2163","Q4-2163","Q1-2164","Q2-2164","Q3-2164","Q4-2164","Q1-2165","Q2-2165","Q3-2165","Q4-2165","Q1-2166","Q2-2166","Q3-2166","Q4-2166","Q1-2167","Q2-2167","Q3-2167","Q4-2167","Q1-2168","Q2-2168","Q3-2168","Q4-2168","Q1-2169","Q2-2169","Q3-2169","Q4-2169","Q1-2170","Q2-2170","Q3-2170","Q4-2170","Q1-2171","Q2-2171","Q3-2171","Q4-2171","Q1-2172","Q2-2172","Q3-2172","Q4-2172","Q1-2173","Q2-2173","Q3-2173","Q4-2173","Q1-2174","Q2-2174","Q3-2174",{"$f":"CONCATENATE(IF(XL19=1,\"Q1\",IF(XL19=2,\"Q1\",IF(XL19=3,\"Q1\",IF(XL19=4,\"Q2\",IF(XL19=5,\"Q2\",IF(XL19=6,\"Q2\",IF(XL19=7,\"Q3\",IF(XL19=6,\"Q2\",IF(XL19=5,\"Q2\",IF(XL19=6,\"Q2\",IF(XL19=5,\"Q2\",IF(XL19=6,\"Q2\",IF(XL19=5,\"Q2\",IF(XL19=6,\"Q2\",IF(XL19=7,\"Q3\",IF(XL19=8,\"Q3\",IF(XL19=9,\"Q3\",IF(XL19=10,\"Q4\",IF(XL19=8,\"Q3\",IF(XL19=9,\"Q3\",IF(XL19=10,\"Q4\",IF(XL19=11,\"Q4\",IF(XL19=12,\"Q4\"))))))))))))))))))))))),\"-\",XL18)","v":"Q4-2174"},"Q1-2175","Q2-2175","Q3-2175","Q4-2175","Q1-2176","Q2-2176","Q3-2176","Q4-2176","Q1-2177","Q2-2177","Q3-2177","Q4-2177","Q1-2178","Q2-2178","Q3-2178","Q4-2178","Q1-2179","Q2-2179","Q3-2179","Q4-2179","Q1-2180","Q2-2180","Q3-2180","Q4-2180","Q1-2181","Q2-2181","Q3-2181","Q4-2181","Q1-2182","Q2-2182","Q3-2182","Q4-2182","Q1-2183","Q2-2183","Q3-2183","Q4-2183","Q1-2184","Q2-2184","Q3-2184","Q4-2184","Q1-2185","Q2-2185","Q3-2185","Q4-2185","Q1-2186","Q2-2186","Q3-2186","Q4-2186","Q1-2187","Q2-2187","Q3-2187","Q4-2187","Q1-2188","Q2-2188","Q3-2188","Q4-2188","Q1-2189","Q2-2189","Q3-2189","Q4-2189","Q1-2190","Q2-2190","Q3-2190",{"$f":"CONCATENATE(IF(ZX19=1,\"Q1\",IF(ZX19=2,\"Q1\",IF(ZX19=3,\"Q1\",IF(ZX19=4,\"Q2\",IF(ZX19=5,\"Q2\",IF(ZX19=6,\"Q2\",IF(ZX19=7,\"Q3\",IF(ZX19=6,\"Q2\",IF(ZX19=5,\"Q2\",IF(ZX19=6,\"Q2\",IF(ZX19=5,\"Q2\",IF(ZX19=6,\"Q2\",IF(ZX19=5,\"Q2\",IF(ZX19=6,\"Q2\",IF(ZX19=7,\"Q3\",IF(ZX19=8,\"Q3\",IF(ZX19=9,\"Q3\",IF(ZX19=10,\"Q4\",IF(ZX19=8,\"Q3\",IF(ZX19=9,\"Q3\",IF(ZX19=10,\"Q4\",IF(ZX19=11,\"Q4\",IF(ZX19=12,\"Q4\"))))))))))))))))))))))),\"-\",ZX18)","v":"Q4-2190"},{"$f":"CONCATENATE(IF(ZY19=1,\"Q1\",IF(ZY19=2,\"Q1\",IF(ZY19=3,\"Q1\",IF(ZY19=4,\"Q2\",IF(ZY19=5,\"Q2\",IF(ZY19=6,\"Q2\",IF(ZY19=7,\"Q3\",IF(ZY19=6,\"Q2\",IF(ZY19=5,\"Q2\",IF(ZY19=6,\"Q2\",IF(ZY19=5,\"Q2\",IF(ZY19=6,\"Q2\",IF(ZY19=5,\"Q2\",IF(ZY19=6,\"Q2\",IF(ZY19=7,\"Q3\",IF(ZY19=8,\"Q3\",IF(ZY19=9,\"Q3\",IF(ZY19=10,\"Q4\",IF(ZY19=8,\"Q3\",IF(ZY19=9,\"Q3\",IF(ZY19=10,\"Q4\",IF(ZY19=11,\"Q4\",IF(ZY19=12,\"Q4\"))))))))))))))))))))))),\"-\",ZY18)","v":"Q1-2191"},{"$f":"CONCATENATE(IF(ZZ19=1,\"Q1\",IF(ZZ19=2,\"Q1\",IF(ZZ19=3,\"Q1\",IF(ZZ19=4,\"Q2\",IF(ZZ19=5,\"Q2\",IF(ZZ19=6,\"Q2\",IF(ZZ19=7,\"Q3\",IF(ZZ19=6,\"Q2\",IF(ZZ19=5,\"Q2\",IF(ZZ19=6,\"Q2\",IF(ZZ19=5,\"Q2\",IF(ZZ19=6,\"Q2\",IF(ZZ19=5,\"Q2\",IF(ZZ19=6,\"Q2\",IF(ZZ19=7,\"Q3\",IF(ZZ19=8,\"Q3\",IF(ZZ19=9,\"Q3\",IF(ZZ19=10,\"Q4\",IF(ZZ19=8,\"Q3\",IF(ZZ19=9,\"Q3\",IF(ZZ19=10,\"Q4\",IF(ZZ19=11,\"Q4\",IF(ZZ19=12,\"Q4\"))))))))))))))))))))))),\"-\",ZZ18)","v":"Q2-2191"}]
[]
["Day/Week",{"$f":"YEAR(B25)","v":2016},{"$f":"IF(C27=1,YEAR(C25),\"\")","v":""},"","","","","","","","","","","","","","","","","","","","","","","","","","","","","","","","","","","","","","","","","","","","","","","","","","","","","","","",{"$f":"IF(BG27=1,YEAR(BG25),\"\")","v":""},{"$f":"IF(BH27=1,YEAR(BH25),\"\")","v":""},"","","","","","","","","","","","","","","","","","","","","","","","","","","","","","","","","","","","","","","","","","","","","","","","","","","","","","","","","","","","","","","",{"$f":"IF(DT27=1,YEAR(DT25),\"\")","v":""},"","","","","","","","","","","","","","","","","","","","","","","","","","","","","","","","","","","","","","","","","","","","","","","","","","","","","","","","","","","","","","","",{"$f":"IF(GF27=1,YEAR(GF25),\"\")","v":""},"","","","","","","","","","","","","","","","","","","","","","","","","","","","","","",2017,"","","","","","","","","","","","","","","","","","","","","","","","","","","","","","","","",{"$f":"IF(IR27=1,YEAR(IR25),\"\")","v":""},"","","","","","","","","","","","","","","","","","","","","","","","","","","","","","","","","","","","","","","","","","","","","","","","","","","","","","","","","","","","","","","",{"$f":"IF(LD27=1,YEAR(LD25),\"\")","v":""},"","","","","","","","","","","","","","","","","","","","","","","","","","","","","","","","","","","","","","","","","","","","","","","","","","","","","","","","","","","","","","","",{"$f":"IF(NP27=1,YEAR(NP25),\"\")","v":""},"","","","","","","","","","","","","","","","","","","","","","","","","","","","","","","","","","","","","","","","","","","","","","","","","","","","","","","","","","","","","","","",{"$f":"IF(QB27=1,YEAR(QB25),\"\")","v":""},"","","","","","","","","","","","","","","","","","","","","","","","","","","","","","","","","","","","","","","","","","","","","","","","","","","","","","","","","","","","","","","",{"$f":"IF(SN27=1,YEAR(SN25),\"\")","v":""},"","","","","","","","","","","","","","","","","","","","","","","","","","","","","","","","","","","","","","","","","","","","","","","","","","","","","","","","","","","","","","","",{"$f":"IF(UZ27=1,YEAR(UZ25),\"\")","v":""},"","","","","","","","","","",2018,"","","","","","","","","","","","","","","","","","","","","","","","","","","","","","","","","","","","","","","","","","","","","","","","","","","","",{"$f":"IF(XL27=1,YEAR(XL25),\"\")","v":""},"","","","","","","","","","","","","","","","","","","","","","","","","","","","","","","","","","","","","","","","","","","","","","","","","","","","","","","","","","","","","","","",{"$f":"IF(ZX27=1,YEAR(ZX25),\"\")","v":""},{"$f":"IF(ZY27=1,YEAR(ZY25),\"\")","v":""},{"$f":"IF(ZZ27=1,YEAR(ZZ25),\"\")","v":""}]
["Datum",{"$f":"$B$3-($C$3-1)","v":"2016-05-30"},{"$f":"B23+1","v":"2016-05-31"},{"$f":"C23+1","v":"2016-06-01"},"2016-06-02","2016-06-03","2016-06-04","2016-06-05","2016-06-06","2016-06-07","2016-06-08","2016-06-09","2016-06-10","2016-06-11","2016-06-12","2016-06-13","2016-06-14","2016-06-15","2016-06-16","2016-06-17","2016-06-18","2016-06-19","2016-06-20","2016-06-21","2016-06-22","2016-06-23","2016-06-24","2016-06-25","2016-06-26","2016-06-27","2016-06-28","2016-06-29","2016-06-30","2016-07-01","2016-07-02","2016-07-03","2016-07-04","2016-07-05","2016-07-06","2016-07-07","2016-07-08","2016-07-09","2016-07-10","2016-07-11","2016-07-12","2016-07-13","2016-07-14","2016-07-15","2016-07-16","2016-07-17","2016-07-18","2016-07-19","2016-07-20","2016-07-21","2016-07-22","2016-07-23","2016-07-24","2016-07-25","2016-07-26",{"$f":"BG23+1","v":"2016-07-27"},"2016-07-28","2016-07-29","2016-07-30","2016-07-31","2016-08-01","2016-08-02","2016-08-03","2016-08-04","2016-08-05","2016-08-06","2016-08-07","2016-08-08","2016-08-09","2016-08-10","2016-08-11","2016-08-12","2016-08-13","2016-08-14","2016-08-15","2016-08-16","2016-08-17","2016-08-18","2016-08-19","2016-08-20","2016-08-21","2016-08-22","2016-08-23","2016-08-24","2016-08-25","2016-08-26","2016-08-27","2016-08-28","2016-08-29","2016-08-30","2016-08-31","2016-09-01","2016-09-02","2016-09-03","2016-09-04","2016-09-05","2016-09-06","2016-09-07","2016-09-08","2016-09-09","2016-09-10","2016-09-11","2016-09-12","2016-09-13","2016-09-14","2016-09-15","2016-09-16","2016-09-17","2016-09-18","2016-09-19","2016-09-20","2016-09-21","2016-09-22","2016-09-23","2016-09-24","2016-09-25","2016-09-26","2016-09-27","2016-09-28",{"$f":"DS23+1","v":"2016-09-29"},"2016-09-30","2016-10-01","2016-10-02","2016-10-03","2016-10-04","2016-10-05","2016-10-06","2016-10-07","2016-10-08","2016-10-09","2016-10-10","2016-10-11","2016-10-12","2016-10-13","2016-10-14","2016-10-15","2016-10-16","2016-10-17","2016-10-18","2016-10-19","2016-10-20","2016-10-21","2016-10-22","2016-10-23","2016-10-24","2016-10-25","2016-10-26","2016-10-27","2016-10-28","2016-10-29","2016-10-30","2016-10-31","2016-11-01","2016-11-02","2016-11-03","2016-11-04","2016-11-05","2016-11-06","2016-11-07","2016-11-08","2016-11-09","2016-11-10","2016-11-11","2016-11-12","2016-11-13","2016-11-14","2016-11-15","2016-11-16","2016-11-17","2016-11-18","2016-11-19","2016-11-20","2016-11-21","2016-11-22","2016-11-23","2016-11-24","2016-11-25","2016-11-26","2016-11-27","2016-11-28","2016-11-29","2016-11-30","2016-12-01",{"$f":"GE23+1","v":"2016-12-02"},"2016-12-03","2016-12-04","2016-12-05","2016-12-06","2016-12-07","2016-12-08","2016-12-09","2016-12-10","2016-12-11","2016-12-12","2016-12-13","2016-12-14","2016-12-15","2016-12-16","2016-12-17","2016-12-18","2016-12-19","2016-12-20","2016-12-21","2016-12-22","2016-12-23","2016-12-24","2016-12-25","2016-12-26","2016-12-27","2016-12-28","2016-12-29","2016-12-30","2016-12-31","2017-01-01","2017-01-02","2017-01-03","2017-01-04","2017-01-05","2017-01-06","2017-01-07","2017-01-08","2017-01-09","2017-01-10","2017-01-11","2017-01-12","2017-01-13","2017-01-14","2017-01-15","2017-01-16","2017-01-17","2017-01-18","2017-01-19","2017-01-20","2017-01-21","2017-01-22","2017-01-23","2017-01-24","2017-01-25","2017-01-26","2017-01-27","2017-01-28","2017-01-29","2017-01-30","2017-01-31","2017-02-01","2017-02-02","2017-02-03",{"$f":"IQ23+1","v":"2017-02-04"},"2017-02-05","2017-02-06","2017-02-07","2017-02-08","2017-02-09","2017-02-10","2017-02-11","2017-02-12","2017-02-13","2017-02-14","2017-02-15","2017-02-16","2017-02-17","2017-02-18","2017-02-19","2017-02-20","2017-02-21","2017-02-22","2017-02-23","2017-02-24","2017-02-25","2017-02-26","2017-02-27","2017-02-28","2017-03-01","2017-03-02","2017-03-03","2017-03-04","2017-03-05","2017-03-06","2017-03-07","2017-03-08","2017-03-09","2017-03-10","2017-03-11","2017-03-12","2017-03-13","2017-03-14","2017-03-15","2017-03-16","2017-03-17","2017-03-18","2017-03-19","2017-03-20","2017-03-21","2017-03-22","2017-03-23","2017-03-24","2017-03-25","2017-03-26","2017-03-27","2017-03-28","2017-03-29","2017-03-30","2017-03-31","2017-04-01","2017-04-02","2017-04-03","2017-04-04","2017-04-05","2017-04-06","2017-04-07","2017-04-08",{"$f":"LC23+1","v":"2017-04-09"},"2017-04-10","2017-04-11","2017-04-12","2017-04-13","2017-04-14","2017-04-15","2017-04-16","2017-04-17","2017-04-18","2017-04-19","2017-04-20","2017-04-21","2017-04-22","2017-04-23","2017-04-24","2017-04-25","2017-04-26","2017-04-27","2017-04-28","2017-04-29","2017-04-30","2017-05-01","2017-05-02","2017-05-03","2017-05-04","2017-05-05","2017-05-06","2017-05-07","2017-05-08","2017-05-09","2017-05-10","2017-05-11","2017-05-12","2017-05-13","2017-05-14","2017-05-15","2017-05-16","2017-05-17","2017-05-18","2017-05-19","2017-05-20","2017-05-21","2017-05-22","2017-05-23","2017-05-24","2017-05-25","2017-05-26","2017-05-27","2017-05-28","2017-05-29","2017-05-30","2017-05-31","2017-06-01","2017-06-02","2017-06-03","2017-06-04","2017-06-05","2017-06-06","2017-06-07","2017-06-08","2017-06-09","2017-06-10","2017-06-11",{"$f":"NO23+1","v":"2017-06-12"},"2017-06-13","2017-06-14","2017-06-15","2017-06-16","2017-06-17","2017-06-18","2017-06-19","2017-06-20","2017-06-21","2017-06-22","2017-06-23","2017-06-24","2017-06-25","2017-06-26","2017-06-27","2017-06-28","2017-06-29","2017-06-30","2017-07-01","2017-07-02","2017-07-03","2017-07-04","2017-07-05","2017-07-06","2017-07-07","2017-07-08","2017-07-09","2017-07-10","2017-07-11","2017-07-12","2017-07-13","2017-07-14","2017-07-15","2017-07-16","2017-07-17","2017-07-18","2017-07-19","2017-07-20","2017-07-21","2017-07-22","2017-07-23","2017-07-24","2017-07-25","2017-07-26","2017-07-27","2017-07-28","2017-07-29","2017-07-30","2017-07-31","2017-08-01","2017-08-02","2017-08-03","2017-08-04","2017-08-05","2017-08-06","2017-08-07","2017-08-08","2017-08-09","2017-08-10","2017-08-11","2017-08-12","2017-08-13","2017-08-14",{"$f":"QA23+1","v":"2017-08-15"},"2017-08-16","2017-08-17","2017-08-18","2017-08-19","2017-08-20","2017-08-21","2017-08-22","2017-08-23","2017-08-24","2017-08-25","2017-08-26","2017-08-27","2017-08-28","2017-08-29","2017-08-30","2017-08-31","2017-09-01","2017-09-02","2017-09-03","2017-09-04","2017-09-05","2017-09-06","2017-09-07","2017-09-08","2017-09-09","2017-09-10","2017-09-11","2017-09-12","2017-09-13","2017-09-14","2017-09-15","2017-09-16","2017-09-17","2017-09-18","2017-09-19","2017-09-20","2017-09-21","2017-09-22","2017-09-23","2017-09-24","2017-09-25","2017-09-26","2017-09-27","2017-09-28","2017-09-29","2017-09-30","2017-10-01","2017-10-02","2017-10-03","2017-10-04","2017-10-05","2017-10-06","2017-10-07","2017-10-08","2017-10-09","2017-10-10","2017-10-11","2017-10-12","2017-10-13","2017-10-14","2017-10-15","2017-10-16","2017-10-17",{"$f":"SM23+1","v":"2017-10-18"},"2017-10-19","2017-10-20","2017-10-21","2017-10-22","2017-10-23","2017-10-24","2017-10-25","2017-10-26","2017-10-27","2017-10-28","2017-10-29","2017-10-30","2017-10-31","2017-11-01","2017-11-02","2017-11-03","2017-11-04","2017-11-05","2017-11-06","2017-11-07","2017-11-08","2017-11-09","2017-11-10","2017-11-11","2017-11-12","2017-11-13","2017-11-14","2017-11-15","2017-11-16","2017-11-17","2017-11-18","2017-11-19","2017-11-20","2017-11-21","2017-11-22","2017-11-23","2017-11-24","2017-11-25","2017-11-26","2017-11-27","2017-11-28","2017-11-29","2017-11-30","2017-12-01","2017-12-02","2017-12-03","2017-12-04","2017-12-05","2017-12-06","2017-12-07","2017-12-08","2017-12-09","2017-12-10","2017-12-11","2017-12-12","2017-12-13","2017-12-14","2017-12-15","2017-12-16","2017-12-17","2017-12-18","2017-12-19","2017-12-20",{"$f":"UY23+1","v":"2017-12-21"},"2017-12-22","2017-12-23","2017-12-24","2017-12-25","2017-12-26","2017-12-27","2017-12-28","2017-12-29","2017-12-30","2017-12-31","2018-01-01","2018-01-02","2018-01-03","2018-01-04","2018-01-05","2018-01-06","2018-01-07","2018-01-08","2018-01-09","2018-01-10","2018-01-11","2018-01-12","2018-01-13","2018-01-14","2018-01-15","2018-01-16","2018-01-17","2018-01-18","2018-01-19","2018-01-20","2018-01-21","2018-01-22","2018-01-23","2018-01-24","2018-01-25","2018-01-26","2018-01-27","2018-01-28","2018-01-29","2018-01-30","2018-01-31","2018-02-01","2018-02-02","2018-02-03","2018-02-04","2018-02-05","2018-02-06","2018-02-07","2018-02-08","2018-02-09","2018-02-10","2018-02-11","2018-02-12","2018-02-13","2018-02-14","2018-02-15","2018-02-16","2018-02-17","2018-02-18","2018-02-19","2018-02-20","2018-02-21","2018-02-22",{"$f":"XK23+1","v":"2018-02-23"},"2018-02-24","2018-02-25","2018-02-26","2018-02-27","2018-02-28","2018-03-01","2018-03-02","2018-03-03","2018-03-04","2018-03-05","2018-03-06","2018-03-07","2018-03-08","2018-03-09","2018-03-10","2018-03-11","2018-03-12","2018-03-13","2018-03-14","2018-03-15","2018-03-16","2018-03-17","2018-03-18","2018-03-19","2018-03-20","2018-03-21","2018-03-22","2018-03-23","2018-03-24","2018-03-25","2018-03-26","2018-03-27","2018-03-28","2018-03-29","2018-03-30","2018-03-31","2018-04-01","2018-04-02","2018-04-03","2018-04-04","2018-04-05","2018-04-06","2018-04-07","2018-04-08","2018-04-09","2018-04-10","2018-04-11","2018-04-12","2018-04-13","2018-04-14","2018-04-15","2018-04-16","2018-04-17","2018-04-18","2018-04-19","2018-04-20","2018-04-21","2018-04-22","2018-04-23","2018-04-24","2018-04-25","2018-04-26","2018-04-27","2018-04-28","2018-04-29","2018-04-30"]
["Sista i månaden",{"$f":"EOMONTH(B25,0)","v":"2016-06-30"},{"$f":"EOMONTH(C25,0)","v":"2016-06-30"},"2016-06-30","2016-06-30","2016-06-30","2016-06-30","2016-06-30","2016-06-30","2016-06-30","2016-06-30","2016-06-30","2016-06-30","2016-06-30","2016-06-30","2016-06-30","2016-06-30","2016-06-30","2016-06-30","2016-06-30","2016-06-30","2016-06-30","2016-06-30","2016-06-30","2016-06-30","2016-06-30","2016-06-30","2016-06-30","2016-06-30","2016-06-30","2016-06-30","2016-07-31","2016-07-31","2016-07-31","2016-07-31","2016-07-31","2016-07-31","2016-07-31","2016-07-31","2016-07-31","2016-07-31","2016-07-31","2016-07-31","2016-07-31","2016-07-31","2016-07-31","2016-07-31","2016-07-31","2016-07-31","2016-07-31","2016-07-31","2016-07-31","2016-07-31","2016-07-31","2016-07-31","2016-07-31","2016-07-31","2016-07-31","2016-07-31","2016-07-31","2016-07-31","2016-07-31","2016-08-31","2016-08-31","2016-08-31","2016-08-31",{"$f":"EOMONTH(BO25,0)","v":"2016-08-31"},"2016-08-31","2016-08-31","2016-08-31","2016-08-31","2016-08-31","2016-08-31","2016-08-31","2016-08-31","2016-08-31","2016-08-31","2016-08-31","2016-08-31","2016-08-31","2016-08-31","2016-08-31","2016-08-31","2016-08-31","2016-08-31","2016-08-31","2016-08-31","2016-08-31","2016-08-31","2016-08-31","2016-08-31","2016-08-31","2016-08-31","2016-09-30","2016-09-30","2016-09-30","2016-09-30","2016-09-30","2016-09-30","2016-09-30","2016-09-30","2016-09-30","2016-09-30","2016-09-30","2016-09-30","2016-09-30","2016-09-30","2016-09-30","2016-09-30","2016-09-30","2016-09-30","2016-09-30","2016-09-30","2016-09-30","2016-09-30","2016-09-30","2016-09-30","2016-09-30","2016-09-30","2016-09-30","2016-09-30","2016-09-30","2016-09-30","2016-10-31","2016-10-31","2016-10-31","2016-10-31","2016-10-31","2016-10-31","2016-10-31",{"$f":"EOMONTH(EA25,0)","v":"2016-10-31"},"2016-10-31","2016-10-31","2016-10-31","2016-10-31","2016-10-31","2016-10-31","2016-10-31","2016-10-31","2016-10-31","2016-10-31","2016-10-31","2016-10-31","2016-10-31","2016-10-31","2016-10-31","2016-10-31","2016-10-31","2016-10-31","2016-10-31","2016-10-31","2016-10-31","2016-10-31","2016-10-31","2016-11-30","2016-11-30","2016-11-30","2016-11-30","2016-11-30","2016-11-30","2016-11-30","2016-11-30","2016-11-30","2016-11-30","2016-11-30","2016-11-30","2016-11-30","2016-11-30","2016-11-30","2016-11-30","2016-11-30","2016-11-30","2016-11-30","2016-11-30","2016-11-30","2016-11-30","2016-11-30","2016-11-30","2016-11-30","2016-11-30","2016-11-30","2016-11-30","2016-11-30","2016-11-30","2016-12-31","2016-12-31","2016-12-31","2016-12-31","2016-12-31","2016-12-31","2016-12-31","2016-12-31","2016-12-31","2016-12-31",{"$f":"EOMONTH(GM25,0)","v":"2016-12-31"},"2016-12-31","2016-12-31","2016-12-31","2016-12-31","2016-12-31","2016-12-31","2016-12-31","2016-12-31","2016-12-31","2016-12-31","2016-12-31","2016-12-31","2016-12-31","2016-12-31","2016-12-31","2016-12-31","2016-12-31","2016-12-31","2016-12-31","2016-12-31","2017-01-31","2017-01-31","2017-01-31","2017-01-31","2017-01-31","2017-01-31","2017-01-31","2017-01-31","2017-01-31","2017-01-31","2017-01-31","2017-01-31","2017-01-31","2017-01-31","2017-01-31","2017-01-31","2017-01-31","2017-01-31","2017-01-31","2017-01-31","2017-01-31","2017-01-31","2017-01-31","2017-01-31","2017-01-31","2017-01-31","2017-01-31","2017-01-31","2017-01-31","2017-01-31","2017-01-31","2017-02-28","2017-02-28","2017-02-28","2017-02-28","2017-02-28","2017-02-28","2017-02-28","2017-02-28","2017-02-28","2017-02-28","2017-02-28","2017-02-28",{"$f":"EOMONTH(IY25,0)","v":"2017-02-28"},"2017-02-28","2017-02-28","2017-02-28","2017-02-28","2017-02-28","2017-02-28","2017-02-28","2017-02-28","2017-02-28","2017-02-28","2017-02-28","2017-02-28","2017-02-28","2017-02-28","2017-02-28","2017-03-31","2017-03-31","2017-03-31","2017-03-31","2017-03-31","2017-03-31","2017-03-31","2017-03-31","2017-03-31","2017-03-31","2017-03-31","2017-03-31","2017-03-31","2017-03-31","2017-03-31","2017-03-31","2017-03-31","2017-03-31","2017-03-31","2017-03-31","2017-03-31","2017-03-31","2017-03-31","2017-03-31","2017-03-31","2017-03-31","2017-03-31","2017-03-31","2017-03-31","2017-03-31","2017-03-31","2017-04-30","2017-04-30","2017-04-30","2017-04-30","2017-04-30","2017-04-30","2017-04-30","2017-04-30","2017-04-30","2017-04-30","2017-04-30","2017-04-30","2017-04-30","2017-04-30","2017-04-30","2017-04-30","2017-04-30",{"$f":"EOMONTH(LK25,0)","v":"2017-04-30"},"2017-04-30","2017-04-30","2017-04-30","2017-04-30","2017-04-30","2017-04-30","2017-04-30","2017-04-30","2017-04-30","2017-04-30","2017-04-30","2017-04-30","2017-05-31","2017-05-31","2017-05-31","2017-05-31","2017-05-31","2017-05-31","2017-05-31","2017-05-31","2017-05-31","2017-05-31","2017-05-31","2017-05-31","2017-05-31","2017-05-31","2017-05-31","2017-05-31","2017-05-31","2017-05-31","2017-05-31","2017-05-31","2017-05-31","2017-05-31","2017-05-31","2017-05-31","2017-05-31","2017-05-31","2017-05-31","2017-05-31","2017-05-31","2017-05-31","2017-05-31","2017-06-30","2017-06-30","2017-06-30","2017-06-30","2017-06-30","2017-06-30","2017-06-30","2017-06-30","2017-06-30","2017-06-30","2017-06-30","2017-06-30","2017-06-30","2017-06-30","2017-06-30","2017-06-30","2017-06-30","2017-06-30","2017-06-30","2017-06-30",{"$f":"EOMONTH(NW25,0)","v":"2017-06-30"},"2017-06-30","2017-06-30","2017-06-30","2017-06-30","2017-06-30","2017-06-30","2017-06-30","2017-06-30","2017-06-30","2017-07-31","2017-07-31","2017-07-31","2017-07-31","2017-07-31","2017-07-31","2017-07-31","2017-07-31","2017-07-31","2017-07-31","2017-07-31","2017-07-31","2017-07-31","2017-07-31","2017-07-31","2017-07-31","2017-07-31","2017-07-31","2017-07-31","2017-07-31","2017-07-31","2017-07-31","2017-07-31","2017-07-31","2017-07-31","2017-07-31","2017-07-31","2017-07-31","2017-07-31","2017-07-31","2017-07-31","2017-08-31","2017-08-31","2017-08-31","2017-08-31","2017-08-31","2017-08-31","2017-08-31","2017-08-31","2017-08-31","2017-08-31","2017-08-31","2017-08-31","2017-08-31","2017-08-31","2017-08-31","2017-08-31","2017-08-31","2017-08-31","2017-08-31","2017-08-31","2017-08-31","2017-08-31","2017-08-31",{"$f":"EOMONTH(QI25,0)","v":"2017-08-31"},"2017-08-31","2017-08-31","2017-08-31","2017-08-31","2017-08-31","2017-08-31","2017-08-31","2017-09-30","2017-09-30","2017-09-30","2017-09-30","2017-09-30","2017-09-30","2017-09-30","2017-09-30","2017-09-30","2017-09-30","2017-09-30","2017-09-30","2017-09-30","2017-09-30","2017-09-30","2017-09-30","2017-09-30","2017-09-30","2017-09-30","2017-09-30","2017-09-30","2017-09-30","2017-09-30","2017-09-30","2017-09-30","2017-09-30","2017-09-30","2017-09-30","2017-09-30","2017-09-30","2017-10-31","2017-10-31","2017-10-31","2017-10-31","2017-10-31","2017-10-31","2017-10-31","2017-10-31","2017-10-31","2017-10-31","2017-10-31","2017-10-31","2017-10-31","2017-10-31","2017-10-31","2017-10-31","2017-10-31","2017-10-31","2017-10-31","2017-10-31","2017-10-31","2017-10-31","2017-10-31","2017-10-31","2017-10-31","2017-10-31",{"$f":"EOMONTH(SU25,0)","v":"2017-10-31"},"2017-10-31","2017-10-31","2017-10-31","2017-10-31","2017-11-30","2017-11-30","2017-11-30","2017-11-30","2017-11-30","2017-11-30","2017-11-30","2017-11-30","2017-11-30","2017-11-30","2017-11-30","2017-11-30","2017-11-30","2017-11-30","2017-11-30","2017-11-30","2017-11-30","2017-11-30","2017-11-30","2017-11-30","2017-11-30","2017-11-30","2017-11-30","2017-11-30","2017-11-30","2017-11-30","2017-11-30","2017-11-30","2017-11-30","2017-11-30","2017-12-31","2017-12-31","2017-12-31","2017-12-31","2017-12-31","2017-12-31","2017-12-31","2017-12-31","2017-12-31","2017-12-31","2017-12-31","2017-12-31","2017-12-31","2017-12-31","2017-12-31","2017-12-31","2017-12-31","2017-12-31","2017-12-31","2017-12-31","2017-12-31","2017-12-31","2017-12-31","2017-12-31","2017-12-31","2017-12-31","2017-12-31","2017-12-31","2017-12-31",{"$f":"EOMONTH(VG25,0)","v":"2017-12-31"},"2017-12-31","2018-01-31","2018-01-31","2018-01-31","2018-01-31","2018-01-31","2018-01-31","2018-01-31","2018-01-31","2018-01-31","2018-01-31","2018-01-31","2018-01-31","2018-01-31","2018-01-31","2018-01-31","2018-01-31","2018-01-31","2018-01-31","2018-01-31","2018-01-31","2018-01-31","2018-01-31","2018-01-31","2018-01-31","2018-01-31","2018-01-31","2018-01-31","2018-01-31","2018-01-31","2018-01-31","2018-01-31","2018-02-28","2018-02-28","2018-02-28","2018-02-28","2018-02-28","2018-02-28","2018-02-28","2018-02-28","2018-02-28","2018-02-28","2018-02-28","2018-02-28","2018-02-28","2018-02-28","2018-02-28","2018-02-28","2018-02-28","2018-02-28","2018-02-28","2018-02-28","2018-02-28","2018-02-28","2018-02-28","2018-02-28","2018-02-28","2018-02-28","2018-02-28","2018-02-28","2018-03-31","2018-03-31","2018-03-31",{"$f":"EOMONTH(XS25,0)","v":"2018-03-31"},"2018-03-31","2018-03-31","2018-03-31","2018-03-31","2018-03-31","2018-03-31","2018-03-31","2018-03-31","2018-03-31","2018-03-31","2018-03-31","2018-03-31","2018-03-31","2018-03-31","2018-03-31","2018-03-31","2018-03-31","2018-03-31","2018-03-31","2018-03-31","2018-03-31","2018-03-31","2018-03-31","2018-03-31","2018-03-31","2018-03-31","2018-03-31","2018-04-30","2018-04-30","2018-04-30","2018-04-30","2018-04-30","2018-04-30","2018-04-30","2018-04-30","2018-04-30","2018-04-30","2018-04-30","2018-04-30","2018-04-30","2018-04-30","2018-04-30","2018-04-30","2018-04-30","2018-04-30","2018-04-30","2018-04-30","2018-04-30","2018-04-30","2018-04-30","2018-04-30","2018-04-30","2018-04-30","2018-04-30","2018-04-30","2018-04-30","2018-04-30","2018-05-31","2018-05-31"]
["Startdatum",{"$f":"B3","v":"2016-06-01"},{"$f":"B25+1","v":"2016-06-02"},{"$f":"C25+1","v":"2016-06-03"},"2016-06-04","2016-06-05","2016-06-06","2016-06-07","2016-06-08","2016-06-09","2016-06-10","2016-06-11","2016-06-12","2016-06-13","2016-06-14","2016-06-15","2016-06-16","2016-06-17","2016-06-18","2016-06-19","2016-06-20","2016-06-21","2016-06-22","2016-06-23","2016-06-24","2016-06-25","2016-06-26","2016-06-27","2016-06-28","2016-06-29","2016-06-30","2016-07-01","2016-07-02","2016-07-03","2016-07-04","2016-07-05","2016-07-06","2016-07-07","2016-07-08","2016-07-09","2016-07-10","2016-07-11","2016-07-12","2016-07-13","2016-07-14","2016-07-15","2016-07-16","2016-07-17","2016-07-18","2016-07-19","2016-07-20","2016-07-21","2016-07-22","2016-07-23","2016-07-24","2016-07-25","2016-07-26","2016-07-27","2016-07-28",{"$f":"BG25+1","v":"2016-07-29"},"2016-07-30","2016-07-31","2016-08-01","2016-08-02","2016-08-03","2016-08-04","2016-08-05","2016-08-06","2016-08-07","2016-08-08","2016-08-09","2016-08-10","2016-08-11","2016-08-12","2016-08-13","2016-08-14","2016-08-15","2016-08-16","2016-08-17","2016-08-18","2016-08-19","2016-08-20","2016-08-21","2016-08-22","2016-08-23","2016-08-24","2016-08-25","2016-08-26","2016-08-27","2016-08-28","2016-08-29","2016-08-30","2016-08-31","2016-09-01","2016-09-02","2016-09-03","2016-09-04","2016-09-05","2016-09-06","2016-09-07","2016-09-08","2016-09-09","2016-09-10","2016-09-11","2016-09-12","2016-09-13","2016-09-14","2016-09-15","2016-09-16","2016-09-17","2016-09-18","2016-09-19","2016-09-20","2016-09-21","2016-09-22","2016-09-23","2016-09-24","2016-09-25","2016-09-26","2016-09-27","2016-09-28","2016-09-29","2016-09-30",{"$f":"DS25+1","v":"2016-10-01"},"2016-10-02","2016-10-03","2016-10-04","2016-10-05","2016-10-06","2016-10-07","2016-10-08","2016-10-09","2016-10-10","2016-10-11","2016-10-12","2016-10-13","2016-10-14","2016-10-15","2016-10-16","2016-10-17","2016-10-18","2016-10-19","2016-10-20","2016-10-21","2016-10-22","2016-10-23","2016-10-24","2016-10-25","2016-10-26","2016-10-27","2016-10-28","2016-10-29","2016-10-30","2016-10-31","2016-11-01","2016-11-02","2016-11-03","2016-11-04","2016-11-05","2016-11-06","2016-11-07","2016-11-08","2016-11-09","2016-11-10","2016-11-11","2016-11-12","2016-11-13","2016-11-14","2016-11-15","2016-11-16","2016-11-17","2016-11-18","2016-11-19","2016-11-20","2016-11-21","2016-11-22","2016-11-23","2016-11-24","2016-11-25","2016-11-26","2016-11-27","2016-11-28","2016-11-29","2016-11-30","2016-12-01","2016-12-02","2016-12-03",{"$f":"GE25+1","v":"2016-12-04"},"2016-12-05","2016-12-06","2016-12-07","2016-12-08","2016-12-09","2016-12-10","2016-12-11","2016-12-12","2016-12-13","2016-12-14","2016-12-15","2016-12-16","2016-12-17","2016-12-18","2016-12-19","2016-12-20","2016-12-21","2016-12-22","2016-12-23","2016-12-24","2016-12-25","2016-12-26","2016-12-27","2016-12-28","2016-12-29","2016-12-30","2016-12-31","2017-01-01","2017-01-02","2017-01-03","2017-01-04","2017-01-05","2017-01-06","2017-01-07","2017-01-08","2017-01-09","2017-01-10","2017-01-11","2017-01-12","2017-01-13","2017-01-14","2017-01-15","2017-01-16","2017-01-17","2017-01-18","2017-01-19","2017-01-20","2017-01-21","2017-01-22","2017-01-23","2017-01-24","2017-01-25","2017-01-26","2017-01-27","2017-01-28","2017-01-29","2017-01-30","2017-01-31","2017-02-01","2017-02-02","2017-02-03","2017-02-04","2017-02-05",{"$f":"IQ25+1","v":"2017-02-06"},"2017-02-07","2017-02-08","2017-02-09","2017-02-10","2017-02-11","2017-02-12","2017-02-13","2017-02-14","2017-02-15","2017-02-16","2017-02-17","2017-02-18","2017-02-19","2017-02-20","2017-02-21","2017-02-22","2017-02-23","2017-02-24","2017-02-25","2017-02-26","2017-02-27","2017-02-28","2017-03-01","2017-03-02","2017-03-03","2017-03-04","2017-03-05","2017-03-06","2017-03-07","2017-03-08","2017-03-09","2017-03-10","2017-03-11","2017-03-12","2017-03-13","2017-03-14","2017-03-15","2017-03-16","2017-03-17","2017-03-18","2017-03-19","2017-03-20","2017-03-21","2017-03-22","2017-03-23","2017-03-24","2017-03-25","2017-03-26","2017-03-27","2017-03-28","2017-03-29","2017-03-30","2017-03-31","2017-04-01","2017-04-02","2017-04-03","2017-04-04","2017-04-05","2017-04-06","2017-04-07","2017-04-08","2017-04-09","2017-04-10",{"$f":"LC25+1","v":"2017-04-11"},"2017-04-12","2017-04-13","2017-04-14","2017-04-15","2017-04-16","2017-04-17","2017-04-18","2017-04-19","2017-04-20","2017-04-21","2017-04-22","2017-04-23","2017-04-24","2017-04-25","2017-04-26","2017-04-27","2017-04-28","2017-04-29","2017-04-30","2017-05-01","2017-05-02","2017-05-03","2017-05-04","2017-05-05","2017-05-06","2017-05-07","2017-05-08","2017-05-09","2017-05-10","2017-05-11","2017-05-12","2017-05-13","2017-05-14","2017-05-15","2017-05-16","2017-05-17","2017-05-18","2017-05-19","2017-05-20","2017-05-21","2017-05-22","2017-05-23","2017-05-24","2017-05-25","2017-05-26","2017-05-27","2017-05-28","2017-05-29","2017-05-30","2017-05-31","2017-06-01","2017-06-02","2017-06-03","2017-06-04","2017-06-05","2017-06-06","2017-06-07","2017-06-08","2017-06-09","2017-06-10","2017-06-11","2017-06-12","2017-06-13",{"$f":"NO25+1","v":"2017-06-14"},"2017-06-15","2017-06-16","2017-06-17","2017-06-18","2017-06-19","2017-06-20","2017-06-21","2017-06-22","2017-06-23","2017-06-24","2017-06-25","2017-06-26","2017-06-27","2017-06-28","2017-06-29","2017-06-30","2017-07-01","2017-07-02","2017-07-03","2017-07-04","2017-07-05","2017-07-06","2017-07-07","2017-07-08","2017-07-09","2017-07-10","2017-07-11","2017-07-12","2017-07-13","2017-07-14","2017-07-15","2017-07-16","2017-07-17","2017-07-18","2017-07-19","2017-07-20","2017-07-21","2017-07-22","2017-07-23","2017-07-24","2017-07-25","2017-07-26","2017-07-27","2017-07-28","2017-07-29","2017-07-30","2017-07-31","2017-08-01","2017-08-02","2017-08-03","2017-08-04","2017-08-05","2017-08-06","2017-08-07","2017-08-08","2017-08-09","2017-08-10","2017-08-11","2017-08-12","2017-08-13","2017-08-14","2017-08-15","2017-08-16",{"$f":"QA25+1","v":"2017-08-17"},"2017-08-18","2017-08-19","2017-08-20","2017-08-21","2017-08-22","2017-08-23","2017-08-24","2017-08-25","2017-08-26","2017-08-27","2017-08-28","2017-08-29","2017-08-30","2017-08-31","2017-09-01","2017-09-02","2017-09-03","2017-09-04","2017-09-05","2017-09-06","2017-09-07","2017-09-08","2017-09-09","2017-09-10","2017-09-11","2017-09-12","2017-09-13","2017-09-14","2017-09-15","2017-09-16","2017-09-17","2017-09-18","2017-09-19","2017-09-20","2017-09-21","2017-09-22","2017-09-23","2017-09-24","2017-09-25","2017-09-26","2017-09-27","2017-09-28","2017-09-29","2017-09-30","2017-10-01","2017-10-02","2017-10-03","2017-10-04","2017-10-05","2017-10-06","2017-10-07","2017-10-08","2017-10-09","2017-10-10","2017-10-11","2017-10-12","2017-10-13","2017-10-14","2017-10-15","2017-10-16","2017-10-17","2017-10-18","2017-10-19",{"$f":"SM25+1","v":"2017-10-20"},"2017-10-21","2017-10-22","2017-10-23","2017-10-24","2017-10-25","2017-10-26","2017-10-27","2017-10-28","2017-10-29","2017-10-30","2017-10-31","2017-11-01","2017-11-02","2017-11-03","2017-11-04","2017-11-05","2017-11-06","2017-11-07","2017-11-08","2017-11-09","2017-11-10","2017-11-11","2017-11-12","2017-11-13","2017-11-14","2017-11-15","2017-11-16","2017-11-17","2017-11-18","2017-11-19","2017-11-20","2017-11-21","2017-11-22","2017-11-23","2017-11-24","2017-11-25","2017-11-26","2017-11-27","2017-11-28","2017-11-29","2017-11-30","2017-12-01","2017-12-02","2017-12-03","2017-12-04","2017-12-05","2017-12-06","2017-12-07","2017-12-08","2017-12-09","2017-12-10","2017-12-11","2017-12-12","2017-12-13","2017-12-14","2017-12-15","2017-12-16","2017-12-17","2017-12-18","2017-12-19","2017-12-20","2017-12-21","2017-12-22",{"$f":"UY25+1","v":"2017-12-23"},"2017-12-24","2017-12-25","2017-12-26","2017-12-27","2017-12-28","2017-12-29","2017-12-30","2017-12-31","2018-01-01","2018-01-02","2018-01-03","2018-01-04","2018-01-05","2018-01-06","2018-01-07","2018-01-08","2018-01-09","2018-01-10","2018-01-11","2018-01-12","2018-01-13","2018-01-14","2018-01-15","2018-01-16","2018-01-17","2018-01-18","2018-01-19","2018-01-20","2018-01-21","2018-01-22","2018-01-23","2018-01-24","2018-01-25","2018-01-26","2018-01-27","2018-01-28","2018-01-29","2018-01-30","2018-01-31","2018-02-01","2018-02-02","2018-02-03","2018-02-04","2018-02-05","2018-02-06","2018-02-07","2018-02-08","2018-02-09","2018-02-10","2018-02-11","2018-02-12","2018-02-13","2018-02-14","2018-02-15","2018-02-16","2018-02-17","2018-02-18","2018-02-19","2018-02-20","2018-02-21","2018-02-22","2018-02-23","2018-02-24",{"$f":"XK25+1","v":"2018-02-25"},"2018-02-26","2018-02-27","2018-02-28","2018-03-01","2018-03-02","2018-03-03","2018-03-04","2018-03-05","2018-03-06","2018-03-07","2018-03-08","2018-03-09","2018-03-10","2018-03-11","2018-03-12","2018-03-13","2018-03-14","2018-03-15","2018-03-16","2018-03-17","2018-03-18","2018-03-19","2018-03-20","2018-03-21","2018-03-22","2018-03-23","2018-03-24","2018-03-25","2018-03-26","2018-03-27","2018-03-28","2018-03-29","2018-03-30","2018-03-31","2018-04-01","2018-04-02","2018-04-03","2018-04-04","2018-04-05","2018-04-06","2018-04-07","2018-04-08","2018-04-09","2018-04-10","2018-04-11","2018-04-12","2018-04-13","2018-04-14","2018-04-15","2018-04-16","2018-04-17","2018-04-18","2018-04-19","2018-04-20","2018-04-21","2018-04-22","2018-04-23","2018-04-24","2018-04-25","2018-04-26","2018-04-27","2018-04-28","2018-04-29","2018-04-30","2018-05-01","2018-05-02"]
["Dag","m","t","o","t","f","l","s","m","t","o","t","f","l","s","m","t","o","t","f","l","s","m","t","o","t","f","l","s","m","t","o","t","f","l","s","m","t","o","t","f","l","s","m","t","o","t","f","l","s","m","t","o","t","f","l","s","m","t","o","t","f","l","s","m","t","o","t","f","l","s","m","t","o","t","f","l","s","m","t","o","t","f","l","s","m","t","o","t","f","l","s","m","t","o","t","f","l","s","m","t","o","t","f","l","s","m","t","o","t","f","l","s","m","t","o","t","f","l","s","m","t","o","t","f","l","s","m","t","o","t","f","l","s","m","t","o","t","f","l","s","m","t","o","t","f","l","s","m","t","o","t","f","l","s","m","t","o","t","f","l","s","m","t","o","t","f","l","s","m","t","o","t","f","l","s","m","t","o","t","f","l","s","m","t","o","t","f","l","s","m","t","o","t","f","l","s","m","t","o","t","f","l","s","m","t","o","t","f","l","s","m","t","o","t","f","l","s","m","t","o","t","f","l","s","m","t","o","t","f","l","s","m","t","o","t","f","l","s","m","t","o","t","f","l","s","m","t","o","t","f","l","s","m","t","o","t","f","l","s","m","t","o","t","f","l","s","m","t","o","t","f","l","s","m","t","o","t","f","l","s","m","t","o","t","f","l","s","m","t","o","t","f","l","s","m","t","o","t","f","l","s","m","t","o","t","f","l","s","m","t","o","t","f","l","s","m","t","o","t","f","l","s","m","t","o","t","f","l","s","m","t","o","t","f","l","s","m","t","o","t","f","l","s","m","t","o","t","f","l","s","m","t","o","t","f","l","s","m","t","o","t","f","l","s","m","t","o","t","f","l","s","m","t","o","t","f","l","s","m","t","o","t","f","l","s","m","t","o","t","f","l","s","m","t","o","t","f","l","s","m","t","o","t","f","l","s","m","t","o","t","f","l","s","m","t","o","t","f","l","s","m","t","o","t","f","l","s","m","t","o","t","f","l","s","m","t","o","t","f","l","s","m","t","o","t","f","l","s","m","t","o","t","f","l","s","m","t","o","t","f","l","s","m","t","o","t","f","l","s","m","t","o","t","f","l","s","m","t","o","t","f","l","s","m","t","o","t","f","l","s","m","t","o","t","f","l","s","m","t","o","t","f","l","s","m","t","o","t","f","l","s","m","t","o","t","f","l","s","m","t","o","t","f","l","s","m","t","o","t","f","l","s","m","t","o","t","f","l","s","m","t","o","t","f","l","s","m","t","o","t","f","l","s","m","t","o","t","f","l","s","m","t","o","t","f","l","s","m","t","o","t","f","l","s","m","t","o","t","f","l","s","m","t","o","t","f","l","s","m","t","o","t","f","l","s","m","t","o","t","f","l","s","m","t","o","t","f","l","s","m","t","o","t","f","l","s","m","t","o","t","f","l","s","m","t","o","t","f","l","s","m","t","o","t","f","l","s","m","t","o","t","f","l","s","m","t","o","t","f","l","s","m","t","o","t","f","l","s","m","t","o","t","f","l","s","m","t","o","t","f","l","s","m","t","o","t","f","l","s","m","t","o","t","f","l","s","m","t","o","t","f","l","s","m","t","o","t","f","l","s","m"]
["Vecka",{"$f":"INT((B23-WEEKDAY(B23,2)-DATE(YEAR(B23+4-WEEKDAY(B23,2)),1,4))/7)+2","v":22},{"$f":"IF((INT((B23-WEEKDAY(B23,2)-DATE(YEAR(B23+4-WEEKDAY(B23,2)),1,4))/7)+2)=(INT((C23-WEEKDAY(C23,2)-DATE(YEAR(C23+4-WEEKDAY(C23,2)),1,4))/7)+2),\"\",(INT((C23-WEEKDAY(C23,2)-DATE(YEAR(C23+4-WEEKDAY(C23,2)),1,4))/7)+2))","v":""},{"$f":"IF((INT((C23-WEEKDAY(C23,2)-DATE(YEAR(C23+4-WEEKDAY(C23,2)),1,4))/7)+2)=(INT((D23-WEEKDAY(D23,2)-DATE(YEAR(D23+4-WEEKDAY(D23,2)),1,4))/7)+2),\"\",(INT((D23-WEEKDAY(D23,2)-DATE(YEAR(D23+4-WEEKDAY(D23,2)),1,4))/7)+2))","v":""},"","","","",23,{"$f":"IF((INT((I23-WEEKDAY(I23,2)-DATE(YEAR(I23+4-WEEKDAY(I23,2)),1,4))/7)+2)=(INT((J23-WEEKDAY(J23,2)-DATE(YEAR(J23+4-WEEKDAY(J23,2)),1,4))/7)+2),\"\",(INT((J23-WEEKDAY(J23,2)-DATE(YEAR(J23+4-WEEKDAY(J23,2)),1,4))/7)+2))","v":""},"","","","","",24,"","","","","","",25,"","","","","","",26,"","","","","","",27,"","","","","","",28,"","","","","","",29,"","","","","","",30,"",{"$f":"IF((INT((BG23-WEEKDAY(BG23,2)-DATE(YEAR(BG23+4-WEEKDAY(BG23,2)),1,4))/7)+2)=(INT((BH23-WEEKDAY(BH23,2)-DATE(YEAR(BH23+4-WEEKDAY(BH23,2)),1,4))/7)+2),\"\",(INT((BH23-WEEKDAY(BH23,2)-DATE(YEAR(BH23+4-WEEKDAY(BH23,2)),1,4))/7)+2))","v":""},"","","","",31,"","","","","","",32,"","","","","","",33,"","","","","","",34,"","","","","","",35,"","","","","","",36,"","","","","","",37,"","","","","","",38,"","","","","","",39,"","",{"$f":"IF((INT((DS23-WEEKDAY(DS23,2)-DATE(YEAR(DS23+4-WEEKDAY(DS23,2)),1,4))/7)+2)=(INT((DT23-WEEKDAY(DT23,2)-DATE(YEAR(DT23+4-WEEKDAY(DT23,2)),1,4))/7)+2),\"\",(INT((DT23-WEEKDAY(DT23,2)-DATE(YEAR(DT23+4-WEEKDAY(DT23,2)),1,4))/7)+2))","v":""},"","","",40,"","","","","","",41,"","","","","","",42,"","","","","","",43,"","","","","","",44,"","","","","","",45,"","","","","","",46,"","","","","","",47,"","","","","","",48,"","","",{"$f":"IF((INT((GE23-WEEKDAY(GE23,2)-DATE(YEAR(GE23+4-WEEKDAY(GE23,2)),1,4))/7)+2)=(INT((GF23-WEEKDAY(GF23,2)-DATE(YEAR(GF23+4-WEEKDAY(GF23,2)),1,4))/7)+2),\"\",(INT((GF23-WEEKDAY(GF23,2)-DATE(YEAR(GF23+4-WEEKDAY(GF23,2)),1,4))/7)+2))","v":""},"","",49,"","","","","","",50,"","","","","","",51,"","","","","","",52,"","","","","","",1,"","","","","","",2,"","","","","","",3,"","","","","","",4,"","","","","","",5,"","","","",{"$f":"IF((INT((IQ23-WEEKDAY(IQ23,2)-DATE(YEAR(IQ23+4-WEEKDAY(IQ23,2)),1,4))/7)+2)=(INT((IR23-WEEKDAY(IR23,2)-DATE(YEAR(IR23+4-WEEKDAY(IR23,2)),1,4))/7)+2),\"\",(INT((IR23-WEEKDAY(IR23,2)-DATE(YEAR(IR23+4-WEEKDAY(IR23,2)),1,4))/7)+2))","v":""},"",6,"","","","","","",7,"","","","","","",8,"","","","","","",9,"","","","","","",10,"","","","","","",11,"","","","","","",12,"","","","","","",13,"","","","","","",14,"","","","","",{"$f":"IF((INT((LC23-WEEKDAY(LC23,2)-DATE(YEAR(LC23+4-WEEKDAY(LC23,2)),1,4))/7)+2)=(INT((LD23-WEEKDAY(LD23,2)-DATE(YEAR(LD23+4-WEEKDAY(LD23,2)),1,4))/7)+2),\"\",(INT((LD23-WEEKDAY(LD23,2)-DATE(YEAR(LD23+4-WEEKDAY(LD23,2)),1,4))/7)+2))","v":""},15,"","","","","","",16,"","","","","","",17,"","","","","","",18,"","","","","","",19,"","","","","","",20,"","","","","","",21,"","","","","","",22,"","","","","","",23,"","","","","","",{"$f":"IF((INT((NO23-WEEKDAY(NO23,2)-DATE(YEAR(NO23+4-WEEKDAY(NO23,2)),1,4))/7)+2)=(INT((NP23-WEEKDAY(NP23,2)-DATE(YEAR(NP23+4-WEEKDAY(NP23,2)),1,4))/7)+2),\"\",(INT((NP23-WEEKDAY(NP23,2)-DATE(YEAR(NP23+4-WEEKDAY(NP23,2)),1,4))/7)+2))","v":24},"","","","","","",25,"","","","","","",26,"","","","","","",27,"","","","","","",28,"","","","","","",29,"","","","","","",30,"","","","","","",31,"","","","","","",32,"","","","","","",33,{"$f":"IF((INT((QA23-WEEKDAY(QA23,2)-DATE(YEAR(QA23+4-WEEKDAY(QA23,2)),1,4))/7)+2)=(INT((QB23-WEEKDAY(QB23,2)-DATE(YEAR(QB23+4-WEEKDAY(QB23,2)),1,4))/7)+2),\"\",(INT((QB23-WEEKDAY(QB23,2)-DATE(YEAR(QB23+4-WEEKDAY(QB23,2)),1,4))/7)+2))","v":""},"","","","","",34,"","","","","","",35,"","","","","","",36,"","","","","","",37,"","","","","","",38,"","","","","","",39,"","","","","","",40,"","","","","","",41,"","","","","","",42,"",{"$f":"IF((INT((SM23-WEEKDAY(SM23,2)-DATE(YEAR(SM23+4-WEEKDAY(SM23,2)),1,4))/7)+2)=(INT((SN23-WEEKDAY(SN23,2)-DATE(YEAR(SN23+4-WEEKDAY(SN23,2)),1,4))/7)+2),\"\",(INT((SN23-WEEKDAY(SN23,2)-DATE(YEAR(SN23+4-WEEKDAY(SN23,2)),1,4))/7)+2))","v":""},"","","","",43,"","","","","","",44,"","","","","","",45,"","","","","","",46,"","","","","","",47,"","","","","","",48,"","","","","","",49,"","","","","","",50,"","","","","","",51,"","",{"$f":"IF((INT((UY23-WEEKDAY(UY23,2)-DATE(YEAR(UY23+4-WEEKDAY(UY23,2)),1,4))/7)+2)=(INT((UZ23-WEEKDAY(UZ23,2)-DATE(YEAR(UZ23+4-WEEKDAY(UZ23,2)),1,4))/7)+2),\"\",(INT((UZ23-WEEKDAY(UZ23,2)-DATE(YEAR(UZ23+4-WEEKDAY(UZ23,2)),1,4))/7)+2))","v":""},"","","",52,"","","","","","",1,"","","","","","",2,"","","","","","",3,"","","","","","",4,"","","","","","",5,"","","","","","",6,"","","","","","",7,"","","","","","",8,"","","",{"$f":"IF((INT((XK23-WEEKDAY(XK23,2)-DATE(YEAR(XK23+4-WEEKDAY(XK23,2)),1,4))/7)+2)=(INT((XL23-WEEKDAY(XL23,2)-DATE(YEAR(XL23+4-WEEKDAY(XL23,2)),1,4))/7)+2),\"\",(INT((XL23-WEEKDAY(XL23,2)-DATE(YEAR(XL23+4-WEEKDAY(XL23,2)),1,4))/7)+2))","v":""},"","",9,"","","","","","",10,"","","","","","",11,"","","","","","",12,"","","","","","",13,"","","","","","",14,"","","","","","",15,"","","","","","",16,"","","","","","",17,"","","","",{"$f":"IF((INT((ZW23-WEEKDAY(ZW23,2)-DATE(YEAR(ZW23+4-WEEKDAY(ZW23,2)),1,4))/7)+2)=(INT((ZX23-WEEKDAY(ZX23,2)-DATE(YEAR(ZX23+4-WEEKDAY(ZX23,2)),1,4))/7)+2),\"\",(INT((ZX23-WEEKDAY(ZX23,2)-DATE(YEAR(ZX23+4-WEEKDAY(ZX23,2)),1,4))/7)+2))","v":""},{"$f":"IF((INT((ZX23-WEEKDAY(ZX23,2)-DATE(YEAR(ZX23+4-WEEKDAY(ZX23,2)),1,4))/7)+2)=(INT((ZY23-WEEKDAY(ZY23,2)-DATE(YEAR(ZY23+4-WEEKDAY(ZY23,2)),1,4))/7)+2),\"\",(INT((ZY23-WEEKDAY(ZY23,2)-DATE(YEAR(ZY23+4-WEEKDAY(ZY23,2)),1,4))/7)+2))","v":""},{"$f":"IF((INT((ZY23-WEEKDAY(ZY23,2)-DATE(YEAR(ZY23+4-WEEKDAY(ZY23,2)),1,4))/7)+2)=(INT((ZZ23-WEEKDAY(ZZ23,2)-DATE(YEAR(ZZ23+4-WEEKDAY(ZZ23,2)),1,4))/7)+2),\"\",(INT((ZZ23-WEEKDAY(ZZ23,2)-DATE(YEAR(ZZ23+4-WEEKDAY(ZZ23,2)),1,4))/7)+2))","v":18}]
["Månad",{"$f":"B25","v":"2016-06-01"},{"$f":"C25","v":"2016-06-02"},{"$f":"D25","v":"2016-06-03"},"2016-06-04","2016-06-05","2016-06-06","2016-06-07","2016-06-08","2016-06-09","2016-06-10","2016-06-11","2016-06-12","2016-06-13","2016-06-14","2016-06-15","2016-06-16","2016-06-17","2016-06-18","2016-06-19","2016-06-20","2016-06-21","2016-06-22","2016-06-23","2016-06-24","2016-06-25","2016-06-26","2016-06-27","2016-06-28","2016-06-29","2016-06-30","2016-07-01","2016-07-02","2016-07-03","2016-07-04","2016-07-05","2016-07-06","2016-07-07","2016-07-08","2016-07-09","2016-07-10","2016-07-11","2016-07-12","2016-07-13","2016-07-14","2016-07-15","2016-07-16","2016-07-17","2016-07-18","2016-07-19","2016-07-20","2016-07-21","2016-07-22","2016-07-23","2016-07-24","2016-07-25","2016-07-26","2016-07-27","2016-07-28",{"$f":"BH25","v":"2016-07-29"},"2016-07-30","2016-07-31","2016-08-01","2016-08-02","2016-08-03","2016-08-04","2016-08-05","2016-08-06","2016-08-07","2016-08-08","2016-08-09","2016-08-10","2016-08-11","2016-08-12","2016-08-13","2016-08-14","2016-08-15","2016-08-16","2016-08-17","2016-08-18","2016-08-19","2016-08-20","2016-08-21","2016-08-22","2016-08-23","2016-08-24","2016-08-25","2016-08-26","2016-08-27","2016-08-28","2016-08-29","2016-08-30","2016-08-31","2016-09-01","2016-09-02","2016-09-03","2016-09-04","2016-09-05","2016-09-06","2016-09-07","2016-09-08","2016-09-09","2016-09-10","2016-09-11","2016-09-12","2016-09-13","2016-09-14","2016-09-15","2016-09-16","2016-09-17","2016-09-18","2016-09-19","2016-09-20","2016-09-21","2016-09-22","2016-09-23","2016-09-24","2016-09-25","2016-09-26","2016-09-27","2016-09-28","2016-09-29","2016-09-30",{"$f":"DT25","v":"2016-10-01"},"2016-10-02","2016-10-03","2016-10-04","2016-10-05","2016-10-06","2016-10-07","2016-10-08","2016-10-09","2016-10-10","2016-10-11","2016-10-12","2016-10-13","2016-10-14","2016-10-15","2016-10-16","2016-10-17","2016-10-18","2016-10-19","2016-10-20","2016-10-21","2016-10-22","2016-10-23","2016-10-24","2016-10-25","2016-10-26","2016-10-27","2016-10-28","2016-10-29","2016-10-30","2016-10-31","2016-11-01","2016-11-02","2016-11-03","2016-11-04","2016-11-05","2016-11-06","2016-11-07","2016-11-08","2016-11-09","2016-11-10","2016-11-11","2016-11-12","2016-11-13","2016-11-14","2016-11-15","2016-11-16","2016-11-17","2016-11-18","2016-11-19","2016-11-20","2016-11-21","2016-11-22","2016-11-23","2016-11-24","2016-11-25","2016-11-26","2016-11-27","2016-11-28","2016-11-29","2016-11-30","2016-12-01","2016-12-02","2016-12-03",{"$f":"GF25","v":"2016-12-04"},"2016-12-05","2016-12-06","2016-12-07","2016-12-08","2016-12-09","2016-12-10","2016-12-11","2016-12-12","2016-12-13","2016-12-14","2016-12-15","2016-12-16","2016-12-17","2016-12-18","2016-12-19","2016-12-20","2016-12-21","2016-12-22","2016-12-23","2016-12-24","2016-12-25","2016-12-26","2016-12-27","2016-12-28","2016-12-29","2016-12-30","2016-12-31","2017-01-01","2017-01-02","2017-01-03","2017-01-04","2017-01-05","2017-01-06","2017-01-07","2017-01-08","2017-01-09","2017-01-10","2017-01-11","2017-01-12","2017-01-13","2017-01-14","2017-01-15","2017-01-16","2017-01-17","2017-01-18","2017-01-19","2017-01-20","2017-01-21","2017-01-22","2017-01-23","2017-01-24","2017-01-25","2017-01-26","2017-01-27","2017-01-28","2017-01-29","2017-01-30","2017-01-31","2017-02-01","2017-02-02","2017-02-03","2017-02-04","2017-02-05",{"$f":"IR25","v":"2017-02-06"},"2017-02-07","2017-02-08","2017-02-09","2017-02-10","2017-02-11","2017-02-12","2017-02-13","2017-02-14","2017-02-15","2017-02-16","2017-02-17","2017-02-18","2017-02-19","2017-02-20","2017-02-21","2017-02-22","2017-02-23","2017-02-24","2017-02-25","2017-02-26","2017-02-27","2017-02-28","2017-03-01","2017-03-02","2017-03-03","2017-03-04","2017-03-05","2017-03-06","2017-03-07","2017-03-08","2017-03-09","2017-03-10","2017-03-11","2017-03-12","2017-03-13","2017-03-14","2017-03-15","2017-03-16","2017-03-17","2017-03-18","2017-03-19","2017-03-20","2017-03-21","2017-03-22","2017-03-23","2017-03-24","2017-03-25","2017-03-26","2017-03-27","2017-03-28","2017-03-29","2017-03-30","2017-03-31","2017-04-01","2017-04-02","2017-04-03","2017-04-04","2017-04-05","2017-04-06","2017-04-07","2017-04-08","2017-04-09","2017-04-10",{"$f":"LD25","v":"2017-04-11"},"2017-04-12","2017-04-13","2017-04-14","2017-04-15","2017-04-16","2017-04-17","2017-04-18","2017-04-19","2017-04-20","2017-04-21","2017-04-22","2017-04-23","2017-04-24","2017-04-25","2017-04-26","2017-04-27","2017-04-28","2017-04-29","2017-04-30","2017-05-01","2017-05-02","2017-05-03","2017-05-04","2017-05-05","2017-05-06","2017-05-07","2017-05-08","2017-05-09","2017-05-10","2017-05-11","2017-05-12","2017-05-13","2017-05-14","2017-05-15","2017-05-16","2017-05-17","2017-05-18","2017-05-19","2017-05-20","2017-05-21","2017-05-22","2017-05-23","2017-05-24","2017-05-25","2017-05-26","2017-05-27","2017-05-28","2017-05-29","2017-05-30","2017-05-31","2017-06-01","2017-06-02","2017-06-03","2017-06-04","2017-06-05","2017-06-06","2017-06-07","2017-06-08","2017-06-09","2017-06-10","2017-06-11","2017-06-12","2017-06-13",{"$f":"NP25","v":"2017-06-14"},"2017-06-15","2017-06-16","2017-06-17","2017-06-18","2017-06-19","2017-06-20","2017-06-21","2017-06-22","2017-06-23","2017-06-24","2017-06-25","2017-06-26","2017-06-27","2017-06-28","2017-06-29","2017-06-30","2017-07-01","2017-07-02","2017-07-03","2017-07-04","2017-07-05","2017-07-06","2017-07-07","2017-07-08","2017-07-09","2017-07-10","2017-07-11","2017-07-12","2017-07-13","2017-07-14","2017-07-15","2017-07-16","2017-07-17","2017-07-18","2017-07-19","2017-07-20","2017-07-21","2017-07-22","2017-07-23","2017-07-24","2017-07-25","2017-07-26","2017-07-27","2017-07-28","2017-07-29","2017-07-30","2017-07-31","2017-08-01","2017-08-02","2017-08-03","2017-08-04","2017-08-05","2017-08-06","2017-08-07","2017-08-08","2017-08-09","2017-08-10","2017-08-11","2017-08-12","2017-08-13","2017-08-14","2017-08-15","2017-08-16",{"$f":"QB25","v":"2017-08-17"},"2017-08-18","2017-08-19","2017-08-20","2017-08-21","2017-08-22","2017-08-23","2017-08-24","2017-08-25","2017-08-26","2017-08-27","2017-08-28","2017-08-29","2017-08-30","2017-08-31","2017-09-01","2017-09-02","2017-09-03","2017-09-04","2017-09-05","2017-09-06","2017-09-07","2017-09-08","2017-09-09","2017-09-10","2017-09-11","2017-09-12","2017-09-13","2017-09-14","2017-09-15","2017-09-16","2017-09-17","2017-09-18","2017-09-19","2017-09-20","2017-09-21","2017-09-22","2017-09-23","2017-09-24","2017-09-25","2017-09-26","2017-09-27","2017-09-28","2017-09-29","2017-09-30","2017-10-01","2017-10-02","2017-10-03","2017-10-04","2017-10-05","2017-10-06","2017-10-07","2017-10-08","2017-10-09","2017-10-10","2017-10-11","2017-10-12","2017-10-13","2017-10-14","2017-10-15","2017-10-16","2017-10-17","2017-10-18","2017-10-19",{"$f":"SN25","v":"2017-10-20"},"2017-10-21","2017-10-22","2017-10-23","2017-10-24","2017-10-25","2017-10-26","2017-10-27","2017-10-28","2017-10-29","2017-10-30","2017-10-31","2017-11-01","2017-11-02","2017-11-03","2017-11-04","2017-11-05","2017-11-06","2017-11-07","2017-11-08","2017-11-09","2017-11-10","2017-11-11","2017-11-12","2017-11-13","2017-11-14","2017-11-15","2017-11-16","2017-11-17","2017-11-18","2017-11-19","2017-11-20","2017-11-21","2017-11-22","2017-11-23","2017-11-24","2017-11-25","2017-11-26","2017-11-27","2017-11-28","2017-11-29","2017-11-30","2017-12-01","2017-12-02","2017-12-03","2017-12-04","2017-12-05","2017-12-06","2017-12-07","2017-12-08","2017-12-09","2017-12-10","2017-12-11","2017-12-12","2017-12-13","2017-12-14","2017-12-15","2017-12-16","2017-12-17","2017-12-18","2017-12-19","2017-12-20","2017-12-21","2017-12-22",{"$f":"UZ25","v":"2017-12-23"},"2017-12-24","2017-12-25","2017-12-26","2017-12-27","2017-12-28","2017-12-29","2017-12-30","2017-12-31","2018-01-01","2018-01-02","2018-01-03","2018-01-04","2018-01-05","2018-01-06","2018-01-07","2018-01-08","2018-01-09","2018-01-10","2018-01-11","2018-01-12","2018-01-13","2018-01-14","2018-01-15","2018-01-16","2018-01-17","2018-01-18","2018-01-19","2018-01-20","2018-01-21","2018-01-22","2018-01-23","2018-01-24","2018-01-25","2018-01-26","2018-01-27","2018-01-28","2018-01-29","2018-01-30","2018-01-31","2018-02-01","2018-02-02","2018-02-03","2018-02-04","2018-02-05","2018-02-06","2018-02-07","2018-02-08","2018-02-09","2018-02-10","2018-02-11","2018-02-12","2018-02-13","2018-02-14","2018-02-15","2018-02-16","2018-02-17","2018-02-18","2018-02-19","2018-02-20","2018-02-21","2018-02-22","2018-02-23","2018-02-24",{"$f":"XL25","v":"2018-02-25"},"2018-02-26","2018-02-27","2018-02-28","2018-03-01","2018-03-02","2018-03-03","2018-03-04","2018-03-05","2018-03-06","2018-03-07","2018-03-08","2018-03-09","2018-03-10","2018-03-11","2018-03-12","2018-03-13","2018-03-14","2018-03-15","2018-03-16","2018-03-17","2018-03-18","2018-03-19","2018-03-20","2018-03-21","2018-03-22","2018-03-23","2018-03-24","2018-03-25","2018-03-26","2018-03-27","2018-03-28","2018-03-29","2018-03-30","2018-03-31","2018-04-01","2018-04-02","2018-04-03","2018-04-04","2018-04-05","2018-04-06","2018-04-07","2018-04-08","2018-04-09","2018-04-10","2018-04-11","2018-04-12","2018-04-13","2018-04-14","2018-04-15","2018-04-16","2018-04-17","2018-04-18","2018-04-19","2018-04-20","2018-04-21","2018-04-22","2018-04-23","2018-04-24","2018-04-25","2018-04-26","2018-04-27","2018-04-28","2018-04-29",{"$f":"ZX25","v":"2018-04-30"},{"$f":"ZY25","v":"2018-05-01"},{"$f":"ZZ25","v":"2018-05-02"}]
["månadsnummer",{"$f":"MONTH(B25)","v":6},{"$f":"MONTH(C25)","v":6},{"$f":"MONTH(D25)","v":6},6,6,6,6,6,6,6,6,6,6,6,6,6,6,6,6,6,6,6,6,6,6,6,6,6,6,6,7,7,7,7,7,7,7,7,7,7,7,7,7,7,7,7,7,7,7,7,7,7,7,7,7,7,7,7,{"$f":"MONTH(BH25)","v":7},7,7,8,8,8,8,8,8,8,8,8,8,8,8,8,8,8,8,8,8,8,8,8,8,8,8,8,8,8,8,8,8,8,9,9,9,9,9,9,9,9,9,9,9,9,9,9,9,9,9,9,9,9,9,9,9,9,9,9,9,9,9,9,{"$f":"MONTH(DT25)","v":10},10,10,10,10,10,10,10,10,10,10,10,10,10,10,10,10,10,10,10,10,10,10,10,10,10,10,10,10,10,10,11,11,11,11,11,11,11,11,11,11,11,11,11,11,11,11,11,11,11,11,11,11,11,11,11,11,11,11,11,11,12,12,12,{"$f":"MONTH(GF25)","v":12},12,12,12,12,12,12,12,12,12,12,12,12,12,12,12,12,12,12,12,12,12,12,12,12,12,12,12,1,1,1,1,1,1,1,1,1,1,1,1,1,1,1,1,1,1,1,1,1,1,1,1,1,1,1,1,1,1,1,2,2,2,2,2,{"$f":"MONTH(IR25)","v":2},2,2,2,2,2,2,2,2,2,2,2,2,2,2,2,2,2,2,2,2,2,2,3,3,3,3,3,3,3,3,3,3,3,3,3,3,3,3,3,3,3,3,3,3,3,3,3,3,3,3,3,3,3,4,4,4,4,4,4,4,4,4,4,{"$f":"MONTH(LD25)","v":4},4,4,4,4,4,4,4,4,4,4,4,4,4,4,4,4,4,4,4,5,5,5,5,5,5,5,5,5,5,5,5,5,5,5,5,5,5,5,5,5,5,5,5,5,5,5,5,5,5,5,6,6,6,6,6,6,6,6,6,6,6,6,6,{"$f":"MONTH(NP25)","v":6},6,6,6,6,6,6,6,6,6,6,6,6,6,6,6,6,7,7,7,7,7,7,7,7,7,7,7,7,7,7,7,7,7,7,7,7,7,7,7,7,7,7,7,7,7,7,7,8,8,8,8,8,8,8,8,8,8,8,8,8,8,8,8,{"$f":"MONTH(QB25)","v":8},8,8,8,8,8,8,8,8,8,8,8,8,8,8,9,9,9,9,9,9,9,9,9,9,9,9,9,9,9,9,9,9,9,9,9,9,9,9,9,9,9,9,9,9,10,10,10,10,10,10,10,10,10,10,10,10,10,10,10,10,10,10,10,{"$f":"MONTH(SN25)","v":10},10,10,10,10,10,10,10,10,10,10,10,11,11,11,11,11,11,11,11,11,11,11,11,11,11,11,11,11,11,11,11,11,11,11,11,11,11,11,11,11,11,12,12,12,12,12,12,12,12,12,12,12,12,12,12,12,12,12,12,12,12,12,12,{"$f":"MONTH(UZ25)","v":12},12,12,12,12,12,12,12,12,1,1,1,1,1,1,1,1,1,1,1,1,1,1,1,1,1,1,1,1,1,1,1,1,1,1,1,1,1,1,1,2,2,2,2,2,2,2,2,2,2,2,2,2,2,2,2,2,2,2,2,2,2,2,2,{"$f":"MONTH(XL25)","v":2},2,2,2,3,3,3,3,3,3,3,3,3,3,3,3,3,3,3,3,3,3,3,3,3,3,3,3,3,3,3,3,3,3,3,4,4,4,4,4,4,4,4,4,4,4,4,4,4,4,4,4,4,4,4,4,4,4,4,4,4,4,4,4,{"$f":"MONTH(ZX25)","v":4},{"$f":"MONTH(ZY25)","v":5},{"$f":"MONTH(ZZ25)","v":5}]
["Kvartal",{"$f":"CONCATENATE(IF(B29=1,\"Q1\",IF(B29=2,\"Q1\",IF(B29=3,\"Q1\",IF(B29=4,\"Q2\",IF(B29=5,\"Q2\",IF(B29=6,\"Q2\",IF(B29=7,\"Q3\",IF(B29=6,\"Q2\",IF(B29=5,\"Q2\",IF(B29=6,\"Q2\",IF(B29=5,\"Q2\",IF(B29=6,\"Q2\",IF(B29=5,\"Q2\",IF(B29=6,\"Q2\",IF(B29=7,\"Q3\",IF(B29=8,\"Q3\",IF(B29=9,\"Q3\",IF(B29=10,\"Q4\",IF(B29=8,\"Q3\",IF(B29=9,\"Q3\",IF(B29=10,\"Q4\",IF(B29=11,\"Q4\",IF(B29=12,\"Q4\"))))))))))))))))))))))),\"-\",B31)","v":"Q2-2016"},"Q2-2016","Q2-2016","Q2-2016","Q2-2016","Q2-2016","Q2-2016","Q2-2016","Q2-2016","Q2-2016","Q2-2016","Q2-2016","Q2-2016","Q2-2016","Q2-2016","Q2-2016","Q2-2016","Q2-2016","Q2-2016","Q2-2016","Q2-2016","Q2-2016","Q2-2016","Q2-2016","Q2-2016","Q2-2016","Q2-2016","Q2-2016","Q2-2016","Q2-2016","Q3-2016","Q3-2016",{"$f":"CONCATENATE(IF(AH29=1,\"Q1\",IF(AH29=2,\"Q1\",IF(AH29=3,\"Q1\",IF(AH29=4,\"Q2\",IF(AH29=5,\"Q2\",IF(AH29=6,\"Q2\",IF(AH29=7,\"Q3\",IF(AH29=6,\"Q2\",IF(AH29=5,\"Q2\",IF(AH29=6,\"Q2\",IF(AH29=5,\"Q2\",IF(AH29=6,\"Q2\",IF(AH29=5,\"Q2\",IF(AH29=6,\"Q2\",IF(AH29=7,\"Q3\",IF(AH29=8,\"Q3\",IF(AH29=9,\"Q3\",IF(AH29=10,\"Q4\",IF(AH29=8,\"Q3\",IF(AH29=9,\"Q3\",IF(AH29=10,\"Q4\",IF(AH29=11,\"Q4\",IF(AH29=12,\"Q4\"))))))))))))))))))))))),\"-\",AH31)","v":"Q3-2016"},"Q3-2016","Q3-2016","Q3-2016","Q3-2016","Q3-2016","Q3-2016","Q3-2016","Q3-2016","Q3-2016","Q3-2016","Q3-2016","Q3-2016","Q3-2016","Q3-2016","Q3-2016","Q3-2016","Q3-2016","Q3-2016","Q3-2016","Q3-2016","Q3-2016","Q3-2016","Q3-2016","Q3-2016",{"$f":"CONCATENATE(IF(BG29=1,\"Q1\",IF(BG29=2,\"Q1\",IF(BG29=3,\"Q1\",IF(BG29=4,\"Q2\",IF(BG29=5,\"Q2\",IF(BG29=6,\"Q2\",IF(BG29=7,\"Q3\",IF(BG29=6,\"Q2\",IF(BG29=5,\"Q2\",IF(BG29=6,\"Q2\",IF(BG29=5,\"Q2\",IF(BG29=6,\"Q2\",IF(BG29=5,\"Q2\",IF(BG29=6,\"Q2\",IF(BG29=7,\"Q3\",IF(BG29=8,\"Q3\",IF(BG29=9,\"Q3\",IF(BG29=10,\"Q4\",IF(BG29=8,\"Q3\",IF(BG29=9,\"Q3\",IF(BG29=10,\"Q4\",IF(BG29=11,\"Q4\",IF(BG29=12,\"Q4\"))))))))))))))))))))))),\"-\",BG31)","v":"Q3-2016"},"Q3-2016","Q3-2016","Q3-2016","Q3-2016","Q3-2016","Q3-2016","Q3-2016","Q3-2016","Q3-2016","Q3-2016","Q3-2016","Q3-2016","Q3-2016","Q3-2016","Q3-2016","Q3-2016","Q3-2016","Q3-2016","Q3-2016","Q3-2016","Q3-2016","Q3-2016","Q3-2016","Q3-2016","Q3-2016","Q3-2016","Q3-2016","Q3-2016","Q3-2016","Q3-2016","Q3-2016","Q3-2016","Q3-2016","Q3-2016","Q3-2016","Q3-2016","Q3-2016","Q3-2016","Q3-2016","Q3-2016","Q3-2016","Q3-2016","Q3-2016","Q3-2016","Q3-2016","Q3-2016","Q3-2016","Q3-2016","Q3-2016","Q3-2016","Q3-2016","Q3-2016","Q3-2016","Q3-2016","Q3-2016","Q3-2016","Q3-2016","Q3-2016","Q3-2016","Q3-2016","Q3-2016","Q3-2016","Q3-2016",{"$f":"CONCATENATE(IF(DS29=1,\"Q1\",IF(DS29=2,\"Q1\",IF(DS29=3,\"Q1\",IF(DS29=4,\"Q2\",IF(DS29=5,\"Q2\",IF(DS29=6,\"Q2\",IF(DS29=7,\"Q3\",IF(DS29=6,\"Q2\",IF(DS29=5,\"Q2\",IF(DS29=6,\"Q2\",IF(DS29=5,\"Q2\",IF(DS29=6,\"Q2\",IF(DS29=5,\"Q2\",IF(DS29=6,\"Q2\",IF(DS29=7,\"Q3\",IF(DS29=8,\"Q3\",IF(DS29=9,\"Q3\",IF(DS29=10,\"Q4\",IF(DS29=8,\"Q3\",IF(DS29=9,\"Q3\",IF(DS29=10,\"Q4\",IF(DS29=11,\"Q4\",IF(DS29=12,\"Q4\"))))))))))))))))))))))),\"-\",DS31)","v":"Q3-2016"},"Q4-2016","Q4-2016","Q4-2016","Q4-2016","Q4-2016","Q4-2016","Q4-2016","Q4-2016","Q4-2016","Q4-2016","Q4-2016","Q4-2016","Q4-2016","Q4-2016","Q4-2016","Q4-2016","Q4-2016","Q4-2016","Q4-2016","Q4-2016","Q4-2016","Q4-2016","Q4-2016","Q4-2016","Q4-2016","Q4-2016","Q4-2016","Q4-2016","Q4-2016","Q4-2016","Q4-2016","Q4-2016","Q4-2016","Q4-2016","Q4-2016","Q4-2016","Q4-2016","Q4-2016","Q4-2016","Q4-2016","Q4-2016","Q4-2016","Q4-2016","Q4-2016","Q4-2016","Q4-2016","Q4-2016","Q4-2016","Q4-2016","Q4-2016","Q4-2016","Q4-2016","Q4-2016","Q4-2016","Q4-2016","Q4-2016","Q4-2016","Q4-2016","Q4-2016","Q4-2016","Q4-2016","Q4-2016","Q4-2016",{"$f":"CONCATENATE(IF(GE29=1,\"Q1\",IF(GE29=2,\"Q1\",IF(GE29=3,\"Q1\",IF(GE29=4,\"Q2\",IF(GE29=5,\"Q2\",IF(GE29=6,\"Q2\",IF(GE29=7,\"Q3\",IF(GE29=6,\"Q2\",IF(GE29=5,\"Q2\",IF(GE29=6,\"Q2\",IF(GE29=5,\"Q2\",IF(GE29=6,\"Q2\",IF(GE29=5,\"Q2\",IF(GE29=6,\"Q2\",IF(GE29=7,\"Q3\",IF(GE29=8,\"Q3\",IF(GE29=9,\"Q3\",IF(GE29=10,\"Q4\",IF(GE29=8,\"Q3\",IF(GE29=9,\"Q3\",IF(GE29=10,\"Q4\",IF(GE29=11,\"Q4\",IF(GE29=12,\"Q4\"))))))))))))))))))))))),\"-\",GE31)","v":"Q4-2016"},"Q4-2016","Q4-2016","Q4-2016","Q4-2016","Q4-2016","Q4-2016","Q4-2016","Q4-2016","Q4-2016","Q4-2016","Q4-2016","Q4-2016","Q4-2016","Q4-2016","Q4-2016","Q4-2016","Q4-2016","Q4-2016","Q4-2016","Q4-2016","Q4-2016","Q4-2016","Q4-2016","Q4-2016","Q4-2016","Q4-2016","Q4-2016","Q4-2016","Q1-2017","Q1-2017","Q1-2017","Q1-2017","Q1-2017","Q1-2017","Q1-2017","Q1-2017","Q1-2017","Q1-2017","Q1-2017","Q1-2017","Q1-2017","Q1-2017","Q1-2017","Q1-2017","Q1-2017","Q1-2017","Q1-2017","Q1-2017","Q1-2017","Q1-2017","Q1-2017","Q1-2017","Q1-2017","Q1-2017","Q1-2017","Q1-2017","Q1-2017","Q1-2017","Q1-2017","Q1-2017","Q1-2017","Q1-2017","Q1-2017",{"$f":"CONCATENATE(IF(IQ29=1,\"Q1\",IF(IQ29=2,\"Q1\",IF(IQ29=3,\"Q1\",IF(IQ29=4,\"Q2\",IF(IQ29=5,\"Q2\",IF(IQ29=6,\"Q2\",IF(IQ29=7,\"Q3\",IF(IQ29=6,\"Q2\",IF(IQ29=5,\"Q2\",IF(IQ29=6,\"Q2\",IF(IQ29=5,\"Q2\",IF(IQ29=6,\"Q2\",IF(IQ29=5,\"Q2\",IF(IQ29=6,\"Q2\",IF(IQ29=7,\"Q3\",IF(IQ29=8,\"Q3\",IF(IQ29=9,\"Q3\",IF(IQ29=10,\"Q4\",IF(IQ29=8,\"Q3\",IF(IQ29=9,\"Q3\",IF(IQ29=10,\"Q4\",IF(IQ29=11,\"Q4\",IF(IQ29=12,\"Q4\"))))))))))))))))))))))),\"-\",IQ31)","v":"Q1-2017"},"Q1-2017","Q1-2017","Q1-2017","Q1-2017","Q1-2017","Q1-2017","Q1-2017","Q1-2017","Q1-2017","Q1-2017","Q1-2017","Q1-2017","Q1-2017","Q1-2017","Q1-2017","Q1-2017","Q1-2017","Q1-2017","Q1-2017","Q1-2017","Q1-2017","Q1-2017","Q1-2017","Q1-2017","Q1-2017","Q1-2017","Q1-2017","Q1-2017","Q1-2017","Q1-2017","Q1-2017","Q1-2017","Q1-2017","Q1-2017","Q1-2017","Q1-2017","Q1-2017","Q1-2017","Q1-2017","Q1-2017","Q1-2017","Q1-2017","Q1-2017","Q1-2017","Q1-2017","Q1-2017","Q1-2017","Q1-2017","Q1-2017","Q1-2017","Q1-2017","Q1-2017","Q1-2017","Q1-2017","Q2-2017","Q2-2017","Q2-2017","Q2-2017","Q2-2017","Q2-2017","Q2-2017","Q2-2017","Q2-2017",{"$f":"CONCATENATE(IF(LC29=1,\"Q1\",IF(LC29=2,\"Q1\",IF(LC29=3,\"Q1\",IF(LC29=4,\"Q2\",IF(LC29=5,\"Q2\",IF(LC29=6,\"Q2\",IF(LC29=7,\"Q3\",IF(LC29=6,\"Q2\",IF(LC29=5,\"Q2\",IF(LC29=6,\"Q2\",IF(LC29=5,\"Q2\",IF(LC29=6,\"Q2\",IF(LC29=5,\"Q2\",IF(LC29=6,\"Q2\",IF(LC29=7,\"Q3\",IF(LC29=8,\"Q3\",IF(LC29=9,\"Q3\",IF(LC29=10,\"Q4\",IF(LC29=8,\"Q3\",IF(LC29=9,\"Q3\",IF(LC29=10,\"Q4\",IF(LC29=11,\"Q4\",IF(LC29=12,\"Q4\"))))))))))))))))))))))),\"-\",LC31)","v":"Q2-2017"},"Q2-2017","Q2-2017","Q2-2017","Q2-2017","Q2-2017","Q2-2017","Q2-2017","Q2-2017","Q2-2017","Q2-2017","Q2-2017","Q2-2017","Q2-2017","Q2-2017","Q2-2017","Q2-2017","Q2-2017","Q2-2017","Q2-2017","Q2-2017","Q2-2017","Q2-2017","Q2-2017","Q2-2017","Q2-2017","Q2-2017","Q2-2017","Q2-2017","Q2-2017","Q2-2017","Q2-2017","Q2-2017","Q2-2017","Q2-2017","Q2-2017","Q2-2017","Q2-2017","Q2-2017","Q2-2017","Q2-2017","Q2-2017","Q2-2017","Q2-2017","Q2-2017","Q2-2017","Q2-2017","Q2-2017","Q2-2017","Q2-2017","Q2-2017","Q2-2017","Q2-2017","Q2-2017","Q2-2017","Q2-2017","Q2-2017","Q2-2017","Q2-2017","Q2-2017","Q2-2017","Q2-2017","Q2-2017","Q2-2017",{"$f":"CONCATENATE(IF(NO29=1,\"Q1\",IF(NO29=2,\"Q1\",IF(NO29=3,\"Q1\",IF(NO29=4,\"Q2\",IF(NO29=5,\"Q2\",IF(NO29=6,\"Q2\",IF(NO29=7,\"Q3\",IF(NO29=6,\"Q2\",IF(NO29=5,\"Q2\",IF(NO29=6,\"Q2\",IF(NO29=5,\"Q2\",IF(NO29=6,\"Q2\",IF(NO29=5,\"Q2\",IF(NO29=6,\"Q2\",IF(NO29=7,\"Q3\",IF(NO29=8,\"Q3\",IF(NO29=9,\"Q3\",IF(NO29=10,\"Q4\",IF(NO29=8,\"Q3\",IF(NO29=9,\"Q3\",IF(NO29=10,\"Q4\",IF(NO29=11,\"Q4\",IF(NO29=12,\"Q4\"))))))))))))))))))))))),\"-\",NO31)","v":"Q2-2017"},"Q2-2017","Q2-2017","Q2-2017","Q2-2017","Q2-2017","Q2-2017","Q2-2017","Q2-2017","Q2-2017","Q2-2017","Q2-2017","Q2-2017","Q2-2017","Q2-2017","Q2-2017","Q2-2017","Q2-2017","Q3-2017","Q3-2017","Q3-2017","Q3-2017","Q3-2017","Q3-2017","Q3-2017","Q3-2017","Q3-2017","Q3-2017","Q3-2017","Q3-2017","Q3-2017","Q3-2017","Q3-2017","Q3-2017","Q3-2017","Q3-2017","Q3-2017","Q3-2017","Q3-2017","Q3-2017","Q3-2017","Q3-2017","Q3-2017","Q3-2017","Q3-2017","Q3-2017","Q3-2017","Q3-2017","Q3-2017","Q3-2017","Q3-2017","Q3-2017","Q3-2017","Q3-2017","Q3-2017","Q3-2017","Q3-2017","Q3-2017","Q3-2017","Q3-2017","Q3-2017","Q3-2017","Q3-2017","Q3-2017",{"$f":"CONCATENATE(IF(QA29=1,\"Q1\",IF(QA29=2,\"Q1\",IF(QA29=3,\"Q1\",IF(QA29=4,\"Q2\",IF(QA29=5,\"Q2\",IF(QA29=6,\"Q2\",IF(QA29=7,\"Q3\",IF(QA29=6,\"Q2\",IF(QA29=5,\"Q2\",IF(QA29=6,\"Q2\",IF(QA29=5,\"Q2\",IF(QA29=6,\"Q2\",IF(QA29=5,\"Q2\",IF(QA29=6,\"Q2\",IF(QA29=7,\"Q3\",IF(QA29=8,\"Q3\",IF(QA29=9,\"Q3\",IF(QA29=10,\"Q4\",IF(QA29=8,\"Q3\",IF(QA29=9,\"Q3\",IF(QA29=10,\"Q4\",IF(QA29=11,\"Q4\",IF(QA29=12,\"Q4\"))))))))))))))))))))))),\"-\",QA31)","v":"Q3-2017"},"Q3-2017","Q3-2017","Q3-2017","Q3-2017","Q3-2017","Q3-2017","Q3-2017","Q3-2017","Q3-2017","Q3-2017","Q3-2017","Q3-2017","Q3-2017","Q3-2017","Q3-2017","Q3-2017","Q3-2017","Q3-2017","Q3-2017","Q3-2017","Q3-2017","Q3-2017","Q3-2017","Q3-2017","Q3-2017","Q3-2017","Q3-2017","Q3-2017","Q3-2017","Q3-2017","Q3-2017","Q3-2017","Q3-2017","Q3-2017","Q3-2017","Q3-2017","Q3-2017","Q3-2017","Q3-2017","Q3-2017","Q3-2017","Q3-2017","Q3-2017","Q3-2017","Q3-2017","Q4-2017","Q4-2017","Q4-2017","Q4-2017","Q4-2017","Q4-2017","Q4-2017","Q4-2017","Q4-2017","Q4-2017","Q4-2017","Q4-2017","Q4-2017","Q4-2017","Q4-2017","Q4-2017","Q4-2017","Q4-2017",{"$f":"CONCATENATE(IF(SM29=1,\"Q1\",IF(SM29=2,\"Q1\",IF(SM29=3,\"Q1\",IF(SM29=4,\"Q2\",IF(SM29=5,\"Q2\",IF(SM29=6,\"Q2\",IF(SM29=7,\"Q3\",IF(SM29=6,\"Q2\",IF(SM29=5,\"Q2\",IF(SM29=6,\"Q2\",IF(SM29=5,\"Q2\",IF(SM29=6,\"Q2\",IF(SM29=5,\"Q2\",IF(SM29=6,\"Q2\",IF(SM29=7,\"Q3\",IF(SM29=8,\"Q3\",IF(SM29=9,\"Q3\",IF(SM29=10,\"Q4\",IF(SM29=8,\"Q3\",IF(SM29=9,\"Q3\",IF(SM29=10,\"Q4\",IF(SM29=11,\"Q4\",IF(SM29=12,\"Q4\"))))))))))))))))))))))),\"-\",SM31)","v":"Q4-2017"},"Q4-2017","Q4-2017","Q4-2017","Q4-2017","Q4-2017","Q4-2017","Q4-2017","Q4-2017","Q4-2017","Q4-2017","Q4-2017","Q4-2017","Q4-2017","Q4-2017","Q4-2017","Q4-2017","Q4-2017","Q4-2017","Q4-2017","Q4-2017","Q4-2017","Q4-2017","Q4-2017","Q4-2017","Q4-2017","Q4-2017","Q4-2017","Q4-2017","Q4-2017","Q4-2017","Q4-2017","Q4-2017","Q4-2017","Q4-2017","Q4-2017","Q4-2017","Q4-2017","Q4-2017","Q4-2017","Q4-2017","Q4-2017","Q4-2017","Q4-2017","Q4-2017","Q4-2017","Q4-2017","Q4-2017","Q4-2017","Q4-2017","Q4-2017","Q4-2017","Q4-2017","Q4-2017","Q4-2017","Q4-2017","Q4-2017","Q4-2017","Q4-2017","Q4-2017","Q4-2017","Q4-2017","Q4-2017","Q4-2017",{"$f":"CONCATENATE(IF(UY29=1,\"Q1\",IF(UY29=2,\"Q1\",IF(UY29=3,\"Q1\",IF(UY29=4,\"Q2\",IF(UY29=5,\"Q2\",IF(UY29=6,\"Q2\",IF(UY29=7,\"Q3\",IF(UY29=6,\"Q2\",IF(UY29=5,\"Q2\",IF(UY29=6,\"Q2\",IF(UY29=5,\"Q2\",IF(UY29=6,\"Q2\",IF(UY29=5,\"Q2\",IF(UY29=6,\"Q2\",IF(UY29=7,\"Q3\",IF(UY29=8,\"Q3\",IF(UY29=9,\"Q3\",IF(UY29=10,\"Q4\",IF(UY29=8,\"Q3\",IF(UY29=9,\"Q3\",IF(UY29=10,\"Q4\",IF(UY29=11,\"Q4\",IF(UY29=12,\"Q4\"))))))))))))))))))))))),\"-\",UY31)","v":"Q4-2017"},"Q4-2017","Q4-2017","Q4-2017","Q4-2017","Q4-2017","Q4-2017","Q4-2017","Q4-2017","Q4-2017","Q1-2018","Q1-2018","Q1-2018","Q1-2018","Q1-2018","Q1-2018","Q1-2018","Q1-2018","Q1-2018","Q1-2018","Q1-2018","Q1-2018","Q1-2018","Q1-2018","Q1-2018","Q1-2018","Q1-2018","Q1-2018","Q1-2018","Q1-2018","Q1-2018","Q1-2018","Q1-2018","Q1-2018","Q1-2018","Q1-2018","Q1-2018","Q1-2018","Q1-2018","Q1-2018","Q1-2018","Q1-2018","Q1-2018","Q1-2018","Q1-2018","Q1-2018","Q1-2018","Q1-2018","Q1-2018","Q1-2018","Q1-2018","Q1-2018","Q1-2018","Q1-2018","Q1-2018","Q1-2018","Q1-2018","Q1-2018","Q1-2018","Q1-2018","Q1-2018","Q1-2018","Q1-2018","Q1-2018",{"$f":"CONCATENATE(IF(XK29=1,\"Q1\",IF(XK29=2,\"Q1\",IF(XK29=3,\"Q1\",IF(XK29=4,\"Q2\",IF(XK29=5,\"Q2\",IF(XK29=6,\"Q2\",IF(XK29=7,\"Q3\",IF(XK29=6,\"Q2\",IF(XK29=5,\"Q2\",IF(XK29=6,\"Q2\",IF(XK29=5,\"Q2\",IF(XK29=6,\"Q2\",IF(XK29=5,\"Q2\",IF(XK29=6,\"Q2\",IF(XK29=7,\"Q3\",IF(XK29=8,\"Q3\",IF(XK29=9,\"Q3\",IF(XK29=10,\"Q4\",IF(XK29=8,\"Q3\",IF(XK29=9,\"Q3\",IF(XK29=10,\"Q4\",IF(XK29=11,\"Q4\",IF(XK29=12,\"Q4\"))))))))))))))))))))))),\"-\",XK31)","v":"Q1-2018"},"Q1-2018","Q1-2018","Q1-2018","Q1-2018","Q1-2018","Q1-2018","Q1-2018","Q1-2018","Q1-2018","Q1-2018","Q1-2018","Q1-2018","Q1-2018","Q1-2018","Q1-2018","Q1-2018","Q1-2018","Q1-2018","Q1-2018","Q1-2018","Q1-2018","Q1-2018","Q1-2018","Q1-2018","Q1-2018","Q1-2018","Q1-2018","Q1-2018","Q1-2018","Q1-2018","Q1-2018","Q1-2018","Q1-2018","Q1-2018","Q1-2018","Q2-2018","Q2-2018","Q2-2018","Q2-2018","Q2-2018","Q2-2018","Q2-2018","Q2-2018","Q2-2018","Q2-2018","Q2-2018","Q2-2018","Q2-2018","Q2-2018","Q2-2018","Q2-2018","Q2-2018","Q2-2018","Q2-2018","Q2-2018","Q2-2018","Q2-2018","Q2-2018","Q2-2018","Q2-2018","Q2-2018","Q2-2018","Q2-2018",{"$f":"CONCATENATE(IF(ZW29=1,\"Q1\",IF(ZW29=2,\"Q1\",IF(ZW29=3,\"Q1\",IF(ZW29=4,\"Q2\",IF(ZW29=5,\"Q2\",IF(ZW29=6,\"Q2\",IF(ZW29=7,\"Q3\",IF(ZW29=6,\"Q2\",IF(ZW29=5,\"Q2\",IF(ZW29=6,\"Q2\",IF(ZW29=5,\"Q2\",IF(ZW29=6,\"Q2\",IF(ZW29=5,\"Q2\",IF(ZW29=6,\"Q2\",IF(ZW29=7,\"Q3\",IF(ZW29=8,\"Q3\",IF(ZW29=9,\"Q3\",IF(ZW29=10,\"Q4\",IF(ZW29=8,\"Q3\",IF(ZW29=9,\"Q3\",IF(ZW29=10,\"Q4\",IF(ZW29=11,\"Q4\",IF(ZW29=12,\"Q4\"))))))))))))))))))))))),\"-\",ZW31)","v":"Q2-2018"},{"$f":"CONCATENATE(IF(ZX29=1,\"Q1\",IF(ZX29=2,\"Q1\",IF(ZX29=3,\"Q1\",IF(ZX29=4,\"Q2\",IF(ZX29=5,\"Q2\",IF(ZX29=6,\"Q2\",IF(ZX29=7,\"Q3\",IF(ZX29=6,\"Q2\",IF(ZX29=5,\"Q2\",IF(ZX29=6,\"Q2\",IF(ZX29=5,\"Q2\",IF(ZX29=6,\"Q2\",IF(ZX29=5,\"Q2\",IF(ZX29=6,\"Q2\",IF(ZX29=7,\"Q3\",IF(ZX29=8,\"Q3\",IF(ZX29=9,\"Q3\",IF(ZX29=10,\"Q4\",IF(ZX29=8,\"Q3\",IF(ZX29=9,\"Q3\",IF(ZX29=10,\"Q4\",IF(ZX29=11,\"Q4\",IF(ZX29=12,\"Q4\"))))))))))))))))))))))),\"-\",ZX31)","v":"Q2-2018"},{"$f":"CONCATENATE(IF(ZY29=1,\"Q1\",IF(ZY29=2,\"Q1\",IF(ZY29=3,\"Q1\",IF(ZY29=4,\"Q2\",IF(ZY29=5,\"Q2\",IF(ZY29=6,\"Q2\",IF(ZY29=7,\"Q3\",IF(ZY29=6,\"Q2\",IF(ZY29=5,\"Q2\",IF(ZY29=6,\"Q2\",IF(ZY29=5,\"Q2\",IF(ZY29=6,\"Q2\",IF(ZY29=5,\"Q2\",IF(ZY29=6,\"Q2\",IF(ZY29=7,\"Q3\",IF(ZY29=8,\"Q3\",IF(ZY29=9,\"Q3\",IF(ZY29=10,\"Q4\",IF(ZY29=8,\"Q3\",IF(ZY29=9,\"Q3\",IF(ZY29=10,\"Q4\",IF(ZY29=11,\"Q4\",IF(ZY29=12,\"Q4\"))))))))))))))))))))))),\"-\",ZY31)","v":"Q2-2018"},{"$f":"CONCATENATE(IF(ZZ29=1,\"Q1\",IF(ZZ29=2,\"Q1\",IF(ZZ29=3,\"Q1\",IF(ZZ29=4,\"Q2\",IF(ZZ29=5,\"Q2\",IF(ZZ29=6,\"Q2\",IF(ZZ29=7,\"Q3\",IF(ZZ29=6,\"Q2\",IF(ZZ29=5,\"Q2\",IF(ZZ29=6,\"Q2\",IF(ZZ29=5,\"Q2\",IF(ZZ29=6,\"Q2\",IF(ZZ29=5,\"Q2\",IF(ZZ29=6,\"Q2\",IF(ZZ29=7,\"Q3\",IF(ZZ29=8,\"Q3\",IF(ZZ29=9,\"Q3\",IF(ZZ29=10,\"Q4\",IF(ZZ29=8,\"Q3\",IF(ZZ29=9,\"Q3\",IF(ZZ29=10,\"Q4\",IF(ZZ29=11,\"Q4\",IF(ZZ29=12,\"Q4\"))))))))))))))))))))))),\"-\",ZZ31)","v":"Q2-2018"}]
["År",{"$f":"YEAR(B25)","v":2016},{"$f":"YEAR(C25)","v":2016},{"$f":"YEAR(D25)","v":2016},2016,2016,2016,2016,2016,2016,2016,2016,2016,2016,2016,2016,2016,2016,2016,2016,2016,2016,2016,2016,2016,2016,2016,2016,2016,2016,2016,2016,2016,2016,2016,2016,2016,2016,2016,2016,2016,2016,2016,2016,2016,2016,2016,2016,2016,2016,2016,2016,2016,2016,2016,2016,2016,2016,2016,{"$f":"YEAR(BH25)","v":2016},2016,2016,2016,2016,2016,2016,2016,2016,2016,2016,2016,2016,2016,2016,2016,2016,2016,2016,2016,2016,2016,2016,2016,2016,2016,2016,2016,2016,2016,2016,2016,2016,2016,2016,2016,2016,2016,2016,2016,2016,2016,2016,2016,2016,2016,2016,2016,2016,2016,2016,2016,2016,2016,2016,2016,2016,2016,2016,2016,2016,2016,2016,2016,{"$f":"YEAR(DT25)","v":2016},2016,2016,2016,2016,2016,2016,2016,2016,2016,2016,2016,2016,2016,2016,2016,2016,2016,2016,2016,2016,2016,2016,2016,2016,2016,2016,2016,2016,2016,2016,2016,2016,2016,2016,2016,2016,2016,2016,2016,2016,2016,2016,2016,2016,2016,2016,2016,2016,2016,2016,2016,2016,2016,2016,2016,2016,2016,2016,2016,2016,2016,2016,2016,{"$f":"YEAR(GF25)","v":2016},2016,2016,2016,2016,2016,2016,2016,2016,2016,2016,2016,2016,2016,2016,2016,2016,2016,2016,2016,2016,2016,2016,2016,2016,2016,2016,2016,2017,2017,2017,2017,2017,2017,2017,2017,2017,2017,2017,2017,2017,2017,2017,2017,2017,2017,2017,2017,2017,2017,2017,2017,2017,2017,2017,2017,2017,2017,2017,2017,2017,2017,2017,2017,{"$f":"YEAR(IR25)","v":2017},2017,2017,2017,2017,2017,2017,2017,2017,2017,2017,2017,2017,2017,2017,2017,2017,2017,2017,2017,2017,2017,2017,2017,2017,2017,2017,2017,2017,2017,2017,2017,2017,2017,2017,2017,2017,2017,2017,2017,2017,2017,2017,2017,2017,2017,2017,2017,2017,2017,2017,2017,2017,2017,2017,2017,2017,2017,2017,2017,2017,2017,2017,2017,{"$f":"YEAR(LD25)","v":2017},2017,2017,2017,2017,2017,2017,2017,2017,2017,2017,2017,2017,2017,2017,2017,2017,2017,2017,2017,2017,2017,2017,2017,2017,2017,2017,2017,2017,2017,2017,2017,2017,2017,2017,2017,2017,2017,2017,2017,2017,2017,2017,2017,2017,2017,2017,2017,2017,2017,2017,2017,2017,2017,2017,2017,2017,2017,2017,2017,2017,2017,2017,2017,{"$f":"YEAR(NP25)","v":2017},2017,2017,2017,2017,2017,2017,2017,2017,2017,2017,2017,2017,2017,2017,2017,2017,2017,2017,2017,2017,2017,2017,2017,2017,2017,2017,2017,2017,2017,2017,2017,2017,2017,2017,2017,2017,2017,2017,2017,2017,2017,2017,2017,2017,2017,2017,2017,2017,2017,2017,2017,2017,2017,2017,2017,2017,2017,2017,2017,2017,2017,2017,2017,{"$f":"YEAR(QB25)","v":2017},2017,2017,2017,2017,2017,2017,2017,2017,2017,2017,2017,2017,2017,2017,2017,2017,2017,2017,2017,2017,2017,2017,2017,2017,2017,2017,2017,2017,2017,2017,2017,2017,2017,2017,2017,2017,2017,2017,2017,2017,2017,2017,2017,2017,2017,2017,2017,2017,2017,2017,2017,2017,2017,2017,2017,2017,2017,2017,2017,2017,2017,2017,2017,{"$f":"YEAR(SN25)","v":2017},2017,2017,2017,2017,2017,2017,2017,2017,2017,2017,2017,2017,2017,2017,2017,2017,2017,2017,2017,2017,2017,2017,2017,2017,2017,2017,2017,2017,2017,2017,2017,2017,2017,2017,2017,2017,2017,2017,2017,2017,2017,2017,2017,2017,2017,2017,2017,2017,2017,2017,2017,2017,2017,2017,2017,2017,2017,2017,2017,2017,2017,2017,2017,{"$f":"YEAR(UZ25)","v":2017},2017,2017,2017,2017,2017,2017,2017,2017,2018,2018,2018,2018,2018,2018,2018,2018,2018,2018,2018,2018,2018,2018,2018,2018,2018,2018,2018,2018,2018,2018,2018,2018,2018,2018,2018,2018,2018,2018,2018,2018,2018,2018,2018,2018,2018,2018,2018,2018,2018,2018,2018,2018,2018,2018,2018,2018,2018,2018,2018,2018,2018,2018,2018,{"$f":"YEAR(XL25)","v":2018},2018,2018,2018,2018,2018,2018,2018,2018,2018,2018,2018,2018,2018,2018,2018,2018,2018,2018,2018,2018,2018,2018,2018,2018,2018,2018,2018,2018,2018,2018,2018,2018,2018,2018,2018,2018,2018,2018,2018,2018,2018,2018,2018,2018,2018,2018,2018,2018,2018,2018,2018,2018,2018,2018,2018,2018,2018,2018,2018,2018,2018,2018,2018,{"$f":"YEAR(ZX25)","v":2018},{"$f":"YEAR(ZY25)","v":2018},{"$f":"YEAR(ZZ25)","v":2018}]
[]
["Tidsskala"]
["Veckor"]
["Månad"]
["Kvartal"]
[]
["Typ"]
["P"]
["A"]
["M"]
[]
["Color"]
["Röd"]
["Gul"]
["Grön"]
["Blå"]
["Svart"]
["Field values"]
["Tidsplan, dagar"]
["Tidsplan, veckor"]
["Startdatum"]
["Slutdatum"]
["Nr"]
["Beskrivning"]
["Ansvarig"]
["Typ"]
["Färg"]
["Start"]
["Slut"]
["Budget"]
["Upparbetat"]
["Återstod"]
["Prognos"]
["Avvikelse"]
["<Projektnamn>"]
["<Nnnn Nnnn>"]
["<Utgåva>"]
["Tidsplan"]
[]
[{"$f":"Formula!A38","v":"Typ"}]
[{"$f":"Formula!A39","v":"P"}]
[{"$f":"Formula!A40","v":"A"}]
[{"$f":"Formula!A41","v":"M"}]
[]
[{"$f":"Formula!A43","v":"Color"}]
[{"$f":"Formula!A44","v":"Röd"}]
[{"$f":"Formula!A45","v":"Gul"}]
[{"$f":"Formula!A46","v":"Grön"}]
[{"$f":"Formula!A47","v":"Blå"}]
[{"$f":"Formula!A48","v":"Svart"}]
[]
[{"$f":"Formula!A44","v":"Röd"}]
[{"$f":"Formula!A45","v":"Gul"}]
[]
[{"$f":"Formula!A46","v":"Grön"}]
[{"$f":"Formula!A47","v":"Blå"}]
[{"$f":"Formula!A48","v":"Svart"}]
[]
[{"$f":"Formula!A38","v":"Typ"}]
[{"$f":"Formula!A39","v":"P"}]
[{"$f":"Formula!A40","v":"A"}]
[{"$f":"Formula!A41","v":"M"}]

{"sheet":"Formula_week","index":4,"n_rows":13,"n_cols":702,"rows_kept":13,"cut":false,"hidden":true,"merged":[]}
["Calendar_week"]
[null,null,"Dag i veckan"]
["Startdatum",{"$f":"'Tidsplan, veckor'!G4","v":"2016-06-01"},{"$f":"WEEKDAY(B3-1)","v":3}]
["Slutdatum",{"$f":"'Tidsplan, veckor'!H4","v":"2016-12-01"},{"$f":"WEEKDAY(B4-1)","v":4}]
[]
["Week/Month",{"$f":"YEAR(B8)","v":2016},{"$f":"YEAR(C8)","v":2016},2016,2016,2016,2016,2016,2016,2016,2016,2016,2016,2016,2016,2016,2016,2016,2016,2016,2016,2016,2016,2016,2016,2016,2016,2016,2016,2016,2016,2016,2017,2017,2017,2017,2017,2017,2017,2017,2017,2017,2017,2017,2017,2017,2017,2017,2017,2017,2017,2017,2017,2017,2017,2017,2017,2017,2017,2017,2017,2017,2017,2017,2017,2017,{"$f":"YEAR(BO8)","v":2017},2017,2017,2017,2017,2017,2017,2017,2017,2017,2017,2017,2017,2017,2017,2017,2017,2017,2018,2018,2018,2018,2018,2018,2018,2018,2018,2018,2018,2018,2018,2018,2018,2018,2018,2018,2018,2018,2018,2018,2018,2018,2018,2018,2018,2018,2018,2018,2018,2018,2018,2018,2018,2018,2018,2018,2018,2018,2018,2018,2018,2018,2018,2018,{"$f":"YEAR(EA8)","v":2018},2018,2018,2018,2018,2018,2019,2019,2019,2019,2019,2019,2019,2019,2019,2019,2019,2019,2019,2019,2019,2019,2019,2019,2019,2019,2019,2019,2019,2019,2019,2019,2019,2019,2019,2019,2019,2019,2019,2019,2019,2019,2019,2019,2019,2019,2019,2019,2019,2019,2019,2019,2019,2019,2019,2019,2019,2019,2020,2020,2020,2020,2020,2020,{"$f":"YEAR(GM8)","v":2020},2020,2020,2020,2020,2020,2020,2020,2020,2020,2020,2020,2020,2020,2020,2020,2020,2020,2020,2020,2020,2020,2020,2020,2020,2020,2020,2020,2020,2020,2020,2020,2020,2020,2020,2020,2020,2020,2020,2020,2020,2020,2020,2020,2020,2020,2020,2021,2021,2021,2021,2021,2021,2021,2021,2021,2021,2021,2021,2021,2021,2021,2021,2021,{"$f":"YEAR(IY8)","v":2021},2021,2021,2021,2021,2021,2021,2021,2021,2021,2021,2021,2021,2021,2021,2021,2021,2021,2021,2021,2021,2021,2021,2021,2021,2021,2021,2021,2021,2021,2021,2021,2021,2021,2021,2022,2022,2022,2022,2022,2022,2022,2022,2022,2022,2022,2022,2022,2022,2022,2022,2022,2022,2022,2022,2022,2022,2022,2022,2022,2022,2022,2022,2022,{"$f":"YEAR(LK8)","v":2022},2022,2022,2022,2022,2022,2022,2022,2022,2022,2022,2022,2022,2022,2022,2022,2022,2022,2022,2022,2022,2022,2022,2023,2023,2023,2023,2023,2023,2023,2023,2023,2023,2023,2023,2023,2023,2023,2023,2023,2023,2023,2023,2023,2023,2023,2023,2023,2023,2023,2023,2023,2023,2023,2023,2023,2023,2023,2023,2023,2023,2023,2023,2023,{"$f":"YEAR(NW8)","v":2023},2023,2023,2023,2023,2023,2023,2023,2023,2023,2023,2024,2024,2024,2024,2024,2024,2024,2024,2024,2024,2024,2024,2024,2024,2024,2024,2024,2024,2024,2024,2024,2024,2024,2024,2024,2024,2024,2024,2024,2024,2024,2024,2024,2024,2024,2024,2024,2024,2024,2024,2024,2024,2024,2024,2024,2024,2024,2024,2024,2024,2024,2024,2025,{"$f":"YEAR(QI8)","v":2025},2025,2025,2025,2025,2025,2025,2025,2025,2025,2025,2025,2025,2025,2025,2025,2025,2025,2025,2025,2025,2025,2025,2025,2025,2025,2025,2025,2025,2025,2025,2025,2025,2025,2025,2025,2025,2025,2025,2025,2025,2025,2025,2025,2025,2025,2025,2025,2025,2025,2025,2025,2026,2026,2026,2026,2026,2026,2026,2026,2026,2026,2026,2026,{"$f":"YEAR(SU8)","v":2026},2026,2026,2026,2026,2026,2026,2026,2026,2026,2026,2026,2026,2026,2026,2026,2026,2026,2026,2026,2026,2026,2026,2026,2026,2026,2026,2026,2026,2026,2026,2026,2026,2026,2026,2026,2026,2026,2026,2026,2027,2027,2027,2027,2027,2027,2027,2027,2027,2027,2027,2027,2027,2027,2027,2027,2027,2027,2027,2027,2027,2027,2027,2027,{"$f":"YEAR(VG8)","v":2027},2027,2027,2027,2027,2027,2027,2027,2027,2027,2027,2027,2027,2027,2027,2027,2027,2027,2027,2027,2027,2027,2027,2027,2027,2027,2027,2027,2028,2028,2028,2028,2028,2028,2028,2028,2028,2028,2028,2028,2028,2028,2028,2028,2028,2028,2028,2028,2028,2028,2028,2028,2028,2028,2028,2028,2028,2028,2028,2028,2028,2028,2028,2028,{"$f":"YEAR(XS8)","v":2028},2028,2028,2028,2028,2028,2028,2028,2028,2028,2028,2028,2028,2028,2028,2028,2029,2029,2029,2029,2029,2029,2029,2029,2029,2029,2029,2029,2029,2029,2029,2029,2029,2029,2029,2029,2029,2029,2029,2029,2029,2029,2029,2029,2029,2029,2029,2029,2029,2029,2029,2029,2029,2029,2029,2029,2029,2029,2029,2029]
["Måndag i veckan",{"$f":"B3-($C$3-1)","v":"2016-05-30"},{"$f":"B7+7","v":"2016-06-06"},{"$f":"C7+7","v":"2016-06-13"},"2016-06-20","2016-06-27","2016-07-04","2016-07-11","2016-07-18","2016-07-25","2016-08-01","2016-08-08","2016-08-15","2016-08-22","2016-08-29","2016-09-05","2016-09-12","2016-09-19","2016-09-26",{"$f":"S7+7","v":"2016-10-03"},"2016-10-10","2016-10-17","2016-10-24","2016-10-31","2016-11-07","2016-11-14","2016-11-21","2016-11-28","2016-12-05","2016-12-12","2016-12-19","2016-12-26","2017-01-02","2017-01-09","2017-01-16",{"$f":"AI7+7","v":"2017-01-23"},"2017-01-30","2017-02-06","2017-02-13","2017-02-20","2017-02-27","2017-03-06","2017-03-13","2017-03-20","2017-03-27","2017-04-03","2017-04-10","2017-04-17","2017-04-24","2017-05-01","2017-05-08",{"$f":"AY7+7","v":"2017-05-15"},"2017-05-22","2017-05-29","2017-06-05","2017-06-12","2017-06-19","2017-06-26","2017-07-03","2017-07-10","2017-07-17","2017-07-24","2017-07-31","2017-08-07","2017-08-14","2017-08-21","2017-08-28",{"$f":"BO7+7","v":"2017-09-04"},"2017-09-11","2017-09-18","2017-09-25","2017-10-02","2017-10-09","2017-10-16","2017-10-23","2017-10-30","2017-11-06","2017-11-13","2017-11-20","2017-11-27","2017-12-04","2017-12-11","2017-12-18","2017-12-25","2018-01-01","2018-01-08","2018-01-15","2018-01-22","2018-01-29","2018-02-05","2018-02-12","2018-02-19","2018-02-26","2018-03-05","2018-03-12","2018-03-19","2018-03-26","2018-04-02","2018-04-09","2018-04-16","2018-04-23","2018-04-30","2018-05-07","2018-05-14","2018-05-21","2018-05-28","2018-06-04","2018-06-11","2018-06-18","2018-06-25","2018-07-02","2018-07-09","2018-07-16","2018-07-23","2018-07-30","2018-08-06","2018-08-13","2018-08-20","2018-08-27","2018-09-03","2018-09-10","2018-09-17","2018-09-24","2018-10-01","2018-10-08","2018-10-15","2018-10-22","2018-10-29","2018-11-05","2018-11-12","2018-11-19",{"$f":"EA7+7","v":"2018-11-26"},"2018-12-03","2018-12-10","2018-12-17","2018-12-24","2018-12-31","2019-01-07","2019-01-14","2019-01-21","2019-01-28","2019-02-04","2019-02-11","2019-02-18","2019-02-25","2019-03-04","2019-03-11","2019-03-18","2019-03-25","2019-04-01","2019-04-08","2019-04-15","2019-04-22","2019-04-29","2019-05-06","2019-05-13","2019-05-20","2019-05-27","2019-06-03","2019-06-10","2019-06-17","2019-06-24","2019-07-01","2019-07-08","2019-07-15","2019-07-22","2019-07-29","2019-08-05","2019-08-12","2019-08-19","2019-08-26","2019-09-02","2019-09-09","2019-09-16","2019-09-23","2019-09-30","2019-10-07","2019-10-14","2019-10-21","2019-10-28","2019-11-04","2019-11-11","2019-11-18","2019-11-25","2019-12-02","2019-12-09","2019-12-16","2019-12-23","2019-12-30","2020-01-06","2020-01-13","2020-01-20","2020-01-27","2020-02-03","2020-02-10",{"$f":"GM7+7","v":"2020-02-17"},"2020-02-24","2020-03-02","2020-03-09","2020-03-16","2020-03-23","2020-03-30","2020-04-06","2020-04-13","2020-04-20","2020-04-27","2020-05-04","2020-05-11","2020-05-18","2020-05-25","2020-06-01","2020-06-08","2020-06-15","2020-06-22","2020-06-29","2020-07-06","2020-07-13","2020-07-20","2020-07-27","2020-08-03","2020-08-10","2020-08-17","2020-08-24","2020-08-31","2020-09-07","2020-09-14","2020-09-21","2020-09-28","2020-10-05","2020-10-12","2020-10-19","2020-10-26","2020-11-02","2020-11-09","2020-11-16","2020-11-23","2020-11-30","2020-12-07","2020-12-14","2020-12-21","2020-12-28","2021-01-04","2021-01-11","2021-01-18","2021-01-25","2021-02-01","2021-02-08","2021-02-15","2021-02-22","2021-03-01","2021-03-08","2021-03-15","2021-03-22","2021-03-29","2021-04-05","2021-04-12","2021-04-19","2021-04-26","2021-05-03",{"$f":"IY7+7","v":"2021-05-10"},"2021-05-17","2021-05-24","2021-05-31","2021-06-07","2021-06-14","2021-06-21","2021-06-28","2021-07-05","2021-07-12","2021-07-19","2021-07-26","2021-08-02","2021-08-09","2021-08-16","2021-08-23","2021-08-30","2021-09-06","2021-09-13","2021-09-20","2021-09-27","2021-10-04","2021-10-11","2021-10-18","2021-10-25","2021-11-01","2021-11-08","2021-11-15","2021-11-22","2021-11-29","2021-12-06","2021-12-13","2021-12-20","2021-12-27","2022-01-03","2022-01-10","2022-01-17","2022-01-24","2022-01-31","2022-02-07","2022-02-14","2022-02-21","2022-02-28","2022-03-07","2022-03-14","2022-03-21","2022-03-28","2022-04-04","2022-04-11","2022-04-18","2022-04-25","2022-05-02","2022-05-09","2022-05-16","2022-05-23","2022-05-30","2022-06-06","2022-06-13","2022-06-20","2022-06-27","2022-07-04","2022-07-11","2022-07-18","2022-07-25",{"$f":"LK7+7","v":"2022-08-01"},"2022-08-08","2022-08-15","2022-08-22","2022-08-29","2022-09-05","2022-09-12","2022-09-19","2022-09-26","2022-10-03","2022-10-10","2022-10-17","2022-10-24","2022-10-31","2022-11-07","2022-11-14","2022-11-21","2022-11-28","2022-12-05","2022-12-12","2022-12-19","2022-12-26","2023-01-02","2023-01-09","2023-01-16","2023-01-23","2023-01-30","2023-02-06","2023-02-13","2023-02-20","2023-02-27","2023-03-06","2023-03-13","2023-03-20","2023-03-27","2023-04-03","2023-04-10","2023-04-17","2023-04-24","2023-05-01","2023-05-08","2023-05-15","2023-05-22","2023-05-29","2023-06-05","2023-06-12","2023-06-19","2023-06-26","2023-07-03","2023-07-10","2023-07-17","2023-07-24","2023-07-31","2023-08-07","2023-08-14","2023-08-21","2023-08-28","2023-09-04","2023-09-11","2023-09-18","2023-09-25","2023-10-02","2023-10-09","2023-10-16",{"$f":"NW7+7","v":"2023-10-23"},"2023-10-30","2023-11-06","2023-11-13","2023-11-20","2023-11-27","2023-12-04","2023-12-11","2023-12-18","2023-12-25","2024-01-01","2024-01-08","2024-01-15","2024-01-22","2024-01-29","2024-02-05","2024-02-12","2024-02-19","2024-02-26","2024-03-04","2024-03-11","2024-03-18","2024-03-25","2024-04-01","2024-04-08","2024-04-15","2024-04-22","2024-04-29","2024-05-06","2024-05-13","2024-05-20","2024-05-27","2024-06-03","2024-06-10","2024-06-17","2024-06-24","2024-07-01","2024-07-08","2024-07-15","2024-07-22","2024-07-29","2024-08-05","2024-08-12","2024-08-19","2024-08-26","2024-09-02","2024-09-09","2024-09-16","2024-09-23","2024-09-30","2024-10-07","2024-10-14","2024-10-21","2024-10-28","2024-11-04","2024-11-11","2024-11-18","2024-11-25","2024-12-02","2024-12-09","2024-12-16","2024-12-23","2024-12-30","2025-01-06",{"$f":"QI7+7","v":"2025-01-13"},"2025-01-20","2025-01-27","2025-02-03","2025-02-10","2025-02-17","2025-02-24","2025-03-03","2025-03-10","2025-03-17","2025-03-24","2025-03-31","2025-04-07","2025-04-14","2025-04-21","2025-04-28","2025-05-05","2025-05-12","2025-05-19","2025-05-26","2025-06-02","2025-06-09","2025-06-16","2025-06-23","2025-06-30","2025-07-07","2025-07-14","2025-07-21","2025-07-28","2025-08-04","2025-08-11","2025-08-18","2025-08-25","2025-09-01","2025-09-08","2025-09-15","2025-09-22","2025-09-29","2025-10-06","2025-10-13","2025-10-20","2025-10-27","2025-11-03","2025-11-10","2025-11-17","2025-11-24","2025-12-01","2025-12-08","2025-12-15","2025-12-22","2025-12-29","2026-01-05","2026-01-12","2026-01-19","2026-01-26","2026-02-02","2026-02-09","2026-02-16","2026-02-23","2026-03-02","2026-03-09","2026-03-16","2026-03-23","2026-03-30",{"$f":"SU7+7","v":"2026-04-06"},"2026-04-13","2026-04-20","2026-04-27","2026-05-04","2026-05-11","2026-05-18","2026-05-25","2026-06-01","2026-06-08","2026-06-15","2026-06-22","2026-06-29","2026-07-06","2026-07-13","2026-07-20","2026-07-27","2026-08-03","2026-08-10","2026-08-17","2026-08-24","2026-08-31","2026-09-07","2026-09-14","2026-09-21","2026-09-28","2026-10-05","2026-10-12","2026-10-19","2026-10-26","2026-11-02","2026-11-09","2026-11-16","2026-11-23","2026-11-30","2026-12-07","2026-12-14","2026-12-21","2026-12-28","2027-01-04","2027-01-11","2027-01-18","2027-01-25","2027-02-01","2027-02-08","2027-02-15","2027-02-22","2027-03-01","2027-03-08","2027-03-15","2027-03-22","2027-03-29","2027-04-05","2027-04-12","2027-04-19","2027-04-26","2027-05-03","2027-05-10","2027-05-17","2027-05-24","2027-05-31","2027-06-07","2027-06-14","2027-06-21",{"$f":"VG7+7","v":"2027-06-28"},"2027-07-05","2027-07-12","2027-07-19","2027-07-26","2027-08-02","2027-08-09","2027-08-16","2027-08-23","2027-08-30","2027-09-06","2027-09-13","2027-09-20","2027-09-27","2027-10-04","2027-10-11","2027-10-18","2027-10-25","2027-11-01","2027-11-08","2027-11-15","2027-11-22","2027-11-29","2027-12-06","2027-12-13","2027-12-20","2027-12-27","2028-01-03","2028-01-10","2028-01-17","2028-01-24","2028-01-31","2028-02-07","2028-02-14","2028-02-21","2028-02-28","2028-03-06","2028-03-13","2028-03-20","2028-03-27","2028-04-03","2028-04-10","2028-04-17","2028-04-24","2028-05-01","2028-05-08","2028-05-15","2028-05-22","2028-05-29","2028-06-05","2028-06-12","2028-06-19","2028-06-26","2028-07-03","2028-07-10","2028-07-17","2028-07-24","2028-07-31","2028-08-07","2028-08-14","2028-08-21","2028-08-28","2028-09-04","2028-09-11",{"$f":"XS7+7","v":"2028-09-18"},"2028-09-25","2028-10-02","2028-10-09","2028-10-16","2028-10-23","2028-10-30","2028-11-06","2028-11-13","2028-11-20","2028-11-27","2028-12-04","2028-12-11","2028-12-18","2028-12-25","2029-01-01","2029-01-08","2029-01-15","2029-01-22","2029-01-29","2029-02-05","2029-02-12","2029-02-19","2029-02-26","2029-03-05","2029-03-12","2029-03-19","2029-03-26","2029-04-02","2029-04-09","2029-04-16","2029-04-23","2029-04-30","2029-05-07","2029-05-14","2029-05-21","2029-05-28","2029-06-04","2029-06-11","2029-06-18","2029-06-25","2029-07-02","2029-07-09","2029-07-16","2029-07-23","2029-07-30","2029-08-06","2029-08-13","2029-08-20","2029-08-27","2029-09-03","2029-09-10","2029-09-17","2029-09-24","2029-10-01","2029-10-08","2029-10-15","2029-10-22","2029-10-29"]
["Startdatum",{"$f":"B3","v":"2016-06-01"},{"$f":"B8+7","v":"2016-06-08"},"2016-06-15","2016-06-22","2016-06-29","2016-07-06","2016-07-13","2016-07-20","2016-07-27","2016-08-03","2016-08-10","2016-08-17","2016-08-24","2016-08-31","2016-09-07","2016-09-14","2016-09-21","2016-09-28","2016-10-05","2016-10-12","2016-10-19","2016-10-26","2016-11-02","2016-11-09","2016-11-16","2016-11-23","2016-11-30","2016-12-07","2016-12-14","2016-12-21","2016-12-28","2017-01-04","2017-01-11","2017-01-18","2017-01-25","2017-02-01","2017-02-08","2017-02-15","2017-02-22","2017-03-01","2017-03-08","2017-03-15","2017-03-22","2017-03-29","2017-04-05","2017-04-12","2017-04-19","2017-04-26","2017-05-03","2017-05-10","2017-05-17","2017-05-24","2017-05-31","2017-06-07","2017-06-14","2017-06-21","2017-06-28","2017-07-05","2017-07-12","2017-07-19","2017-07-26","2017-08-02","2017-08-09","2017-08-16","2017-08-23","2017-08-30","2017-09-06","2017-09-13","2017-09-20","2017-09-27","2017-10-04","2017-10-11","2017-10-18","2017-10-25","2017-11-01","2017-11-08","2017-11-15","2017-11-22","2017-11-29","2017-12-06","2017-12-13","2017-12-20","2017-12-27","2018-01-03","2018-01-10","2018-01-17","2018-01-24","2018-01-31","2018-02-07","2018-02-14","2018-02-21","2018-02-28","2018-03-07","2018-03-14","2018-03-21","2018-03-28","2018-04-04","2018-04-11","2018-04-18","2018-04-25","2018-05-02","2018-05-09","2018-05-16","2018-05-23","2018-05-30","2018-06-06","2018-06-13","2018-06-20","2018-06-27","2018-07-04","2018-07-11","2018-07-18","2018-07-25","2018-08-01","2018-08-08","2018-08-15","2018-08-22","2018-08-29","2018-09-05","2018-09-12","2018-09-19","2018-09-26","2018-10-03","2018-10-10","2018-10-17","2018-10-24","2018-10-31","2018-11-07","2018-11-14","2018-11-21","2018-11-28","2018-12-05","2018-12-12","2018-12-19","2018-12-26","2019-01-02","2019-01-09","2019-01-16","2019-01-23","2019-01-30","2019-02-06","2019-02-13","2019-02-20","2019-02-27","2019-03-06","2019-03-13","2019-03-20","2019-03-27","2019-04-03","2019-04-10","2019-04-17","2019-04-24","2019-05-01","2019-05-08","2019-05-15","2019-05-22","2019-05-29","2019-06-05","2019-06-12","2019-06-19","2019-06-26","2019-07-03","2019-07-10","2019-07-17","2019-07-24","2019-07-31","2019-08-07","2019-08-14","2019-08-21","2019-08-28","2019-09-04","2019-09-11","2019-09-18","2019-09-25","2019-10-02","2019-10-09","2019-10-16","2019-10-23","2019-10-30","2019-11-06","2019-11-13","2019-11-20","2019-11-27","2019-12-04","2019-12-11","2019-12-18","2019-12-25","2020-01-01","2020-01-08","2020-01-15","2020-01-22","2020-01-29","2020-02-05","2020-02-12","2020-02-19","2020-02-26","2020-03-04","2020-03-11","2020-03-18","2020-03-25","2020-04-01","2020-04-08","2020-04-15","2020-04-22","2020-04-29","2020-05-06","2020-05-13","2020-05-20","2020-05-27","2020-06-03","2020-06-10","2020-06-17","2020-06-24","2020-07-01","2020-07-08","2020-07-15","2020-07-22","2020-07-29","2020-08-05","2020-08-12","2020-08-19","2020-08-26","2020-09-02","2020-09-09","2020-09-16","2020-09-23","2020-09-30","2020-10-07","2020-10-14","2020-10-21","2020-10-28","2020-11-04","2020-11-11","2020-11-18","2020-11-25","2020-12-02","2020-12-09","2020-12-16","2020-12-23","2020-12-30","2021-01-06","2021-01-13","2021-01-20","2021-01-27","2021-02-03","2021-02-10","2021-02-17","2021-02-24","2021-03-03","2021-03-10","2021-03-17","2021-03-24","2021-03-31","2021-04-07","2021-04-14","2021-04-21","2021-04-28","2021-05-05","2021-05-12","2021-05-19","2021-05-26","2021-06-02","2021-06-09","2021-06-16","2021-06-23","2021-06-30","2021-07-07","2021-07-14","2021-07-21","2021-07-28","2021-08-04","2021-08-11","2021-08-18","2021-08-25","2021-09-01","2021-09-08","2021-09-15","2021-09-22","2021-09-29","2021-10-06","2021-10-13","2021-10-20","2021-10-27","2021-11-03","2021-11-10","2021-11-17","2021-11-24","2021-12-01","2021-12-08","2021-12-15","2021-12-22","2021-12-29","2022-01-05","2022-01-12","2022-01-19","2022-01-26","2022-02-02","2022-02-09","2022-02-16","2022-02-23","2022-03-02","2022-03-09","2022-03-16","2022-03-23","2022-03-30","2022-04-06","2022-04-13","2022-04-20","2022-04-27","2022-05-04","2022-05-11","2022-05-18","2022-05-25","2022-06-01","2022-06-08","2022-06-15","2022-06-22","2022-06-29","2022-07-06","2022-07-13","2022-07-20","2022-07-27","2022-08-03","2022-08-10","2022-08-17","2022-08-24","2022-08-31","2022-09-07","2022-09-14","2022-09-21","2022-09-28","2022-10-05","2022-10-12","2022-10-19","2022-10-26","2022-11-02","2022-11-09","2022-11-16","2022-11-23","2022-11-30","2022-12-07","2022-12-14","2022-12-21","2022-12-28","2023-01-04","2023-01-11","2023-01-18","2023-01-25","2023-02-01","2023-02-08","2023-02-15","2023-02-22","2023-03-01","2023-03-08","2023-03-15","2023-03-22","2023-03-29","2023-04-05","2023-04-12","2023-04-19","2023-04-26","2023-05-03","2023-05-10","2023-05-17","2023-05-24","2023-05-31","2023-06-07","2023-06-14","2023-06-21","2023-06-28","2023-07-05","2023-07-12","2023-07-19","2023-07-26","2023-08-02","2023-08-09","2023-08-16","2023-08-23","2023-08-30","2023-09-06","2023-09-13","2023-09-20","2023-09-27","2023-10-04","2023-10-11","2023-10-18","2023-10-25","2023-11-01","2023-11-08","2023-11-15","2023-11-22","2023-11-29","2023-12-06","2023-12-13","2023-12-20","2023-12-27","2024-01-03","2024-01-10","2024-01-17","2024-01-24","2024-01-31","2024-02-07","2024-02-14","2024-02-21","2024-02-28","2024-03-06","2024-03-13","2024-03-20","2024-03-27","2024-04-03","2024-04-10","2024-04-17","2024-04-24","2024-05-01","2024-05-08","2024-05-15","2024-05-22","2024-05-29","2024-06-05","2024-06-12","2024-06-19","2024-06-26","2024-07-03","2024-07-10","2024-07-17","2024-07-24","2024-07-31","2024-08-07","2024-08-14","2024-08-21","2024-08-28","2024-09-04","2024-09-11","2024-09-18","2024-09-25","2024-10-02","2024-10-09","2024-10-16","2024-10-23","2024-10-30","2024-11-06","2024-11-13","2024-11-20","2024-11-27","2024-12-04","2024-12-11","2024-12-18","2024-12-25","2025-01-01","2025-01-08","2025-01-15","2025-01-22","2025-01-29","2025-02-05","2025-02-12","2025-02-19","2025-02-26","2025-03-05","2025-03-12","2025-03-19","2025-03-26","2025-04-02","2025-04-09","2025-04-16","2025-04-23","2025-04-30","2025-05-07","2025-05-14","2025-05-21","2025-05-28","2025-06-04","2025-06-11","2025-06-18","2025-06-25","2025-07-02","2025-07-09","2025-07-16","2025-07-23","2025-07-30","2025-08-06","2025-08-13","2025-08-20","2025-08-27","2025-09-03","2025-09-10","2025-09-17","2025-09-24","2025-10-01","2025-10-08","2025-10-15","2025-10-22","2025-10-29","2025-11-05","2025-11-12","2025-11-19","2025-11-26","2025-12-03","2025-12-10","2025-12-17","2025-12-24","2025-12-31","2026-01-07","2026-01-14","2026-01-21","2026-01-28","2026-02-04","2026-02-11","2026-02-18","2026-02-25","2026-03-04","2026-03-11","2026-03-18","2026-03-25","2026-04-01","2026-04-08","2026-04-15","2026-04-22","2026-04-29","2026-05-06","2026-05-13","2026-05-20","2026-05-27","2026-06-03","2026-06-10","2026-06-17","2026-06-24","2026-07-01","2026-07-08","2026-07-15","2026-07-22","2026-07-29","2026-08-05","2026-08-12","2026-08-19","2026-08-26","2026-09-02","2026-09-09","2026-09-16","2026-09-23","2026-09-30","2026-10-07","2026-10-14","2026-10-21","2026-10-28","2026-11-04","2026-11-11","2026-11-18","2026-11-25","2026-12-02","2026-12-09","2026-12-16","2026-12-23","2026-12-30","2027-01-06","2027-01-13","2027-01-20","2027-01-27","2027-02-03","2027-02-10","2027-02-17","2027-02-24","2027-03-03","2027-03-10","2027-03-17","2027-03-24","2027-03-31","2027-04-07","2027-04-14","2027-04-21","2027-04-28","2027-05-05","2027-05-12","2027-05-19","2027-05-26","2027-06-02","2027-06-09","2027-06-16","2027-06-23","2027-06-30","2027-07-07","2027-07-14","2027-07-21","2027-07-28","2027-08-04","2027-08-11","2027-08-18","2027-08-25","2027-09-01","2027-09-08","2027-09-15","2027-09-22","2027-09-29","2027-10-06","2027-10-13","2027-10-20","2027-10-27","2027-11-03","2027-11-10","2027-11-17","2027-11-24","2027-12-01","2027-12-08","2027-12-15","2027-12-22","2027-12-29","2028-01-05","2028-01-12","2028-01-19","2028-01-26","2028-02-02","2028-02-09","2028-02-16","2028-02-23","2028-03-01","2028-03-08","2028-03-15","2028-03-22","2028-03-29","2028-04-05","2028-04-12","2028-04-19","2028-04-26","2028-05-03","2028-05-10","2028-05-17","2028-05-24","2028-05-31","2028-06-07","2028-06-14","2028-06-21","2028-06-28","2028-07-05","2028-07-12","2028-07-19","2028-07-26","2028-08-02","2028-08-09","2028-08-16","2028-08-23","2028-08-30","2028-09-06","2028-09-13","2028-09-20","2028-09-27","2028-10-04","2028-10-11","2028-10-18","2028-10-25","2028-11-01","2028-11-08","2028-11-15","2028-11-22","2028-11-29","2028-12-06","2028-12-13","2028-12-20","2028-12-27","2029-01-03","2029-01-10","2029-01-17","2029-01-24","2029-01-31","2029-02-07","2029-02-14","2029-02-21","2029-02-28","2029-03-07","2029-03-14","2029-03-21","2029-03-28","2029-04-04","2029-04-11","2029-04-18","2029-04-25","2029-05-02","2029-05-09","2029-05-16","2029-05-23","2029-05-30","2029-06-06","2029-06-13","2029-06-20","2029-06-27","2029-07-04","2029-07-11","2029-07-18","2029-07-25","2029-08-01","2029-08-08","2029-08-15","2029-08-22","2029-08-29","2029-09-05","2029-09-12","2029-09-19","2029-09-26","2029-10-03","2029-10-10","2029-10-17","2029-10-24","2029-10-31"]
["Vecka",{"$f":"INT((B7-WEEKDAY(B7,2)-DATE(YEAR(B7+4-WEEKDAY(B7,2)),1,4))/7)+2","v":22},{"$f":"INT((C7-WEEKDAY(C7,2)-DATE(YEAR(C7+4-WEEKDAY(C7,2)),1,4))/7)+2","v":23},24,25,26,27,28,29,30,31,32,33,34,35,36,37,38,39,40,41,42,43,44,45,46,47,48,49,50,51,52,1,{"$f":"INT((AH7-WEEKDAY(AH7,2)-DATE(YEAR(AH7+4-WEEKDAY(AH7,2)),1,4))/7)+2","v":2},3,4,5,6,7,8,9,10,11,12,13,14,15,16,17,18,19,20,21,22,23,24,25,26,27,28,29,30,31,32,33,34,{"$f":"INT((BO7-WEEKDAY(BO7,2)-DATE(YEAR(BO7+4-WEEKDAY(BO7,2)),1,4))/7)+2","v":35},36,37,38,39,40,41,42,43,44,45,46,47,48,49,50,51,52,1,2,3,4,5,6,7,8,9,10,11,12,13,14,15,16,17,18,19,20,21,22,23,24,25,26,27,28,29,30,31,32,33,34,35,36,37,38,39,40,41,42,43,44,45,46,{"$f":"INT((EA7-WEEKDAY(EA7,2)-DATE(YEAR(EA7+4-WEEKDAY(EA7,2)),1,4))/7)+2","v":47},48,49,50,51,52,1,2,3,4,5,6,7,8,9,10,11,12,13,14,15,16,17,18,19,20,21,22,23,24,25,26,27,28,29,30,31,32,33,34,35,36,37,38,39,40,41,42,43,44,45,46,47,48,49,50,51,52,1,2,3,4,5,6,{"$f":"INT((GM7-WEEKDAY(GM7,2)-DATE(YEAR(GM7+4-WEEKDAY(GM7,2)),1,4))/7)+2","v":7},8,9,10,11,12,13,14,15,16,17,18,19,20,21,22,23,24,25,26,27,28,29,30,31,32,33,34,35,36,37,38,39,40,41,42,43,44,45,46,47,48,49,50,51,52,53,1,2,3,4,5,6,7,8,9,10,11,12,13,14,15,16,17,{"$f":"INT((IY7-WEEKDAY(IY7,2)-DATE(YEAR(IY7+4-WEEKDAY(IY7,2)),1,4))/7)+2","v":18},19,20,21,22,23,24,25,26,27,28,29,30,31,32,33,34,35,36,37,38,39,40,41,42,43,44,45,46,47,48,49,50,51,52,1,2,3,4,5,6,7,8,9,10,11,12,13,14,15,16,17,18,19,20,21,22,23,24,25,26,27,28,29,{"$f":"INT((LK7-WEEKDAY(LK7,2)-DATE(YEAR(LK7+4-WEEKDAY(LK7,2)),1,4))/7)+2","v":30},31,32,33,34,35,36,37,38,39,40,41,42,43,44,45,46,47,48,49,50,51,52,1,2,3,4,5,6,7,8,9,10,11,12,13,14,15,16,17,18,19,20,21,22,23,24,25,26,27,28,29,30,31,32,33,34,35,36,37,38,39,40,41,{"$f":"INT((NW7-WEEKDAY(NW7,2)-DATE(YEAR(NW7+4-WEEKDAY(NW7,2)),1,4))/7)+2","v":42},43,44,45,46,47,48,49,50,51,52,1,2,3,4,5,6,7,8,9,10,11,12,13,14,15,16,17,18,19,20,21,22,23,24,25,26,27,28,29,30,31,32,33,34,35,36,37,38,39,40,41,42,43,44,45,46,47,48,49,50,51,52,1,{"$f":"INT((QI7-WEEKDAY(QI7,2)-DATE(YEAR(QI7+4-WEEKDAY(QI7,2)),1,4))/7)+2","v":2},3,4,5,6,7,8,9,10,11,12,13,14,15,16,17,18,19,20,21,22,23,24,25,26,27,28,29,30,31,32,33,34,35,36,37,38,39,40,41,42,43,44,45,46,47,48,49,50,51,52,1,2,3,4,5,6,7,8,9,10,11,12,13,{"$f":"INT((SU7-WEEKDAY(SU7,2)-DATE(YEAR(SU7+4-WEEKDAY(SU7,2)),1,4))/7)+2","v":14},15,16,17,18,19,20,21,22,23,24,25,26,27,28,29,30,31,32,33,34,35,36,37,38,39,40,41,42,43,44,45,46,47,48,49,50,51,52,53,1,2,3,4,5,6,7,8,9,10,11,12,13,14,15,16,17,18,19,20,21,22,23,24,{"$f":"INT((VG7-WEEKDAY(VG7,2)-DATE(YEAR(VG7+4-WEEKDAY(VG7,2)),1,4))/7)+2","v":25},26,27,28,29,30,31,32,33,34,35,36,37,38,39,40,41,42,43,44,45,46,47,48,49,50,51,52,1,2,3,4,5,6,7,8,9,10,11,12,13,14,15,16,17,18,19,20,21,22,23,24,25,26,27,28,29,30,31,32,33,34,35,36,{"$f":"INT((XS7-WEEKDAY(XS7,2)-DATE(YEAR(XS7+4-WEEKDAY(XS7,2)),1,4))/7)+2","v":37},38,39,40,41,42,43,44,45,46,47,48,49,50,51,52,1,2,3,4,5,6,7,8,9,10,11,12,13,14,15,16,17,18,19,20,21,22,23,24,25,26,27,28,29,30,31,32,33,34,35,36,37,38,39,40,41,{"$f":"INT((ZX7-WEEKDAY(ZX7,2)-DATE(YEAR(ZX7+4-WEEKDAY(ZX7,2)),1,4))/7)+2","v":42},{"$f":"INT((ZY7-WEEKDAY(ZY7,2)-DATE(YEAR(ZY7+4-WEEKDAY(ZY7,2)),1,4))/7)+2","v":43},{"$f":"INT((ZZ7-WEEKDAY(ZZ7,2)-DATE(YEAR(ZZ7+4-WEEKDAY(ZZ7,2)),1,4))/7)+2","v":44}]
["Sista i månaden",{"$f":"EOMONTH(B8,0)","v":"2016-06-30"},{"$f":"EOMONTH(C8,0)","v":"2016-06-30"},"2016-06-30","2016-06-30","2016-06-30","2016-07-31","2016-07-31","2016-07-31","2016-07-31","2016-08-31","2016-08-31","2016-08-31","2016-08-31","2016-08-31","2016-09-30","2016-09-30","2016-09-30","2016-09-30","2016-10-31","2016-10-31","2016-10-31","2016-10-31","2016-11-30","2016-11-30","2016-11-30","2016-11-30","2016-11-30","2016-12-31","2016-12-31","2016-12-31","2016-12-31","2017-01-31","2017-01-31","2017-01-31","2017-01-31","2017-02-28","2017-02-28","2017-02-28","2017-02-28","2017-03-31","2017-03-31","2017-03-31","2017-03-31","2017-03-31","2017-04-30","2017-04-30","2017-04-30","2017-04-30","2017-05-31","2017-05-31","2017-05-31","2017-05-31","2017-05-31","2017-06-30","2017-06-30","2017-06-30","2017-06-30","2017-07-31","2017-07-31","2017-07-31","2017-07-31","2017-08-31","2017-08-31","2017-08-31","2017-08-31",{"$f":"EOMONTH(BO8,0)","v":"2017-08-31"},"2017-09-30","2017-09-30","2017-09-30","2017-09-30","2017-10-31","2017-10-31","2017-10-31","2017-10-31","2017-11-30","2017-11-30","2017-11-30","2017-11-30","2017-11-30","2017-12-31","2017-12-31","2017-12-31","2017-12-31","2018-01-31","2018-01-31","2018-01-31","2018-01-31","2018-01-31","2018-02-28","2018-02-28","2018-02-28","2018-02-28","2018-03-31","2018-03-31","2018-03-31","2018-03-31","2018-04-30","2018-04-30","2018-04-30","2018-04-30","2018-05-31","2018-05-31","2018-05-31","2018-05-31","2018-05-31","2018-06-30","2018-06-30","2018-06-30","2018-06-30","2018-07-31","2018-07-31","2018-07-31","2018-07-31","2018-08-31","2018-08-31","2018-08-31","2018-08-31","2018-08-31","2018-09-30","2018-09-30","2018-09-30","2018-09-30","2018-10-31","2018-10-31","2018-10-31","2018-10-31","2018-10-31","2018-11-30","2018-11-30",{"$f":"EOMONTH(EA8,0)","v":"2018-11-30"},"2018-11-30","2018-12-31","2018-12-31","2018-12-31","2018-12-31","2019-01-31","2019-01-31","2019-01-31","2019-01-31","2019-01-31","2019-02-28","2019-02-28","2019-02-28","2019-02-28","2019-03-31","2019-03-31","2019-03-31","2019-03-31","2019-04-30","2019-04-30","2019-04-30","2019-04-30","2019-05-31","2019-05-31","2019-05-31","2019-05-31","2019-05-31","2019-06-30","2019-06-30","2019-06-30","2019-06-30","2019-07-31","2019-07-31","2019-07-31","2019-07-31","2019-07-31","2019-08-31","2019-08-31","2019-08-31","2019-08-31","2019-09-30","2019-09-30","2019-09-30","2019-09-30","2019-10-31","2019-10-31","2019-10-31","2019-10-31","2019-10-31","2019-11-30","2019-11-30","2019-11-30","2019-11-30","2019-12-31","2019-12-31","2019-12-31","2019-12-31","2020-01-31","2020-01-31","2020-01-31","2020-01-31","2020-01-31","2020-02-29",{"$f":"EOMONTH(GM8,0)","v":"2020-02-29"},"2020-02-29","2020-02-29","2020-03-31","2020-03-31","2020-03-31","2020-03-31","2020-04-30","2020-04-30","2020-04-30","2020-04-30","2020-04-30","2020-05-31","2020-05-31","2020-05-31","2020-05-31","2020-06-30","2020-06-30","2020-06-30","2020-06-30","2020-07-31","2020-07-31","2020-07-31","2020-07-31","2020-07-31","2020-08-31","2020-08-31","2020-08-31","2020-08-31","2020-09-30","2020-09-30","2020-09-30","2020-09-30","2020-09-30","2020-10-31","2020-10-31","2020-10-31","2020-10-31","2020-11-30","2020-11-30","2020-11-30","2020-11-30","2020-12-31","2020-12-31","2020-12-31","2020-12-31","2020-12-31","2021-01-31","2021-01-31","2021-01-31","2021-01-31","2021-02-28","2021-02-28","2021-02-28","2021-02-28","2021-03-31","2021-03-31","2021-03-31","2021-03-31","2021-03-31","2021-04-30","2021-04-30","2021-04-30","2021-04-30",{"$f":"EOMONTH(IY8,0)","v":"2021-05-31"},"2021-05-31","2021-05-31","2021-05-31","2021-06-30","2021-06-30","2021-06-30","2021-06-30","2021-06-30","2021-07-31","2021-07-31","2021-07-31","2021-07-31","2021-08-31","2021-08-31","2021-08-31","2021-08-31","2021-09-30","2021-09-30","2021-09-30","2021-09-30","2021-09-30","2021-10-31","2021-10-31","2021-10-31","2021-10-31","2021-11-30","2021-11-30","2021-11-30","2021-11-30","2021-12-31","2021-12-31","2021-12-31","2021-12-31","2021-12-31","2022-01-31","2022-01-31","2022-01-31","2022-01-31","2022-02-28","2022-02-28","2022-02-28","2022-02-28","2022-03-31","2022-03-31","2022-03-31","2022-03-31","2022-03-31","2022-04-30","2022-04-30","2022-04-30","2022-04-30","2022-05-31","2022-05-31","2022-05-31","2022-05-31","2022-06-30","2022-06-30","2022-06-30","2022-06-30","2022-06-30","2022-07-31","2022-07-31","2022-07-31",{"$f":"EOMONTH(LK8,0)","v":"2022-07-31"},"2022-08-31","2022-08-31","2022-08-31","2022-08-31","2022-08-31","2022-09-30","2022-09-30","2022-09-30","2022-09-30","2022-10-31","2022-10-31","2022-10-31","2022-10-31","2022-11-30","2022-11-30","2022-11-30","2022-11-30","2022-11-30","2022-12-31","2022-12-31","2022-12-31","2022-12-31","2023-01-31","2023-01-31","2023-01-31","2023-01-31","2023-02-28","2023-02-28","2023-02-28","2023-02-28","2023-03-31","2023-03-31","2023-03-31","2023-03-31","2023-03-31","2023-04-30","2023-04-30","2023-04-30","2023-04-30","2023-05-31","2023-05-31","2023-05-31","2023-05-31","2023-05-31","2023-06-30","2023-06-30","2023-06-30","2023-06-30","2023-07-31","2023-07-31","2023-07-31","2023-07-31","2023-08-31","2023-08-31","2023-08-31","2023-08-31","2023-08-31","2023-09-30","2023-09-30","2023-09-30","2023-09-30","2023-10-31","2023-10-31",{"$f":"EOMONTH(NW8,0)","v":"2023-10-31"},"2023-10-31","2023-11-30","2023-11-30","2023-11-30","2023-11-30","2023-11-30","2023-12-31","2023-12-31","2023-12-31","2023-12-31","2024-01-31","2024-01-31","2024-01-31","2024-01-31","2024-01-31","2024-02-29","2024-02-29","2024-02-29","2024-02-29","2024-03-31","2024-03-31","2024-03-31","2024-03-31","2024-04-30","2024-04-30","2024-04-30","2024-04-30","2024-05-31","2024-05-31","2024-05-31","2024-05-31","2024-05-31","2024-06-30","2024-06-30","2024-06-30","2024-06-30","2024-07-31","2024-07-31","2024-07-31","2024-07-31","2024-07-31","2024-08-31","2024-08-31","2024-08-31","2024-08-31","2024-09-30","2024-09-30","2024-09-30","2024-09-30","2024-10-31","2024-10-31","2024-10-31","2024-10-31","2024-10-31","2024-11-30","2024-11-30","2024-11-30","2024-11-30","2024-12-31","2024-12-31","2024-12-31","2024-12-31","2025-01-31",{"$f":"EOMONTH(QI8,0)","v":"2025-01-31"},"2025-01-31","2025-01-31","2025-01-31","2025-02-28","2025-02-28","2025-02-28","2025-02-28","2025-03-31","2025-03-31","2025-03-31","2025-03-31","2025-04-30","2025-04-30","2025-04-30","2025-04-30","2025-04-30","2025-05-31","2025-05-31","2025-05-31","2025-05-31","2025-06-30","2025-06-30","2025-06-30","2025-06-30","2025-07-31","2025-07-31","2025-07-31","2025-07-31","2025-07-31","2025-08-31","2025-08-31","2025-08-31","2025-08-31","2025-09-30","2025-09-30","2025-09-30","2025-09-30","2025-10-31","2025-10-31","2025-10-31","2025-10-31","2025-10-31","2025-11-30","2025-11-30","2025-11-30","2025-11-30","2025-12-31","2025-12-31","2025-12-31","2025-12-31","2025-12-31","2026-01-31","2026-01-31","2026-01-31","2026-01-31","2026-02-28","2026-02-28","2026-02-28","2026-02-28","2026-03-31","2026-03-31","2026-03-31","2026-03-31",{"$f":"EOMONTH(SU8,0)","v":"2026-04-30"},"2026-04-30","2026-04-30","2026-04-30","2026-04-30","2026-05-31","2026-05-31","2026-05-31","2026-05-31","2026-06-30","2026-06-30","2026-06-30","2026-06-30","2026-07-31","2026-07-31","2026-07-31","2026-07-31","2026-07-31","2026-08-31","2026-08-31","2026-08-31","2026-08-31","2026-09-30","2026-09-30","2026-09-30","2026-09-30","2026-09-30","2026-10-31","2026-10-31","2026-10-31","2026-10-31","2026-11-30","2026-11-30","2026-11-30","2026-11-30","2026-12-31","2026-12-31","2026-12-31","2026-12-31","2026-12-31","2027-01-31","2027-01-31","2027-01-31","2027-01-31","2027-02-28","2027-02-28","2027-02-28","2027-02-28","2027-03-31","2027-03-31","2027-03-31","2027-03-31","2027-03-31","2027-04-30","2027-04-30","2027-04-30","2027-04-30","2027-05-31","2027-05-31","2027-05-31","2027-05-31","2027-06-30","2027-06-30","2027-06-30",{"$f":"EOMONTH(VG8,0)","v":"2027-06-30"},"2027-06-30","2027-07-31","2027-07-31","2027-07-31","2027-07-31","2027-08-31","2027-08-31","2027-08-31","2027-08-31","2027-09-30","2027-09-30","2027-09-30","2027-09-30","2027-09-30","2027-10-31","2027-10-31","2027-10-31","2027-10-31","2027-11-30","2027-11-30","2027-11-30","2027-11-30","2027-12-31","2027-12-31","2027-12-31","2027-12-31","2027-12-31","2028-01-31","2028-01-31","2028-01-31","2028-01-31","2028-02-29","2028-02-29","2028-02-29","2028-02-29","2028-03-31","2028-03-31","2028-03-31","2028-03-31","2028-03-31","2028-04-30","2028-04-30","2028-04-30","2028-04-30","2028-05-31","2028-05-31","2028-05-31","2028-05-31","2028-05-31","2028-06-30","2028-06-30","2028-06-30","2028-06-30","2028-07-31","2028-07-31","2028-07-31","2028-07-31","2028-08-31","2028-08-31","2028-08-31","2028-08-31","2028-08-31","2028-09-30",{"$f":"EOMONTH(XS8,0)","v":"2028-09-30"},"2028-09-30","2028-09-30","2028-10-31","2028-10-31","2028-10-31","2028-10-31","2028-11-30","2028-11-30","2028-11-30","2028-11-30","2028-11-30","2028-12-31","2028-12-31","2028-12-31","2028-12-31","2029-01-31","2029-01-31","2029-01-31","2029-01-31","2029-01-31","2029-02-28","2029-02-28","2029-02-28","2029-02-28","2029-03-31","2029-03-31","2029-03-31","2029-03-31","2029-04-30","2029-04-30","2029-04-30","2029-04-30","2029-05-31","2029-05-31","2029-05-31","2029-05-31","2029-05-31","2029-06-30","2029-06-30","2029-06-30","2029-06-30","2029-07-31","2029-07-31","2029-07-31","2029-07-31","2029-08-31","2029-08-31","2029-08-31","2029-08-31","2029-08-31","2029-09-30","2029-09-30","2029-09-30","2029-09-30","2029-10-31","2029-10-31",{"$f":"EOMONTH(ZX8,0)","v":"2029-10-31"},{"$f":"EOMONTH(ZY8,0)","v":"2029-10-31"},{"$f":"EOMONTH(ZZ8,0)","v":"2029-10-31"}]
["Månadsnummer",{"$f":"MONTH(B8)","v":6},{"$f":"MONTH(C8)","v":6},6,6,6,7,7,7,7,8,8,8,8,8,9,9,9,9,10,10,10,10,11,11,11,11,11,12,12,12,12,1,1,1,1,2,2,2,2,3,3,3,3,3,4,4,4,4,5,5,5,5,5,6,6,6,6,7,7,7,7,8,8,8,8,{"$f":"MONTH(BO8)","v":8},9,9,9,9,10,10,10,10,11,11,11,11,11,12,12,12,12,1,1,1,1,1,2,2,2,2,3,3,3,3,4,4,4,4,5,5,5,5,5,6,6,6,6,7,7,7,7,8,8,8,8,8,9,9,9,9,10,10,10,10,10,11,11,{"$f":"MONTH(EA8)","v":11},11,12,12,12,12,1,1,1,1,1,2,2,2,2,3,3,3,3,4,4,4,4,5,5,5,5,5,6,6,6,6,7,7,7,7,7,8,8,8,8,9,9,9,9,10,10,10,10,10,11,11,11,11,12,12,12,12,1,1,1,1,1,2,{"$f":"MONTH(GM8)","v":2},2,2,3,3,3,3,4,4,4,4,4,5,5,5,5,6,6,6,6,7,7,7,7,7,8,8,8,8,9,9,9,9,9,10,10,10,10,11,11,11,11,12,12,12,12,12,1,1,1,1,2,2,2,2,3,3,3,3,3,4,4,4,4,{"$f":"MONTH(IY8)","v":5},5,5,5,6,6,6,6,6,7,7,7,7,8,8,8,8,9,9,9,9,9,10,10,10,10,11,11,11,11,12,12,12,12,12,1,1,1,1,2,2,2,2,3,3,3,3,3,4,4,4,4,5,5,5,5,6,6,6,6,6,7,7,7,{"$f":"MONTH(LK8)","v":7},8,8,8,8,8,9,9,9,9,10,10,10,10,11,11,11,11,11,12,12,12,12,1,1,1,1,2,2,2,2,3,3,3,3,3,4,4,4,4,5,5,5,5,5,6,6,6,6,7,7,7,7,8,8,8,8,8,9,9,9,9,10,10,{"$f":"MONTH(NW8)","v":10},10,11,11,11,11,11,12,12,12,12,1,1,1,1,1,2,2,2,2,3,3,3,3,4,4,4,4,5,5,5,5,5,6,6,6,6,7,7,7,7,7,8,8,8,8,9,9,9,9,10,10,10,10,10,11,11,11,11,12,12,12,12,1,{"$f":"MONTH(QI8)","v":1},1,1,1,2,2,2,2,3,3,3,3,4,4,4,4,4,5,5,5,5,6,6,6,6,7,7,7,7,7,8,8,8,8,9,9,9,9,10,10,10,10,10,11,11,11,11,12,12,12,12,12,1,1,1,1,2,2,2,2,3,3,3,3,{"$f":"MONTH(SU8)","v":4},4,4,4,4,5,5,5,5,6,6,6,6,7,7,7,7,7,8,8,8,8,9,9,9,9,9,10,10,10,10,11,11,11,11,12,12,12,12,12,1,1,1,1,2,2,2,2,3,3,3,3,3,4,4,4,4,5,5,5,5,6,6,6,{"$f":"MONTH(VG8)","v":6},6,7,7,7,7,8,8,8,8,9,9,9,9,9,10,10,10,10,11,11,11,11,12,12,12,12,12,1,1,1,1,2,2,2,2,3,3,3,3,3,4,4,4,4,5,5,5,5,5,6,6,6,6,7,7,7,7,8,8,8,8,8,9,{"$f":"MONTH(XS8)","v":9},9,9,10,10,10,10,11,11,11,11,11,12,12,12,12,1,1,1,1,1,2,2,2,2,3,3,3,3,4,4,4,4,5,5,5,5,5,6,6,6,6,7,7,7,7,8,8,8,8,8,9,9,9,9,10,10,{"$f":"MONTH(ZX8)","v":10},{"$f":"MONTH(ZY8)","v":10},{"$f":"MONTH(ZZ8)","v":10}]
["Månad",{"$f":"B8","v":"2016-06-01"},{"$f":"IF(B11=C11,\"\",C8)","v":""},{"$f":"IF(C11=D11,\"\",D8)","v":""},"","","2016-07-06","","","","2016-08-03","","","","","2016-09-07","","","","2016-10-05","","","","2016-11-02","","","","","2016-12-07","","","","2017-01-04","","","","2017-02-01","","","","2017-03-01","","","","","2017-04-05","","","","2017-05-03","","","","","2017-06-07","","","","2017-07-05","","","","2017-08-02","","","","",{"$f":"IF(BO11=BP11,\"\",BP8)","v":"2017-09-06"},"","","","2017-10-04","","","","2017-11-01","","","","","2017-12-06","","","","2018-01-03","","","","","2018-02-07","","","","2018-03-07","","","","2018-04-04","","","","2018-05-02","","","","","2018-06-06","","","","2018-07-04","","","","2018-08-01","","","","","2018-09-05","","","","2018-10-03","","","","","2018-11-07","","",{"$f":"IF(EA11=EB11,\"\",EB8)","v":""},"2018-12-05","","","","2019-01-02","","","","","2019-02-06","","","","2019-03-06","","","","2019-04-03","","","","2019-05-01","","","","","2019-06-05","","","","2019-07-03","","","","","2019-08-07","","","","2019-09-04","","","","2019-10-02","","","","","2019-11-06","","","","2019-12-04","","","","2020-01-01","","","","","2020-02-05","",{"$f":"IF(GM11=GN11,\"\",GN8)","v":""},"","2020-03-04","","","","2020-04-01","","","","","2020-05-06","","","","2020-06-03","","","","2020-07-01","","","","","2020-08-05","","","","2020-09-02","","","","","2020-10-07","","","","2020-11-04","","","","2020-12-02","","","","","2021-01-06","","","","2021-02-03","","","","2021-03-03","","","","","2021-04-07","","","","2021-05-05",{"$f":"IF(IY11=IZ11,\"\",IZ8)","v":""},"","","2021-06-02","","","","","2021-07-07","","","","2021-08-04","","","","2021-09-01","","","","","2021-10-06","","","","2021-11-03","","","","2021-12-01","","","","","2022-01-05","","","","2022-02-02","","","","2022-03-02","","","","","2022-04-06","","","","2022-05-04","","","","2022-06-01","","","","","2022-07-06","","","",{"$f":"IF(LK11=LL11,\"\",LL8)","v":"2022-08-03"},"","","","","2022-09-07","","","","2022-10-05","","","","2022-11-02","","","","","2022-12-07","","","","2023-01-04","","","","2023-02-01","","","","2023-03-01","","","","","2023-04-05","","","","2023-05-03","","","","","2023-06-07","","","","2023-07-05","","","","2023-08-02","","","","","2023-09-06","","","","2023-10-04","","",{"$f":"IF(NW11=NX11,\"\",NX8)","v":""},"2023-11-01","","","","","2023-12-06","","","","2024-01-03","","","","","2024-02-07","","","","2024-03-06","","","","2024-04-03","","","","2024-05-01","","","","","2024-06-05","","","","2024-07-03","","","","","2024-08-07","","","","2024-09-04","","","","2024-10-02","","","","","2024-11-06","","","","2024-12-04","","","","2025-01-01","",{"$f":"IF(QI11=QJ11,\"\",QJ8)","v":""},"","","2025-02-05","","","","2025-03-05","","","","2025-04-02","","","","","2025-05-07","","","","2025-06-04","","","","2025-07-02","","","","","2025-08-06","","","","2025-09-03","","","","2025-10-01","","","","","2025-11-05","","","","2025-12-03","","","","","2026-01-07","","","","2026-02-04","","","","2026-03-04","","","","2026-04-01",{"$f":"IF(SU11=SV11,\"\",SV8)","v":""},"","","","2026-05-06","","","","2026-06-03","","","","2026-07-01","","","","","2026-08-05","","","","2026-09-02","","","","","2026-10-07","","","","2026-11-04","","","","2026-12-02","","","","","2027-01-06","","","","2027-02-03","","","","2027-03-03","","","","","2027-04-07","","","","2027-05-05","","","","2027-06-02","","","",{"$f":"IF(VG11=VH11,\"\",VH8)","v":""},"2027-07-07","","","","2027-08-04","","","","2027-09-01","","","","","2027-10-06","","","","2027-11-03","","","","2027-12-01","","","","","2028-01-05","","","","2028-02-02","","","","2028-03-01","","","","","2028-04-05","","","","2028-05-03","","","","","2028-06-07","","","","2028-07-05","","","","2028-08-02","","","","","2028-09-06","",{"$f":"IF(XS11=XT11,\"\",XT8)","v":""},"","2028-10-04","","","","2028-11-01","","","","","2028-12-06","","","","2029-01-03","","","","","2029-02-07","","","","2029-03-07","","","","2029-04-04","","","","2029-05-02","","","","","2029-06-06","","","","2029-07-04","","","","2029-08-01","","","","","2029-09-05","","","","2029-10-03","",{"$f":"IF(ZW11=ZX11,\"\",ZX8)","v":""},{"$f":"IF(ZX11=ZY11,\"\",ZY8)","v":""},{"$f":"IF(ZY11=ZZ11,\"\",ZZ8)","v":""}]
["Serienr (Måndag i veckan)",{"$f":"B7","v":42520},{"$f":"C7","v":42527},42534,42541,42548,42555,42562,42569,42576,42583,42590,42597,42604,42611,42618,42625,42632,42639,42646,42653,42660,42667,42674,42681,42688,42695,42702,42709,42716,42723,42730,42737,42744,42751,42758,42765,42772,42779,42786,42793,42800,42807,42814,42821,42828,42835,42842,42849,42856,42863,42870,42877,42884,42891,42898,42905,42912,42919,42926,42933,42940,42947,42954,42961,42968,{"$f":"BO7","v":42975},42982,42989,42996,43003,43010,43017,43024,43031,43038,43045,43052,43059,43066,43073,43080,43087,43094,43101,43108,43115,43122,43129,43136,43143,43150,43157,43164,43171,43178,43185,43192,43199,43206,43213,43220,43227,43234,43241,43248,43255,43262,43269,43276,43283,43290,43297,43304,43311,43318,43325,43332,43339,43346,43353,43360,43367,43374,43381,43388,43395,43402,43409,43416,{"$f":"EA7","v":43423},43430,43437,43444,43451,43458,43465,43472,43479,43486,43493,43500,43507,43514,43521,43528,43535,43542,43549,43556,43563,43570,43577,43584,43591,43598,43605,43612,43619,43626,43633,43640,43647,43654,43661,43668,43675,43682,43689,43696,43703,43710,43717,43724,43731,43738,43745,43752,43759,43766,43773,43780,43787,43794,43801,43808,43815,43822,43829,43836,43843,43850,43857,43864,{"$f":"GM7","v":43871},43878,43885,43892,43899,43906,43913,43920,43927,43934,43941,43948,43955,43962,43969,43976,43983,43990,43997,44004,44011,44018,44025,44032,44039,44046,44053,44060,44067,44074,44081,44088,44095,44102,44109,44116,44123,44130,44137,44144,44151,44158,44165,44172,44179,44186,44193,44200,44207,44214,44221,44228,44235,44242,44249,44256,44263,44270,44277,44284,44291,44298,44305,44312,{"$f":"IY7","v":44319},44326,44333,44340,44347,44354,44361,44368,44375,44382,44389,44396,44403,44410,44417,44424,44431,44438,44445,44452,44459,44466,44473,44480,44487,44494,44501,44508,44515,44522,44529,44536,44543,44550,44557,44564,44571,44578,44585,44592,44599,44606,44613,44620,44627,44634,44641,44648,44655,44662,44669,44676,44683,44690,44697,44704,44711,44718,44725,44732,44739,44746,44753,44760,{"$f":"LK7","v":44767},44774,44781,44788,44795,44802,44809,44816,44823,44830,44837,44844,44851,44858,44865,44872,44879,44886,44893,44900,44907,44914,44921,44928,44935,44942,44949,44956,44963,44970,44977,44984,44991,44998,45005,45012,45019,45026,45033,45040,45047,45054,45061,45068,45075,45082,45089,45096,45103,45110,45117,45124,45131,45138,45145,45152,45159,45166,45173,45180,45187,45194,45201,45208,{"$f":"NW7","v":45215},45222,45229,45236,45243,45250,45257,45264,45271,45278,45285,45292,45299,45306,45313,45320,45327,45334,45341,45348,45355,45362,45369,45376,45383,45390,45397,45404,45411,45418,45425,45432,45439,45446,45453,45460,45467,45474,45481,45488,45495,45502,45509,45516,45523,45530,45537,45544,45551,45558,45565,45572,45579,45586,45593,45600,45607,45614,45621,45628,45635,45642,45649,45656,{"$f":"QI7","v":45663},45670,45677,45684,45691,45698,45705,45712,45719,45726,45733,45740,45747,45754,45761,45768,45775,45782,45789,45796,45803,45810,45817,45824,45831,45838,45845,45852,45859,45866,45873,45880,45887,45894,45901,45908,45915,45922,45929,45936,45943,45950,45957,45964,45971,45978,45985,45992,45999,46006,46013,46020,46027,46034,46041,46048,46055,46062,46069,46076,46083,46090,46097,46104,{"$f":"SU7","v":46111},46118,46125,46132,46139,46146,46153,46160,46167,46174,46181,46188,46195,46202,46209,46216,46223,46230,46237,46244,46251,46258,46265,46272,46279,46286,46293,46300,46307,46314,46321,46328,46335,46342,46349,46356,46363,46370,46377,46384,46391,46398,46405,46412,46419,46426,46433,46440,46447,46454,46461,46468,46475,46482,46489,46496,46503,46510,46517,46524,46531,46538,46545,46552,{"$f":"VG7","v":46559},46566,46573,46580,46587,46594,46601,46608,46615,46622,46629,46636,46643,46650,46657,46664,46671,46678,46685,46692,46699,46706,46713,46720,46727,46734,46741,46748,46755,46762,46769,46776,46783,46790,46797,46804,46811,46818,46825,46832,46839,46846,46853,46860,46867,46874,46881,46888,46895,46902,46909,46916,46923,46930,46937,46944,46951,46958,46965,46972,46979,46986,46993,47000,{"$f":"XS7","v":47007},47014,47021,47028,47035,47042,47049,47056,47063,47070,47077,47084,47091,47098,47105,47112,47119,47126,47133,47140,47147,47154,47161,47168,47175,47182,47189,47196,47203,47210,47217,47224,47231,47238,47245,47252,47259,47266,47273,47280,47287,47294,47301,47308,47315,47322,47329,47336,47343,47350,47357,47364,47371,47378,47385,47392,47399,47406,47413,47420]